{"text_format":"1","workbook":"xlsx","n_sheets":2,"sheets":["Grade","Linear Modeling"],"not_rendered":{"charts":2,"images":0,"macros":1,"external_links":0,"defined_names":5,"comments":0,"pivot_tables":0},"unopened":[],"bounds":{"document_bytes":16777216,"sheet_cells":100000,"rows_first":2000,"rows_last":500,"rows_between":2000,"halvings":0,"cell_chars":16384,"cell_head_chars":4096},"cells_cut":0,"cells_raw":0,"read":"whole","date_system":"1900"}

{"sheet":"Grade","index":0,"n_rows":50007,"n_cols":14,"rows_kept":4500,"cut":true,"hidden":false,"merged":[[6,0,6,2],[12,4,12,6],[5,8,5,9],[5,4,5,6],[6,4,6,6],[8,4,8,6],[9,4,9,6],[11,4,11,6]],"bounds":{"rows_first":2000,"rows_last":500,"rows_between":2000,"halvings":0}}
[]
[null,null,null,null,"Rise","Run","Road"]
[null,null,null,null,14,456,null,null,null,null,"units",{"$f":"E3","v":14},{"$f":"IF(ISBLANK(F3),SQRT(G3^2-E3^2),F3)","v":456},{"$f":"IF(ISBLANK(G3),SQRT(E3^2+F3^2),G3)","v":456.21486166059958}]
[null,null,null,null,null,null,null,null,null,null,"scalar",{"$f":"L3/L3","v":1},{"$f":"M3/L3","v":32.571428571428569},{"$f":"N3/L3","v":32.586775832899967}]
[]
[null,null,null,null,"Right Way Grade!",null,null,null,null,null,null,"angle",{"$f":"IF(ISBLANK(E3),\"\",ATAN(L3/M3)*(180/PI()))","v":1.7585285604391097}]
[{"$f":"IF(COUNT(E3:G3)=1,\"Don’t forget the second measure!\",IF(AND(G3<>0,G3<=E3),\"Can that ever happen?\",IF(COUNT(E3:G3)=3,\"You entered one too many measures!\",\"\")))","v":""},null,null,null,{"$f":"IF(ISBLANK(E3),\"\",L3/M3)","v":3.0701754385964911E-2},null,null,null,null,null,null,"deghree","°"]
[]
[null,null,null,null,"Shortcut Way Grade!"]
[null,null,null,null,{"$f":"IF(OR(ISBLANK(G3),G3<=E3),\"\",L3/N3)","v":""}]
[]
[null,null,null,null,"Angle Formed!"]
[null,null,null,null,{"$f":"IF(ISBLANK(E3),\"\",CONCATENATE(TEXT(M6,\"#.##\"),TEXT(M7,\"#\")))","v":"1.76°"}]
[]
[]
[]
[]
[]
[]
[]
[]
[null,null,null,{"$f":"M4","v":32.571428571428569},{"$f":"L4","v":1}]
[null,null,null,{"$f":"M4","v":32.571428571428569},0]
[]
[null,null,null,0,0]
[null,null,null,{"$f":"M4","v":32.571428571428569},0]
[]
[null,null,null,0,0]
[null,null,null,{"$f":"M4","v":32.571428571428569},{"$f":"L4","v":1}]
[]
[]
[]
[]
[]
[]
[]
[]
[]
[]
[]
[]
[]
[]
[]
[]
[]
[]
[]
[]
[]
[]
[]
[]
[]
[]
[]
[]
[]
[]
[]
[]
[]
[]
[]
[]
[]
[]
[]
[]
[]
[]
[]
[]
[]
[]
[]
[]
[]
[]
[]
[]
[]
[]
[]
[]
[]
[]
[]
[]
[]
[]
[]
[]
[]
[]
[]
[]
[]
[]
[]
[]
[]
[]
[]
[]
[]
[]
[]
[]
[]
[]
[]
[]
[]
[]
[]
[]
[]
[]
[]
[]
[]
[]
[]
[]
[]
[]
[]
[]
[]
[]
[]
[]
[]
[]
[]
[]
[]
[]
[]
[]
[]
[]
[]
[]
[]
[]
[]
[]
[]
[]
[]
[]
[]
[]
[]
[]
[]
[]
[]
[]
[]
[]
[]
[]
[]
[]
[]
[]
[]
[]
[]
[]
[]
[]
[]
[]
[]
[]
[]
[]
[]
[]
[]
[]
[]
[]
[]
[]
[]
[]
[]
[]
[]
[]
[]
[]
[]
[]
[]
[]
[]
[]
[]
[]
[]
[]
[]
[]
[]
[]
[]
[]
[]
[]
[]
[]
[]
[]
[]
[]
[]
[]
[]
[]
[]
[]
[]
[]
[]
[]
[]
[]
[]
[]
[]
[]
[]
[]
[]
[]
[]
[]
[]
[]
[]
[]
[]
[]
[]
[]
[]
[]
[]
[]
[]
[]
[]
[]
[]
[]
[]
[]
[]
[]
[]
[]
[]
[]
[]
[]
[]
[]
[]
[]
[]
[]
[]
[]
[]
[]
[]
[]
[]
[]
[]
[]
[]
[]
[]
[]
[]
[]
[]
[]
[]
[]
[]
[]
[]
[]
[]
[]
[]
[]
[]
[]
[]
[]
[]
[]
[]
[]
[]
[]
[]
[]
[]
[]
[]
[]
[]
[]
[]
[]
[]
[]
[]
[]
[]
[]
[]
[]
[]
[]
[]
[]
[]
[]
[]
[]
[]
[]
[]
[]
[]
[]
[]
[]
[]
[]
[]
[]
[]
[]
[]
[]
[]
[]
[]
[]
[]
[]
[]
[]
[]
[]
[]
[]
[]
[]
[]
[]
[]
[]
[]
[]
[]
[]
[]
[]
[]
[]
[]
[]
[]
[]
[]
[]
[]
[]
[]
[]
[]
[]
[]
[]
[]
[]
[]
[]
[]
[]
[]
[]
[]
[]
[]
[]
[]
[]
[]
[]
[]
[]
[]
[]
[]
[]
[]
[]
[]
[]
[]
[]
[]
[]
[]
[]
[]
[]
[]
[]
[]
[]
[]
[]
[]
[]
[]
[]
[]
[]
[]
[]
[]
[]
[]
[]
[]
[]
[]
[]
[]
[]
[]
[]
[]
[]
[]
[]
[]
[]
[]
[]
[]
[]
[]
[]
[]
[]
[]
[]
[]
[]
[]
[]
[]
[]
[]
[]
[]
[]
[]
[]
[]
[]
[]
[]
[]
[]
[]
[]
[]
[]
[]
[]
[]
[]
[]
[]
[]
[]
[]
[]
[]
[]
[]
[]
[]
[]
[]
[]
[]
[]
[]
[]
[]
[]
[]
[]
[]
[]
[]
[]
[]
[]
[]
[]
[]
[]
[]
[]
[]
[]
[]
[]
[]
[]
[]
[]
[]
[]
[]
[]
[]
[]
[]
[]
[]
[]
[]
[]
[]
[]
[]
[]
[]
[]
[]
[]
[]
[]
[]
[]
[]
[]
[]
[]
[]
[]
[]
[]
[]
[]
[]
[]
[]
[]
[]
[]
[]
[]
[]
[]
[]
[]
[]
[]
[]
[]
[]
[]
[]
[]
[]
[]
[]
[]
[]
[]
[]
[]
[]
[]
[]
[]
[]
[]
[]
[]
[]
[]
[]
[]
[]
[]
[]
[]
[]
[]
[]
[]
[]
[]
[]
[]
[]
[]
[]
[]
[]
[]
[]
[]
[]
[]
[]
[]
[]
[]
[]
[]
[]
[]
[]
[]
[]
[]
[]
[]
[]
[]
[]
[]
[]
[]
[]
[]
[]
[]
[]
[]
[]
[]
[]
[]
[]
[]
[]
[]
[]
[]
[]
[]
[]
[]
[]
[]
[]
[]
[]
[]
[]
[]
[]
[]
[]
[]
[]
[]
[]
[]
[]
[]
[]
[]
[]
[]
[]
[]
[]
[]
[]
[]
[]
[]
[]
[]
[]
[]
[]
[]
[]
[]
[]
[]
[]
[]
[]
[]
[]
[]
[]
[]
[]
[]
[]
[]
[]
[]
[]
[]
[]
[]
[]
[]
[]
[]
[]
[]
[]
[]
[]
[]
[]
[]
[]
[]
[]
[]
[]
[]
[]
[]
[]
[]
[]
[]
[]
[]
[]
[]
[]
[]
[]
[]
[]
[]
[]
[]
[]
[]
[]
[]
[]
[]
[]
[]
[]
[]
[]
[]
[]
[]
[]
[]
[]
[]
[]
[]
[]
[]
[]
[]
[]
[]
[]
[]
[]
[]
[]
[]
[]
[]
[]
[]
[]
[]
[]
[]
[]
[]
[]
[]
[]
[]
[]
[]
[]
[]
[]
[]
[]
[]
[]
[]
[]
[]
[]
[]
[]
[]
[]
[]
[]
[]
[]
[]
[]
[]
[]
[]
[]
[]
[]
[]
[]
[]
[]
[]
[]
[]
[]
[]
[]
[]
[]
[]
[]
[]
[]
[]
[]
[]
[]
[]
[]
[]
[]
[]
[]
[]
[]
[]
[]
[]
[]
[]
[]
[]
[]
[]
[]
[]
[]
[]
[]
[]
[]
[]
[]
[]
[]
[]
[]
[]
[]
[]
[]
[]
[]
[]
[]
[]
[]
[]
[]
[]
[]
[]
[]
[]
[]
[]
[]
[]
[]
[]
[]
[]
[]
[]
[]
[]
[]
[]
[]
[]
[]
[]
[]
[]
[]
[]
[]
[]
[]
[]
[]
[]
[]
[]
[]
[]
[]
[]
[]
[]
[]
[]
[]
[]
[]
[]
[]
[]
[]
[]
[]
[]
[]
[]
[]
[]
[]
[]
[]
[]
[]
[]
[]
[]
[]
[]
[]
[]
[]
[]
[]
[]
[]
[]
[]
[]
[]
[]
[]
[]
[]
[]
[]
[]
[]
[]
[]
[]
[]
[]
[]
[]
[]
[]
[]
[]
[]
[]
[]
[]
[]
[]
[]
[]
[]
[]
[]
[]
[]
[]
[]
[]
[]
[]
[]
[]
[]
[]
[]
[]
[]
[]
[]
[]
[]
[]
[]
[]
[]
[]
[]
[]
[]
[]
[]
[]
[]
[]
[]
[]
[]
[]
[]
[]
[]
[]
[]
[]
[]
[]
[]
[]
[]
[]
[]
[]
[]
[]
[]
[]
[]
[]
[]
[]
[]
[]
[]
[]
[]
[]
[]
[]
[]
[]
[]
[]
[]
[]
[]
[]
[]
[]
[]
[]
[]
[]
[]
[]
[]
[]
[]
[]
[]
[]
[]
[]
[]
[]
[]
[]
[]
[]
[]
[]
[]
[]
[]
[]
[]
[]
[]
[]
[]
[]
[]
[]
[]
[]
[]
[]
[]
[]
[]
[]
[]
[]
[]
[]
[]
[]
[]
[]
[]
[]
[]
[]
[]
[]
[]
[]
[]
[]
[]
[]
[]
[]
[]
[]
[]
[]
[]
[]
[]
[]
[]
[]
[]
[]
[]
[]
[]
[]
[]
[]
[]
[]
[]
[]
[]
[]
[]
[]
[]
[]
[]
[]
[]
[]
[]
[]
[]
[]
[]
[]
[]
[]
[]
[]
[]
[]
[]
[]
[]
[]
[]
[]
[]
[]
[]
[]
[]
[]
[]
[]
[]
[]
[]
[]
[]
[]
[]
[]
[]
[]
[]
[]
[]
[]
[]
[]
[]
[]
[]
[]
[]
[]
[]
[]
[]
[]
[]
[]
[]
[]
[]
[]
[]
[]
[]
[]
[]
[]
[]
[]
[]
[]
[]
[]
[]
[]
[]
[]
[]
[]
[]
[]
[]
[]
[]
[]
[]
[]
[]
[]
[]
[]
[]
[]
[]
[]
[]
[]
[]
[]
[]
[]
[]
[]
[]
[]
[]
[]
[]
[]
[]
[]
[]
[]
[]
[]
[]
[]
[]
[]
[]
[]
[]
[]
[]
[]
[]
[]
[]
[]
[]
[]
[]
[]
[]
[]
[]
[]
[]
[]
[]
[]
[]
[]
[]
[]
[]
[]
[]
[]
[]
[]
[]
[]
[]
[]
[]
[]
[]
[]
[]
[]
[]
[]
[]
[]
[]
[]
[]
[]
[]
[]
[]
[]
[]
[]
[]
[]
[]
[]
[]
[]
[]
[]
[]
[]
[]
[]
[]
[]
[]
[]
[]
[]
[]
[]
[]
[]
[]
[]
[]
[]
[]
[]
[]
[]
[]
[]
[]
[]
[]
[]
[]
[]
[]
[]
[]
[]
[]
[]
[]
[]
[]
[]
[]
[]
[]
[]
[]
[]
[]
[]
[]
[]
[]
[]
[]
[]
[]
[]
[]
[]
[]
[]
[]
[]
[]
[]
[]
[]
[]
[]
[]
[]
[]
[]
[]
[]
[]
[]
[]
[]
[]
[]
[]
[]
[]
[]
[]
[]
[]
[]
[]
[]
[]
[]
[]
[]
[]
[]
[]
[]
[]
[]
[]
[]
[]
[]
[]
[]
[]
[]
[]
[]
[]
[]
[]
[]
[]
[]
[]
[]
[]
[]
[]
[]
[]
[]
[]
[]
[]
[]
[]
[]
[]
[]
[]
[]
[]
[]
[]
[]
[]
[]
[]
[]
[]
[]
[]
[]
[]
[]
[]
[]
[]
[]
[]
[]
[]
[]
[]
[]
[]
[]
[]
[]
[]
[]
[]
[]
[]
[]
[]
[]
[]
[]
[]
[]
[]
[]
[]
[]
[]
[]
[]
[]
[]
[]
[]
[]
[]
[]
[]
[]
[]
[]
[]
[]
[]
[]
[]
[]
[]
[]
[]
[]
[]
[]
[]
[]
[]
[]
[]
[]
[]
[]
[]
[]
[]
[]
[]
[]
[]
[]
[]
[]
[]
[]
[]
[]
[]
[]
[]
[]
[]
[]
[]
[]
[]
[]
[]
[]
[]
[]
[]
[]
[]
[]
[]
[]
[]
[]
[]
[]
[]
[]
[]
[]
[]
[]
[]
[]
[]
[]
[]
[]
[]
[]
[]
[]
[]
[]
[]
[]
[]
[]
[]
[]
[]
[]
[]
[]
[]
[]
[]
[]
[]
[]
[]
[]
[]
[]
[]
[]
[]
[]
[]
[]
[]
[]
[]
[]
[]
[]
[]
[]
[]
[]
[]
[]
[]
[]
[]
[]
[]
[]
[]
[]
[]
[]
[]
[]
[]
[]
[]
[]
[]
[]
[]
[]
[]
[]
[]
[]
[]
[]
[]
[]
[]
[]
[]
[]
[]
[]
[]
[]
[]
[]
[]
[]
[]
[]
[]
[]
[]
[]
[]
[]
[]
[]
[]
[]
[]
[]
[]
[]
[]
[]
[]
[]
[]
[]
[]
[]
[]
[]
[]
[]
[]
[]
[]
[]
[]
[]
[]
[]
[]
[]
[]
[]
[]
[]
[]
[]
[]
[]
[]
[]
[]
[]
[]
[]
[]
[]
[]
[]
[]
[]
[]
[]
[]
[]
[]
[]
[]
[]
[]
[]
[]
[]
[]
[]
[]
[]
[]
[]
[]
[]
[]
[]
[]
[]
[]
[]
[]
[]
[]
[]
[]
[]
[]
[]
[]
[]
[]
[]
[]
[]
[]
[]
[]
[]
[]
[]
[]
[]
[]
[]
[]
[]
[]
[]
[]
[]
[]
[]
[]
[]
[]
[]
[]
[]
[]
[]
[]
[]
[]
[]
[]
[]
[]
[]
[]
[]
[]
[]
[]
[]
[]
[]
[]
[]
[]
[]
[]
[]
[]
[]
[]
[]
[]
[]
[]
[]
[]
[]
[]
[]
[]
[]
[]
[]
[]
[]
[]
[]
[]
[]
[]
[]
[]
[]
[]
[]
[]
[]
[]
[]
[]
[]
[]
[]
[]
[]
[]
[]
[]
[]
[]
[]
[]
[]
[]
[]
[]
[]
[]
[]
[]
[]
[]
[]
[]
[]
[]
[]
[]
[]
[]
[]
[]
[]
[]
[]
[]
[]
[]
[]
[]
[]
[]
[]
[]
[]
[]
[]
[]
[]
[]
[]
[]
[]
[]
[]
[]
[]
[]
[]
[]
[]
[]
[]
[]
[]
[]
[]
[]
[]
[]
[]
[]
[]
[]
[]
[]
[]
[]
[]
[]
[]
[]
[]
[]
[]
[]
[]
[]
[]
[]
[]
[]
[]
[]
[]
[]
[]
[]
[]
[]
[]
[]
[]
[]
[]
[]
[]
[]
[]
[]
[]
[]
[]
[]
[]
[]
[]
[]
[]
[]
[]
[]
[]
[]
[]
[]
[]
[]
[]
[]
[]
[]
[null,null,null,null,null,null,null,null,{"$f":"IF(ISBLANK(#REF!),\"\",$F$11*#REF!+$G$11)","v":{"$error":"#REF!"}},{"$f":"IF(ISBLANK(I2592),\"\",$F$12*#REF!+$G$12)","v":{"$error":"#REF!"}}]
[null,null,null,null,null,null,null,null,{"$f":"IF(ISBLANK(#REF!),\"\",$F$11*#REF!+$G$11)","v":{"$error":"#REF!"}},{"$f":"IF(ISBLANK(I2604),\"\",$F$12*#REF!+$G$12)","v":{"$error":"#REF!"}}]
[null,null,null,null,null,null,null,null,{"$f":"IF(ISBLANK(#REF!),\"\",$F$11*#REF!+$G$11)","v":{"$error":"#REF!"}},{"$f":"IF(ISBLANK(I2637),\"\",$F$12*#REF!+$G$12)","v":{"$error":"#REF!"}}]
[null,null,null,null,null,null,null,null,{"$f":"IF(ISBLANK(#REF!),\"\",$F$11*#REF!+$G$11)","v":{"$error":"#REF!"}},{"$f":"IF(ISBLANK(I2662),\"\",$F$12*#REF!+$G$12)","v":{"$error":"#REF!"}}]
[null,null,null,null,null,null,null,null,{"$f":"IF(ISBLANK(#REF!),\"\",$F$11*#REF!+$G$11)","v":{"$error":"#REF!"}},{"$f":"IF(ISBLANK(I2672),\"\",$F$12*#REF!+$G$12)","v":{"$error":"#REF!"}}]
[null,null,null,null,null,null,null,null,{"$f":"IF(ISBLANK(#REF!),\"\",$F$11*#REF!+$G$11)","v":{"$error":"#REF!"}},{"$f":"IF(ISBLANK(I2695),\"\",$F$12*#REF!+$G$12)","v":{"$error":"#REF!"}}]
[null,null,null,null,null,null,null,null,{"$f":"IF(ISBLANK(#REF!),\"\",$F$11*#REF!+$G$11)","v":{"$error":"#REF!"}},{"$f":"IF(ISBLANK(I2728),\"\",$F$12*#REF!+$G$12)","v":{"$error":"#REF!"}}]
[null,null,null,null,null,null,null,null,{"$f":"IF(ISBLANK(#REF!),\"\",$F$11*#REF!+$G$11)","v":{"$error":"#REF!"}},{"$f":"IF(ISBLANK(I2737),\"\",$F$12*#REF!+$G$12)","v":{"$error":"#REF!"}}]
[null,null,null,null,null,null,null,null,{"$f":"IF(ISBLANK(#REF!),\"\",$F$11*#REF!+$G$11)","v":{"$error":"#REF!"}},{"$f":"IF(ISBLANK(I2764),\"\",$F$12*#REF!+$G$12)","v":{"$error":"#REF!"}}]
[null,null,null,null,null,null,null,null,{"$f":"IF(ISBLANK(#REF!),\"\",$F$11*#REF!+$G$11)","v":{"$error":"#REF!"}},{"$f":"IF(ISBLANK(I2794),\"\",$F$12*#REF!+$G$12)","v":{"$error":"#REF!"}}]
[null,null,null,null,null,null,null,null,{"$f":"IF(ISBLANK(#REF!),\"\",$F$11*#REF!+$G$11)","v":{"$error":"#REF!"}},{"$f":"IF(ISBLANK(I2827),\"\",$F$12*#REF!+$G$12)","v":{"$error":"#REF!"}}]
[null,null,null,null,null,null,null,null,{"$f":"IF(ISBLANK(#REF!),\"\",$F$11*#REF!+$G$11)","v":{"$error":"#REF!"}},{"$f":"IF(ISBLANK(I2852),\"\",$F$12*#REF!+$G$12)","v":{"$error":"#REF!"}}]
[null,null,null,null,null,null,null,null,{"$f":"IF(ISBLANK(#REF!),\"\",$F$11*#REF!+$G$11)","v":{"$error":"#REF!"}},{"$f":"IF(ISBLANK(I2867),\"\",$F$12*#REF!+$G$12)","v":{"$error":"#REF!"}}]
[null,null,null,null,null,null,null,null,{"$f":"IF(ISBLANK(#REF!),\"\",$F$11*#REF!+$G$11)","v":{"$error":"#REF!"}},{"$f":"IF(ISBLANK(I2885),\"\",$F$12*#REF!+$G$12)","v":{"$error":"#REF!"}}]
[null,null,null,null,null,null,null,null,{"$f":"IF(ISBLANK(#REF!),\"\",$F$11*#REF!+$G$11)","v":{"$error":"#REF!"}},{"$f":"IF(ISBLANK(I2918),\"\",$F$12*#REF!+$G$12)","v":{"$error":"#REF!"}}]
[null,null,null,null,null,null,null,null,{"$f":"IF(ISBLANK(#REF!),\"\",$F$11*#REF!+$G$11)","v":{"$error":"#REF!"}},{"$f":"IF(ISBLANK(I2927),\"\",$F$12*#REF!+$G$12)","v":{"$error":"#REF!"}}]
[null,null,null,null,null,null,null,null,{"$f":"IF(ISBLANK(#REF!),\"\",$F$11*#REF!+$G$11)","v":{"$error":"#REF!"}},{"$f":"IF(ISBLANK(I2959),\"\",$F$12*#REF!+$G$12)","v":{"$error":"#REF!"}}]
[null,null,null,null,null,null,null,null,{"$f":"IF(ISBLANK(#REF!),\"\",$F$11*#REF!+$G$11)","v":{"$error":"#REF!"}},{"$f":"IF(ISBLANK(I2984),\"\",$F$12*#REF!+$G$12)","v":{"$error":"#REF!"}}]
[null,null,null,null,null,null,null,null,{"$f":"IF(ISBLANK(#REF!),\"\",$F$11*#REF!+$G$11)","v":{"$error":"#REF!"}},{"$f":"IF(ISBLANK(I3009),\"\",$F$12*#REF!+$G$12)","v":{"$error":"#REF!"}}]
[null,null,null,null,null,null,null,null,{"$f":"IF(ISBLANK(#REF!),\"\",$F$11*#REF!+$G$11)","v":{"$error":"#REF!"}},{"$f":"IF(ISBLANK(I3042),\"\",$F$12*#REF!+$G$12)","v":{"$error":"#REF!"}}]
[null,null,null,null,null,null,null,null,{"$f":"IF(ISBLANK(#REF!),\"\",$F$11*#REF!+$G$11)","v":{"$error":"#REF!"}},{"$f":"IF(ISBLANK(I3062),\"\",$F$12*#REF!+$G$12)","v":{"$error":"#REF!"}}]
[null,null,null,null,null,null,null,null,{"$f":"IF(ISBLANK(#REF!),\"\",$F$11*#REF!+$G$11)","v":{"$error":"#REF!"}},{"$f":"IF(ISBLANK(I3075),\"\",$F$12*#REF!+$G$12)","v":{"$error":"#REF!"}}]
[null,null,null,null,null,null,null,null,{"$f":"IF(ISBLANK(#REF!),\"\",$F$11*#REF!+$G$11)","v":{"$error":"#REF!"}},{"$f":"IF(ISBLANK(I3108),\"\",$F$12*#REF!+$G$12)","v":{"$error":"#REF!"}}]
[null,null,null,null,null,null,null,null,{"$f":"IF(ISBLANK(#REF!),\"\",$F$11*#REF!+$G$11)","v":{"$error":"#REF!"}},{"$f":"IF(ISBLANK(I3117),\"\",$F$12*#REF!+$G$12)","v":{"$error":"#REF!"}}]
[null,null,null,null,null,null,null,null,{"$f":"IF(ISBLANK(#REF!),\"\",$F$11*#REF!+$G$11)","v":{"$error":"#REF!"}},{"$f":"IF(ISBLANK(I3154),\"\",$F$12*#REF!+$G$12)","v":{"$error":"#REF!"}}]
[null,null,null,null,null,null,null,null,{"$f":"IF(ISBLANK(#REF!),\"\",$F$11*#REF!+$G$11)","v":{"$error":"#REF!"}},{"$f":"IF(ISBLANK(I3174),\"\",$F$12*#REF!+$G$12)","v":{"$error":"#REF!"}}]
[null,null,null,null,null,null,null,null,{"$f":"IF(ISBLANK(#REF!),\"\",$F$11*#REF!+$G$11)","v":{"$error":"#REF!"}},{"$f":"IF(ISBLANK(I3199),\"\",$F$12*#REF!+$G$12)","v":{"$error":"#REF!"}}]
[null,null,null,null,null,null,null,null,{"$f":"IF(ISBLANK(#REF!),\"\",$F$11*#REF!+$G$11)","v":{"$error":"#REF!"}},{"$f":"IF(ISBLANK(I3232),\"\",$F$12*#REF!+$G$12)","v":{"$error":"#REF!"}}]
[null,null,null,null,null,null,null,null,{"$f":"IF(ISBLANK(#REF!),\"\",$F$11*#REF!+$G$11)","v":{"$error":"#REF!"}},{"$f":"IF(ISBLANK(I3257),\"\",$F$12*#REF!+$G$12)","v":{"$error":"#REF!"}}]
[null,null,null,null,null,null,null,null,{"$f":"IF(ISBLANK(#REF!),\"\",$F$11*#REF!+$G$11)","v":{"$error":"#REF!"}},{"$f":"IF(ISBLANK(I3265),\"\",$F$12*#REF!+$G$12)","v":{"$error":"#REF!"}}]
[null,null,null,null,null,null,null,null,{"$f":"IF(ISBLANK(#REF!),\"\",$F$11*#REF!+$G$11)","v":{"$error":"#REF!"}},{"$f":"IF(ISBLANK(I3298),\"\",$F$12*#REF!+$G$12)","v":{"$error":"#REF!"}}]
[null,null,null,null,null,null,null,null,{"$f":"IF(ISBLANK(#REF!),\"\",$F$11*#REF!+$G$11)","v":{"$error":"#REF!"}},{"$f":"IF(ISBLANK(I3323),\"\",$F$12*#REF!+$G$12)","v":{"$error":"#REF!"}}]
[null,null,null,null,null,null,null,null,{"$f":"IF(ISBLANK(#REF!),\"\",$F$11*#REF!+$G$11)","v":{"$error":"#REF!"}},{"$f":"IF(ISBLANK(I3349),\"\",$F$12*#REF!+$G$12)","v":{"$error":"#REF!"}}]
[null,null,null,null,null,null,null,null,{"$f":"IF(ISBLANK(#REF!),\"\",$F$11*#REF!+$G$11)","v":{"$error":"#REF!"}},{"$f":"IF(ISBLANK(I3364),\"\",$F$12*#REF!+$G$12)","v":{"$error":"#REF!"}}]
[null,null,null,null,null,null,null,null,{"$f":"IF(ISBLANK(#REF!),\"\",$F$11*#REF!+$G$11)","v":{"$error":"#REF!"}},{"$f":"IF(ISBLANK(I3389),\"\",$F$12*#REF!+$G$12)","v":{"$error":"#REF!"}}]
[null,null,null,null,null,null,null,null,{"$f":"IF(ISBLANK(#REF!),\"\",$F$11*#REF!+$G$11)","v":{"$error":"#REF!"}},{"$f":"IF(ISBLANK(I3422),\"\",$F$12*#REF!+$G$12)","v":{"$error":"#REF!"}}]
[null,null,null,null,null,null,null,null,{"$f":"IF(ISBLANK(#REF!),\"\",$F$11*#REF!+$G$11)","v":{"$error":"#REF!"}},{"$f":"IF(ISBLANK(I3429),\"\",$F$12*#REF!+$G$12)","v":{"$error":"#REF!"}}]
[null,null,null,null,null,null,null,null,{"$f":"IF(ISBLANK(#REF!),\"\",$F$11*#REF!+$G$11)","v":{"$error":"#REF!"}},{"$f":"IF(ISBLANK(I3455),\"\",$F$12*#REF!+$G$12)","v":{"$error":"#REF!"}}]
[null,null,null,null,null,null,null,null,{"$f":"IF(ISBLANK(#REF!),\"\",$F$11*#REF!+$G$11)","v":{"$error":"#REF!"}},{"$f":"IF(ISBLANK(I3488),\"\",$F$12*#REF!+$G$12)","v":{"$error":"#REF!"}}]
[null,null,null,null,null,null,null,null,{"$f":"IF(ISBLANK(#REF!),\"\",$F$11*#REF!+$G$11)","v":{"$error":"#REF!"}},{"$f":"IF(ISBLANK(I3513),\"\",$F$12*#REF!+$G$12)","v":{"$error":"#REF!"}}]
[null,null,null,null,null,null,null,null,{"$f":"IF(ISBLANK(#REF!),\"\",$F$11*#REF!+$G$11)","v":{"$error":"#REF!"}},{"$f":"IF(ISBLANK(I3521),\"\",$F$12*#REF!+$G$12)","v":{"$error":"#REF!"}}]
[null,null,null,null,null,null,null,null,{"$f":"IF(ISBLANK(#REF!),\"\",$F$11*#REF!+$G$11)","v":{"$error":"#REF!"}},{"$f":"IF(ISBLANK(I3554),\"\",$F$12*#REF!+$G$12)","v":{"$error":"#REF!"}}]
[null,null,null,null,null,null,null,null,{"$f":"IF(ISBLANK(#REF!),\"\",$F$11*#REF!+$G$11)","v":{"$error":"#REF!"}},{"$f":"IF(ISBLANK(I3579),\"\",$F$12*#REF!+$G$12)","v":{"$error":"#REF!"}}]
[null,null,null,null,null,null,null,null,{"$f":"IF(ISBLANK(#REF!),\"\",$F$11*#REF!+$G$11)","v":{"$error":"#REF!"}},{"$f":"IF(ISBLANK(I3612),\"\",$F$12*#REF!+$G$12)","v":{"$error":"#REF!"}}]
[null,null,null,null,null,null,null,null,{"$f":"IF(ISBLANK(#REF!),\"\",$F$11*#REF!+$G$11)","v":{"$error":"#REF!"}},{"$f":"IF(ISBLANK(I3624),\"\",$F$12*#REF!+$G$12)","v":{"$error":"#REF!"}}]
[null,null,null,null,null,null,null,null,{"$f":"IF(ISBLANK(#REF!),\"\",$F$11*#REF!+$G$11)","v":{"$error":"#REF!"}},{"$f":"IF(ISBLANK(I3645),\"\",$F$12*#REF!+$G$12)","v":{"$error":"#REF!"}}]
[null,null,null,null,null,null,null,null,{"$f":"IF(ISBLANK(#REF!),\"\",$F$11*#REF!+$G$11)","v":{"$error":"#REF!"}},{"$f":"IF(ISBLANK(I3678),\"\",$F$12*#REF!+$G$12)","v":{"$error":"#REF!"}}]
[null,null,null,null,null,null,null,null,{"$f":"IF(ISBLANK(#REF!),\"\",$F$11*#REF!+$G$11)","v":{"$error":"#REF!"}},{"$f":"IF(ISBLANK(I3703),\"\",$F$12*#REF!+$G$12)","v":{"$error":"#REF!"}}]
[null,null,null,null,null,null,null,null,{"$f":"IF(ISBLANK(#REF!),\"\",$F$11*#REF!+$G$11)","v":{"$error":"#REF!"}},{"$f":"IF(ISBLANK(I3712),\"\",$F$12*#REF!+$G$12)","v":{"$error":"#REF!"}}]
[null,null,null,null,null,null,null,null,{"$f":"IF(ISBLANK(#REF!),\"\",$F$11*#REF!+$G$11)","v":{"$error":"#REF!"}},{"$f":"IF(ISBLANK(I3739),\"\",$F$12*#REF!+$G$12)","v":{"$error":"#REF!"}}]
[null,null,null,null,null,null,null,null,{"$f":"IF(ISBLANK(#REF!),\"\",$F$11*#REF!+$G$11)","v":{"$error":"#REF!"}},{"$f":"IF(ISBLANK(I3769),\"\",$F$12*#REF!+$G$12)","v":{"$error":"#REF!"}}]
[null,null,null,null,null,null,null,null,{"$f":"IF(ISBLANK(#REF!),\"\",$F$11*#REF!+$G$11)","v":{"$error":"#REF!"}},{"$f":"IF(ISBLANK(I3802),\"\",$F$12*#REF!+$G$12)","v":{"$error":"#REF!"}}]
[null,null,null,null,null,null,null,null,{"$f":"IF(ISBLANK(#REF!),\"\",$F$11*#REF!+$G$11)","v":{"$error":"#REF!"}},{"$f":"IF(ISBLANK(I3827),\"\",$F$12*#REF!+$G$12)","v":{"$error":"#REF!"}}]
[null,null,null,null,null,null,null,null,{"$f":"IF(ISBLANK(#REF!),\"\",$F$11*#REF!+$G$11)","v":{"$error":"#REF!"}},{"$f":"IF(ISBLANK(I3831),\"\",$F$12*#REF!+$G$12)","v":{"$error":"#REF!"}}]
[null,null,null,null,null,null,null,null,{"$f":"IF(ISBLANK(#REF!),\"\",$F$11*#REF!+$G$11)","v":{"$error":"#REF!"}},{"$f":"IF(ISBLANK(I3868),\"\",$F$12*#REF!+$G$12)","v":{"$error":"#REF!"}}]
[null,null,null,null,null,null,null,null,{"$f":"IF(ISBLANK(#REF!),\"\",$F$11*#REF!+$G$11)","v":{"$error":"#REF!"}},{"$f":"IF(ISBLANK(I3893),\"\",$F$12*#REF!+$G$12)","v":{"$error":"#REF!"}}]
[null,null,null,null,null,null,null,null,{"$f":"IF(ISBLANK(#REF!),\"\",$F$11*#REF!+$G$11)","v":{"$error":"#REF!"}},{"$f":"IF(ISBLANK(I3902),\"\",$F$12*#REF!+$G$12)","v":{"$error":"#REF!"}}]
[null,null,null,null,null,null,null,null,{"$f":"IF(ISBLANK(#REF!),\"\",$F$11*#REF!+$G$11)","v":{"$error":"#REF!"}},{"$f":"IF(ISBLANK(I3934),\"\",$F$12*#REF!+$G$12)","v":{"$error":"#REF!"}}]
[null,null,null,null,null,null,null,null,{"$f":"IF(ISBLANK(#REF!),\"\",$F$11*#REF!+$G$11)","v":{"$error":"#REF!"}},{"$f":"IF(ISBLANK(I3959),\"\",$F$12*#REF!+$G$12)","v":{"$error":"#REF!"}}]
[null,null,null,null,null,null,null,null,{"$f":"IF(ISBLANK(#REF!),\"\",$F$11*#REF!+$G$11)","v":{"$error":"#REF!"}},{"$f":"IF(ISBLANK(I3992),\"\",$F$12*#REF!+$G$12)","v":{"$error":"#REF!"}}]
[null,null,null,null,null,null,null,null,{"$f":"IF(ISBLANK(#REF!),\"\",$F$11*#REF!+$G$11)","v":{"$error":"#REF!"}},{"$f":"IF(ISBLANK(I4017),\"\",$F$12*#REF!+$G$12)","v":{"$error":"#REF!"}}]
[null,null,null,null,null,null,null,null,{"$f":"IF(ISBLANK(#REF!),\"\",$F$11*#REF!+$G$11)","v":{"$error":"#REF!"}},{"$f":"IF(ISBLANK(I4026),\"\",$F$12*#REF!+$G$12)","v":{"$error":"#REF!"}}]
[null,null,null,null,null,null,null,null,{"$f":"IF(ISBLANK(#REF!),\"\",$F$11*#REF!+$G$11)","v":{"$error":"#REF!"}},{"$f":"IF(ISBLANK(I4058),\"\",$F$12*#REF!+$G$12)","v":{"$error":"#REF!"}}]
[null,null,null,null,null,null,null,null,{"$f":"IF(ISBLANK(#REF!),\"\",$F$11*#REF!+$G$11)","v":{"$error":"#REF!"}},{"$f":"IF(ISBLANK(I4083),\"\",$F$12*#REF!+$G$12)","v":{"$error":"#REF!"}}]
[null,null,null,null,null,null,null,null,{"$f":"IF(ISBLANK(#REF!),\"\",$F$11*#REF!+$G$11)","v":{"$error":"#REF!"}},{"$f":"IF(ISBLANK(I4092),\"\",$F$12*#REF!+$G$12)","v":{"$error":"#REF!"}}]
[null,null,null,null,null,null,null,null,{"$f":"IF(ISBLANK(#REF!),\"\",$F$11*#REF!+$G$11)","v":{"$error":"#REF!"}},{"$f":"IF(ISBLANK(I4129),\"\",$F$12*#REF!+$G$12)","v":{"$error":"#REF!"}}]
[null,null,null,null,null,null,null,null,{"$f":"IF(ISBLANK(#REF!),\"\",$F$11*#REF!+$G$11)","v":{"$error":"#REF!"}},{"$f":"IF(ISBLANK(I4149),\"\",$F$12*#REF!+$G$12)","v":{"$error":"#REF!"}}]
[null,null,null,null,null,null,null,null,{"$f":"IF(ISBLANK(#REF!),\"\",$F$11*#REF!+$G$11)","v":{"$error":"#REF!"}},{"$f":"IF(ISBLANK(I4182),\"\",$F$12*#REF!+$G$12)","v":{"$error":"#REF!"}}]
[null,null,null,null,null,null,null,null,{"$f":"IF(ISBLANK(#REF!),\"\",$F$11*#REF!+$G$11)","v":{"$error":"#REF!"}},{"$f":"IF(ISBLANK(I4207),\"\",$F$12*#REF!+$G$12)","v":{"$error":"#REF!"}}]
[null,null,null,null,null,null,null,null,{"$f":"IF(ISBLANK(#REF!),\"\",$F$11*#REF!+$G$11)","v":{"$error":"#REF!"}},{"$f":"IF(ISBLANK(I4221),\"\",$F$12*#REF!+$G$12)","v":{"$error":"#REF!"}}]
[null,null,null,null,null,null,null,null,{"$f":"IF(ISBLANK(#REF!),\"\",$F$11*#REF!+$G$11)","v":{"$error":"#REF!"}},{"$f":"IF(ISBLANK(I4248),\"\",$F$12*#REF!+$G$12)","v":{"$error":"#REF!"}}]
[null,null,null,null,null,null,null,null,{"$f":"IF(ISBLANK(#REF!),\"\",$F$11*#REF!+$G$11)","v":{"$error":"#REF!"}},{"$f":"IF(ISBLANK(I4273),\"\",$F$12*#REF!+$G$12)","v":{"$error":"#REF!"}}]
[null,null,null,null,null,null,null,null,{"$f":"IF(ISBLANK(#REF!),\"\",$F$11*#REF!+$G$11)","v":{"$error":"#REF!"}},{"$f":"IF(ISBLANK(I4282),\"\",$F$12*#REF!+$G$12)","v":{"$error":"#REF!"}}]
[null,null,null,null,null,null,null,null,{"$f":"IF(ISBLANK(#REF!),\"\",$F$11*#REF!+$G$11)","v":{"$error":"#REF!"}},{"$f":"IF(ISBLANK(I4313),\"\",$F$12*#REF!+$G$12)","v":{"$error":"#REF!"}}]
[null,null,null,null,null,null,null,null,{"$f":"IF(ISBLANK(#REF!),\"\",$F$11*#REF!+$G$11)","v":{"$error":"#REF!"}},{"$f":"IF(ISBLANK(I4339),\"\",$F$12*#REF!+$G$12)","v":{"$error":"#REF!"}}]
[null,null,null,null,null,null,null,null,{"$f":"IF(ISBLANK(#REF!),\"\",$F$11*#REF!+$G$11)","v":{"$error":"#REF!"}},{"$f":"IF(ISBLANK(I4372),\"\",$F$12*#REF!+$G$12)","v":{"$error":"#REF!"}}]
[null,null,null,null,null,null,null,null,{"$f":"IF(ISBLANK(#REF!),\"\",$F$11*#REF!+$G$11)","v":{"$error":"#REF!"}},{"$f":"IF(ISBLANK(I4397),\"\",$F$12*#REF!+$G$12)","v":{"$error":"#REF!"}}]
[null,null,null,null,null,null,null,null,{"$f":"IF(ISBLANK(#REF!),\"\",$F$11*#REF!+$G$11)","v":{"$error":"#REF!"}},{"$f":"IF(ISBLANK(I4416),\"\",$F$12*#REF!+$G$12)","v":{"$error":"#REF!"}}]
[null,null,null,null,null,null,null,null,{"$f":"IF(ISBLANK(#REF!),\"\",$F$11*#REF!+$G$11)","v":{"$error":"#REF!"}},{"$f":"IF(ISBLANK(I4438),\"\",$F$12*#REF!+$G$12)","v":{"$error":"#REF!"}}]
[null,null,null,null,null,null,null,null,{"$f":"IF(ISBLANK(#REF!),\"\",$F$11*#REF!+$G$11)","v":{"$error":"#REF!"}},{"$f":"IF(ISBLANK(I4463),\"\",$F$12*#REF!+$G$12)","v":{"$error":"#REF!"}}]
[null,null,null,null,null,null,null,null,{"$f":"IF(ISBLANK(#REF!),\"\",$F$11*#REF!+$G$11)","v":{"$error":"#REF!"}},{"$f":"IF(ISBLANK(I4472),\"\",$F$12*#REF!+$G$12)","v":{"$error":"#REF!"}}]
[null,null,null,null,null,null,null,null,{"$f":"IF(ISBLANK(#REF!),\"\",$F$11*#REF!+$G$11)","v":{"$error":"#REF!"}},{"$f":"IF(ISBLANK(I4508),\"\",$F$12*#REF!+$G$12)","v":{"$error":"#REF!"}}]
[null,null,null,null,null,null,null,null,{"$f":"IF(ISBLANK(#REF!),\"\",$F$11*#REF!+$G$11)","v":{"$error":"#REF!"}},{"$f":"IF(ISBLANK(I4529),\"\",$F$12*#REF!+$G$12)","v":{"$error":"#REF!"}}]
[null,null,null,null,null,null,null,null,{"$f":"IF(ISBLANK(#REF!),\"\",$F$11*#REF!+$G$11)","v":{"$error":"#REF!"}},{"$f":"IF(ISBLANK(I4562),\"\",$F$12*#REF!+$G$12)","v":{"$error":"#REF!"}}]
[null,null,null,null,null,null,null,null,{"$f":"IF(ISBLANK(#REF!),\"\",$F$11*#REF!+$G$11)","v":{"$error":"#REF!"}},{"$f":"IF(ISBLANK(I4587),\"\",$F$12*#REF!+$G$12)","v":{"$error":"#REF!"}}]
[null,null,null,null,null,null,null,null,{"$f":"IF(ISBLANK(#REF!),\"\",$F$11*#REF!+$G$11)","v":{"$error":"#REF!"}},{"$f":"IF(ISBLANK(I4611),\"\",$F$12*#REF!+$G$12)","v":{"$error":"#REF!"}}]
[null,null,null,null,null,null,null,null,{"$f":"IF(ISBLANK(#REF!),\"\",$F$11*#REF!+$G$11)","v":{"$error":"#REF!"}},{"$f":"IF(ISBLANK(I4620),\"\",$F$12*#REF!+$G$12)","v":{"$error":"#REF!"}}]
[null,null,null,null,null,null,null,null,{"$f":"IF(ISBLANK(#REF!),\"\",$F$11*#REF!+$G$11)","v":{"$error":"#REF!"}},{"$f":"IF(ISBLANK(I4653),\"\",$F$12*#REF!+$G$12)","v":{"$error":"#REF!"}}]
[null,null,null,null,null,null,null,null,{"$f":"IF(ISBLANK(#REF!),\"\",$F$11*#REF!+$G$11)","v":{"$error":"#REF!"}},{"$f":"IF(ISBLANK(I4662),\"\",$F$12*#REF!+$G$12)","v":{"$error":"#REF!"}}]
[null,null,null,null,null,null,null,null,{"$f":"IF(ISBLANK(#REF!),\"\",$F$11*#REF!+$G$11)","v":{"$error":"#REF!"}},{"$f":"IF(ISBLANK(I4703),\"\",$F$12*#REF!+$G$12)","v":{"$error":"#REF!"}}]
[null,null,null,null,null,null,null,null,{"$f":"IF(ISBLANK(#REF!),\"\",$F$11*#REF!+$G$11)","v":{"$error":"#REF!"}},{"$f":"IF(ISBLANK(I4719),\"\",$F$12*#REF!+$G$12)","v":{"$error":"#REF!"}}]
[null,null,null,null,null,null,null,null,{"$f":"IF(ISBLANK(#REF!),\"\",$F$11*#REF!+$G$11)","v":{"$error":"#REF!"}},{"$f":"IF(ISBLANK(I4752),\"\",$F$12*#REF!+$G$12)","v":{"$error":"#REF!"}}]
[null,null,null,null,null,null,null,null,{"$f":"IF(ISBLANK(#REF!),\"\",$F$11*#REF!+$G$11)","v":{"$error":"#REF!"}},{"$f":"IF(ISBLANK(I4777),\"\",$F$12*#REF!+$G$12)","v":{"$error":"#REF!"}}]
[null,null,null,null,null,null,null,null,{"$f":"IF(ISBLANK(#REF!),\"\",$F$11*#REF!+$G$11)","v":{"$error":"#REF!"}},{"$f":"IF(ISBLANK(I4783),\"\",$F$12*#REF!+$G$12)","v":{"$error":"#REF!"}}]
[null,null,null,null,null,null,null,null,{"$f":"IF(ISBLANK(#REF!),\"\",$F$11*#REF!+$G$11)","v":{"$error":"#REF!"}},{"$f":"IF(ISBLANK(I4810),\"\",$F$12*#REF!+$G$12)","v":{"$error":"#REF!"}}]
[null,null,null,null,null,null,null,null,{"$f":"IF(ISBLANK(#REF!),\"\",$F$11*#REF!+$G$11)","v":{"$error":"#REF!"}},{"$f":"IF(ISBLANK(I4843),\"\",$F$12*#REF!+$G$12)","v":{"$error":"#REF!"}}]
[null,null,null,null,null,null,null,null,{"$f":"IF(ISBLANK(#REF!),\"\",$F$11*#REF!+$G$11)","v":{"$error":"#REF!"}},{"$f":"IF(ISBLANK(I4852),\"\",$F$12*#REF!+$G$12)","v":{"$error":"#REF!"}}]
[null,null,null,null,null,null,null,null,{"$f":"IF(ISBLANK(#REF!),\"\",$F$11*#REF!+$G$11)","v":{"$error":"#REF!"}},{"$f":"IF(ISBLANK(I4875),\"\",$F$12*#REF!+$G$12)","v":{"$error":"#REF!"}}]
[null,null,null,null,null,null,null,null,{"$f":"IF(ISBLANK(#REF!),\"\",$F$11*#REF!+$G$11)","v":{"$error":"#REF!"}},{"$f":"IF(ISBLANK(I4909),\"\",$F$12*#REF!+$G$12)","v":{"$error":"#REF!"}}]
[null,null,null,null,null,null,null,null,{"$f":"IF(ISBLANK(#REF!),\"\",$F$11*#REF!+$G$11)","v":{"$error":"#REF!"}},{"$f":"IF(ISBLANK(I4942),\"\",$F$12*#REF!+$G$12)","v":{"$error":"#REF!"}}]
[null,null,null,null,null,null,null,null,{"$f":"IF(ISBLANK(#REF!),\"\",$F$11*#REF!+$G$11)","v":{"$error":"#REF!"}},{"$f":"IF(ISBLANK(I4967),\"\",$F$12*#REF!+$G$12)","v":{"$error":"#REF!"}}]
[null,null,null,null,null,null,null,null,{"$f":"IF(ISBLANK(#REF!),\"\",$F$11*#REF!+$G$11)","v":{"$error":"#REF!"}},{"$f":"IF(ISBLANK(I4978),\"\",$F$12*#REF!+$G$12)","v":{"$error":"#REF!"}}]
[null,null,null,null,null,null,null,null,{"$f":"IF(ISBLANK(#REF!),\"\",$F$11*#REF!+$G$11)","v":{"$error":"#REF!"}},{"$f":"IF(ISBLANK(I5000),\"\",$F$12*#REF!+$G$12)","v":{"$error":"#REF!"}}]
[null,null,null,null,null,null,null,null,{"$f":"IF(ISBLANK(#REF!),\"\",$F$11*#REF!+$G$11)","v":{"$error":"#REF!"}},{"$f":"IF(ISBLANK(I5033),\"\",$F$12*#REF!+$G$12)","v":{"$error":"#REF!"}}]
[null,null,null,null,null,null,null,null,{"$f":"IF(ISBLANK(#REF!),\"\",$F$11*#REF!+$G$11)","v":{"$error":"#REF!"}},{"$f":"IF(ISBLANK(I5042),\"\",$F$12*#REF!+$G$12)","v":{"$error":"#REF!"}}]
[null,null,null,null,null,null,null,null,{"$f":"IF(ISBLANK(#REF!),\"\",$F$11*#REF!+$G$11)","v":{"$error":"#REF!"}},{"$f":"IF(ISBLANK(I5070),\"\",$F$12*#REF!+$G$12)","v":{"$error":"#REF!"}}]
[null,null,null,null,null,null,null,null,{"$f":"IF(ISBLANK(#REF!),\"\",$F$11*#REF!+$G$11)","v":{"$error":"#REF!"}},{"$f":"IF(ISBLANK(I5099),\"\",$F$12*#REF!+$G$12)","v":{"$error":"#REF!"}}]
[null,null,null,null,null,null,null,null,{"$f":"IF(ISBLANK(#REF!),\"\",$F$11*#REF!+$G$11)","v":{"$error":"#REF!"}},{"$f":"IF(ISBLANK(I5124),\"\",$F$12*#REF!+$G$12)","v":{"$error":"#REF!"}}]
[null,null,null,null,null,null,null,null,{"$f":"IF(ISBLANK(#REF!),\"\",$F$11*#REF!+$G$11)","v":{"$error":"#REF!"}},{"$f":"IF(ISBLANK(I5157),\"\",$F$12*#REF!+$G$12)","v":{"$error":"#REF!"}}]
[null,null,null,null,null,null,null,null,{"$f":"IF(ISBLANK(#REF!),\"\",$F$11*#REF!+$G$11)","v":{"$error":"#REF!"}},{"$f":"IF(ISBLANK(I5173),\"\",$F$12*#REF!+$G$12)","v":{"$error":"#REF!"}}]
[null,null,null,null,null,null,null,null,{"$f":"IF(ISBLANK(#REF!),\"\",$F$11*#REF!+$G$11)","v":{"$error":"#REF!"}},{"$f":"IF(ISBLANK(I5190),\"\",$F$12*#REF!+$G$12)","v":{"$error":"#REF!"}}]
[null,null,null,null,null,null,null,null,{"$f":"IF(ISBLANK(#REF!),\"\",$F$11*#REF!+$G$11)","v":{"$error":"#REF!"}},{"$f":"IF(ISBLANK(I5223),\"\",$F$12*#REF!+$G$12)","v":{"$error":"#REF!"}}]
[null,null,null,null,null,null,null,null,{"$f":"IF(ISBLANK(#REF!),\"\",$F$11*#REF!+$G$11)","v":{"$error":"#REF!"}},{"$f":"IF(ISBLANK(I5232),\"\",$F$12*#REF!+$G$12)","v":{"$error":"#REF!"}}]
[null,null,null,null,null,null,null,null,{"$f":"IF(ISBLANK(#REF!),\"\",$F$11*#REF!+$G$11)","v":{"$error":"#REF!"}},{"$f":"IF(ISBLANK(I5265),\"\",$F$12*#REF!+$G$12)","v":{"$error":"#REF!"}}]
[null,null,null,null,null,null,null,null,{"$f":"IF(ISBLANK(#REF!),\"\",$F$11*#REF!+$G$11)","v":{"$error":"#REF!"}},{"$f":"IF(ISBLANK(I5289),\"\",$F$12*#REF!+$G$12)","v":{"$error":"#REF!"}}]
[null,null,null,null,null,null,null,null,{"$f":"IF(ISBLANK(#REF!),\"\",$F$11*#REF!+$G$11)","v":{"$error":"#REF!"}},{"$f":"IF(ISBLANK(I5314),\"\",$F$12*#REF!+$G$12)","v":{"$error":"#REF!"}}]
[null,null,null,null,null,null,null,null,{"$f":"IF(ISBLANK(#REF!),\"\",$F$11*#REF!+$G$11)","v":{"$error":"#REF!"}},{"$f":"IF(ISBLANK(I5347),\"\",$F$12*#REF!+$G$12)","v":{"$error":"#REF!"}}]
[null,null,null,null,null,null,null,null,{"$f":"IF(ISBLANK(#REF!),\"\",$F$11*#REF!+$G$11)","v":{"$error":"#REF!"}},{"$f":"IF(ISBLANK(I5368),\"\",$F$12*#REF!+$G$12)","v":{"$error":"#REF!"}}]
[null,null,null,null,null,null,null,null,{"$f":"IF(ISBLANK(#REF!),\"\",$F$11*#REF!+$G$11)","v":{"$error":"#REF!"}},{"$f":"IF(ISBLANK(I5380),\"\",$F$12*#REF!+$G$12)","v":{"$error":"#REF!"}}]
[null,null,null,null,null,null,null,null,{"$f":"IF(ISBLANK(#REF!),\"\",$F$11*#REF!+$G$11)","v":{"$error":"#REF!"}},{"$f":"IF(ISBLANK(I5413),\"\",$F$12*#REF!+$G$12)","v":{"$error":"#REF!"}}]
[null,null,null,null,null,null,null,null,{"$f":"IF(ISBLANK(#REF!),\"\",$F$11*#REF!+$G$11)","v":{"$error":"#REF!"}},{"$f":"IF(ISBLANK(I5438),\"\",$F$12*#REF!+$G$12)","v":{"$error":"#REF!"}}]
[null,null,null,null,null,null,null,null,{"$f":"IF(ISBLANK(#REF!),\"\",$F$11*#REF!+$G$11)","v":{"$error":"#REF!"}},{"$f":"IF(ISBLANK(I5447),\"\",$F$12*#REF!+$G$12)","v":{"$error":"#REF!"}}]
[null,null,null,null,null,null,null,null,{"$f":"IF(ISBLANK(#REF!),\"\",$F$11*#REF!+$G$11)","v":{"$error":"#REF!"}},{"$f":"IF(ISBLANK(I5483),\"\",$F$12*#REF!+$G$12)","v":{"$error":"#REF!"}}]
[null,null,null,null,null,null,null,null,{"$f":"IF(ISBLANK(#REF!),\"\",$F$11*#REF!+$G$11)","v":{"$error":"#REF!"}},{"$f":"IF(ISBLANK(I5504),\"\",$F$12*#REF!+$G$12)","v":{"$error":"#REF!"}}]
[null,null,null,null,null,null,null,null,{"$f":"IF(ISBLANK(#REF!),\"\",$F$11*#REF!+$G$11)","v":{"$error":"#REF!"}},{"$f":"IF(ISBLANK(I5537),\"\",$F$12*#REF!+$G$12)","v":{"$error":"#REF!"}}]
[null,null,null,null,null,null,null,null,{"$f":"IF(ISBLANK(#REF!),\"\",$F$11*#REF!+$G$11)","v":{"$error":"#REF!"}},{"$f":"IF(ISBLANK(I5546),\"\",$F$12*#REF!+$G$12)","v":{"$error":"#REF!"}}]
[null,null,null,null,null,null,null,null,{"$f":"IF(ISBLANK(#REF!),\"\",$F$11*#REF!+$G$11)","v":{"$error":"#REF!"}},{"$f":"IF(ISBLANK(I5575),\"\",$F$12*#REF!+$G$12)","v":{"$error":"#REF!"}}]
[null,null,null,null,null,null,null,null,{"$f":"IF(ISBLANK(#REF!),\"\",$F$11*#REF!+$G$11)","v":{"$error":"#REF!"}},{"$f":"IF(ISBLANK(I5603),\"\",$F$12*#REF!+$G$12)","v":{"$error":"#REF!"}}]
[null,null,null,null,null,null,null,null,{"$f":"IF(ISBLANK(#REF!),\"\",$F$11*#REF!+$G$11)","v":{"$error":"#REF!"}},{"$f":"IF(ISBLANK(I5628),\"\",$F$12*#REF!+$G$12)","v":{"$error":"#REF!"}}]
[null,null,null,null,null,null,null,null,{"$f":"IF(ISBLANK(#REF!),\"\",$F$11*#REF!+$G$11)","v":{"$error":"#REF!"}},{"$f":"IF(ISBLANK(I5637),\"\",$F$12*#REF!+$G$12)","v":{"$error":"#REF!"}}]
[null,null,null,null,null,null,null,null,{"$f":"IF(ISBLANK(#REF!),\"\",$F$11*#REF!+$G$11)","v":{"$error":"#REF!"}},{"$f":"IF(ISBLANK(I5678),\"\",$F$12*#REF!+$G$12)","v":{"$error":"#REF!"}}]
[null,null,null,null,null,null,null,null,{"$f":"IF(ISBLANK(#REF!),\"\",$F$11*#REF!+$G$11)","v":{"$error":"#REF!"}},{"$f":"IF(ISBLANK(I5694),\"\",$F$12*#REF!+$G$12)","v":{"$error":"#REF!"}}]
[null,null,null,null,null,null,null,null,{"$f":"IF(ISBLANK(#REF!),\"\",$F$11*#REF!+$G$11)","v":{"$error":"#REF!"}},{"$f":"IF(ISBLANK(I5727),\"\",$F$12*#REF!+$G$12)","v":{"$error":"#REF!"}}]
[null,null,null,null,null,null,null,null,{"$f":"IF(ISBLANK(#REF!),\"\",$F$11*#REF!+$G$11)","v":{"$error":"#REF!"}},{"$f":"IF(ISBLANK(I5736),\"\",$F$12*#REF!+$G$12)","v":{"$error":"#REF!"}}]
[null,null,null,null,null,null,null,null,{"$f":"IF(ISBLANK(#REF!),\"\",$F$11*#REF!+$G$11)","v":{"$error":"#REF!"}},{"$f":"IF(ISBLANK(I5770),\"\",$F$12*#REF!+$G$12)","v":{"$error":"#REF!"}}]
[null,null,null,null,null,null,null,null,{"$f":"IF(ISBLANK(#REF!),\"\",$F$11*#REF!+$G$11)","v":{"$error":"#REF!"}},{"$f":"IF(ISBLANK(I5793),\"\",$F$12*#REF!+$G$12)","v":{"$error":"#REF!"}}]
[null,null,null,null,null,null,null,null,{"$f":"IF(ISBLANK(#REF!),\"\",$F$11*#REF!+$G$11)","v":{"$error":"#REF!"}},{"$f":"IF(ISBLANK(I5818),\"\",$F$12*#REF!+$G$12)","v":{"$error":"#REF!"}}]
[null,null,null,null,null,null,null,null,{"$f":"IF(ISBLANK(#REF!),\"\",$F$11*#REF!+$G$11)","v":{"$error":"#REF!"}},{"$f":"IF(ISBLANK(I5827),\"\",$F$12*#REF!+$G$12)","v":{"$error":"#REF!"}}]
[null,null,null,null,null,null,null,null,{"$f":"IF(ISBLANK(#REF!),\"\",$F$11*#REF!+$G$11)","v":{"$error":"#REF!"}},{"$f":"IF(ISBLANK(I5850),\"\",$F$12*#REF!+$G$12)","v":{"$error":"#REF!"}}]
[null,null,null,null,null,null,null,null,{"$f":"IF(ISBLANK(#REF!),\"\",$F$11*#REF!+$G$11)","v":{"$error":"#REF!"}},{"$f":"IF(ISBLANK(I5884),\"\",$F$12*#REF!+$G$12)","v":{"$error":"#REF!"}}]
[null,null,null,null,null,null,null,null,{"$f":"IF(ISBLANK(#REF!),\"\",$F$11*#REF!+$G$11)","v":{"$error":"#REF!"}},{"$f":"IF(ISBLANK(I5917),\"\",$F$12*#REF!+$G$12)","v":{"$error":"#REF!"}}]
[null,null,null,null,null,null,null,null,{"$f":"IF(ISBLANK(#REF!),\"\",$F$11*#REF!+$G$11)","v":{"$error":"#REF!"}},{"$f":"IF(ISBLANK(I5942),\"\",$F$12*#REF!+$G$12)","v":{"$error":"#REF!"}}]
[null,null,null,null,null,null,null,null,{"$f":"IF(ISBLANK(#REF!),\"\",$F$11*#REF!+$G$11)","v":{"$error":"#REF!"}},{"$f":"IF(ISBLANK(I5965),\"\",$F$12*#REF!+$G$12)","v":{"$error":"#REF!"}}]
[null,null,null,null,null,null,null,null,{"$f":"IF(ISBLANK(#REF!),\"\",$F$11*#REF!+$G$11)","v":{"$error":"#REF!"}},{"$f":"IF(ISBLANK(I5983),\"\",$F$12*#REF!+$G$12)","v":{"$error":"#REF!"}}]
[null,null,null,null,null,null,null,null,{"$f":"IF(ISBLANK(#REF!),\"\",$F$11*#REF!+$G$11)","v":{"$error":"#REF!"}},{"$f":"IF(ISBLANK(I6008),\"\",$F$12*#REF!+$G$12)","v":{"$error":"#REF!"}}]
[null,null,null,null,null,null,null,null,{"$f":"IF(ISBLANK(#REF!),\"\",$F$11*#REF!+$G$11)","v":{"$error":"#REF!"}},{"$f":"IF(ISBLANK(I6017),\"\",$F$12*#REF!+$G$12)","v":{"$error":"#REF!"}}]
[null,null,null,null,null,null,null,null,{"$f":"IF(ISBLANK(#REF!),\"\",$F$11*#REF!+$G$11)","v":{"$error":"#REF!"}},{"$f":"IF(ISBLANK(I6045),\"\",$F$12*#REF!+$G$12)","v":{"$error":"#REF!"}}]
[null,null,null,null,null,null,null,null,{"$f":"IF(ISBLANK(#REF!),\"\",$F$11*#REF!+$G$11)","v":{"$error":"#REF!"}},{"$f":"IF(ISBLANK(I6074),\"\",$F$12*#REF!+$G$12)","v":{"$error":"#REF!"}}]
[null,null,null,null,null,null,null,null,{"$f":"IF(ISBLANK(#REF!),\"\",$F$11*#REF!+$G$11)","v":{"$error":"#REF!"}},{"$f":"IF(ISBLANK(I6107),\"\",$F$12*#REF!+$G$12)","v":{"$error":"#REF!"}}]
[null,null,null,null,null,null,null,null,{"$f":"IF(ISBLANK(#REF!),\"\",$F$11*#REF!+$G$11)","v":{"$error":"#REF!"}},{"$f":"IF(ISBLANK(I6132),\"\",$F$12*#REF!+$G$12)","v":{"$error":"#REF!"}}]
[null,null,null,null,null,null,null,null,{"$f":"IF(ISBLANK(#REF!),\"\",$F$11*#REF!+$G$11)","v":{"$error":"#REF!"}},{"$f":"IF(ISBLANK(I6137),\"\",$F$12*#REF!+$G$12)","v":{"$error":"#REF!"}}]
[null,null,null,null,null,null,null,null,{"$f":"IF(ISBLANK(#REF!),\"\",$F$11*#REF!+$G$11)","v":{"$error":"#REF!"}},{"$f":"IF(ISBLANK(I6173),\"\",$F$12*#REF!+$G$12)","v":{"$error":"#REF!"}}]
[null,null,null,null,null,null,null,null,{"$f":"IF(ISBLANK(#REF!),\"\",$F$11*#REF!+$G$11)","v":{"$error":"#REF!"}},{"$f":"IF(ISBLANK(I6198),\"\",$F$12*#REF!+$G$12)","v":{"$error":"#REF!"}}]
[null,null,null,null,null,null,null,null,{"$f":"IF(ISBLANK(#REF!),\"\",$F$11*#REF!+$G$11)","v":{"$error":"#REF!"}},{"$f":"IF(ISBLANK(I6207),\"\",$F$12*#REF!+$G$12)","v":{"$error":"#REF!"}}]
[null,null,null,null,null,null,null,null,{"$f":"IF(ISBLANK(#REF!),\"\",$F$11*#REF!+$G$11)","v":{"$error":"#REF!"}},{"$f":"IF(ISBLANK(I6240),\"\",$F$12*#REF!+$G$12)","v":{"$error":"#REF!"}}]
[null,null,null,null,null,null,null,null,{"$f":"IF(ISBLANK(#REF!),\"\",$F$11*#REF!+$G$11)","v":{"$error":"#REF!"}},{"$f":"IF(ISBLANK(I6264),\"\",$F$12*#REF!+$G$12)","v":{"$error":"#REF!"}}]
[null,null,null,null,null,null,null,null,{"$f":"IF(ISBLANK(#REF!),\"\",$F$11*#REF!+$G$11)","v":{"$error":"#REF!"}},{"$f":"IF(ISBLANK(I6297),\"\",$F$12*#REF!+$G$12)","v":{"$error":"#REF!"}}]
[null,null,null,null,null,null,null,null,{"$f":"IF(ISBLANK(#REF!),\"\",$F$11*#REF!+$G$11)","v":{"$error":"#REF!"}},{"$f":"IF(ISBLANK(I6322),\"\",$F$12*#REF!+$G$12)","v":{"$error":"#REF!"}}]
[null,null,null,null,null,null,null,null,{"$f":"IF(ISBLANK(#REF!),\"\",$F$11*#REF!+$G$11)","v":{"$error":"#REF!"}},{"$f":"IF(ISBLANK(I6332),\"\",$F$12*#REF!+$G$12)","v":{"$error":"#REF!"}}]
[null,null,null,null,null,null,null,null,{"$f":"IF(ISBLANK(#REF!),\"\",$F$11*#REF!+$G$11)","v":{"$error":"#REF!"}},{"$f":"IF(ISBLANK(I6363),\"\",$F$12*#REF!+$G$12)","v":{"$error":"#REF!"}}]
[null,null,null,null,null,null,null,null,{"$f":"IF(ISBLANK(#REF!),\"\",$F$11*#REF!+$G$11)","v":{"$error":"#REF!"}},{"$f":"IF(ISBLANK(I6388),\"\",$F$12*#REF!+$G$12)","v":{"$error":"#REF!"}}]
[null,null,null,null,null,null,null,null,{"$f":"IF(ISBLANK(#REF!),\"\",$F$11*#REF!+$G$11)","v":{"$error":"#REF!"}},{"$f":"IF(ISBLANK(I6397),\"\",$F$12*#REF!+$G$12)","v":{"$error":"#REF!"}}]
[null,null,null,null,null,null,null,null,{"$f":"IF(ISBLANK(#REF!),\"\",$F$11*#REF!+$G$11)","v":{"$error":"#REF!"}},{"$f":"IF(ISBLANK(I6424),\"\",$F$12*#REF!+$G$12)","v":{"$error":"#REF!"}}]
[null,null,null,null,null,null,null,null,{"$f":"IF(ISBLANK(#REF!),\"\",$F$11*#REF!+$G$11)","v":{"$error":"#REF!"}},{"$f":"IF(ISBLANK(I6454),\"\",$F$12*#REF!+$G$12)","v":{"$error":"#REF!"}}]
[null,null,null,null,null,null,null,null,{"$f":"IF(ISBLANK(#REF!),\"\",$F$11*#REF!+$G$11)","v":{"$error":"#REF!"}},{"$f":"IF(ISBLANK(I6487),\"\",$F$12*#REF!+$G$12)","v":{"$error":"#REF!"}}]
[null,null,null,null,null,null,null,null,{"$f":"IF(ISBLANK(#REF!),\"\",$F$11*#REF!+$G$11)","v":{"$error":"#REF!"}},{"$f":"IF(ISBLANK(I6512),\"\",$F$12*#REF!+$G$12)","v":{"$error":"#REF!"}}]
[null,null,null,null,null,null,null,null,{"$f":"IF(ISBLANK(#REF!),\"\",$F$11*#REF!+$G$11)","v":{"$error":"#REF!"}},{"$f":"IF(ISBLANK(I6527),\"\",$F$12*#REF!+$G$12)","v":{"$error":"#REF!"}}]
[null,null,null,null,null,null,null,null,{"$f":"IF(ISBLANK(#REF!),\"\",$F$11*#REF!+$G$11)","v":{"$error":"#REF!"}},{"$f":"IF(ISBLANK(I6553),\"\",$F$12*#REF!+$G$12)","v":{"$error":"#REF!"}}]
[null,null,null,null,null,null,null,null,{"$f":"IF(ISBLANK(#REF!),\"\",$F$11*#REF!+$G$11)","v":{"$error":"#REF!"}},{"$f":"IF(ISBLANK(I6578),\"\",$F$12*#REF!+$G$12)","v":{"$error":"#REF!"}}]
[null,null,null,null,null,null,null,null,{"$f":"IF(ISBLANK(#REF!),\"\",$F$11*#REF!+$G$11)","v":{"$error":"#REF!"}},{"$f":"IF(ISBLANK(I6587),\"\",$F$12*#REF!+$G$12)","v":{"$error":"#REF!"}}]
[null,null,null,null,null,null,null,null,{"$f":"IF(ISBLANK(#REF!),\"\",$F$11*#REF!+$G$11)","v":{"$error":"#REF!"}},{"$f":"IF(ISBLANK(I6619),\"\",$F$12*#REF!+$G$12)","v":{"$error":"#REF!"}}]
[null,null,null,null,null,null,null,null,{"$f":"IF(ISBLANK(#REF!),\"\",$F$11*#REF!+$G$11)","v":{"$error":"#REF!"}},{"$f":"IF(ISBLANK(I6644),\"\",$F$12*#REF!+$G$12)","v":{"$error":"#REF!"}}]
[null,null,null,null,null,null,null,null,{"$f":"IF(ISBLANK(#REF!),\"\",$F$11*#REF!+$G$11)","v":{"$error":"#REF!"}},{"$f":"IF(ISBLANK(I6677),\"\",$F$12*#REF!+$G$12)","v":{"$error":"#REF!"}}]
[null,null,null,null,null,null,null,null,{"$f":"IF(ISBLANK(#REF!),\"\",$F$11*#REF!+$G$11)","v":{"$error":"#REF!"}},{"$f":"IF(ISBLANK(I6702),\"\",$F$12*#REF!+$G$12)","v":{"$error":"#REF!"}}]
[null,null,null,null,null,null,null,null,{"$f":"IF(ISBLANK(#REF!),\"\",$F$11*#REF!+$G$11)","v":{"$error":"#REF!"}},{"$f":"IF(ISBLANK(I6722),\"\",$F$12*#REF!+$G$12)","v":{"$error":"#REF!"}}]
[null,null,null,null,null,null,null,null,{"$f":"IF(ISBLANK(#REF!),\"\",$F$11*#REF!+$G$11)","v":{"$error":"#REF!"}},{"$f":"IF(ISBLANK(I6735),\"\",$F$12*#REF!+$G$12)","v":{"$error":"#REF!"}}]
[null,null,null,null,null,null,null,null,{"$f":"IF(ISBLANK(#REF!),\"\",$F$11*#REF!+$G$11)","v":{"$error":"#REF!"}},{"$f":"IF(ISBLANK(I6768),\"\",$F$12*#REF!+$G$12)","v":{"$error":"#REF!"}}]
[null,null,null,null,null,null,null,null,{"$f":"IF(ISBLANK(#REF!),\"\",$F$11*#REF!+$G$11)","v":{"$error":"#REF!"}},{"$f":"IF(ISBLANK(I6777),\"\",$F$12*#REF!+$G$12)","v":{"$error":"#REF!"}}]
[null,null,null,null,null,null,null,null,{"$f":"IF(ISBLANK(#REF!),\"\",$F$11*#REF!+$G$11)","v":{"$error":"#REF!"}},{"$f":"IF(ISBLANK(I6814),\"\",$F$12*#REF!+$G$12)","v":{"$error":"#REF!"}}]
[null,null,null,null,null,null,null,null,{"$f":"IF(ISBLANK(#REF!),\"\",$F$11*#REF!+$G$11)","v":{"$error":"#REF!"}},{"$f":"IF(ISBLANK(I6834),\"\",$F$12*#REF!+$G$12)","v":{"$error":"#REF!"}}]
[null,null,null,null,null,null,null,null,{"$f":"IF(ISBLANK(#REF!),\"\",$F$11*#REF!+$G$11)","v":{"$error":"#REF!"}},{"$f":"IF(ISBLANK(I6867),\"\",$F$12*#REF!+$G$12)","v":{"$error":"#REF!"}}]
[null,null,null,null,null,null,null,null,{"$f":"IF(ISBLANK(#REF!),\"\",$F$11*#REF!+$G$11)","v":{"$error":"#REF!"}},{"$f":"IF(ISBLANK(I6892),\"\",$F$12*#REF!+$G$12)","v":{"$error":"#REF!"}}]
[null,null,null,null,null,null,null,null,{"$f":"IF(ISBLANK(#REF!),\"\",$F$11*#REF!+$G$11)","v":{"$error":"#REF!"}},{"$f":"IF(ISBLANK(I6894),\"\",$F$12*#REF!+$G$12)","v":{"$error":"#REF!"}}]
[null,null,null,null,null,null,null,null,{"$f":"IF(ISBLANK(#REF!),\"\",$F$11*#REF!+$G$11)","v":{"$error":"#REF!"}},{"$f":"IF(ISBLANK(I6925),\"\",$F$12*#REF!+$G$12)","v":{"$error":"#REF!"}}]
[null,null,null,null,null,null,null,null,{"$f":"IF(ISBLANK(#REF!),\"\",$F$11*#REF!+$G$11)","v":{"$error":"#REF!"}},{"$f":"IF(ISBLANK(I6958),\"\",$F$12*#REF!+$G$12)","v":{"$error":"#REF!"}}]
[null,null,null,null,null,null,null,null,{"$f":"IF(ISBLANK(#REF!),\"\",$F$11*#REF!+$G$11)","v":{"$error":"#REF!"}},{"$f":"IF(ISBLANK(I6967),\"\",$F$12*#REF!+$G$12)","v":{"$error":"#REF!"}}]
[null,null,null,null,null,null,null,null,{"$f":"IF(ISBLANK(#REF!),\"\",$F$11*#REF!+$G$11)","v":{"$error":"#REF!"}},{"$f":"IF(ISBLANK(I7009),\"\",$F$12*#REF!+$G$12)","v":{"$error":"#REF!"}}]
[null,null,null,null,null,null,null,null,{"$f":"IF(ISBLANK(#REF!),\"\",$F$11*#REF!+$G$11)","v":{"$error":"#REF!"}},{"$f":"IF(ISBLANK(I7024),\"\",$F$12*#REF!+$G$12)","v":{"$error":"#REF!"}}]
[null,null,null,null,null,null,null,null,{"$f":"IF(ISBLANK(#REF!),\"\",$F$11*#REF!+$G$11)","v":{"$error":"#REF!"}},{"$f":"IF(ISBLANK(I7057),\"\",$F$12*#REF!+$G$12)","v":{"$error":"#REF!"}}]
[null,null,null,null,null,null,null,null,{"$f":"IF(ISBLANK(#REF!),\"\",$F$11*#REF!+$G$11)","v":{"$error":"#REF!"}},{"$f":"IF(ISBLANK(I7082),\"\",$F$12*#REF!+$G$12)","v":{"$error":"#REF!"}}]
[null,null,null,null,null,null,null,null,{"$f":"IF(ISBLANK(#REF!),\"\",$F$11*#REF!+$G$11)","v":{"$error":"#REF!"}},{"$f":"IF(ISBLANK(I7091),\"\",$F$12*#REF!+$G$12)","v":{"$error":"#REF!"}}]
[null,null,null,null,null,null,null,null,{"$f":"IF(ISBLANK(#REF!),\"\",$F$11*#REF!+$G$11)","v":{"$error":"#REF!"}},{"$f":"IF(ISBLANK(I7124),\"\",$F$12*#REF!+$G$12)","v":{"$error":"#REF!"}}]
[null,null,null,null,null,null,null,null,{"$f":"IF(ISBLANK(#REF!),\"\",$F$11*#REF!+$G$11)","v":{"$error":"#REF!"}},{"$f":"IF(ISBLANK(I7148),\"\",$F$12*#REF!+$G$12)","v":{"$error":"#REF!"}}]
[null,null,null,null,null,null,null,null,{"$f":"IF(ISBLANK(#REF!),\"\",$F$11*#REF!+$G$11)","v":{"$error":"#REF!"}},{"$f":"IF(ISBLANK(I7157),\"\",$F$12*#REF!+$G$12)","v":{"$error":"#REF!"}}]
[null,null,null,null,null,null,null,null,{"$f":"IF(ISBLANK(#REF!),\"\",$F$11*#REF!+$G$11)","v":{"$error":"#REF!"}},{"$f":"IF(ISBLANK(I7182),\"\",$F$12*#REF!+$G$12)","v":{"$error":"#REF!"}}]
[null,null,null,null,null,null,null,null,{"$f":"IF(ISBLANK(#REF!),\"\",$F$11*#REF!+$G$11)","v":{"$error":"#REF!"}},{"$f":"IF(ISBLANK(I7204),\"\",$F$12*#REF!+$G$12)","v":{"$error":"#REF!"}}]
[null,null,null,null,null,null,null,null,{"$f":"IF(ISBLANK(#REF!),\"\",$F$11*#REF!+$G$11)","v":{"$error":"#REF!"}},{"$f":"IF(ISBLANK(I7239),\"\",$F$12*#REF!+$G$12)","v":{"$error":"#REF!"}}]
[null,null,null,null,null,null,null,null,{"$f":"IF(ISBLANK(#REF!),\"\",$F$11*#REF!+$G$11)","v":{"$error":"#REF!"}},{"$f":"IF(ISBLANK(I7272),\"\",$F$12*#REF!+$G$12)","v":{"$error":"#REF!"}}]
[null,null,null,null,null,null,null,null,{"$f":"IF(ISBLANK(#REF!),\"\",$F$11*#REF!+$G$11)","v":{"$error":"#REF!"}},{"$f":"IF(ISBLANK(I7281),\"\",$F$12*#REF!+$G$12)","v":{"$error":"#REF!"}}]
[null,null,null,null,null,null,null,null,{"$f":"IF(ISBLANK(#REF!),\"\",$F$11*#REF!+$G$11)","v":{"$error":"#REF!"}},{"$f":"IF(ISBLANK(I7319),\"\",$F$12*#REF!+$G$12)","v":{"$error":"#REF!"}}]
[null,null,null,null,null,null,null,null,{"$f":"IF(ISBLANK(#REF!),\"\",$F$11*#REF!+$G$11)","v":{"$error":"#REF!"}},{"$f":"IF(ISBLANK(I7338),\"\",$F$12*#REF!+$G$12)","v":{"$error":"#REF!"}}]
[null,null,null,null,null,null,null,null,{"$f":"IF(ISBLANK(#REF!),\"\",$F$11*#REF!+$G$11)","v":{"$error":"#REF!"}},{"$f":"IF(ISBLANK(I7347),\"\",$F$12*#REF!+$G$12)","v":{"$error":"#REF!"}}]
[null,null,null,null,null,null,null,null,{"$f":"IF(ISBLANK(#REF!),\"\",$F$11*#REF!+$G$11)","v":{"$error":"#REF!"}},{"$f":"IF(ISBLANK(I7372),\"\",$F$12*#REF!+$G$12)","v":{"$error":"#REF!"}}]
[null,null,null,null,null,null,null,null,{"$f":"IF(ISBLANK(#REF!),\"\",$F$11*#REF!+$G$11)","v":{"$error":"#REF!"}},{"$f":"IF(ISBLANK(I7399),\"\",$F$12*#REF!+$G$12)","v":{"$error":"#REF!"}}]
[null,null,null,null,null,null,null,null,{"$f":"IF(ISBLANK(#REF!),\"\",$F$11*#REF!+$G$11)","v":{"$error":"#REF!"}},{"$f":"IF(ISBLANK(I7429),\"\",$F$12*#REF!+$G$12)","v":{"$error":"#REF!"}}]
[null,null,null,null,null,null,null,null,{"$f":"IF(ISBLANK(#REF!),\"\",$F$11*#REF!+$G$11)","v":{"$error":"#REF!"}},{"$f":"IF(ISBLANK(I7462),\"\",$F$12*#REF!+$G$12)","v":{"$error":"#REF!"}}]
[null,null,null,null,null,null,null,null,{"$f":"IF(ISBLANK(#REF!),\"\",$F$11*#REF!+$G$11)","v":{"$error":"#REF!"}},{"$f":"IF(ISBLANK(I7471),\"\",$F$12*#REF!+$G$12)","v":{"$error":"#REF!"}}]
[null,null,null,null,null,null,null,null,{"$f":"IF(ISBLANK(#REF!),\"\",$F$11*#REF!+$G$11)","v":{"$error":"#REF!"}},{"$f":"IF(ISBLANK(I7491),\"\",$F$12*#REF!+$G$12)","v":{"$error":"#REF!"}}]
[null,null,null,null,null,null,null,null,{"$f":"IF(ISBLANK(#REF!),\"\",$F$11*#REF!+$G$11)","v":{"$error":"#REF!"}},{"$f":"IF(ISBLANK(I7528),\"\",$F$12*#REF!+$G$12)","v":{"$error":"#REF!"}}]
[null,null,null,null,null,null,null,null,{"$f":"IF(ISBLANK(#REF!),\"\",$F$11*#REF!+$G$11)","v":{"$error":"#REF!"}},{"$f":"IF(ISBLANK(I7537),\"\",$F$12*#REF!+$G$12)","v":{"$error":"#REF!"}}]
[null,null,null,null,null,null,null,null,{"$f":"IF(ISBLANK(#REF!),\"\",$F$11*#REF!+$G$11)","v":{"$error":"#REF!"}},{"$f":"IF(ISBLANK(I7562),\"\",$F$12*#REF!+$G$12)","v":{"$error":"#REF!"}}]
[null,null,null,null,null,null,null,null,{"$f":"IF(ISBLANK(#REF!),\"\",$F$11*#REF!+$G$11)","v":{"$error":"#REF!"}},{"$f":"IF(ISBLANK(I7594),\"\",$F$12*#REF!+$G$12)","v":{"$error":"#REF!"}}]
[null,null,null,null,null,null,null,null,{"$f":"IF(ISBLANK(#REF!),\"\",$F$11*#REF!+$G$11)","v":{"$error":"#REF!"}},{"$f":"IF(ISBLANK(I7619),\"\",$F$12*#REF!+$G$12)","v":{"$error":"#REF!"}}]
[null,null,null,null,null,null,null,null,{"$f":"IF(ISBLANK(#REF!),\"\",$F$11*#REF!+$G$11)","v":{"$error":"#REF!"}},{"$f":"IF(ISBLANK(I7652),\"\",$F$12*#REF!+$G$12)","v":{"$error":"#REF!"}}]
[null,null,null,null,null,null,null,null,{"$f":"IF(ISBLANK(#REF!),\"\",$F$11*#REF!+$G$11)","v":{"$error":"#REF!"}},{"$f":"IF(ISBLANK(I7661),\"\",$F$12*#REF!+$G$12)","v":{"$error":"#REF!"}}]
[null,null,null,null,null,null,null,null,{"$f":"IF(ISBLANK(#REF!),\"\",$F$11*#REF!+$G$11)","v":{"$error":"#REF!"}},{"$f":"IF(ISBLANK(I7686),\"\",$F$12*#REF!+$G$12)","v":{"$error":"#REF!"}}]
[null,null,null,null,null,null,null,null,{"$f":"IF(ISBLANK(#REF!),\"\",$F$11*#REF!+$G$11)","v":{"$error":"#REF!"}},{"$f":"IF(ISBLANK(I7718),\"\",$F$12*#REF!+$G$12)","v":{"$error":"#REF!"}}]
[null,null,null,null,null,null,null,null,{"$f":"IF(ISBLANK(#REF!),\"\",$F$11*#REF!+$G$11)","v":{"$error":"#REF!"}},{"$f":"IF(ISBLANK(I7743),\"\",$F$12*#REF!+$G$12)","v":{"$error":"#REF!"}}]
[null,null,null,null,null,null,null,null,{"$f":"IF(ISBLANK(#REF!),\"\",$F$11*#REF!+$G$11)","v":{"$error":"#REF!"}},{"$f":"IF(ISBLANK(I7752),\"\",$F$12*#REF!+$G$12)","v":{"$error":"#REF!"}}]
[null,null,null,null,null,null,null,null,{"$f":"IF(ISBLANK(#REF!),\"\",$F$11*#REF!+$G$11)","v":{"$error":"#REF!"}},{"$f":"IF(ISBLANK(I7789),\"\",$F$12*#REF!+$G$12)","v":{"$error":"#REF!"}}]
[null,null,null,null,null,null,null,null,{"$f":"IF(ISBLANK(#REF!),\"\",$F$11*#REF!+$G$11)","v":{"$error":"#REF!"}},{"$f":"IF(ISBLANK(I7809),\"\",$F$12*#REF!+$G$12)","v":{"$error":"#REF!"}}]
[null,null,null,null,null,null,null,null,{"$f":"IF(ISBLANK(#REF!),\"\",$F$11*#REF!+$G$11)","v":{"$error":"#REF!"}},{"$f":"IF(ISBLANK(I7842),\"\",$F$12*#REF!+$G$12)","v":{"$error":"#REF!"}}]
[null,null,null,null,null,null,null,null,{"$f":"IF(ISBLANK(#REF!),\"\",$F$11*#REF!+$G$11)","v":{"$error":"#REF!"}},{"$f":"IF(ISBLANK(I7851),\"\",$F$12*#REF!+$G$12)","v":{"$error":"#REF!"}}]
[null,null,null,null,null,null,null,null,{"$f":"IF(ISBLANK(#REF!),\"\",$F$11*#REF!+$G$11)","v":{"$error":"#REF!"}},{"$f":"IF(ISBLANK(I7881),\"\",$F$12*#REF!+$G$12)","v":{"$error":"#REF!"}}]
[null,null,null,null,null,null,null,null,{"$f":"IF(ISBLANK(#REF!),\"\",$F$11*#REF!+$G$11)","v":{"$error":"#REF!"}},{"$f":"IF(ISBLANK(I7908),\"\",$F$12*#REF!+$G$12)","v":{"$error":"#REF!"}}]
[null,null,null,null,null,null,null,null,{"$f":"IF(ISBLANK(#REF!),\"\",$F$11*#REF!+$G$11)","v":{"$error":"#REF!"}},{"$f":"IF(ISBLANK(I7933),\"\",$F$12*#REF!+$G$12)","v":{"$error":"#REF!"}}]
[null,null,null,null,null,null,null,null,{"$f":"IF(ISBLANK(#REF!),\"\",$F$11*#REF!+$G$11)","v":{"$error":"#REF!"}},{"$f":"IF(ISBLANK(I7942),\"\",$F$12*#REF!+$G$12)","v":{"$error":"#REF!"}}]
[null,null,null,null,null,null,null,null,{"$f":"IF(ISBLANK(#REF!),\"\",$F$11*#REF!+$G$11)","v":{"$error":"#REF!"}},{"$f":"IF(ISBLANK(I7984),\"\",$F$12*#REF!+$G$12)","v":{"$error":"#REF!"}}]
[null,null,null,null,null,null,null,null,{"$f":"IF(ISBLANK(#REF!),\"\",$F$11*#REF!+$G$11)","v":{"$error":"#REF!"}},{"$f":"IF(ISBLANK(I7999),\"\",$F$12*#REF!+$G$12)","v":{"$error":"#REF!"}}]
[null,null,null,null,null,null,null,null,{"$f":"IF(ISBLANK(#REF!),\"\",$F$11*#REF!+$G$11)","v":{"$error":"#REF!"}},{"$f":"IF(ISBLANK(I8032),\"\",$F$12*#REF!+$G$12)","v":{"$error":"#REF!"}}]
[null,null,null,null,null,null,null,null,{"$f":"IF(ISBLANK(#REF!),\"\",$F$11*#REF!+$G$11)","v":{"$error":"#REF!"}},{"$f":"IF(ISBLANK(I8057),\"\",$F$12*#REF!+$G$12)","v":{"$error":"#REF!"}}]
[null,null,null,null,null,null,null,null,{"$f":"IF(ISBLANK(#REF!),\"\",$F$11*#REF!+$G$11)","v":{"$error":"#REF!"}},{"$f":"IF(ISBLANK(I8076),\"\",$F$12*#REF!+$G$12)","v":{"$error":"#REF!"}}]
[null,null,null,null,null,null,null,null,{"$f":"IF(ISBLANK(#REF!),\"\",$F$11*#REF!+$G$11)","v":{"$error":"#REF!"}},{"$f":"IF(ISBLANK(I8098),\"\",$F$12*#REF!+$G$12)","v":{"$error":"#REF!"}}]
[null,null,null,null,null,null,null,null,{"$f":"IF(ISBLANK(#REF!),\"\",$F$11*#REF!+$G$11)","v":{"$error":"#REF!"}},{"$f":"IF(ISBLANK(I8123),\"\",$F$12*#REF!+$G$12)","v":{"$error":"#REF!"}}]
[null,null,null,null,null,null,null,null,{"$f":"IF(ISBLANK(#REF!),\"\",$F$11*#REF!+$G$11)","v":{"$error":"#REF!"}},{"$f":"IF(ISBLANK(I8132),\"\",$F$12*#REF!+$G$12)","v":{"$error":"#REF!"}}]
[null,null,null,null,null,null,null,null,{"$f":"IF(ISBLANK(#REF!),\"\",$F$11*#REF!+$G$11)","v":{"$error":"#REF!"}},{"$f":"IF(ISBLANK(I8156),\"\",$F$12*#REF!+$G$12)","v":{"$error":"#REF!"}}]
[null,null,null,null,null,null,null,null,{"$f":"IF(ISBLANK(#REF!),\"\",$F$11*#REF!+$G$11)","v":{"$error":"#REF!"}},{"$f":"IF(ISBLANK(I8189),\"\",$F$12*#REF!+$G$12)","v":{"$error":"#REF!"}}]
[null,null,null,null,null,null,null,null,{"$f":"IF(ISBLANK(#REF!),\"\",$F$11*#REF!+$G$11)","v":{"$error":"#REF!"}},{"$f":"IF(ISBLANK(I8222),\"\",$F$12*#REF!+$G$12)","v":{"$error":"#REF!"}}]
[null,null,null,null,null,null,null,null,{"$f":"IF(ISBLANK(#REF!),\"\",$F$11*#REF!+$G$11)","v":{"$error":"#REF!"}},{"$f":"IF(ISBLANK(I8247),\"\",$F$12*#REF!+$G$12)","v":{"$error":"#REF!"}}]
[null,null,null,null,null,null,null,null,{"$f":"IF(ISBLANK(#REF!),\"\",$F$11*#REF!+$G$11)","v":{"$error":"#REF!"}},{"$f":"IF(ISBLANK(I8248),\"\",$F$12*#REF!+$G$12)","v":{"$error":"#REF!"}}]
[null,null,null,null,null,null,null,null,{"$f":"IF(ISBLANK(#REF!),\"\",$F$11*#REF!+$G$11)","v":{"$error":"#REF!"}},{"$f":"IF(ISBLANK(I8288),\"\",$F$12*#REF!+$G$12)","v":{"$error":"#REF!"}}]
[null,null,null,null,null,null,null,null,{"$f":"IF(ISBLANK(#REF!),\"\",$F$11*#REF!+$G$11)","v":{"$error":"#REF!"}},{"$f":"IF(ISBLANK(I8313),\"\",$F$12*#REF!+$G$12)","v":{"$error":"#REF!"}}]
[null,null,null,null,null,null,null,null,{"$f":"IF(ISBLANK(#REF!),\"\",$F$11*#REF!+$G$11)","v":{"$error":"#REF!"}},{"$f":"IF(ISBLANK(I8322),\"\",$F$12*#REF!+$G$12)","v":{"$error":"#REF!"}}]
[null,null,null,null,null,null,null,null,{"$f":"IF(ISBLANK(#REF!),\"\",$F$11*#REF!+$G$11)","v":{"$error":"#REF!"}},{"$f":"IF(ISBLANK(I8351),\"\",$F$12*#REF!+$G$12)","v":{"$error":"#REF!"}}]
[null,null,null,null,null,null,null,null,{"$f":"IF(ISBLANK(#REF!),\"\",$F$11*#REF!+$G$11)","v":{"$error":"#REF!"}},{"$f":"IF(ISBLANK(I8379),\"\",$F$12*#REF!+$G$12)","v":{"$error":"#REF!"}}]
[null,null,null,null,null,null,null,null,{"$f":"IF(ISBLANK(#REF!),\"\",$F$11*#REF!+$G$11)","v":{"$error":"#REF!"}},{"$f":"IF(ISBLANK(I8412),\"\",$F$12*#REF!+$G$12)","v":{"$error":"#REF!"}}]
[null,null,null,null,null,null,null,null,{"$f":"IF(ISBLANK(#REF!),\"\",$F$11*#REF!+$G$11)","v":{"$error":"#REF!"}},{"$f":"IF(ISBLANK(I8437),\"\",$F$12*#REF!+$G$12)","v":{"$error":"#REF!"}}]
[null,null,null,null,null,null,null,null,{"$f":"IF(ISBLANK(#REF!),\"\",$F$11*#REF!+$G$11)","v":{"$error":"#REF!"}},{"$f":"IF(ISBLANK(I8443),\"\",$F$12*#REF!+$G$12)","v":{"$error":"#REF!"}}]
[null,null,null,null,null,null,null,null,{"$f":"IF(ISBLANK(#REF!),\"\",$F$11*#REF!+$G$11)","v":{"$error":"#REF!"}},{"$f":"IF(ISBLANK(I8478),\"\",$F$12*#REF!+$G$12)","v":{"$error":"#REF!"}}]
[null,null,null,null,null,null,null,null,{"$f":"IF(ISBLANK(#REF!),\"\",$F$11*#REF!+$G$11)","v":{"$error":"#REF!"}},{"$f":"IF(ISBLANK(I8503),\"\",$F$12*#REF!+$G$12)","v":{"$error":"#REF!"}}]
[null,null,null,null,null,null,null,null,{"$f":"IF(ISBLANK(#REF!),\"\",$F$11*#REF!+$G$11)","v":{"$error":"#REF!"}},{"$f":"IF(ISBLANK(I8512),\"\",$F$12*#REF!+$G$12)","v":{"$error":"#REF!"}}]
[null,null,null,null,null,null,null,null,{"$f":"IF(ISBLANK(#REF!),\"\",$F$11*#REF!+$G$11)","v":{"$error":"#REF!"}},{"$f":"IF(ISBLANK(I8535),\"\",$F$12*#REF!+$G$12)","v":{"$error":"#REF!"}}]
[null,null,null,null,null,null,null,null,{"$f":"IF(ISBLANK(#REF!),\"\",$F$11*#REF!+$G$11)","v":{"$error":"#REF!"}},{"$f":"IF(ISBLANK(I8569),\"\",$F$12*#REF!+$G$12)","v":{"$error":"#REF!"}}]
[null,null,null,null,null,null,null,null,{"$f":"IF(ISBLANK(#REF!),\"\",$F$11*#REF!+$G$11)","v":{"$error":"#REF!"}},{"$f":"IF(ISBLANK(I8602),\"\",$F$12*#REF!+$G$12)","v":{"$error":"#REF!"}}]
[null,null,null,null,null,null,null,null,{"$f":"IF(ISBLANK(#REF!),\"\",$F$11*#REF!+$G$11)","v":{"$error":"#REF!"}},{"$f":"IF(ISBLANK(I8627),\"\",$F$12*#REF!+$G$12)","v":{"$error":"#REF!"}}]
[null,null,null,null,null,null,null,null,{"$f":"IF(ISBLANK(#REF!),\"\",$F$11*#REF!+$G$11)","v":{"$error":"#REF!"}},{"$f":"IF(ISBLANK(I8638),\"\",$F$12*#REF!+$G$12)","v":{"$error":"#REF!"}}]
[null,null,null,null,null,null,null,null,{"$f":"IF(ISBLANK(#REF!),\"\",$F$11*#REF!+$G$11)","v":{"$error":"#REF!"}},{"$f":"IF(ISBLANK(I8668),\"\",$F$12*#REF!+$G$12)","v":{"$error":"#REF!"}}]
[null,null,null,null,null,null,null,null,{"$f":"IF(ISBLANK(#REF!),\"\",$F$11*#REF!+$G$11)","v":{"$error":"#REF!"}},{"$f":"IF(ISBLANK(I8693),\"\",$F$12*#REF!+$G$12)","v":{"$error":"#REF!"}}]
[null,null,null,null,null,null,null,null,{"$f":"IF(ISBLANK(#REF!),\"\",$F$11*#REF!+$G$11)","v":{"$error":"#REF!"}},{"$f":"IF(ISBLANK(I8702),\"\",$F$12*#REF!+$G$12)","v":{"$error":"#REF!"}}]
[null,null,null,null,null,null,null,null,{"$f":"IF(ISBLANK(#REF!),\"\",$F$11*#REF!+$G$11)","v":{"$error":"#REF!"}},{"$f":"IF(ISBLANK(I8730),\"\",$F$12*#REF!+$G$12)","v":{"$error":"#REF!"}}]
[null,null,null,null,null,null,null,null,{"$f":"IF(ISBLANK(#REF!),\"\",$F$11*#REF!+$G$11)","v":{"$error":"#REF!"}},{"$f":"IF(ISBLANK(I8759),\"\",$F$12*#REF!+$G$12)","v":{"$error":"#REF!"}}]
[null,null,null,null,null,null,null,null,{"$f":"IF(ISBLANK(#REF!),\"\",$F$11*#REF!+$G$11)","v":{"$error":"#REF!"}},{"$f":"IF(ISBLANK(I8792),\"\",$F$12*#REF!+$G$12)","v":{"$error":"#REF!"}}]
[null,null,null,null,null,null,null,null,{"$f":"IF(ISBLANK(#REF!),\"\",$F$11*#REF!+$G$11)","v":{"$error":"#REF!"}},{"$f":"IF(ISBLANK(I8817),\"\",$F$12*#REF!+$G$12)","v":{"$error":"#REF!"}}]
[null,null,null,null,null,null,null,null,{"$f":"IF(ISBLANK(#REF!),\"\",$F$11*#REF!+$G$11)","v":{"$error":"#REF!"}},{"$f":"IF(ISBLANK(I8826),\"\",$F$12*#REF!+$G$12)","v":{"$error":"#REF!"}}]
[null,null,null,null,null,null,null,null,{"$f":"IF(ISBLANK(#REF!),\"\",$F$11*#REF!+$G$11)","v":{"$error":"#REF!"}},{"$f":"IF(ISBLANK(I8845),\"\",$F$12*#REF!+$G$12)","v":{"$error":"#REF!"}}]
[null,null,null,null,null,null,null,null,{"$f":"IF(ISBLANK(#REF!),\"\",$F$11*#REF!+$G$11)","v":{"$error":"#REF!"}},{"$f":"IF(ISBLANK(I8883),\"\",$F$12*#REF!+$G$12)","v":{"$error":"#REF!"}}]
[null,null,null,null,null,null,null,null,{"$f":"IF(ISBLANK(#REF!),\"\",$F$11*#REF!+$G$11)","v":{"$error":"#REF!"}},{"$f":"IF(ISBLANK(I8892),\"\",$F$12*#REF!+$G$12)","v":{"$error":"#REF!"}}]
[null,null,null,null,null,null,null,null,{"$f":"IF(ISBLANK(#REF!),\"\",$F$11*#REF!+$G$11)","v":{"$error":"#REF!"}},{"$f":"IF(ISBLANK(I8917),\"\",$F$12*#REF!+$G$12)","v":{"$error":"#REF!"}}]
[null,null,null,null,null,null,null,null,{"$f":"IF(ISBLANK(#REF!),\"\",$F$11*#REF!+$G$11)","v":{"$error":"#REF!"}},{"$f":"IF(ISBLANK(I8948),\"\",$F$12*#REF!+$G$12)","v":{"$error":"#REF!"}}]
[null,null,null,null,null,null,null,null,{"$f":"IF(ISBLANK(#REF!),\"\",$F$11*#REF!+$G$11)","v":{"$error":"#REF!"}},{"$f":"IF(ISBLANK(I8982),\"\",$F$12*#REF!+$G$12)","v":{"$error":"#REF!"}}]
[null,null,null,null,null,null,null,null,{"$f":"IF(ISBLANK(#REF!),\"\",$F$11*#REF!+$G$11)","v":{"$error":"#REF!"}},{"$f":"IF(ISBLANK(I9007),\"\",$F$12*#REF!+$G$12)","v":{"$error":"#REF!"}}]
[null,null,null,null,null,null,null,null,{"$f":"IF(ISBLANK(#REF!),\"\",$F$11*#REF!+$G$11)","v":{"$error":"#REF!"}},{"$f":"IF(ISBLANK(I9016),\"\",$F$12*#REF!+$G$12)","v":{"$error":"#REF!"}}]
[null,null,null,null,null,null,null,null,{"$f":"IF(ISBLANK(#REF!),\"\",$F$11*#REF!+$G$11)","v":{"$error":"#REF!"}},{"$f":"IF(ISBLANK(I9040),\"\",$F$12*#REF!+$G$12)","v":{"$error":"#REF!"}}]
[null,null,null,null,null,null,null,null,{"$f":"IF(ISBLANK(#REF!),\"\",$F$11*#REF!+$G$11)","v":{"$error":"#REF!"}},{"$f":"IF(ISBLANK(I9073),\"\",$F$12*#REF!+$G$12)","v":{"$error":"#REF!"}}]
[null,null,null,null,null,null,null,null,{"$f":"IF(ISBLANK(#REF!),\"\",$F$11*#REF!+$G$11)","v":{"$error":"#REF!"}},{"$f":"IF(ISBLANK(I9082),\"\",$F$12*#REF!+$G$12)","v":{"$error":"#REF!"}}]
[null,null,null,null,null,null,null,null,{"$f":"IF(ISBLANK(#REF!),\"\",$F$11*#REF!+$G$11)","v":{"$error":"#REF!"}},{"$f":"IF(ISBLANK(I9107),\"\",$F$12*#REF!+$G$12)","v":{"$error":"#REF!"}}]
[null,null,null,null,null,null,null,null,{"$f":"IF(ISBLANK(#REF!),\"\",$F$11*#REF!+$G$11)","v":{"$error":"#REF!"}},{"$f":"IF(ISBLANK(I9143),\"\",$F$12*#REF!+$G$12)","v":{"$error":"#REF!"}}]
[null,null,null,null,null,null,null,null,{"$f":"IF(ISBLANK(#REF!),\"\",$F$11*#REF!+$G$11)","v":{"$error":"#REF!"}},{"$f":"IF(ISBLANK(I9172),\"\",$F$12*#REF!+$G$12)","v":{"$error":"#REF!"}}]
[null,null,null,null,null,null,null,null,{"$f":"IF(ISBLANK(#REF!),\"\",$F$11*#REF!+$G$11)","v":{"$error":"#REF!"}},{"$f":"IF(ISBLANK(I9197),\"\",$F$12*#REF!+$G$12)","v":{"$error":"#REF!"}}]
[null,null,null,null,null,null,null,null,{"$f":"IF(ISBLANK(#REF!),\"\",$F$11*#REF!+$G$11)","v":{"$error":"#REF!"}},{"$f":"IF(ISBLANK(I9206),\"\",$F$12*#REF!+$G$12)","v":{"$error":"#REF!"}}]
[null,null,null,null,null,null,null,null,{"$f":"IF(ISBLANK(#REF!),\"\",$F$11*#REF!+$G$11)","v":{"$error":"#REF!"}},{"$f":"IF(ISBLANK(I9235),\"\",$F$12*#REF!+$G$12)","v":{"$error":"#REF!"}}]
[null,null,null,null,null,null,null,null,{"$f":"IF(ISBLANK(#REF!),\"\",$F$11*#REF!+$G$11)","v":{"$error":"#REF!"}},{"$f":"IF(ISBLANK(I9263),\"\",$F$12*#REF!+$G$12)","v":{"$error":"#REF!"}}]
[null,null,null,null,null,null,null,null,{"$f":"IF(ISBLANK(#REF!),\"\",$F$11*#REF!+$G$11)","v":{"$error":"#REF!"}},{"$f":"IF(ISBLANK(I9272),\"\",$F$12*#REF!+$G$12)","v":{"$error":"#REF!"}}]
[null,null,null,null,null,null,null,null,{"$f":"IF(ISBLANK(#REF!),\"\",$F$11*#REF!+$G$11)","v":{"$error":"#REF!"}},{"$f":"IF(ISBLANK(I9297),\"\",$F$12*#REF!+$G$12)","v":{"$error":"#REF!"}}]
[null,null,null,null,null,null,null,null,{"$f":"IF(ISBLANK(#REF!),\"\",$F$11*#REF!+$G$11)","v":{"$error":"#REF!"}},{"$f":"IF(ISBLANK(I9338),\"\",$F$12*#REF!+$G$12)","v":{"$error":"#REF!"}}]
[null,null,null,null,null,null,null,null,{"$f":"IF(ISBLANK(#REF!),\"\",$F$11*#REF!+$G$11)","v":{"$error":"#REF!"}},{"$f":"IF(ISBLANK(I9354),\"\",$F$12*#REF!+$G$12)","v":{"$error":"#REF!"}}]
[null,null,null,null,null,null,null,null,{"$f":"IF(ISBLANK(#REF!),\"\",$F$11*#REF!+$G$11)","v":{"$error":"#REF!"}},{"$f":"IF(ISBLANK(I9387),\"\",$F$12*#REF!+$G$12)","v":{"$error":"#REF!"}}]
[null,null,null,null,null,null,null,null,{"$f":"IF(ISBLANK(#REF!),\"\",$F$11*#REF!+$G$11)","v":{"$error":"#REF!"}},{"$f":"IF(ISBLANK(I9396),\"\",$F$12*#REF!+$G$12)","v":{"$error":"#REF!"}}]
[null,null,null,null,null,null,null,null,{"$f":"IF(ISBLANK(#REF!),\"\",$F$11*#REF!+$G$11)","v":{"$error":"#REF!"}},{"$f":"IF(ISBLANK(I9430),\"\",$F$12*#REF!+$G$12)","v":{"$error":"#REF!"}}]
[null,null,null,null,null,null,null,null,{"$f":"IF(ISBLANK(#REF!),\"\",$F$11*#REF!+$G$11)","v":{"$error":"#REF!"}},{"$f":"IF(ISBLANK(I9453),\"\",$F$12*#REF!+$G$12)","v":{"$error":"#REF!"}}]
[null,null,null,null,null,null,null,null,{"$f":"IF(ISBLANK(#REF!),\"\",$F$11*#REF!+$G$11)","v":{"$error":"#REF!"}},{"$f":"IF(ISBLANK(I9462),\"\",$F$12*#REF!+$G$12)","v":{"$error":"#REF!"}}]
[null,null,null,null,null,null,null,null,{"$f":"IF(ISBLANK(#REF!),\"\",$F$11*#REF!+$G$11)","v":{"$error":"#REF!"}},{"$f":"IF(ISBLANK(I9487),\"\",$F$12*#REF!+$G$12)","v":{"$error":"#REF!"}}]
[null,null,null,null,null,null,null,null,{"$f":"IF(ISBLANK(#REF!),\"\",$F$11*#REF!+$G$11)","v":{"$error":"#REF!"}},{"$f":"IF(ISBLANK(I9510),\"\",$F$12*#REF!+$G$12)","v":{"$error":"#REF!"}}]
[null,null,null,null,null,null,null,null,{"$f":"IF(ISBLANK(#REF!),\"\",$F$11*#REF!+$G$11)","v":{"$error":"#REF!"}},{"$f":"IF(ISBLANK(I9544),\"\",$F$12*#REF!+$G$12)","v":{"$error":"#REF!"}}]
[null,null,null,null,null,null,null,null,{"$f":"IF(ISBLANK(#REF!),\"\",$F$11*#REF!+$G$11)","v":{"$error":"#REF!"}},{"$f":"IF(ISBLANK(I9577),\"\",$F$12*#REF!+$G$12)","v":{"$error":"#REF!"}}]
[null,null,null,null,null,null,null,null,{"$f":"IF(ISBLANK(#REF!),\"\",$F$11*#REF!+$G$11)","v":{"$error":"#REF!"}},{"$f":"IF(ISBLANK(I9586),\"\",$F$12*#REF!+$G$12)","v":{"$error":"#REF!"}}]
[null,null,null,null,null,null,null,null,{"$f":"IF(ISBLANK(#REF!),\"\",$F$11*#REF!+$G$11)","v":{"$error":"#REF!"}},{"$f":"IF(ISBLANK(I9602),\"\",$F$12*#REF!+$G$12)","v":{"$error":"#REF!"}}]
[null,null,null,null,null,null,null,null,{"$f":"IF(ISBLANK(#REF!),\"\",$F$11*#REF!+$G$11)","v":{"$error":"#REF!"}},{"$f":"IF(ISBLANK(I9643),\"\",$F$12*#REF!+$G$12)","v":{"$error":"#REF!"}}]
[null,null,null,null,null,null,null,null,{"$f":"IF(ISBLANK(#REF!),\"\",$F$11*#REF!+$G$11)","v":{"$error":"#REF!"}},{"$f":"IF(ISBLANK(I9652),\"\",$F$12*#REF!+$G$12)","v":{"$error":"#REF!"}}]
[null,null,null,null,null,null,null,null,{"$f":"IF(ISBLANK(#REF!),\"\",$F$11*#REF!+$G$11)","v":{"$error":"#REF!"}},{"$f":"IF(ISBLANK(I9677),\"\",$F$12*#REF!+$G$12)","v":{"$error":"#REF!"}}]
[null,null,null,null,null,null,null,null,{"$f":"IF(ISBLANK(#REF!),\"\",$F$11*#REF!+$G$11)","v":{"$error":"#REF!"}},{"$f":"IF(ISBLANK(I9705),\"\",$F$12*#REF!+$G$12)","v":{"$error":"#REF!"}}]
[null,null,null,null,null,null,null,null,{"$f":"IF(ISBLANK(#REF!),\"\",$F$11*#REF!+$G$11)","v":{"$error":"#REF!"}},{"$f":"IF(ISBLANK(I9734),\"\",$F$12*#REF!+$G$12)","v":{"$error":"#REF!"}}]
[null,null,null,null,null,null,null,null,{"$f":"IF(ISBLANK(#REF!),\"\",$F$11*#REF!+$G$11)","v":{"$error":"#REF!"}},{"$f":"IF(ISBLANK(I9767),\"\",$F$12*#REF!+$G$12)","v":{"$error":"#REF!"}}]
[null,null,null,null,null,null,null,null,{"$f":"IF(ISBLANK(#REF!),\"\",$F$11*#REF!+$G$11)","v":{"$error":"#REF!"}},{"$f":"IF(ISBLANK(I9776),\"\",$F$12*#REF!+$G$12)","v":{"$error":"#REF!"}}]
[null,null,null,null,null,null,null,null,{"$f":"IF(ISBLANK(#REF!),\"\",$F$11*#REF!+$G$11)","v":{"$error":"#REF!"}},{"$f":"IF(ISBLANK(I9797),\"\",$F$12*#REF!+$G$12)","v":{"$error":"#REF!"}}]
[null,null,null,null,null,null,null,null,{"$f":"IF(ISBLANK(#REF!),\"\",$F$11*#REF!+$G$11)","v":{"$error":"#REF!"}},{"$f":"IF(ISBLANK(I9833),\"\",$F$12*#REF!+$G$12)","v":{"$error":"#REF!"}}]
[null,null,null,null,null,null,null,null,{"$f":"IF(ISBLANK(#REF!),\"\",$F$11*#REF!+$G$11)","v":{"$error":"#REF!"}},{"$f":"IF(ISBLANK(I9858),\"\",$F$12*#REF!+$G$12)","v":{"$error":"#REF!"}}]
[null,null,null,null,null,null,null,null,{"$f":"IF(ISBLANK(#REF!),\"\",$F$11*#REF!+$G$11)","v":{"$error":"#REF!"}},{"$f":"IF(ISBLANK(I9867),\"\",$F$12*#REF!+$G$12)","v":{"$error":"#REF!"}}]
[null,null,null,null,null,null,null,null,{"$f":"IF(ISBLANK(#REF!),\"\",$F$11*#REF!+$G$11)","v":{"$error":"#REF!"}},{"$f":"IF(ISBLANK(I9900),\"\",$F$12*#REF!+$G$12)","v":{"$error":"#REF!"}}]
[null,null,null,null,null,null,null,null,{"$f":"IF(ISBLANK(#REF!),\"\",$F$11*#REF!+$G$11)","v":{"$error":"#REF!"}},{"$f":"IF(ISBLANK(I9924),\"\",$F$12*#REF!+$G$12)","v":{"$error":"#REF!"}}]
[null,null,null,null,null,null,null,null,{"$f":"IF(ISBLANK(#REF!),\"\",$F$11*#REF!+$G$11)","v":{"$error":"#REF!"}},{"$f":"IF(ISBLANK(I9957),\"\",$F$12*#REF!+$G$12)","v":{"$error":"#REF!"}}]
[null,null,null,null,null,null,null,null,{"$f":"IF(ISBLANK(#REF!),\"\",$F$11*#REF!+$G$11)","v":{"$error":"#REF!"}},{"$f":"IF(ISBLANK(I9966),\"\",$F$12*#REF!+$G$12)","v":{"$error":"#REF!"}}]
[null,null,null,null,null,null,null,null,{"$f":"IF(ISBLANK(#REF!),\"\",$F$11*#REF!+$G$11)","v":{"$error":"#REF!"}},{"$f":"IF(ISBLANK(I9992),\"\",$F$12*#REF!+$G$12)","v":{"$error":"#REF!"}}]
[null,null,null,null,null,null,null,null,{"$f":"IF(ISBLANK(#REF!),\"\",$F$11*#REF!+$G$11)","v":{"$error":"#REF!"}},{"$f":"IF(ISBLANK(I10023),\"\",$F$12*#REF!+$G$12)","v":{"$error":"#REF!"}}]
[null,null,null,null,null,null,null,null,{"$f":"IF(ISBLANK(#REF!),\"\",$F$11*#REF!+$G$11)","v":{"$error":"#REF!"}},{"$f":"IF(ISBLANK(I10048),\"\",$F$12*#REF!+$G$12)","v":{"$error":"#REF!"}}]
[null,null,null,null,null,null,null,null,{"$f":"IF(ISBLANK(#REF!),\"\",$F$11*#REF!+$G$11)","v":{"$error":"#REF!"}},{"$f":"IF(ISBLANK(I10057),\"\",$F$12*#REF!+$G$12)","v":{"$error":"#REF!"}}]
[null,null,null,null,null,null,null,null,{"$f":"IF(ISBLANK(#REF!),\"\",$F$11*#REF!+$G$11)","v":{"$error":"#REF!"}},{"$f":"IF(ISBLANK(I10095),\"\",$F$12*#REF!+$G$12)","v":{"$error":"#REF!"}}]
[null,null,null,null,null,null,null,null,{"$f":"IF(ISBLANK(#REF!),\"\",$F$11*#REF!+$G$11)","v":{"$error":"#REF!"}},{"$f":"IF(ISBLANK(I10114),\"\",$F$12*#REF!+$G$12)","v":{"$error":"#REF!"}}]
[null,null,null,null,null,null,null,null,{"$f":"IF(ISBLANK(#REF!),\"\",$F$11*#REF!+$G$11)","v":{"$error":"#REF!"}},{"$f":"IF(ISBLANK(I10147),\"\",$F$12*#REF!+$G$12)","v":{"$error":"#REF!"}}]
[null,null,null,null,null,null,null,null,{"$f":"IF(ISBLANK(#REF!),\"\",$F$11*#REF!+$G$11)","v":{"$error":"#REF!"}},{"$f":"IF(ISBLANK(I10148),\"\",$F$12*#REF!+$G$12)","v":{"$error":"#REF!"}}]
[null,null,null,null,null,null,null,null,{"$f":"IF(ISBLANK(#REF!),\"\",$F$11*#REF!+$G$11)","v":{"$error":"#REF!"}},{"$f":"IF(ISBLANK(I10187),\"\",$F$12*#REF!+$G$12)","v":{"$error":"#REF!"}}]
[null,null,null,null,null,null,null,null,{"$f":"IF(ISBLANK(#REF!),\"\",$F$11*#REF!+$G$11)","v":{"$error":"#REF!"}},{"$f":"IF(ISBLANK(I10213),\"\",$F$12*#REF!+$G$12)","v":{"$error":"#REF!"}}]
[null,null,null,null,null,null,null,null,{"$f":"IF(ISBLANK(#REF!),\"\",$F$11*#REF!+$G$11)","v":{"$error":"#REF!"}},{"$f":"IF(ISBLANK(I10238),\"\",$F$12*#REF!+$G$12)","v":{"$error":"#REF!"}}]
[null,null,null,null,null,null,null,null,{"$f":"IF(ISBLANK(#REF!),\"\",$F$11*#REF!+$G$11)","v":{"$error":"#REF!"}},{"$f":"IF(ISBLANK(I10247),\"\",$F$12*#REF!+$G$12)","v":{"$error":"#REF!"}}]
[null,null,null,null,null,null,null,null,{"$f":"IF(ISBLANK(#REF!),\"\",$F$11*#REF!+$G$11)","v":{"$error":"#REF!"}},{"$f":"IF(ISBLANK(I10267),\"\",$F$12*#REF!+$G$12)","v":{"$error":"#REF!"}}]
[null,null,null,null,null,null,null,null,{"$f":"IF(ISBLANK(#REF!),\"\",$F$11*#REF!+$G$11)","v":{"$error":"#REF!"}},{"$f":"IF(ISBLANK(I10304),\"\",$F$12*#REF!+$G$12)","v":{"$error":"#REF!"}}]
[null,null,null,null,null,null,null,null,{"$f":"IF(ISBLANK(#REF!),\"\",$F$11*#REF!+$G$11)","v":{"$error":"#REF!"}},{"$f":"IF(ISBLANK(I10337),\"\",$F$12*#REF!+$G$12)","v":{"$error":"#REF!"}}]
[null,null,null,null,null,null,null,null,{"$f":"IF(ISBLANK(#REF!),\"\",$F$11*#REF!+$G$11)","v":{"$error":"#REF!"}},{"$f":"IF(ISBLANK(I10338),\"\",$F$12*#REF!+$G$12)","v":{"$error":"#REF!"}}]
[null,null,null,null,null,null,null,null,{"$f":"IF(ISBLANK(#REF!),\"\",$F$11*#REF!+$G$11)","v":{"$error":"#REF!"}},{"$f":"IF(ISBLANK(I10382),\"\",$F$12*#REF!+$G$12)","v":{"$error":"#REF!"}}]
[null,null,null,null,null,null,null,null,{"$f":"IF(ISBLANK(#REF!),\"\",$F$11*#REF!+$G$11)","v":{"$error":"#REF!"}},{"$f":"IF(ISBLANK(I10403),\"\",$F$12*#REF!+$G$12)","v":{"$error":"#REF!"}}]
[null,null,null,null,null,null,null,null,{"$f":"IF(ISBLANK(#REF!),\"\",$F$11*#REF!+$G$11)","v":{"$error":"#REF!"}},{"$f":"IF(ISBLANK(I10428),\"\",$F$12*#REF!+$G$12)","v":{"$error":"#REF!"}}]
[null,null,null,null,null,null,null,null,{"$f":"IF(ISBLANK(#REF!),\"\",$F$11*#REF!+$G$11)","v":{"$error":"#REF!"}},{"$f":"IF(ISBLANK(I10437),\"\",$F$12*#REF!+$G$12)","v":{"$error":"#REF!"}}]
[null,null,null,null,null,null,null,null,{"$f":"IF(ISBLANK(#REF!),\"\",$F$11*#REF!+$G$11)","v":{"$error":"#REF!"}},{"$f":"IF(ISBLANK(I10462),\"\",$F$12*#REF!+$G$12)","v":{"$error":"#REF!"}}]
[null,null,null,null,null,null,null,null,{"$f":"IF(ISBLANK(#REF!),\"\",$F$11*#REF!+$G$11)","v":{"$error":"#REF!"}},{"$f":"IF(ISBLANK(I10494),\"\",$F$12*#REF!+$G$12)","v":{"$error":"#REF!"}}]
[null,null,null,null,null,null,null,null,{"$f":"IF(ISBLANK(#REF!),\"\",$F$11*#REF!+$G$11)","v":{"$error":"#REF!"}},{"$f":"IF(ISBLANK(I10527),\"\",$F$12*#REF!+$G$12)","v":{"$error":"#REF!"}}]
[null,null,null,null,null,null,null,null,{"$f":"IF(ISBLANK(#REF!),\"\",$F$11*#REF!+$G$11)","v":{"$error":"#REF!"}},{"$f":"IF(ISBLANK(I10528),\"\",$F$12*#REF!+$G$12)","v":{"$error":"#REF!"}}]
[null,null,null,null,null,null,null,null,{"$f":"IF(ISBLANK(#REF!),\"\",$F$11*#REF!+$G$11)","v":{"$error":"#REF!"}},{"$f":"IF(ISBLANK(I10561),\"\",$F$12*#REF!+$G$12)","v":{"$error":"#REF!"}}]
[null,null,null,null,null,null,null,null,{"$f":"IF(ISBLANK(#REF!),\"\",$F$11*#REF!+$G$11)","v":{"$error":"#REF!"}},{"$f":"IF(ISBLANK(I10577),\"\",$F$12*#REF!+$G$12)","v":{"$error":"#REF!"}}]
[null,null,null,null,null,null,null,null,{"$f":"IF(ISBLANK(#REF!),\"\",$F$11*#REF!+$G$11)","v":{"$error":"#REF!"}},{"$f":"IF(ISBLANK(I10618),\"\",$F$12*#REF!+$G$12)","v":{"$error":"#REF!"}}]
[null,null,null,null,null,null,null,null,{"$f":"IF(ISBLANK(#REF!),\"\",$F$11*#REF!+$G$11)","v":{"$error":"#REF!"}},{"$f":"IF(ISBLANK(I10627),\"\",$F$12*#REF!+$G$12)","v":{"$error":"#REF!"}}]
[null,null,null,null,null,null,null,null,{"$f":"IF(ISBLANK(#REF!),\"\",$F$11*#REF!+$G$11)","v":{"$error":"#REF!"}},{"$f":"IF(ISBLANK(I10652),\"\",$F$12*#REF!+$G$12)","v":{"$error":"#REF!"}}]
[null,null,null,null,null,null,null,null,{"$f":"IF(ISBLANK(#REF!),\"\",$F$11*#REF!+$G$11)","v":{"$error":"#REF!"}},{"$f":"IF(ISBLANK(I10692),\"\",$F$12*#REF!+$G$12)","v":{"$error":"#REF!"}}]
[null,null,null,null,null,null,null,null,{"$f":"IF(ISBLANK(#REF!),\"\",$F$11*#REF!+$G$11)","v":{"$error":"#REF!"}},{"$f":"IF(ISBLANK(I10717),\"\",$F$12*#REF!+$G$12)","v":{"$error":"#REF!"}}]
[null,null,null,null,null,null,null,null,{"$f":"IF(ISBLANK(#REF!),\"\",$F$11*#REF!+$G$11)","v":{"$error":"#REF!"}},{"$f":"IF(ISBLANK(I10718),\"\",$F$12*#REF!+$G$12)","v":{"$error":"#REF!"}}]
[null,null,null,null,null,null,null,null,{"$f":"IF(ISBLANK(#REF!),\"\",$F$11*#REF!+$G$11)","v":{"$error":"#REF!"}},{"$f":"IF(ISBLANK(I10751),\"\",$F$12*#REF!+$G$12)","v":{"$error":"#REF!"}}]
[null,null,null,null,null,null,null,null,{"$f":"IF(ISBLANK(#REF!),\"\",$F$11*#REF!+$G$11)","v":{"$error":"#REF!"}},{"$f":"IF(ISBLANK(I10772),\"\",$F$12*#REF!+$G$12)","v":{"$error":"#REF!"}}]
[null,null,null,null,null,null,null,null,{"$f":"IF(ISBLANK(#REF!),\"\",$F$11*#REF!+$G$11)","v":{"$error":"#REF!"}},{"$f":"IF(ISBLANK(I10808),\"\",$F$12*#REF!+$G$12)","v":{"$error":"#REF!"}}]
[null,null,null,null,null,null,null,null,{"$f":"IF(ISBLANK(#REF!),\"\",$F$11*#REF!+$G$11)","v":{"$error":"#REF!"}},{"$f":"IF(ISBLANK(I10817),\"\",$F$12*#REF!+$G$12)","v":{"$error":"#REF!"}}]
[null,null,null,null,null,null,null,null,{"$f":"IF(ISBLANK(#REF!),\"\",$F$11*#REF!+$G$11)","v":{"$error":"#REF!"}},{"$f":"IF(ISBLANK(I10842),\"\",$F$12*#REF!+$G$12)","v":{"$error":"#REF!"}}]
[null,null,null,null,null,null,null,null,{"$f":"IF(ISBLANK(#REF!),\"\",$F$11*#REF!+$G$11)","v":{"$error":"#REF!"}},{"$f":"IF(ISBLANK(I10864),\"\",$F$12*#REF!+$G$12)","v":{"$error":"#REF!"}}]
[null,null,null,null,null,null,null,null,{"$f":"IF(ISBLANK(#REF!),\"\",$F$11*#REF!+$G$11)","v":{"$error":"#REF!"}},{"$f":"IF(ISBLANK(I10907),\"\",$F$12*#REF!+$G$12)","v":{"$error":"#REF!"}}]
[null,null,null,null,null,null,null,null,{"$f":"IF(ISBLANK(#REF!),\"\",$F$11*#REF!+$G$11)","v":{"$error":"#REF!"}},{"$f":"IF(ISBLANK(I10908),\"\",$F$12*#REF!+$G$12)","v":{"$error":"#REF!"}}]
[null,null,null,null,null,null,null,null,{"$f":"IF(ISBLANK(#REF!),\"\",$F$11*#REF!+$G$11)","v":{"$error":"#REF!"}},{"$f":"IF(ISBLANK(I10941),\"\",$F$12*#REF!+$G$12)","v":{"$error":"#REF!"}}]
[null,null,null,null,null,null,null,null,{"$f":"IF(ISBLANK(#REF!),\"\",$F$11*#REF!+$G$11)","v":{"$error":"#REF!"}},{"$f":"IF(ISBLANK(I10956),\"\",$F$12*#REF!+$G$12)","v":{"$error":"#REF!"}}]
[null,null,null,null,null,null,null,null,{"$f":"IF(ISBLANK(#REF!),\"\",$F$11*#REF!+$G$11)","v":{"$error":"#REF!"}},{"$f":"IF(ISBLANK(I10998),\"\",$F$12*#REF!+$G$12)","v":{"$error":"#REF!"}}]
[null,null,null,null,null,null,null,null,{"$f":"IF(ISBLANK(#REF!),\"\",$F$11*#REF!+$G$11)","v":{"$error":"#REF!"}},{"$f":"IF(ISBLANK(I11007),\"\",$F$12*#REF!+$G$12)","v":{"$error":"#REF!"}}]
[null,null,null,null,null,null,null,null,{"$f":"IF(ISBLANK(#REF!),\"\",$F$11*#REF!+$G$11)","v":{"$error":"#REF!"}},{"$f":"IF(ISBLANK(I11032),\"\",$F$12*#REF!+$G$12)","v":{"$error":"#REF!"}}]
[null,null,null,null,null,null,null,null,{"$f":"IF(ISBLANK(#REF!),\"\",$F$11*#REF!+$G$11)","v":{"$error":"#REF!"}},{"$f":"IF(ISBLANK(I11059),\"\",$F$12*#REF!+$G$12)","v":{"$error":"#REF!"}}]
[null,null,null,null,null,null,null,null,{"$f":"IF(ISBLANK(#REF!),\"\",$F$11*#REF!+$G$11)","v":{"$error":"#REF!"}},{"$f":"IF(ISBLANK(I11097),\"\",$F$12*#REF!+$G$12)","v":{"$error":"#REF!"}}]
[null,null,null,null,null,null,null,null,{"$f":"IF(ISBLANK(#REF!),\"\",$F$11*#REF!+$G$11)","v":{"$error":"#REF!"}},{"$f":"IF(ISBLANK(I11098),\"\",$F$12*#REF!+$G$12)","v":{"$error":"#REF!"}}]
[null,null,null,null,null,null,null,null,{"$f":"IF(ISBLANK(#REF!),\"\",$F$11*#REF!+$G$11)","v":{"$error":"#REF!"}},{"$f":"IF(ISBLANK(I11131),\"\",$F$12*#REF!+$G$12)","v":{"$error":"#REF!"}}]
[null,null,null,null,null,null,null,null,{"$f":"IF(ISBLANK(#REF!),\"\",$F$11*#REF!+$G$11)","v":{"$error":"#REF!"}},{"$f":"IF(ISBLANK(I11151),\"\",$F$12*#REF!+$G$12)","v":{"$error":"#REF!"}}]
[null,null,null,null,null,null,null,null,{"$f":"IF(ISBLANK(#REF!),\"\",$F$11*#REF!+$G$11)","v":{"$error":"#REF!"}},{"$f":"IF(ISBLANK(I11188),\"\",$F$12*#REF!+$G$12)","v":{"$error":"#REF!"}}]
[null,null,null,null,null,null,null,null,{"$f":"IF(ISBLANK(#REF!),\"\",$F$11*#REF!+$G$11)","v":{"$error":"#REF!"}},{"$f":"IF(ISBLANK(I11197),\"\",$F$12*#REF!+$G$12)","v":{"$error":"#REF!"}}]
[null,null,null,null,null,null,null,null,{"$f":"IF(ISBLANK(#REF!),\"\",$F$11*#REF!+$G$11)","v":{"$error":"#REF!"}},{"$f":"IF(ISBLANK(I11222),\"\",$F$12*#REF!+$G$12)","v":{"$error":"#REF!"}}]
[null,null,null,null,null,null,null,null,{"$f":"IF(ISBLANK(#REF!),\"\",$F$11*#REF!+$G$11)","v":{"$error":"#REF!"}},{"$f":"IF(ISBLANK(I11254),\"\",$F$12*#REF!+$G$12)","v":{"$error":"#REF!"}}]
[null,null,null,null,null,null,null,null,{"$f":"IF(ISBLANK(#REF!),\"\",$F$11*#REF!+$G$11)","v":{"$error":"#REF!"}},{"$f":"IF(ISBLANK(I11287),\"\",$F$12*#REF!+$G$12)","v":{"$error":"#REF!"}}]
[null,null,null,null,null,null,null,null,{"$f":"IF(ISBLANK(#REF!),\"\",$F$11*#REF!+$G$11)","v":{"$error":"#REF!"}},{"$f":"IF(ISBLANK(I11288),\"\",$F$12*#REF!+$G$12)","v":{"$error":"#REF!"}}]
[null,null,null,null,null,null,null,null,{"$f":"IF(ISBLANK(#REF!),\"\",$F$11*#REF!+$G$11)","v":{"$error":"#REF!"}},{"$f":"IF(ISBLANK(I11321),\"\",$F$12*#REF!+$G$12)","v":{"$error":"#REF!"}}]
[null,null,null,null,null,null,null,null,{"$f":"IF(ISBLANK(#REF!),\"\",$F$11*#REF!+$G$11)","v":{"$error":"#REF!"}},{"$f":"IF(ISBLANK(I11346),\"\",$F$12*#REF!+$G$12)","v":{"$error":"#REF!"}}]
[null,null,null,null,null,null,null,null,{"$f":"IF(ISBLANK(#REF!),\"\",$F$11*#REF!+$G$11)","v":{"$error":"#REF!"}},{"$f":"IF(ISBLANK(I11378),\"\",$F$12*#REF!+$G$12)","v":{"$error":"#REF!"}}]
[null,null,null,null,null,null,null,null,{"$f":"IF(ISBLANK(#REF!),\"\",$F$11*#REF!+$G$11)","v":{"$error":"#REF!"}},{"$f":"IF(ISBLANK(I11387),\"\",$F$12*#REF!+$G$12)","v":{"$error":"#REF!"}}]
[null,null,null,null,null,null,null,null,{"$f":"IF(ISBLANK(#REF!),\"\",$F$11*#REF!+$G$11)","v":{"$error":"#REF!"}},{"$f":"IF(ISBLANK(I11412),\"\",$F$12*#REF!+$G$12)","v":{"$error":"#REF!"}}]
[null,null,null,null,null,null,null,null,{"$f":"IF(ISBLANK(#REF!),\"\",$F$11*#REF!+$G$11)","v":{"$error":"#REF!"}},{"$f":"IF(ISBLANK(I11449),\"\",$F$12*#REF!+$G$12)","v":{"$error":"#REF!"}}]
[null,null,null,null,null,null,null,null,{"$f":"IF(ISBLANK(#REF!),\"\",$F$11*#REF!+$G$11)","v":{"$error":"#REF!"}},{"$f":"IF(ISBLANK(I11469),\"\",$F$12*#REF!+$G$12)","v":{"$error":"#REF!"}}]
[null,null,null,null,null,null,null,null,{"$f":"IF(ISBLANK(#REF!),\"\",$F$11*#REF!+$G$11)","v":{"$error":"#REF!"}},{"$f":"IF(ISBLANK(I11478),\"\",$F$12*#REF!+$G$12)","v":{"$error":"#REF!"}}]
[null,null,null,null,null,null,null,null,{"$f":"IF(ISBLANK(#REF!),\"\",$F$11*#REF!+$G$11)","v":{"$error":"#REF!"}},{"$f":"IF(ISBLANK(I11511),\"\",$F$12*#REF!+$G$12)","v":{"$error":"#REF!"}}]
[null,null,null,null,null,null,null,null,{"$f":"IF(ISBLANK(#REF!),\"\",$F$11*#REF!+$G$11)","v":{"$error":"#REF!"}},{"$f":"IF(ISBLANK(I11541),\"\",$F$12*#REF!+$G$12)","v":{"$error":"#REF!"}}]
[null,null,null,null,null,null,null,null,{"$f":"IF(ISBLANK(#REF!),\"\",$F$11*#REF!+$G$11)","v":{"$error":"#REF!"}},{"$f":"IF(ISBLANK(I11568),\"\",$F$12*#REF!+$G$12)","v":{"$error":"#REF!"}}]
[null,null,null,null,null,null,null,null,{"$f":"IF(ISBLANK(#REF!),\"\",$F$11*#REF!+$G$11)","v":{"$error":"#REF!"}},{"$f":"IF(ISBLANK(I11577),\"\",$F$12*#REF!+$G$12)","v":{"$error":"#REF!"}}]
[null,null,null,null,null,null,null,null,{"$f":"IF(ISBLANK(#REF!),\"\",$F$11*#REF!+$G$11)","v":{"$error":"#REF!"}},{"$f":"IF(ISBLANK(I11602),\"\",$F$12*#REF!+$G$12)","v":{"$error":"#REF!"}}]
[null,null,null,null,null,null,null,null,{"$f":"IF(ISBLANK(#REF!),\"\",$F$11*#REF!+$G$11)","v":{"$error":"#REF!"}},{"$f":"IF(ISBLANK(I11621),\"\",$F$12*#REF!+$G$12)","v":{"$error":"#REF!"}}]
[null,null,null,null,null,null,null,null,{"$f":"IF(ISBLANK(#REF!),\"\",$F$11*#REF!+$G$11)","v":{"$error":"#REF!"}},{"$f":"IF(ISBLANK(I11659),\"\",$F$12*#REF!+$G$12)","v":{"$error":"#REF!"}}]
[null,null,null,null,null,null,null,null,{"$f":"IF(ISBLANK(#REF!),\"\",$F$11*#REF!+$G$11)","v":{"$error":"#REF!"}},{"$f":"IF(ISBLANK(I11668),\"\",$F$12*#REF!+$G$12)","v":{"$error":"#REF!"}}]
[null,null,null,null,null,null,null,null,{"$f":"IF(ISBLANK(#REF!),\"\",$F$11*#REF!+$G$11)","v":{"$error":"#REF!"}},{"$f":"IF(ISBLANK(I11701),\"\",$F$12*#REF!+$G$12)","v":{"$error":"#REF!"}}]
[null,null,null,null,null,null,null,null,{"$f":"IF(ISBLANK(#REF!),\"\",$F$11*#REF!+$G$11)","v":{"$error":"#REF!"}},{"$f":"IF(ISBLANK(I11736),\"\",$F$12*#REF!+$G$12)","v":{"$error":"#REF!"}}]
[null,null,null,null,null,null,null,null,{"$f":"IF(ISBLANK(#REF!),\"\",$F$11*#REF!+$G$11)","v":{"$error":"#REF!"}},{"$f":"IF(ISBLANK(I11758),\"\",$F$12*#REF!+$G$12)","v":{"$error":"#REF!"}}]
[null,null,null,null,null,null,null,null,{"$f":"IF(ISBLANK(#REF!),\"\",$F$11*#REF!+$G$11)","v":{"$error":"#REF!"}},{"$f":"IF(ISBLANK(I11767),\"\",$F$12*#REF!+$G$12)","v":{"$error":"#REF!"}}]
[null,null,null,null,null,null,null,null,{"$f":"IF(ISBLANK(#REF!),\"\",$F$11*#REF!+$G$11)","v":{"$error":"#REF!"}},{"$f":"IF(ISBLANK(I11792),\"\",$F$12*#REF!+$G$12)","v":{"$error":"#REF!"}}]
[null,null,null,null,null,null,null,null,{"$f":"IF(ISBLANK(#REF!),\"\",$F$11*#REF!+$G$11)","v":{"$error":"#REF!"}},{"$f":"IF(ISBLANK(I11816),\"\",$F$12*#REF!+$G$12)","v":{"$error":"#REF!"}}]
[null,null,null,null,null,null,null,null,{"$f":"IF(ISBLANK(#REF!),\"\",$F$11*#REF!+$G$11)","v":{"$error":"#REF!"}},{"$f":"IF(ISBLANK(I11849),\"\",$F$12*#REF!+$G$12)","v":{"$error":"#REF!"}}]
[null,null,null,null,null,null,null,null,{"$f":"IF(ISBLANK(#REF!),\"\",$F$11*#REF!+$G$11)","v":{"$error":"#REF!"}},{"$f":"IF(ISBLANK(I11858),\"\",$F$12*#REF!+$G$12)","v":{"$error":"#REF!"}}]
[null,null,null,null,null,null,null,null,{"$f":"IF(ISBLANK(#REF!),\"\",$F$11*#REF!+$G$11)","v":{"$error":"#REF!"}},{"$f":"IF(ISBLANK(I11891),\"\",$F$12*#REF!+$G$12)","v":{"$error":"#REF!"}}]
[null,null,null,null,null,null,null,null,{"$f":"IF(ISBLANK(#REF!),\"\",$F$11*#REF!+$G$11)","v":{"$error":"#REF!"}},{"$f":"IF(ISBLANK(I11908),\"\",$F$12*#REF!+$G$12)","v":{"$error":"#REF!"}}]
[null,null,null,null,null,null,null,null,{"$f":"IF(ISBLANK(#REF!),\"\",$F$11*#REF!+$G$11)","v":{"$error":"#REF!"}},{"$f":"IF(ISBLANK(I11948),\"\",$F$12*#REF!+$G$12)","v":{"$error":"#REF!"}}]
[null,null,null,null,null,null,null,null,{"$f":"IF(ISBLANK(#REF!),\"\",$F$11*#REF!+$G$11)","v":{"$error":"#REF!"}},{"$f":"IF(ISBLANK(I11973),\"\",$F$12*#REF!+$G$12)","v":{"$error":"#REF!"}}]
[null,null,null,null,null,null,null,null,{"$f":"IF(ISBLANK(#REF!),\"\",$F$11*#REF!+$G$11)","v":{"$error":"#REF!"}},{"$f":"IF(ISBLANK(I11982),\"\",$F$12*#REF!+$G$12)","v":{"$error":"#REF!"}}]
[null,null,null,null,null,null,null,null,{"$f":"IF(ISBLANK(#REF!),\"\",$F$11*#REF!+$G$11)","v":{"$error":"#REF!"}},{"$f":"IF(ISBLANK(I12011),\"\",$F$12*#REF!+$G$12)","v":{"$error":"#REF!"}}]
[null,null,null,null,null,null,null,null,{"$f":"IF(ISBLANK(#REF!),\"\",$F$11*#REF!+$G$11)","v":{"$error":"#REF!"}},{"$f":"IF(ISBLANK(I12039),\"\",$F$12*#REF!+$G$12)","v":{"$error":"#REF!"}}]
[null,null,null,null,null,null,null,null,{"$f":"IF(ISBLANK(#REF!),\"\",$F$11*#REF!+$G$11)","v":{"$error":"#REF!"}},{"$f":"IF(ISBLANK(I12048),\"\",$F$12*#REF!+$G$12)","v":{"$error":"#REF!"}}]
[null,null,null,null,null,null,null,null,{"$f":"IF(ISBLANK(#REF!),\"\",$F$11*#REF!+$G$11)","v":{"$error":"#REF!"}},{"$f":"IF(ISBLANK(I12081),\"\",$F$12*#REF!+$G$12)","v":{"$error":"#REF!"}}]
[null,null,null,null,null,null,null,null,{"$f":"IF(ISBLANK(#REF!),\"\",$F$11*#REF!+$G$11)","v":{"$error":"#REF!"}},{"$f":"IF(ISBLANK(I12103),\"\",$F$12*#REF!+$G$12)","v":{"$error":"#REF!"}}]
[null,null,null,null,null,null,null,null,{"$f":"IF(ISBLANK(#REF!),\"\",$F$11*#REF!+$G$11)","v":{"$error":"#REF!"}},{"$f":"IF(ISBLANK(I12138),\"\",$F$12*#REF!+$G$12)","v":{"$error":"#REF!"}}]
[null,null,null,null,null,null,null,null,{"$f":"IF(ISBLANK(#REF!),\"\",$F$11*#REF!+$G$11)","v":{"$error":"#REF!"}},{"$f":"IF(ISBLANK(I12163),\"\",$F$12*#REF!+$G$12)","v":{"$error":"#REF!"}}]
[null,null,null,null,null,null,null,null,{"$f":"IF(ISBLANK(#REF!),\"\",$F$11*#REF!+$G$11)","v":{"$error":"#REF!"}},{"$f":"IF(ISBLANK(I12172),\"\",$F$12*#REF!+$G$12)","v":{"$error":"#REF!"}}]
[null,null,null,null,null,null,null,null,{"$f":"IF(ISBLANK(#REF!),\"\",$F$11*#REF!+$G$11)","v":{"$error":"#REF!"}},{"$f":"IF(ISBLANK(I12205),\"\",$F$12*#REF!+$G$12)","v":{"$error":"#REF!"}}]
[null,null,null,null,null,null,null,null,{"$f":"IF(ISBLANK(#REF!),\"\",$F$11*#REF!+$G$11)","v":{"$error":"#REF!"}},{"$f":"IF(ISBLANK(I12218),\"\",$F$12*#REF!+$G$12)","v":{"$error":"#REF!"}}]
[null,null,null,null,null,null,null,null,{"$f":"IF(ISBLANK(#REF!),\"\",$F$11*#REF!+$G$11)","v":{"$error":"#REF!"}},{"$f":"IF(ISBLANK(I12238),\"\",$F$12*#REF!+$G$12)","v":{"$error":"#REF!"}}]
[null,null,null,null,null,null,null,null,{"$f":"IF(ISBLANK(#REF!),\"\",$F$11*#REF!+$G$11)","v":{"$error":"#REF!"}},{"$f":"IF(ISBLANK(I12263),\"\",$F$12*#REF!+$G$12)","v":{"$error":"#REF!"}}]
[null,null,null,null,null,null,null,null,{"$f":"IF(ISBLANK(#REF!),\"\",$F$11*#REF!+$G$11)","v":{"$error":"#REF!"}},{"$f":"IF(ISBLANK(I12296),\"\",$F$12*#REF!+$G$12)","v":{"$error":"#REF!"}}]
[null,null,null,null,null,null,null,null,{"$f":"IF(ISBLANK(#REF!),\"\",$F$11*#REF!+$G$11)","v":{"$error":"#REF!"}},{"$f":"IF(ISBLANK(I12321),\"\",$F$12*#REF!+$G$12)","v":{"$error":"#REF!"}}]
[null,null,null,null,null,null,null,null,{"$f":"IF(ISBLANK(#REF!),\"\",$F$11*#REF!+$G$11)","v":{"$error":"#REF!"}},{"$f":"IF(ISBLANK(I12353),\"\",$F$12*#REF!+$G$12)","v":{"$error":"#REF!"}}]
[null,null,null,null,null,null,null,null,{"$f":"IF(ISBLANK(#REF!),\"\",$F$11*#REF!+$G$11)","v":{"$error":"#REF!"}},{"$f":"IF(ISBLANK(I12362),\"\",$F$12*#REF!+$G$12)","v":{"$error":"#REF!"}}]
[null,null,null,null,null,null,null,null,{"$f":"IF(ISBLANK(#REF!),\"\",$F$11*#REF!+$G$11)","v":{"$error":"#REF!"}},{"$f":"IF(ISBLANK(I12395),\"\",$F$12*#REF!+$G$12)","v":{"$error":"#REF!"}}]
[null,null,null,null,null,null,null,null,{"$f":"IF(ISBLANK(#REF!),\"\",$F$11*#REF!+$G$11)","v":{"$error":"#REF!"}},{"$f":"IF(ISBLANK(I12413),\"\",$F$12*#REF!+$G$12)","v":{"$error":"#REF!"}}]
[null,null,null,null,null,null,null,null,{"$f":"IF(ISBLANK(#REF!),\"\",$F$11*#REF!+$G$11)","v":{"$error":"#REF!"}},{"$f":"IF(ISBLANK(I12428),\"\",$F$12*#REF!+$G$12)","v":{"$error":"#REF!"}}]
[null,null,null,null,null,null,null,null,{"$f":"IF(ISBLANK(#REF!),\"\",$F$11*#REF!+$G$11)","v":{"$error":"#REF!"}},{"$f":"IF(ISBLANK(I12453),\"\",$F$12*#REF!+$G$12)","v":{"$error":"#REF!"}}]
[null,null,null,null,null,null,null,null,{"$f":"IF(ISBLANK(#REF!),\"\",$F$11*#REF!+$G$11)","v":{"$error":"#REF!"}},{"$f":"IF(ISBLANK(I12486),\"\",$F$12*#REF!+$G$12)","v":{"$error":"#REF!"}}]
[null,null,null,null,null,null,null,null,{"$f":"IF(ISBLANK(#REF!),\"\",$F$11*#REF!+$G$11)","v":{"$error":"#REF!"}},{"$f":"IF(ISBLANK(I12516),\"\",$F$12*#REF!+$G$12)","v":{"$error":"#REF!"}}]
[null,null,null,null,null,null,null,null,{"$f":"IF(ISBLANK(#REF!),\"\",$F$11*#REF!+$G$11)","v":{"$error":"#REF!"}},{"$f":"IF(ISBLANK(I12543),\"\",$F$12*#REF!+$G$12)","v":{"$error":"#REF!"}}]
[null,null,null,null,null,null,null,null,{"$f":"IF(ISBLANK(#REF!),\"\",$F$11*#REF!+$G$11)","v":{"$error":"#REF!"}},{"$f":"IF(ISBLANK(I12552),\"\",$F$12*#REF!+$G$12)","v":{"$error":"#REF!"}}]
[null,null,null,null,null,null,null,null,{"$f":"IF(ISBLANK(#REF!),\"\",$F$11*#REF!+$G$11)","v":{"$error":"#REF!"}},{"$f":"IF(ISBLANK(I12585),\"\",$F$12*#REF!+$G$12)","v":{"$error":"#REF!"}}]
[null,null,null,null,null,null,null,null,{"$f":"IF(ISBLANK(#REF!),\"\",$F$11*#REF!+$G$11)","v":{"$error":"#REF!"}},{"$f":"IF(ISBLANK(I12608),\"\",$F$12*#REF!+$G$12)","v":{"$error":"#REF!"}}]
[null,null,null,null,null,null,null,null,{"$f":"IF(ISBLANK(#REF!),\"\",$F$11*#REF!+$G$11)","v":{"$error":"#REF!"}},{"$f":"IF(ISBLANK(I12618),\"\",$F$12*#REF!+$G$12)","v":{"$error":"#REF!"}}]
[null,null,null,null,null,null,null,null,{"$f":"IF(ISBLANK(#REF!),\"\",$F$11*#REF!+$G$11)","v":{"$error":"#REF!"}},{"$f":"IF(ISBLANK(I12643),\"\",$F$12*#REF!+$G$12)","v":{"$error":"#REF!"}}]
[null,null,null,null,null,null,null,null,{"$f":"IF(ISBLANK(#REF!),\"\",$F$11*#REF!+$G$11)","v":{"$error":"#REF!"}},{"$f":"IF(ISBLANK(I12676),\"\",$F$12*#REF!+$G$12)","v":{"$error":"#REF!"}}]
[null,null,null,null,null,null,null,null,{"$f":"IF(ISBLANK(#REF!),\"\",$F$11*#REF!+$G$11)","v":{"$error":"#REF!"}},{"$f":"IF(ISBLANK(I12711),\"\",$F$12*#REF!+$G$12)","v":{"$error":"#REF!"}}]
[null,null,null,null,null,null,null,null,{"$f":"IF(ISBLANK(#REF!),\"\",$F$11*#REF!+$G$11)","v":{"$error":"#REF!"}},{"$f":"IF(ISBLANK(I12733),\"\",$F$12*#REF!+$G$12)","v":{"$error":"#REF!"}}]
[null,null,null,null,null,null,null,null,{"$f":"IF(ISBLANK(#REF!),\"\",$F$11*#REF!+$G$11)","v":{"$error":"#REF!"}},{"$f":"IF(ISBLANK(I12742),\"\",$F$12*#REF!+$G$12)","v":{"$error":"#REF!"}}]
[null,null,null,null,null,null,null,null,{"$f":"IF(ISBLANK(#REF!),\"\",$F$11*#REF!+$G$11)","v":{"$error":"#REF!"}},{"$f":"IF(ISBLANK(I12767),\"\",$F$12*#REF!+$G$12)","v":{"$error":"#REF!"}}]
[null,null,null,null,null,null,null,null,{"$f":"IF(ISBLANK(#REF!),\"\",$F$11*#REF!+$G$11)","v":{"$error":"#REF!"}},{"$f":"IF(ISBLANK(I12803),\"\",$F$12*#REF!+$G$12)","v":{"$error":"#REF!"}}]
[null,null,null,null,null,null,null,null,{"$f":"IF(ISBLANK(#REF!),\"\",$F$11*#REF!+$G$11)","v":{"$error":"#REF!"}},{"$f":"IF(ISBLANK(I12808),\"\",$F$12*#REF!+$G$12)","v":{"$error":"#REF!"}}]
[null,null,null,null,null,null,null,null,{"$f":"IF(ISBLANK(#REF!),\"\",$F$11*#REF!+$G$11)","v":{"$error":"#REF!"}},{"$f":"IF(ISBLANK(I12833),\"\",$F$12*#REF!+$G$12)","v":{"$error":"#REF!"}}]
[null,null,null,null,null,null,null,null,{"$f":"IF(ISBLANK(#REF!),\"\",$F$11*#REF!+$G$11)","v":{"$error":"#REF!"}},{"$f":"IF(ISBLANK(I12866),\"\",$F$12*#REF!+$G$12)","v":{"$error":"#REF!"}}]
[null,null,null,null,null,null,null,null,{"$f":"IF(ISBLANK(#REF!),\"\",$F$11*#REF!+$G$11)","v":{"$error":"#REF!"}},{"$f":"IF(ISBLANK(I12883),\"\",$F$12*#REF!+$G$12)","v":{"$error":"#REF!"}}]
[null,null,null,null,null,null,null,null,{"$f":"IF(ISBLANK(#REF!),\"\",$F$11*#REF!+$G$11)","v":{"$error":"#REF!"}},{"$f":"IF(ISBLANK(I12923),\"\",$F$12*#REF!+$G$12)","v":{"$error":"#REF!"}}]
[null,null,null,null,null,null,null,null,{"$f":"IF(ISBLANK(#REF!),\"\",$F$11*#REF!+$G$11)","v":{"$error":"#REF!"}},{"$f":"IF(ISBLANK(I12932),\"\",$F$12*#REF!+$G$12)","v":{"$error":"#REF!"}}]
[null,null,null,null,null,null,null,null,{"$f":"IF(ISBLANK(#REF!),\"\",$F$11*#REF!+$G$11)","v":{"$error":"#REF!"}},{"$f":"IF(ISBLANK(I12957),\"\",$F$12*#REF!+$G$12)","v":{"$error":"#REF!"}}]
[null,null,null,null,null,null,null,null,{"$f":"IF(ISBLANK(#REF!),\"\",$F$11*#REF!+$G$11)","v":{"$error":"#REF!"}},{"$f":"IF(ISBLANK(I12975),\"\",$F$12*#REF!+$G$12)","v":{"$error":"#REF!"}}]
[null,null,null,null,null,null,null,null,{"$f":"IF(ISBLANK(#REF!),\"\",$F$11*#REF!+$G$11)","v":{"$error":"#REF!"}},{"$f":"IF(ISBLANK(I12998),\"\",$F$12*#REF!+$G$12)","v":{"$error":"#REF!"}}]
[null,null,null,null,null,null,null,null,{"$f":"IF(ISBLANK(#REF!),\"\",$F$11*#REF!+$G$11)","v":{"$error":"#REF!"}},{"$f":"IF(ISBLANK(I13023),\"\",$F$12*#REF!+$G$12)","v":{"$error":"#REF!"}}]
[null,null,null,null,null,null,null,null,{"$f":"IF(ISBLANK(#REF!),\"\",$F$11*#REF!+$G$11)","v":{"$error":"#REF!"}},{"$f":"IF(ISBLANK(I13056),\"\",$F$12*#REF!+$G$12)","v":{"$error":"#REF!"}}]
[null,null,null,null,null,null,null,null,{"$f":"IF(ISBLANK(#REF!),\"\",$F$11*#REF!+$G$11)","v":{"$error":"#REF!"}},{"$f":"IF(ISBLANK(I13078),\"\",$F$12*#REF!+$G$12)","v":{"$error":"#REF!"}}]
[null,null,null,null,null,null,null,null,{"$f":"IF(ISBLANK(#REF!),\"\",$F$11*#REF!+$G$11)","v":{"$error":"#REF!"}},{"$f":"IF(ISBLANK(I13113),\"\",$F$12*#REF!+$G$12)","v":{"$error":"#REF!"}}]
[null,null,null,null,null,null,null,null,{"$f":"IF(ISBLANK(#REF!),\"\",$F$11*#REF!+$G$11)","v":{"$error":"#REF!"}},{"$f":"IF(ISBLANK(I13122),\"\",$F$12*#REF!+$G$12)","v":{"$error":"#REF!"}}]
[null,null,null,null,null,null,null,null,{"$f":"IF(ISBLANK(#REF!),\"\",$F$11*#REF!+$G$11)","v":{"$error":"#REF!"}},{"$f":"IF(ISBLANK(I13147),\"\",$F$12*#REF!+$G$12)","v":{"$error":"#REF!"}}]
[null,null,null,null,null,null,null,null,{"$f":"IF(ISBLANK(#REF!),\"\",$F$11*#REF!+$G$11)","v":{"$error":"#REF!"}},{"$f":"IF(ISBLANK(I13170),\"\",$F$12*#REF!+$G$12)","v":{"$error":"#REF!"}}]
[null,null,null,null,null,null,null,null,{"$f":"IF(ISBLANK(#REF!),\"\",$F$11*#REF!+$G$11)","v":{"$error":"#REF!"}},{"$f":"IF(ISBLANK(I13188),\"\",$F$12*#REF!+$G$12)","v":{"$error":"#REF!"}}]
[null,null,null,null,null,null,null,null,{"$f":"IF(ISBLANK(#REF!),\"\",$F$11*#REF!+$G$11)","v":{"$error":"#REF!"}},{"$f":"IF(ISBLANK(I13213),\"\",$F$12*#REF!+$G$12)","v":{"$error":"#REF!"}}]
[null,null,null,null,null,null,null,null,{"$f":"IF(ISBLANK(#REF!),\"\",$F$11*#REF!+$G$11)","v":{"$error":"#REF!"}},{"$f":"IF(ISBLANK(I13246),\"\",$F$12*#REF!+$G$12)","v":{"$error":"#REF!"}}]
[null,null,null,null,null,null,null,null,{"$f":"IF(ISBLANK(#REF!),\"\",$F$11*#REF!+$G$11)","v":{"$error":"#REF!"}},{"$f":"IF(ISBLANK(I13262),\"\",$F$12*#REF!+$G$12)","v":{"$error":"#REF!"}}]
[null,null,null,null,null,null,null,null,{"$f":"IF(ISBLANK(#REF!),\"\",$F$11*#REF!+$G$11)","v":{"$error":"#REF!"}},{"$f":"IF(ISBLANK(I13303),\"\",$F$12*#REF!+$G$12)","v":{"$error":"#REF!"}}]
[null,null,null,null,null,null,null,null,{"$f":"IF(ISBLANK(#REF!),\"\",$F$11*#REF!+$G$11)","v":{"$error":"#REF!"}},{"$f":"IF(ISBLANK(I13312),\"\",$F$12*#REF!+$G$12)","v":{"$error":"#REF!"}}]
[null,null,null,null,null,null,null,null,{"$f":"IF(ISBLANK(#REF!),\"\",$F$11*#REF!+$G$11)","v":{"$error":"#REF!"}},{"$f":"IF(ISBLANK(I13337),\"\",$F$12*#REF!+$G$12)","v":{"$error":"#REF!"}}]
[null,null,null,null,null,null,null,null,{"$f":"IF(ISBLANK(#REF!),\"\",$F$11*#REF!+$G$11)","v":{"$error":"#REF!"}},{"$f":"IF(ISBLANK(I13365),\"\",$F$12*#REF!+$G$12)","v":{"$error":"#REF!"}}]
[null,null,null,null,null,null,null,null,{"$f":"IF(ISBLANK(#REF!),\"\",$F$11*#REF!+$G$11)","v":{"$error":"#REF!"}},{"$f":"IF(ISBLANK(I13378),\"\",$F$12*#REF!+$G$12)","v":{"$error":"#REF!"}}]
[null,null,null,null,null,null,null,null,{"$f":"IF(ISBLANK(#REF!),\"\",$F$11*#REF!+$G$11)","v":{"$error":"#REF!"}},{"$f":"IF(ISBLANK(I13403),\"\",$F$12*#REF!+$G$12)","v":{"$error":"#REF!"}}]
[null,null,null,null,null,null,null,null,{"$f":"IF(ISBLANK(#REF!),\"\",$F$11*#REF!+$G$11)","v":{"$error":"#REF!"}},{"$f":"IF(ISBLANK(I13436),\"\",$F$12*#REF!+$G$12)","v":{"$error":"#REF!"}}]
[null,null,null,null,null,null,null,null,{"$f":"IF(ISBLANK(#REF!),\"\",$F$11*#REF!+$G$11)","v":{"$error":"#REF!"}},{"$f":"IF(ISBLANK(I13457),\"\",$F$12*#REF!+$G$12)","v":{"$error":"#REF!"}}]
[null,null,null,null,null,null,null,null,{"$f":"IF(ISBLANK(#REF!),\"\",$F$11*#REF!+$G$11)","v":{"$error":"#REF!"}},{"$f":"IF(ISBLANK(I13493),\"\",$F$12*#REF!+$G$12)","v":{"$error":"#REF!"}}]
[null,null,null,null,null,null,null,null,{"$f":"IF(ISBLANK(#REF!),\"\",$F$11*#REF!+$G$11)","v":{"$error":"#REF!"}},{"$f":"IF(ISBLANK(I13502),\"\",$F$12*#REF!+$G$12)","v":{"$error":"#REF!"}}]
[null,null,null,null,null,null,null,null,{"$f":"IF(ISBLANK(#REF!),\"\",$F$11*#REF!+$G$11)","v":{"$error":"#REF!"}},{"$f":"IF(ISBLANK(I13527),\"\",$F$12*#REF!+$G$12)","v":{"$error":"#REF!"}}]
[null,null,null,null,null,null,null,null,{"$f":"IF(ISBLANK(#REF!),\"\",$F$11*#REF!+$G$11)","v":{"$error":"#REF!"}},{"$f":"IF(ISBLANK(I13560),\"\",$F$12*#REF!+$G$12)","v":{"$error":"#REF!"}}]
[null,null,null,null,null,null,null,null,{"$f":"IF(ISBLANK(#REF!),\"\",$F$11*#REF!+$G$11)","v":{"$error":"#REF!"}},{"$f":"IF(ISBLANK(I13584),\"\",$F$12*#REF!+$G$12)","v":{"$error":"#REF!"}}]
[null,null,null,null,null,null,null,null,{"$f":"IF(ISBLANK(#REF!),\"\",$F$11*#REF!+$G$11)","v":{"$error":"#REF!"}},{"$f":"IF(ISBLANK(I13593),\"\",$F$12*#REF!+$G$12)","v":{"$error":"#REF!"}}]
[null,null,null,null,null,null,null,null,{"$f":"IF(ISBLANK(#REF!),\"\",$F$11*#REF!+$G$11)","v":{"$error":"#REF!"}},{"$f":"IF(ISBLANK(I13626),\"\",$F$12*#REF!+$G$12)","v":{"$error":"#REF!"}}]
[null,null,null,null,null,null,null,null,{"$f":"IF(ISBLANK(#REF!),\"\",$F$11*#REF!+$G$11)","v":{"$error":"#REF!"}},{"$f":"IF(ISBLANK(I13652),\"\",$F$12*#REF!+$G$12)","v":{"$error":"#REF!"}}]
[null,null,null,null,null,null,null,null,{"$f":"IF(ISBLANK(#REF!),\"\",$F$11*#REF!+$G$11)","v":{"$error":"#REF!"}},{"$f":"IF(ISBLANK(I13683),\"\",$F$12*#REF!+$G$12)","v":{"$error":"#REF!"}}]
[null,null,null,null,null,null,null,null,{"$f":"IF(ISBLANK(#REF!),\"\",$F$11*#REF!+$G$11)","v":{"$error":"#REF!"}},{"$f":"IF(ISBLANK(I13692),\"\",$F$12*#REF!+$G$12)","v":{"$error":"#REF!"}}]
[null,null,null,null,null,null,null,null,{"$f":"IF(ISBLANK(#REF!),\"\",$F$11*#REF!+$G$11)","v":{"$error":"#REF!"}},{"$f":"IF(ISBLANK(I13717),\"\",$F$12*#REF!+$G$12)","v":{"$error":"#REF!"}}]
[null,null,null,null,null,null,null,null,{"$f":"IF(ISBLANK(#REF!),\"\",$F$11*#REF!+$G$11)","v":{"$error":"#REF!"}},{"$f":"IF(ISBLANK(I13755),\"\",$F$12*#REF!+$G$12)","v":{"$error":"#REF!"}}]
[null,null,null,null,null,null,null,null,{"$f":"IF(ISBLANK(#REF!),\"\",$F$11*#REF!+$G$11)","v":{"$error":"#REF!"}},{"$f":"IF(ISBLANK(I13774),\"\",$F$12*#REF!+$G$12)","v":{"$error":"#REF!"}}]
[null,null,null,null,null,null,null,null,{"$f":"IF(ISBLANK(#REF!),\"\",$F$11*#REF!+$G$11)","v":{"$error":"#REF!"}},{"$f":"IF(ISBLANK(I13783),\"\",$F$12*#REF!+$G$12)","v":{"$error":"#REF!"}}]
[null,null,null,null,null,null,null,null,{"$f":"IF(ISBLANK(#REF!),\"\",$F$11*#REF!+$G$11)","v":{"$error":"#REF!"}},{"$f":"IF(ISBLANK(I13816),\"\",$F$12*#REF!+$G$12)","v":{"$error":"#REF!"}}]
[null,null,null,null,null,null,null,null,{"$f":"IF(ISBLANK(#REF!),\"\",$F$11*#REF!+$G$11)","v":{"$error":"#REF!"}},{"$f":"IF(ISBLANK(I13847),\"\",$F$12*#REF!+$G$12)","v":{"$error":"#REF!"}}]
[null,null,null,null,null,null,null,null,{"$f":"IF(ISBLANK(#REF!),\"\",$F$11*#REF!+$G$11)","v":{"$error":"#REF!"}},{"$f":"IF(ISBLANK(I13873),\"\",$F$12*#REF!+$G$12)","v":{"$error":"#REF!"}}]
[null,null,null,null,null,null,null,null,{"$f":"IF(ISBLANK(#REF!),\"\",$F$11*#REF!+$G$11)","v":{"$error":"#REF!"}},{"$f":"IF(ISBLANK(I13882),\"\",$F$12*#REF!+$G$12)","v":{"$error":"#REF!"}}]
[null,null,null,null,null,null,null,null,{"$f":"IF(ISBLANK(#REF!),\"\",$F$11*#REF!+$G$11)","v":{"$error":"#REF!"}},{"$f":"IF(ISBLANK(I13907),\"\",$F$12*#REF!+$G$12)","v":{"$error":"#REF!"}}]
[null,null,null,null,null,null,null,null,{"$f":"IF(ISBLANK(#REF!),\"\",$F$11*#REF!+$G$11)","v":{"$error":"#REF!"}},{"$f":"IF(ISBLANK(I13940),\"\",$F$12*#REF!+$G$12)","v":{"$error":"#REF!"}}]
[null,null,null,null,null,null,null,null,{"$f":"IF(ISBLANK(#REF!),\"\",$F$11*#REF!+$G$11)","v":{"$error":"#REF!"}},{"$f":"IF(ISBLANK(I13962),\"\",$F$12*#REF!+$G$12)","v":{"$error":"#REF!"}}]
[null,null,null,null,null,null,null,null,{"$f":"IF(ISBLANK(#REF!),\"\",$F$11*#REF!+$G$11)","v":{"$error":"#REF!"}},{"$f":"IF(ISBLANK(I13973),\"\",$F$12*#REF!+$G$12)","v":{"$error":"#REF!"}}]
[null,null,null,null,null,null,null,null,{"$f":"IF(ISBLANK(#REF!),\"\",$F$11*#REF!+$G$11)","v":{"$error":"#REF!"}},{"$f":"IF(ISBLANK(I14006),\"\",$F$12*#REF!+$G$12)","v":{"$error":"#REF!"}}]
[null,null,null,null,null,null,null,null,{"$f":"IF(ISBLANK(#REF!),\"\",$F$11*#REF!+$G$11)","v":{"$error":"#REF!"}},{"$f":"IF(ISBLANK(I14031),\"\",$F$12*#REF!+$G$12)","v":{"$error":"#REF!"}}]
[null,null,null,null,null,null,null,null,{"$f":"IF(ISBLANK(#REF!),\"\",$F$11*#REF!+$G$11)","v":{"$error":"#REF!"}},{"$f":"IF(ISBLANK(I14065),\"\",$F$12*#REF!+$G$12)","v":{"$error":"#REF!"}}]
[null,null,null,null,null,null,null,null,{"$f":"IF(ISBLANK(#REF!),\"\",$F$11*#REF!+$G$11)","v":{"$error":"#REF!"}},{"$f":"IF(ISBLANK(I14088),\"\",$F$12*#REF!+$G$12)","v":{"$error":"#REF!"}}]
[null,null,null,null,null,null,null,null,{"$f":"IF(ISBLANK(#REF!),\"\",$F$11*#REF!+$G$11)","v":{"$error":"#REF!"}},{"$f":"IF(ISBLANK(I14097),\"\",$F$12*#REF!+$G$12)","v":{"$error":"#REF!"}}]
[null,null,null,null,null,null,null,null,{"$f":"IF(ISBLANK(#REF!),\"\",$F$11*#REF!+$G$11)","v":{"$error":"#REF!"}},{"$f":"IF(ISBLANK(I14130),\"\",$F$12*#REF!+$G$12)","v":{"$error":"#REF!"}}]
[null,null,null,null,null,null,null,null,{"$f":"IF(ISBLANK(#REF!),\"\",$F$11*#REF!+$G$11)","v":{"$error":"#REF!"}},{"$f":"IF(ISBLANK(I14157),\"\",$F$12*#REF!+$G$12)","v":{"$error":"#REF!"}}]
[null,null,null,null,null,null,null,null,{"$f":"IF(ISBLANK(#REF!),\"\",$F$11*#REF!+$G$11)","v":{"$error":"#REF!"}},{"$f":"IF(ISBLANK(I14163),\"\",$F$12*#REF!+$G$12)","v":{"$error":"#REF!"}}]
[null,null,null,null,null,null,null,null,{"$f":"IF(ISBLANK(#REF!),\"\",$F$11*#REF!+$G$11)","v":{"$error":"#REF!"}},{"$f":"IF(ISBLANK(I14196),\"\",$F$12*#REF!+$G$12)","v":{"$error":"#REF!"}}]
[null,null,null,null,null,null,null,null,{"$f":"IF(ISBLANK(#REF!),\"\",$F$11*#REF!+$G$11)","v":{"$error":"#REF!"}},{"$f":"IF(ISBLANK(I14221),\"\",$F$12*#REF!+$G$12)","v":{"$error":"#REF!"}}]
[null,null,null,null,null,null,null,null,{"$f":"IF(ISBLANK(#REF!),\"\",$F$11*#REF!+$G$11)","v":{"$error":"#REF!"}},{"$f":"IF(ISBLANK(I14237),\"\",$F$12*#REF!+$G$12)","v":{"$error":"#REF!"}}]
[null,null,null,null,null,null,null,null,{"$f":"IF(ISBLANK(#REF!),\"\",$F$11*#REF!+$G$11)","v":{"$error":"#REF!"}},{"$f":"IF(ISBLANK(I14278),\"\",$F$12*#REF!+$G$12)","v":{"$error":"#REF!"}}]
[null,null,null,null,null,null,null,null,{"$f":"IF(ISBLANK(#REF!),\"\",$F$11*#REF!+$G$11)","v":{"$error":"#REF!"}},{"$f":"IF(ISBLANK(I14287),\"\",$F$12*#REF!+$G$12)","v":{"$error":"#REF!"}}]
[null,null,null,null,null,null,null,null,{"$f":"IF(ISBLANK(#REF!),\"\",$F$11*#REF!+$G$11)","v":{"$error":"#REF!"}},{"$f":"IF(ISBLANK(I14320),\"\",$F$12*#REF!+$G$12)","v":{"$error":"#REF!"}}]
[null,null,null,null,null,null,null,null,{"$f":"IF(ISBLANK(#REF!),\"\",$F$11*#REF!+$G$11)","v":{"$error":"#REF!"}},{"$f":"IF(ISBLANK(I14329),\"\",$F$12*#REF!+$G$12)","v":{"$error":"#REF!"}}]
[null,null,null,null,null,null,null,null,{"$f":"IF(ISBLANK(#REF!),\"\",$F$11*#REF!+$G$11)","v":{"$error":"#REF!"}},{"$f":"IF(ISBLANK(I14353),\"\",$F$12*#REF!+$G$12)","v":{"$error":"#REF!"}}]
[null,null,null,null,null,null,null,null,{"$f":"IF(ISBLANK(#REF!),\"\",$F$11*#REF!+$G$11)","v":{"$error":"#REF!"}},{"$f":"IF(ISBLANK(I14378),\"\",$F$12*#REF!+$G$12)","v":{"$error":"#REF!"}}]
[null,null,null,null,null,null,null,null,{"$f":"IF(ISBLANK(#REF!),\"\",$F$11*#REF!+$G$11)","v":{"$error":"#REF!"}},{"$f":"IF(ISBLANK(I14411),\"\",$F$12*#REF!+$G$12)","v":{"$error":"#REF!"}}]
[null,null,null,null,null,null,null,null,{"$f":"IF(ISBLANK(#REF!),\"\",$F$11*#REF!+$G$11)","v":{"$error":"#REF!"}},{"$f":"IF(ISBLANK(I14432),\"\",$F$12*#REF!+$G$12)","v":{"$error":"#REF!"}}]
[null,null,null,null,null,null,null,null,{"$f":"IF(ISBLANK(#REF!),\"\",$F$11*#REF!+$G$11)","v":{"$error":"#REF!"}},{"$f":"IF(ISBLANK(I14468),\"\",$F$12*#REF!+$G$12)","v":{"$error":"#REF!"}}]
[null,null,null,null,null,null,null,null,{"$f":"IF(ISBLANK(#REF!),\"\",$F$11*#REF!+$G$11)","v":{"$error":"#REF!"}},{"$f":"IF(ISBLANK(I14477),\"\",$F$12*#REF!+$G$12)","v":{"$error":"#REF!"}}]
[null,null,null,null,null,null,null,null,{"$f":"IF(ISBLANK(#REF!),\"\",$F$11*#REF!+$G$11)","v":{"$error":"#REF!"}},{"$f":"IF(ISBLANK(I14510),\"\",$F$12*#REF!+$G$12)","v":{"$error":"#REF!"}}]
[null,null,null,null,null,null,null,null,{"$f":"IF(ISBLANK(#REF!),\"\",$F$11*#REF!+$G$11)","v":{"$error":"#REF!"}},{"$f":"IF(ISBLANK(I14524),\"\",$F$12*#REF!+$G$12)","v":{"$error":"#REF!"}}]
[null,null,null,null,null,null,null,null,{"$f":"IF(ISBLANK(#REF!),\"\",$F$11*#REF!+$G$11)","v":{"$error":"#REF!"}},{"$f":"IF(ISBLANK(I14543),\"\",$F$12*#REF!+$G$12)","v":{"$error":"#REF!"}}]
[null,null,null,null,null,null,null,null,{"$f":"IF(ISBLANK(#REF!),\"\",$F$11*#REF!+$G$11)","v":{"$error":"#REF!"}},{"$f":"IF(ISBLANK(I14568),\"\",$F$12*#REF!+$G$12)","v":{"$error":"#REF!"}}]
[null,null,null,null,null,null,null,null,{"$f":"IF(ISBLANK(#REF!),\"\",$F$11*#REF!+$G$11)","v":{"$error":"#REF!"}},{"$f":"IF(ISBLANK(I14601),\"\",$F$12*#REF!+$G$12)","v":{"$error":"#REF!"}}]
[null,null,null,null,null,null,null,null,{"$f":"IF(ISBLANK(#REF!),\"\",$F$11*#REF!+$G$11)","v":{"$error":"#REF!"}},{"$f":"IF(ISBLANK(I14627),\"\",$F$12*#REF!+$G$12)","v":{"$error":"#REF!"}}]
[null,null,null,null,null,null,null,null,{"$f":"IF(ISBLANK(#REF!),\"\",$F$11*#REF!+$G$11)","v":{"$error":"#REF!"}},{"$f":"IF(ISBLANK(I14658),\"\",$F$12*#REF!+$G$12)","v":{"$error":"#REF!"}}]
[null,null,null,null,null,null,null,null,{"$f":"IF(ISBLANK(#REF!),\"\",$F$11*#REF!+$G$11)","v":{"$error":"#REF!"}},{"$f":"IF(ISBLANK(I14667),\"\",$F$12*#REF!+$G$12)","v":{"$error":"#REF!"}}]
[null,null,null,null,null,null,null,null,{"$f":"IF(ISBLANK(#REF!),\"\",$F$11*#REF!+$G$11)","v":{"$error":"#REF!"}},{"$f":"IF(ISBLANK(I14700),\"\",$F$12*#REF!+$G$12)","v":{"$error":"#REF!"}}]
[null,null,null,null,null,null,null,null,{"$f":"IF(ISBLANK(#REF!),\"\",$F$11*#REF!+$G$11)","v":{"$error":"#REF!"}},{"$f":"IF(ISBLANK(I14719),\"\",$F$12*#REF!+$G$12)","v":{"$error":"#REF!"}}]
[null,null,null,null,null,null,null,null,{"$f":"IF(ISBLANK(#REF!),\"\",$F$11*#REF!+$G$11)","v":{"$error":"#REF!"}},{"$f":"IF(ISBLANK(I14733),\"\",$F$12*#REF!+$G$12)","v":{"$error":"#REF!"}}]
[null,null,null,null,null,null,null,null,{"$f":"IF(ISBLANK(#REF!),\"\",$F$11*#REF!+$G$11)","v":{"$error":"#REF!"}},{"$f":"IF(ISBLANK(I14758),\"\",$F$12*#REF!+$G$12)","v":{"$error":"#REF!"}}]
[null,null,null,null,null,null,null,null,{"$f":"IF(ISBLANK(#REF!),\"\",$F$11*#REF!+$G$11)","v":{"$error":"#REF!"}},{"$f":"IF(ISBLANK(I14791),\"\",$F$12*#REF!+$G$12)","v":{"$error":"#REF!"}}]
[null,null,null,null,null,null,null,null,{"$f":"IF(ISBLANK(#REF!),\"\",$F$11*#REF!+$G$11)","v":{"$error":"#REF!"}},{"$f":"IF(ISBLANK(I14822),\"\",$F$12*#REF!+$G$12)","v":{"$error":"#REF!"}}]
[null,null,null,null,null,null,null,null,{"$f":"IF(ISBLANK(#REF!),\"\",$F$11*#REF!+$G$11)","v":{"$error":"#REF!"}},{"$f":"IF(ISBLANK(I14848),\"\",$F$12*#REF!+$G$12)","v":{"$error":"#REF!"}}]
[null,null,null,null,null,null,null,null,{"$f":"IF(ISBLANK(#REF!),\"\",$F$11*#REF!+$G$11)","v":{"$error":"#REF!"}},{"$f":"IF(ISBLANK(I14857),\"\",$F$12*#REF!+$G$12)","v":{"$error":"#REF!"}}]
[null,null,null,null,null,null,null,null,{"$f":"IF(ISBLANK(#REF!),\"\",$F$11*#REF!+$G$11)","v":{"$error":"#REF!"}},{"$f":"IF(ISBLANK(I14882),\"\",$F$12*#REF!+$G$12)","v":{"$error":"#REF!"}}]
[null,null,null,null,null,null,null,null,{"$f":"IF(ISBLANK(#REF!),\"\",$F$11*#REF!+$G$11)","v":{"$error":"#REF!"}},{"$f":"IF(ISBLANK(I14914),\"\",$F$12*#REF!+$G$12)","v":{"$error":"#REF!"}}]
[null,null,null,null,null,null,null,null,{"$f":"IF(ISBLANK(#REF!),\"\",$F$11*#REF!+$G$11)","v":{"$error":"#REF!"}},{"$f":"IF(ISBLANK(I14923),\"\",$F$12*#REF!+$G$12)","v":{"$error":"#REF!"}}]
[null,null,null,null,null,null,null,null,{"$f":"IF(ISBLANK(#REF!),\"\",$F$11*#REF!+$G$11)","v":{"$error":"#REF!"}},{"$f":"IF(ISBLANK(I14948),\"\",$F$12*#REF!+$G$12)","v":{"$error":"#REF!"}}]
[null,null,null,null,null,null,null,null,{"$f":"IF(ISBLANK(#REF!),\"\",$F$11*#REF!+$G$11)","v":{"$error":"#REF!"}},{"$f":"IF(ISBLANK(I14981),\"\",$F$12*#REF!+$G$12)","v":{"$error":"#REF!"}}]
[null,null,null,null,null,null,null,null,{"$f":"IF(ISBLANK(#REF!),\"\",$F$11*#REF!+$G$11)","v":{"$error":"#REF!"}},{"$f":"IF(ISBLANK(I14994),\"\",$F$12*#REF!+$G$12)","v":{"$error":"#REF!"}}]
[null,null,null,null,null,null,null,null,{"$f":"IF(ISBLANK(#REF!),\"\",$F$11*#REF!+$G$11)","v":{"$error":"#REF!"}},{"$f":"IF(ISBLANK(I15038),\"\",$F$12*#REF!+$G$12)","v":{"$error":"#REF!"}}]
[null,null,null,null,null,null,null,null,{"$f":"IF(ISBLANK(#REF!),\"\",$F$11*#REF!+$G$11)","v":{"$error":"#REF!"}},{"$f":"IF(ISBLANK(I15047),\"\",$F$12*#REF!+$G$12)","v":{"$error":"#REF!"}}]
[null,null,null,null,null,null,null,null,{"$f":"IF(ISBLANK(#REF!),\"\",$F$11*#REF!+$G$11)","v":{"$error":"#REF!"}},{"$f":"IF(ISBLANK(I15072),\"\",$F$12*#REF!+$G$12)","v":{"$error":"#REF!"}}]
[null,null,null,null,null,null,null,null,{"$f":"IF(ISBLANK(#REF!),\"\",$F$11*#REF!+$G$11)","v":{"$error":"#REF!"}},{"$f":"IF(ISBLANK(I15109),\"\",$F$12*#REF!+$G$12)","v":{"$error":"#REF!"}}]
[null,null,null,null,null,null,null,null,{"$f":"IF(ISBLANK(#REF!),\"\",$F$11*#REF!+$G$11)","v":{"$error":"#REF!"}},{"$f":"IF(ISBLANK(I15113),\"\",$F$12*#REF!+$G$12)","v":{"$error":"#REF!"}}]
[null,null,null,null,null,null,null,null,{"$f":"IF(ISBLANK(#REF!),\"\",$F$11*#REF!+$G$11)","v":{"$error":"#REF!"}},{"$f":"IF(ISBLANK(I15138),\"\",$F$12*#REF!+$G$12)","v":{"$error":"#REF!"}}]
[null,null,null,null,null,null,null,null,{"$f":"IF(ISBLANK(#REF!),\"\",$F$11*#REF!+$G$11)","v":{"$error":"#REF!"}},{"$f":"IF(ISBLANK(I15171),\"\",$F$12*#REF!+$G$12)","v":{"$error":"#REF!"}}]
[null,null,null,null,null,null,null,null,{"$f":"IF(ISBLANK(#REF!),\"\",$F$11*#REF!+$G$11)","v":{"$error":"#REF!"}},{"$f":"IF(ISBLANK(I15189),\"\",$F$12*#REF!+$G$12)","v":{"$error":"#REF!"}}]
[null,null,null,null,null,null,null,null,{"$f":"IF(ISBLANK(#REF!),\"\",$F$11*#REF!+$G$11)","v":{"$error":"#REF!"}},{"$f":"IF(ISBLANK(I15228),\"\",$F$12*#REF!+$G$12)","v":{"$error":"#REF!"}}]
[null,null,null,null,null,null,null,null,{"$f":"IF(ISBLANK(#REF!),\"\",$F$11*#REF!+$G$11)","v":{"$error":"#REF!"}},{"$f":"IF(ISBLANK(I15237),\"\",$F$12*#REF!+$G$12)","v":{"$error":"#REF!"}}]
[null,null,null,null,null,null,null,null,{"$f":"IF(ISBLANK(#REF!),\"\",$F$11*#REF!+$G$11)","v":{"$error":"#REF!"}},{"$f":"IF(ISBLANK(I15262),\"\",$F$12*#REF!+$G$12)","v":{"$error":"#REF!"}}]
[null,null,null,null,null,null,null,null,{"$f":"IF(ISBLANK(#REF!),\"\",$F$11*#REF!+$G$11)","v":{"$error":"#REF!"}},{"$f":"IF(ISBLANK(I15281),\"\",$F$12*#REF!+$G$12)","v":{"$error":"#REF!"}}]
[null,null,null,null,null,null,null,null,{"$f":"IF(ISBLANK(#REF!),\"\",$F$11*#REF!+$G$11)","v":{"$error":"#REF!"}},{"$f":"IF(ISBLANK(I15303),\"\",$F$12*#REF!+$G$12)","v":{"$error":"#REF!"}}]
[null,null,null,null,null,null,null,null,{"$f":"IF(ISBLANK(#REF!),\"\",$F$11*#REF!+$G$11)","v":{"$error":"#REF!"}},{"$f":"IF(ISBLANK(I15328),\"\",$F$12*#REF!+$G$12)","v":{"$error":"#REF!"}}]
[null,null,null,null,null,null,null,null,{"$f":"IF(ISBLANK(#REF!),\"\",$F$11*#REF!+$G$11)","v":{"$error":"#REF!"}},{"$f":"IF(ISBLANK(I15361),\"\",$F$12*#REF!+$G$12)","v":{"$error":"#REF!"}}]
[null,null,null,null,null,null,null,null,{"$f":"IF(ISBLANK(#REF!),\"\",$F$11*#REF!+$G$11)","v":{"$error":"#REF!"}},{"$f":"IF(ISBLANK(I15396),\"\",$F$12*#REF!+$G$12)","v":{"$error":"#REF!"}}]
[null,null,null,null,null,null,null,null,{"$f":"IF(ISBLANK(#REF!),\"\",$F$11*#REF!+$G$11)","v":{"$error":"#REF!"}},{"$f":"IF(ISBLANK(I15418),\"\",$F$12*#REF!+$G$12)","v":{"$error":"#REF!"}}]
[null,null,null,null,null,null,null,null,{"$f":"IF(ISBLANK(#REF!),\"\",$F$11*#REF!+$G$11)","v":{"$error":"#REF!"}},{"$f":"IF(ISBLANK(I15427),\"\",$F$12*#REF!+$G$12)","v":{"$error":"#REF!"}}]
[null,null,null,null,null,null,null,null,{"$f":"IF(ISBLANK(#REF!),\"\",$F$11*#REF!+$G$11)","v":{"$error":"#REF!"}},{"$f":"IF(ISBLANK(I15452),\"\",$F$12*#REF!+$G$12)","v":{"$error":"#REF!"}}]
[null,null,null,null,null,null,null,null,{"$f":"IF(ISBLANK(#REF!),\"\",$F$11*#REF!+$G$11)","v":{"$error":"#REF!"}},{"$f":"IF(ISBLANK(I15476),\"\",$F$12*#REF!+$G$12)","v":{"$error":"#REF!"}}]
[null,null,null,null,null,null,null,null,{"$f":"IF(ISBLANK(#REF!),\"\",$F$11*#REF!+$G$11)","v":{"$error":"#REF!"}},{"$f":"IF(ISBLANK(I15493),\"\",$F$12*#REF!+$G$12)","v":{"$error":"#REF!"}}]
[null,null,null,null,null,null,null,null,{"$f":"IF(ISBLANK(#REF!),\"\",$F$11*#REF!+$G$11)","v":{"$error":"#REF!"}},{"$f":"IF(ISBLANK(I15518),\"\",$F$12*#REF!+$G$12)","v":{"$error":"#REF!"}}]
[null,null,null,null,null,null,null,null,{"$f":"IF(ISBLANK(#REF!),\"\",$F$11*#REF!+$G$11)","v":{"$error":"#REF!"}},{"$f":"IF(ISBLANK(I15551),\"\",$F$12*#REF!+$G$12)","v":{"$error":"#REF!"}}]
[null,null,null,null,null,null,null,null,{"$f":"IF(ISBLANK(#REF!),\"\",$F$11*#REF!+$G$11)","v":{"$error":"#REF!"}},{"$f":"IF(ISBLANK(I15576),\"\",$F$12*#REF!+$G$12)","v":{"$error":"#REF!"}}]
[null,null,null,null,null,null,null,null,{"$f":"IF(ISBLANK(#REF!),\"\",$F$11*#REF!+$G$11)","v":{"$error":"#REF!"}},{"$f":"IF(ISBLANK(I15591),\"\",$F$12*#REF!+$G$12)","v":{"$error":"#REF!"}}]
[null,null,null,null,null,null,null,null,{"$f":"IF(ISBLANK(#REF!),\"\",$F$11*#REF!+$G$11)","v":{"$error":"#REF!"}},{"$f":"IF(ISBLANK(I15617),\"\",$F$12*#REF!+$G$12)","v":{"$error":"#REF!"}}]
[null,null,null,null,null,null,null,null,{"$f":"IF(ISBLANK(#REF!),\"\",$F$11*#REF!+$G$11)","v":{"$error":"#REF!"}},{"$f":"IF(ISBLANK(I15642),\"\",$F$12*#REF!+$G$12)","v":{"$error":"#REF!"}}]
[null,null,null,null,null,null,null,null,{"$f":"IF(ISBLANK(#REF!),\"\",$F$11*#REF!+$G$11)","v":{"$error":"#REF!"}},{"$f":"IF(ISBLANK(I15675),\"\",$F$12*#REF!+$G$12)","v":{"$error":"#REF!"}}]
[null,null,null,null,null,null,null,null,{"$f":"IF(ISBLANK(#REF!),\"\",$F$11*#REF!+$G$11)","v":{"$error":"#REF!"}},{"$f":"IF(ISBLANK(I15683),\"\",$F$12*#REF!+$G$12)","v":{"$error":"#REF!"}}]
[null,null,null,null,null,null,null,null,{"$f":"IF(ISBLANK(#REF!),\"\",$F$11*#REF!+$G$11)","v":{"$error":"#REF!"}},{"$f":"IF(ISBLANK(I15708),\"\",$F$12*#REF!+$G$12)","v":{"$error":"#REF!"}}]
[null,null,null,null,null,null,null,null,{"$f":"IF(ISBLANK(#REF!),\"\",$F$11*#REF!+$G$11)","v":{"$error":"#REF!"}},{"$f":"IF(ISBLANK(I15741),\"\",$F$12*#REF!+$G$12)","v":{"$error":"#REF!"}}]
[null,null,null,null,null,null,null,null,{"$f":"IF(ISBLANK(#REF!),\"\",$F$11*#REF!+$G$11)","v":{"$error":"#REF!"}},{"$f":"IF(ISBLANK(I15766),\"\",$F$12*#REF!+$G$12)","v":{"$error":"#REF!"}}]
[null,null,null,null,null,null,null,null,{"$f":"IF(ISBLANK(#REF!),\"\",$F$11*#REF!+$G$11)","v":{"$error":"#REF!"}},{"$f":"IF(ISBLANK(I15786),\"\",$F$12*#REF!+$G$12)","v":{"$error":"#REF!"}}]
[null,null,null,null,null,null,null,null,{"$f":"IF(ISBLANK(#REF!),\"\",$F$11*#REF!+$G$11)","v":{"$error":"#REF!"}},{"$f":"IF(ISBLANK(I15807),\"\",$F$12*#REF!+$G$12)","v":{"$error":"#REF!"}}]
[null,null,null,null,null,null,null,null,{"$f":"IF(ISBLANK(#REF!),\"\",$F$11*#REF!+$G$11)","v":{"$error":"#REF!"}},{"$f":"IF(ISBLANK(I15832),\"\",$F$12*#REF!+$G$12)","v":{"$error":"#REF!"}}]
[null,null,null,null,null,null,null,null,{"$f":"IF(ISBLANK(#REF!),\"\",$F$11*#REF!+$G$11)","v":{"$error":"#REF!"}},{"$f":"IF(ISBLANK(I15865),\"\",$F$12*#REF!+$G$12)","v":{"$error":"#REF!"}}]
[null,null,null,null,null,null,null,null,{"$f":"IF(ISBLANK(#REF!),\"\",$F$11*#REF!+$G$11)","v":{"$error":"#REF!"}},{"$f":"IF(ISBLANK(I15878),\"\",$F$12*#REF!+$G$12)","v":{"$error":"#REF!"}}]
[null,null,null,null,null,null,null,null,{"$f":"IF(ISBLANK(#REF!),\"\",$F$11*#REF!+$G$11)","v":{"$error":"#REF!"}},{"$f":"IF(ISBLANK(I15898),\"\",$F$12*#REF!+$G$12)","v":{"$error":"#REF!"}}]
[null,null,null,null,null,null,null,null,{"$f":"IF(ISBLANK(#REF!),\"\",$F$11*#REF!+$G$11)","v":{"$error":"#REF!"}},{"$f":"IF(ISBLANK(I15931),\"\",$F$12*#REF!+$G$12)","v":{"$error":"#REF!"}}]
[null,null,null,null,null,null,null,null,{"$f":"IF(ISBLANK(#REF!),\"\",$F$11*#REF!+$G$11)","v":{"$error":"#REF!"}},{"$f":"IF(ISBLANK(I15956),\"\",$F$12*#REF!+$G$12)","v":{"$error":"#REF!"}}]
[null,null,null,null,null,null,null,null,{"$f":"IF(ISBLANK(#REF!),\"\",$F$11*#REF!+$G$11)","v":{"$error":"#REF!"}},{"$f":"IF(ISBLANK(I15981),\"\",$F$12*#REF!+$G$12)","v":{"$error":"#REF!"}}]
[null,null,null,null,null,null,null,null,{"$f":"IF(ISBLANK(#REF!),\"\",$F$11*#REF!+$G$11)","v":{"$error":"#REF!"}},{"$f":"IF(ISBLANK(I15997),\"\",$F$12*#REF!+$G$12)","v":{"$error":"#REF!"}}]
[null,null,null,null,null,null,null,null,{"$f":"IF(ISBLANK(#REF!),\"\",$F$11*#REF!+$G$11)","v":{"$error":"#REF!"}},{"$f":"IF(ISBLANK(I16022),\"\",$F$12*#REF!+$G$12)","v":{"$error":"#REF!"}}]
[null,null,null,null,null,null,null,null,{"$f":"IF(ISBLANK(#REF!),\"\",$F$11*#REF!+$G$11)","v":{"$error":"#REF!"}},{"$f":"IF(ISBLANK(I16055),\"\",$F$12*#REF!+$G$12)","v":{"$error":"#REF!"}}]
[null,null,null,null,null,null,null,null,{"$f":"IF(ISBLANK(#REF!),\"\",$F$11*#REF!+$G$11)","v":{"$error":"#REF!"}},{"$f":"IF(ISBLANK(I16073),\"\",$F$12*#REF!+$G$12)","v":{"$error":"#REF!"}}]
[null,null,null,null,null,null,null,null,{"$f":"IF(ISBLANK(#REF!),\"\",$F$11*#REF!+$G$11)","v":{"$error":"#REF!"}},{"$f":"IF(ISBLANK(I16088),\"\",$F$12*#REF!+$G$12)","v":{"$error":"#REF!"}}]
[null,null,null,null,null,null,null,null,{"$f":"IF(ISBLANK(#REF!),\"\",$F$11*#REF!+$G$11)","v":{"$error":"#REF!"}},{"$f":"IF(ISBLANK(I16121),\"\",$F$12*#REF!+$G$12)","v":{"$error":"#REF!"}}]
[null,null,null,null,null,null,null,null,{"$f":"IF(ISBLANK(#REF!),\"\",$F$11*#REF!+$G$11)","v":{"$error":"#REF!"}},{"$f":"IF(ISBLANK(I16146),\"\",$F$12*#REF!+$G$12)","v":{"$error":"#REF!"}}]
[null,null,null,null,null,null,null,null,{"$f":"IF(ISBLANK(#REF!),\"\",$F$11*#REF!+$G$11)","v":{"$error":"#REF!"}},{"$f":"IF(ISBLANK(I16176),\"\",$F$12*#REF!+$G$12)","v":{"$error":"#REF!"}}]
[null,null,null,null,null,null,null,null,{"$f":"IF(ISBLANK(#REF!),\"\",$F$11*#REF!+$G$11)","v":{"$error":"#REF!"}},{"$f":"IF(ISBLANK(I16203),\"\",$F$12*#REF!+$G$12)","v":{"$error":"#REF!"}}]
[null,null,null,null,null,null,null,null,{"$f":"IF(ISBLANK(#REF!),\"\",$F$11*#REF!+$G$11)","v":{"$error":"#REF!"}},{"$f":"IF(ISBLANK(I16212),\"\",$F$12*#REF!+$G$12)","v":{"$error":"#REF!"}}]
[null,null,null,null,null,null,null,null,{"$f":"IF(ISBLANK(#REF!),\"\",$F$11*#REF!+$G$11)","v":{"$error":"#REF!"}},{"$f":"IF(ISBLANK(I16245),\"\",$F$12*#REF!+$G$12)","v":{"$error":"#REF!"}}]
[null,null,null,null,null,null,null,null,{"$f":"IF(ISBLANK(#REF!),\"\",$F$11*#REF!+$G$11)","v":{"$error":"#REF!"}},{"$f":"IF(ISBLANK(I16268),\"\",$F$12*#REF!+$G$12)","v":{"$error":"#REF!"}}]
[null,null,null,null,null,null,null,null,{"$f":"IF(ISBLANK(#REF!),\"\",$F$11*#REF!+$G$11)","v":{"$error":"#REF!"}},{"$f":"IF(ISBLANK(I16278),\"\",$F$12*#REF!+$G$12)","v":{"$error":"#REF!"}}]
[null,null,null,null,null,null,null,null,{"$f":"IF(ISBLANK(#REF!),\"\",$F$11*#REF!+$G$11)","v":{"$error":"#REF!"}},{"$f":"IF(ISBLANK(I16311),\"\",$F$12*#REF!+$G$12)","v":{"$error":"#REF!"}}]
[null,null,null,null,null,null,null,null,{"$f":"IF(ISBLANK(#REF!),\"\",$F$11*#REF!+$G$11)","v":{"$error":"#REF!"}},{"$f":"IF(ISBLANK(I16336),\"\",$F$12*#REF!+$G$12)","v":{"$error":"#REF!"}}]
[null,null,null,null,null,null,null,null,{"$f":"IF(ISBLANK(#REF!),\"\",$F$11*#REF!+$G$11)","v":{"$error":"#REF!"}},{"$f":"IF(ISBLANK(I16348),\"\",$F$12*#REF!+$G$12)","v":{"$error":"#REF!"}}]
[null,null,null,null,null,null,null,null,{"$f":"IF(ISBLANK(#REF!),\"\",$F$11*#REF!+$G$11)","v":{"$error":"#REF!"}},{"$f":"IF(ISBLANK(I16393),\"\",$F$12*#REF!+$G$12)","v":{"$error":"#REF!"}}]
[null,null,null,null,null,null,null,null,{"$f":"IF(ISBLANK(#REF!),\"\",$F$11*#REF!+$G$11)","v":{"$error":"#REF!"}},{"$f":"IF(ISBLANK(I16402),\"\",$F$12*#REF!+$G$12)","v":{"$error":"#REF!"}}]
[null,null,null,null,null,null,null,null,{"$f":"IF(ISBLANK(#REF!),\"\",$F$11*#REF!+$G$11)","v":{"$error":"#REF!"}},{"$f":"IF(ISBLANK(I16435),\"\",$F$12*#REF!+$G$12)","v":{"$error":"#REF!"}}]
[null,null,null,null,null,null,null,null,{"$f":"IF(ISBLANK(#REF!),\"\",$F$11*#REF!+$G$11)","v":{"$error":"#REF!"}},{"$f":"IF(ISBLANK(I16463),\"\",$F$12*#REF!+$G$12)","v":{"$error":"#REF!"}}]
[null,null,null,null,null,null,null,null,{"$f":"IF(ISBLANK(#REF!),\"\",$F$11*#REF!+$G$11)","v":{"$error":"#REF!"}},{"$f":"IF(ISBLANK(I16468),\"\",$F$12*#REF!+$G$12)","v":{"$error":"#REF!"}}]
[null,null,null,null,null,null,null,null,{"$f":"IF(ISBLANK(#REF!),\"\",$F$11*#REF!+$G$11)","v":{"$error":"#REF!"}},{"$f":"IF(ISBLANK(I16501),\"\",$F$12*#REF!+$G$12)","v":{"$error":"#REF!"}}]
[null,null,null,null,null,null,null,null,{"$f":"IF(ISBLANK(#REF!),\"\",$F$11*#REF!+$G$11)","v":{"$error":"#REF!"}},{"$f":"IF(ISBLANK(I16526),\"\",$F$12*#REF!+$G$12)","v":{"$error":"#REF!"}}]
[null,null,null,null,null,null,null,null,{"$f":"IF(ISBLANK(#REF!),\"\",$F$11*#REF!+$G$11)","v":{"$error":"#REF!"}},{"$f":"IF(ISBLANK(I16543),\"\",$F$12*#REF!+$G$12)","v":{"$error":"#REF!"}}]
[null,null,null,null,null,null,null,null,{"$f":"IF(ISBLANK(#REF!),\"\",$F$11*#REF!+$G$11)","v":{"$error":"#REF!"}},{"$f":"IF(ISBLANK(I16583),\"\",$F$12*#REF!+$G$12)","v":{"$error":"#REF!"}}]
[null,null,null,null,null,null,null,null,{"$f":"IF(ISBLANK(#REF!),\"\",$F$11*#REF!+$G$11)","v":{"$error":"#REF!"}},{"$f":"IF(ISBLANK(I16592),\"\",$F$12*#REF!+$G$12)","v":{"$error":"#REF!"}}]
[null,null,null,null,null,null,null,null,{"$f":"IF(ISBLANK(#REF!),\"\",$F$11*#REF!+$G$11)","v":{"$error":"#REF!"}},{"$f":"IF(ISBLANK(I16625),\"\",$F$12*#REF!+$G$12)","v":{"$error":"#REF!"}}]
[null,null,null,null,null,null,null,null,{"$f":"IF(ISBLANK(#REF!),\"\",$F$11*#REF!+$G$11)","v":{"$error":"#REF!"}},{"$f":"IF(ISBLANK(I16635),\"\",$F$12*#REF!+$G$12)","v":{"$error":"#REF!"}}]
[null,null,null,null,null,null,null,null,{"$f":"IF(ISBLANK(#REF!),\"\",$F$11*#REF!+$G$11)","v":{"$error":"#REF!"}},{"$f":"IF(ISBLANK(I16658),\"\",$F$12*#REF!+$G$12)","v":{"$error":"#REF!"}}]
[null,null,null,null,null,null,null,null,{"$f":"IF(ISBLANK(#REF!),\"\",$F$11*#REF!+$G$11)","v":{"$error":"#REF!"}},{"$f":"IF(ISBLANK(I16683),\"\",$F$12*#REF!+$G$12)","v":{"$error":"#REF!"}}]
[null,null,null,null,null,null,null,null,{"$f":"IF(ISBLANK(#REF!),\"\",$F$11*#REF!+$G$11)","v":{"$error":"#REF!"}},{"$f":"IF(ISBLANK(I16716),\"\",$F$12*#REF!+$G$12)","v":{"$error":"#REF!"}}]
[null,null,null,null,null,null,null,null,{"$f":"IF(ISBLANK(#REF!),\"\",$F$11*#REF!+$G$11)","v":{"$error":"#REF!"}},{"$f":"IF(ISBLANK(I16738),\"\",$F$12*#REF!+$G$12)","v":{"$error":"#REF!"}}]
[null,null,null,null,null,null,null,null,{"$f":"IF(ISBLANK(#REF!),\"\",$F$11*#REF!+$G$11)","v":{"$error":"#REF!"}},{"$f":"IF(ISBLANK(I16773),\"\",$F$12*#REF!+$G$12)","v":{"$error":"#REF!"}}]
[null,null,null,null,null,null,null,null,{"$f":"IF(ISBLANK(#REF!),\"\",$F$11*#REF!+$G$11)","v":{"$error":"#REF!"}},{"$f":"IF(ISBLANK(I16782),\"\",$F$12*#REF!+$G$12)","v":{"$error":"#REF!"}}]
[null,null,null,null,null,null,null,null,{"$f":"IF(ISBLANK(#REF!),\"\",$F$11*#REF!+$G$11)","v":{"$error":"#REF!"}},{"$f":"IF(ISBLANK(I16815),\"\",$F$12*#REF!+$G$12)","v":{"$error":"#REF!"}}]
[null,null,null,null,null,null,null,null,{"$f":"IF(ISBLANK(#REF!),\"\",$F$11*#REF!+$G$11)","v":{"$error":"#REF!"}},{"$f":"IF(ISBLANK(I16830),\"\",$F$12*#REF!+$G$12)","v":{"$error":"#REF!"}}]
[null,null,null,null,null,null,null,null,{"$f":"IF(ISBLANK(#REF!),\"\",$F$11*#REF!+$G$11)","v":{"$error":"#REF!"}},{"$f":"IF(ISBLANK(I16848),\"\",$F$12*#REF!+$G$12)","v":{"$error":"#REF!"}}]
[null,null,null,null,null,null,null,null,{"$f":"IF(ISBLANK(#REF!),\"\",$F$11*#REF!+$G$11)","v":{"$error":"#REF!"}},{"$f":"IF(ISBLANK(I16873),\"\",$F$12*#REF!+$G$12)","v":{"$error":"#REF!"}}]
[null,null,null,null,null,null,null,null,{"$f":"IF(ISBLANK(#REF!),\"\",$F$11*#REF!+$G$11)","v":{"$error":"#REF!"}},{"$f":"IF(ISBLANK(I16906),\"\",$F$12*#REF!+$G$12)","v":{"$error":"#REF!"}}]
[null,null,null,null,null,null,null,null,{"$f":"IF(ISBLANK(#REF!),\"\",$F$11*#REF!+$G$11)","v":{"$error":"#REF!"}},{"$f":"IF(ISBLANK(I16933),\"\",$F$12*#REF!+$G$12)","v":{"$error":"#REF!"}}]
[null,null,null,null,null,null,null,null,{"$f":"IF(ISBLANK(#REF!),\"\",$F$11*#REF!+$G$11)","v":{"$error":"#REF!"}},{"$f":"IF(ISBLANK(I16963),\"\",$F$12*#REF!+$G$12)","v":{"$error":"#REF!"}}]
[null,null,null,null,null,null,null,null,{"$f":"IF(ISBLANK(#REF!),\"\",$F$11*#REF!+$G$11)","v":{"$error":"#REF!"}},{"$f":"IF(ISBLANK(I16972),\"\",$F$12*#REF!+$G$12)","v":{"$error":"#REF!"}}]
[null,null,null,null,null,null,null,null,{"$f":"IF(ISBLANK(#REF!),\"\",$F$11*#REF!+$G$11)","v":{"$error":"#REF!"}},{"$f":"IF(ISBLANK(I16997),\"\",$F$12*#REF!+$G$12)","v":{"$error":"#REF!"}}]
[null,null,null,null,null,null,null,null,{"$f":"IF(ISBLANK(#REF!),\"\",$F$11*#REF!+$G$11)","v":{"$error":"#REF!"}},{"$f":"IF(ISBLANK(I17025),\"\",$F$12*#REF!+$G$12)","v":{"$error":"#REF!"}}]
[null,null,null,null,null,null,null,null,{"$f":"IF(ISBLANK(#REF!),\"\",$F$11*#REF!+$G$11)","v":{"$error":"#REF!"}},{"$f":"IF(ISBLANK(I17038),\"\",$F$12*#REF!+$G$12)","v":{"$error":"#REF!"}}]
[null,null,null,null,null,null,null,null,{"$f":"IF(ISBLANK(#REF!),\"\",$F$11*#REF!+$G$11)","v":{"$error":"#REF!"}},{"$f":"IF(ISBLANK(I17063),\"\",$F$12*#REF!+$G$12)","v":{"$error":"#REF!"}}]
[null,null,null,null,null,null,null,null,{"$f":"IF(ISBLANK(#REF!),\"\",$F$11*#REF!+$G$11)","v":{"$error":"#REF!"}},{"$f":"IF(ISBLANK(I17096),\"\",$F$12*#REF!+$G$12)","v":{"$error":"#REF!"}}]
[null,null,null,null,null,null,null,null,{"$f":"IF(ISBLANK(#REF!),\"\",$F$11*#REF!+$G$11)","v":{"$error":"#REF!"}},{"$f":"IF(ISBLANK(I17128),\"\",$F$12*#REF!+$G$12)","v":{"$error":"#REF!"}}]
[null,null,null,null,null,null,null,null,{"$f":"IF(ISBLANK(#REF!),\"\",$F$11*#REF!+$G$11)","v":{"$error":"#REF!"}},{"$f":"IF(ISBLANK(I17153),\"\",$F$12*#REF!+$G$12)","v":{"$error":"#REF!"}}]
[null,null,null,null,null,null,null,null,{"$f":"IF(ISBLANK(#REF!),\"\",$F$11*#REF!+$G$11)","v":{"$error":"#REF!"}},{"$f":"IF(ISBLANK(I17162),\"\",$F$12*#REF!+$G$12)","v":{"$error":"#REF!"}}]
[null,null,null,null,null,null,null,null,{"$f":"IF(ISBLANK(#REF!),\"\",$F$11*#REF!+$G$11)","v":{"$error":"#REF!"}},{"$f":"IF(ISBLANK(I17187),\"\",$F$12*#REF!+$G$12)","v":{"$error":"#REF!"}}]
[null,null,null,null,null,null,null,null,{"$f":"IF(ISBLANK(#REF!),\"\",$F$11*#REF!+$G$11)","v":{"$error":"#REF!"}},{"$f":"IF(ISBLANK(I17220),\"\",$F$12*#REF!+$G$12)","v":{"$error":"#REF!"}}]
[null,null,null,null,null,null,null,null,{"$f":"IF(ISBLANK(#REF!),\"\",$F$11*#REF!+$G$11)","v":{"$error":"#REF!"}},{"$f":"IF(ISBLANK(I17228),\"\",$F$12*#REF!+$G$12)","v":{"$error":"#REF!"}}]
[null,null,null,null,null,null,null,null,{"$f":"IF(ISBLANK(#REF!),\"\",$F$11*#REF!+$G$11)","v":{"$error":"#REF!"}},{"$f":"IF(ISBLANK(I17253),\"\",$F$12*#REF!+$G$12)","v":{"$error":"#REF!"}}]
[null,null,null,null,null,null,null,null,{"$f":"IF(ISBLANK(#REF!),\"\",$F$11*#REF!+$G$11)","v":{"$error":"#REF!"}},{"$f":"IF(ISBLANK(I17286),\"\",$F$12*#REF!+$G$12)","v":{"$error":"#REF!"}}]
[null,null,null,null,null,null,null,null,{"$f":"IF(ISBLANK(#REF!),\"\",$F$11*#REF!+$G$11)","v":{"$error":"#REF!"}},{"$f":"IF(ISBLANK(I17319),\"\",$F$12*#REF!+$G$12)","v":{"$error":"#REF!"}}]
[null,null,null,null,null,null,null,null,{"$f":"IF(ISBLANK(#REF!),\"\",$F$11*#REF!+$G$11)","v":{"$error":"#REF!"}},{"$f":"IF(ISBLANK(I17335),\"\",$F$12*#REF!+$G$12)","v":{"$error":"#REF!"}}]
[null,null,null,null,null,null,null,null,{"$f":"IF(ISBLANK(#REF!),\"\",$F$11*#REF!+$G$11)","v":{"$error":"#REF!"}},{"$f":"IF(ISBLANK(I17352),\"\",$F$12*#REF!+$G$12)","v":{"$error":"#REF!"}}]
[null,null,null,null,null,null,null,null,{"$f":"IF(ISBLANK(#REF!),\"\",$F$11*#REF!+$G$11)","v":{"$error":"#REF!"}},{"$f":"IF(ISBLANK(I17377),\"\",$F$12*#REF!+$G$12)","v":{"$error":"#REF!"}}]
[null,null,null,null,null,null,null,null,{"$f":"IF(ISBLANK(#REF!),\"\",$F$11*#REF!+$G$11)","v":{"$error":"#REF!"}},{"$f":"IF(ISBLANK(I17410),\"\",$F$12*#REF!+$G$12)","v":{"$error":"#REF!"}}]
[null,null,null,null,null,null,null,null,{"$f":"IF(ISBLANK(#REF!),\"\",$F$11*#REF!+$G$11)","v":{"$error":"#REF!"}},{"$f":"IF(ISBLANK(I17438),\"\",$F$12*#REF!+$G$12)","v":{"$error":"#REF!"}}]
[null,null,null,null,null,null,null,null,{"$f":"IF(ISBLANK(#REF!),\"\",$F$11*#REF!+$G$11)","v":{"$error":"#REF!"}},{"$f":"IF(ISBLANK(I17443),\"\",$F$12*#REF!+$G$12)","v":{"$error":"#REF!"}}]
[null,null,null,null,null,null,null,null,{"$f":"IF(ISBLANK(#REF!),\"\",$F$11*#REF!+$G$11)","v":{"$error":"#REF!"}},{"$f":"IF(ISBLANK(I17476),\"\",$F$12*#REF!+$G$12)","v":{"$error":"#REF!"}}]
[null,null,null,null,null,null,null,null,{"$f":"IF(ISBLANK(#REF!),\"\",$F$11*#REF!+$G$11)","v":{"$error":"#REF!"}},{"$f":"IF(ISBLANK(I17501),\"\",$F$12*#REF!+$G$12)","v":{"$error":"#REF!"}}]
[null,null,null,null,null,null,null,null,{"$f":"IF(ISBLANK(#REF!),\"\",$F$11*#REF!+$G$11)","v":{"$error":"#REF!"}},{"$f":"IF(ISBLANK(I17530),\"\",$F$12*#REF!+$G$12)","v":{"$error":"#REF!"}}]
[null,null,null,null,null,null,null,null,{"$f":"IF(ISBLANK(#REF!),\"\",$F$11*#REF!+$G$11)","v":{"$error":"#REF!"}},{"$f":"IF(ISBLANK(I17542),\"\",$F$12*#REF!+$G$12)","v":{"$error":"#REF!"}}]
[null,null,null,null,null,null,null,null,{"$f":"IF(ISBLANK(#REF!),\"\",$F$11*#REF!+$G$11)","v":{"$error":"#REF!"}},{"$f":"IF(ISBLANK(I17567),\"\",$F$12*#REF!+$G$12)","v":{"$error":"#REF!"}}]
[null,null,null,null,null,null,null,null,{"$f":"IF(ISBLANK(#REF!),\"\",$F$11*#REF!+$G$11)","v":{"$error":"#REF!"}},{"$f":"IF(ISBLANK(I17600),\"\",$F$12*#REF!+$G$12)","v":{"$error":"#REF!"}}]
[null,null,null,null,null,null,null,null,{"$f":"IF(ISBLANK(#REF!),\"\",$F$11*#REF!+$G$11)","v":{"$error":"#REF!"}},{"$f":"IF(ISBLANK(I17610),\"\",$F$12*#REF!+$G$12)","v":{"$error":"#REF!"}}]
[null,null,null,null,null,null,null,null,{"$f":"IF(ISBLANK(#REF!),\"\",$F$11*#REF!+$G$11)","v":{"$error":"#REF!"}},{"$f":"IF(ISBLANK(I17633),\"\",$F$12*#REF!+$G$12)","v":{"$error":"#REF!"}}]
[null,null,null,null,null,null,null,null,{"$f":"IF(ISBLANK(#REF!),\"\",$F$11*#REF!+$G$11)","v":{"$error":"#REF!"}},{"$f":"IF(ISBLANK(I17666),\"\",$F$12*#REF!+$G$12)","v":{"$error":"#REF!"}}]
[null,null,null,null,null,null,null,null,{"$f":"IF(ISBLANK(#REF!),\"\",$F$11*#REF!+$G$11)","v":{"$error":"#REF!"}},{"$f":"IF(ISBLANK(I17691),\"\",$F$12*#REF!+$G$12)","v":{"$error":"#REF!"}}]
[null,null,null,null,null,null,null,null,{"$f":"IF(ISBLANK(#REF!),\"\",$F$11*#REF!+$G$11)","v":{"$error":"#REF!"}},{"$f":"IF(ISBLANK(I17702),\"\",$F$12*#REF!+$G$12)","v":{"$error":"#REF!"}}]
[null,null,null,null,null,null,null,null,{"$f":"IF(ISBLANK(#REF!),\"\",$F$11*#REF!+$G$11)","v":{"$error":"#REF!"}},{"$f":"IF(ISBLANK(I17732),\"\",$F$12*#REF!+$G$12)","v":{"$error":"#REF!"}}]
[null,null,null,null,null,null,null,null,{"$f":"IF(ISBLANK(#REF!),\"\",$F$11*#REF!+$G$11)","v":{"$error":"#REF!"}},{"$f":"IF(ISBLANK(I17757),\"\",$F$12*#REF!+$G$12)","v":{"$error":"#REF!"}}]
[null,null,null,null,null,null,null,null,{"$f":"IF(ISBLANK(#REF!),\"\",$F$11*#REF!+$G$11)","v":{"$error":"#REF!"}},{"$f":"IF(ISBLANK(I17790),\"\",$F$12*#REF!+$G$12)","v":{"$error":"#REF!"}}]
[null,null,null,null,null,null,null,null,{"$f":"IF(ISBLANK(#REF!),\"\",$F$11*#REF!+$G$11)","v":{"$error":"#REF!"}},{"$f":"IF(ISBLANK(I17817),\"\",$F$12*#REF!+$G$12)","v":{"$error":"#REF!"}}]
[null,null,null,null,null,null,null,null,{"$f":"IF(ISBLANK(#REF!),\"\",$F$11*#REF!+$G$11)","v":{"$error":"#REF!"}},{"$f":"IF(ISBLANK(I17823),\"\",$F$12*#REF!+$G$12)","v":{"$error":"#REF!"}}]
[null,null,null,null,null,null,null,null,{"$f":"IF(ISBLANK(#REF!),\"\",$F$11*#REF!+$G$11)","v":{"$error":"#REF!"}},{"$f":"IF(ISBLANK(I17856),\"\",$F$12*#REF!+$G$12)","v":{"$error":"#REF!"}}]
[null,null,null,null,null,null,null,null,{"$f":"IF(ISBLANK(#REF!),\"\",$F$11*#REF!+$G$11)","v":{"$error":"#REF!"}},{"$f":"IF(ISBLANK(I17881),\"\",$F$12*#REF!+$G$12)","v":{"$error":"#REF!"}}]
[null,null,null,null,null,null,null,null,{"$f":"IF(ISBLANK(#REF!),\"\",$F$11*#REF!+$G$11)","v":{"$error":"#REF!"}},{"$f":"IF(ISBLANK(I17897),\"\",$F$12*#REF!+$G$12)","v":{"$error":"#REF!"}}]
[null,null,null,null,null,null,null,null,{"$f":"IF(ISBLANK(#REF!),\"\",$F$11*#REF!+$G$11)","v":{"$error":"#REF!"}},{"$f":"IF(ISBLANK(I17922),\"\",$F$12*#REF!+$G$12)","v":{"$error":"#REF!"}}]
[null,null,null,null,null,null,null,null,{"$f":"IF(ISBLANK(#REF!),\"\",$F$11*#REF!+$G$11)","v":{"$error":"#REF!"}},{"$f":"IF(ISBLANK(I17947),\"\",$F$12*#REF!+$G$12)","v":{"$error":"#REF!"}}]
[null,null,null,null,null,null,null,null,{"$f":"IF(ISBLANK(#REF!),\"\",$F$11*#REF!+$G$11)","v":{"$error":"#REF!"}},{"$f":"IF(ISBLANK(I17980),\"\",$F$12*#REF!+$G$12)","v":{"$error":"#REF!"}}]
[null,null,null,null,null,null,null,null,{"$f":"IF(ISBLANK(#REF!),\"\",$F$11*#REF!+$G$11)","v":{"$error":"#REF!"}},{"$f":"IF(ISBLANK(I17989),\"\",$F$12*#REF!+$G$12)","v":{"$error":"#REF!"}}]
[null,null,null,null,null,null,null,null,{"$f":"IF(ISBLANK(#REF!),\"\",$F$11*#REF!+$G$11)","v":{"$error":"#REF!"}},{"$f":"IF(ISBLANK(I18013),\"\",$F$12*#REF!+$G$12)","v":{"$error":"#REF!"}}]
[null,null,null,null,null,null,null,null,{"$f":"IF(ISBLANK(#REF!),\"\",$F$11*#REF!+$G$11)","v":{"$error":"#REF!"}},{"$f":"IF(ISBLANK(I18046),\"\",$F$12*#REF!+$G$12)","v":{"$error":"#REF!"}}]
[null,null,null,null,null,null,null,null,{"$f":"IF(ISBLANK(#REF!),\"\",$F$11*#REF!+$G$11)","v":{"$error":"#REF!"}},{"$f":"IF(ISBLANK(I18071),\"\",$F$12*#REF!+$G$12)","v":{"$error":"#REF!"}}]
[null,null,null,null,null,null,null,null,{"$f":"IF(ISBLANK(#REF!),\"\",$F$11*#REF!+$G$11)","v":{"$error":"#REF!"}},{"$f":"IF(ISBLANK(I18092),\"\",$F$12*#REF!+$G$12)","v":{"$error":"#REF!"}}]
[null,null,null,null,null,null,null,null,{"$f":"IF(ISBLANK(#REF!),\"\",$F$11*#REF!+$G$11)","v":{"$error":"#REF!"}},{"$f":"IF(ISBLANK(I18112),\"\",$F$12*#REF!+$G$12)","v":{"$error":"#REF!"}}]
[null,null,null,null,null,null,null,null,{"$f":"IF(ISBLANK(#REF!),\"\",$F$11*#REF!+$G$11)","v":{"$error":"#REF!"}},{"$f":"IF(ISBLANK(I18137),\"\",$F$12*#REF!+$G$12)","v":{"$error":"#REF!"}}]
[null,null,null,null,null,null,null,null,{"$f":"IF(ISBLANK(#REF!),\"\",$F$11*#REF!+$G$11)","v":{"$error":"#REF!"}},{"$f":"IF(ISBLANK(I18170),\"\",$F$12*#REF!+$G$12)","v":{"$error":"#REF!"}}]
[null,null,null,null,null,null,null,null,{"$f":"IF(ISBLANK(#REF!),\"\",$F$11*#REF!+$G$11)","v":{"$error":"#REF!"}},{"$f":"IF(ISBLANK(I18184),\"\",$F$12*#REF!+$G$12)","v":{"$error":"#REF!"}}]
[null,null,null,null,null,null,null,null,{"$f":"IF(ISBLANK(#REF!),\"\",$F$11*#REF!+$G$11)","v":{"$error":"#REF!"}},{"$f":"IF(ISBLANK(I18203),\"\",$F$12*#REF!+$G$12)","v":{"$error":"#REF!"}}]
[null,null,null,null,null,null,null,null,{"$f":"IF(ISBLANK(#REF!),\"\",$F$11*#REF!+$G$11)","v":{"$error":"#REF!"}},{"$f":"IF(ISBLANK(I18236),\"\",$F$12*#REF!+$G$12)","v":{"$error":"#REF!"}}]
[null,null,null,null,null,null,null,null,{"$f":"IF(ISBLANK(#REF!),\"\",$F$11*#REF!+$G$11)","v":{"$error":"#REF!"}},{"$f":"IF(ISBLANK(I18261),\"\",$F$12*#REF!+$G$12)","v":{"$error":"#REF!"}}]
[null,null,null,null,null,null,null,null,{"$f":"IF(ISBLANK(#REF!),\"\",$F$11*#REF!+$G$11)","v":{"$error":"#REF!"}},{"$f":"IF(ISBLANK(I18287),\"\",$F$12*#REF!+$G$12)","v":{"$error":"#REF!"}}]
[null,null,null,null,null,null,null,null,{"$f":"IF(ISBLANK(#REF!),\"\",$F$11*#REF!+$G$11)","v":{"$error":"#REF!"}},{"$f":"IF(ISBLANK(I18318),\"\",$F$12*#REF!+$G$12)","v":{"$error":"#REF!"}}]
[null,null,null,null,null,null,null,null,{"$f":"IF(ISBLANK(#REF!),\"\",$F$11*#REF!+$G$11)","v":{"$error":"#REF!"}},{"$f":"IF(ISBLANK(I18327),\"\",$F$12*#REF!+$G$12)","v":{"$error":"#REF!"}}]
[null,null,null,null,null,null,null,null,{"$f":"IF(ISBLANK(#REF!),\"\",$F$11*#REF!+$G$11)","v":{"$error":"#REF!"}},{"$f":"IF(ISBLANK(I18360),\"\",$F$12*#REF!+$G$12)","v":{"$error":"#REF!"}}]
[null,null,null,null,null,null,null,null,{"$f":"IF(ISBLANK(#REF!),\"\",$F$11*#REF!+$G$11)","v":{"$error":"#REF!"}},{"$f":"IF(ISBLANK(I18379),\"\",$F$12*#REF!+$G$12)","v":{"$error":"#REF!"}}]
[null,null,null,null,null,null,null,null,{"$f":"IF(ISBLANK(#REF!),\"\",$F$11*#REF!+$G$11)","v":{"$error":"#REF!"}},{"$f":"IF(ISBLANK(I18393),\"\",$F$12*#REF!+$G$12)","v":{"$error":"#REF!"}}]
[null,null,null,null,null,null,null,null,{"$f":"IF(ISBLANK(#REF!),\"\",$F$11*#REF!+$G$11)","v":{"$error":"#REF!"}},{"$f":"IF(ISBLANK(I18426),\"\",$F$12*#REF!+$G$12)","v":{"$error":"#REF!"}}]
[null,null,null,null,null,null,null,null,{"$f":"IF(ISBLANK(#REF!),\"\",$F$11*#REF!+$G$11)","v":{"$error":"#REF!"}},{"$f":"IF(ISBLANK(I18451),\"\",$F$12*#REF!+$G$12)","v":{"$error":"#REF!"}}]
[null,null,null,null,null,null,null,null,{"$f":"IF(ISBLANK(#REF!),\"\",$F$11*#REF!+$G$11)","v":{"$error":"#REF!"}},{"$f":"IF(ISBLANK(I18482),\"\",$F$12*#REF!+$G$12)","v":{"$error":"#REF!"}}]
[null,null,null,null,null,null,null,null,{"$f":"IF(ISBLANK(#REF!),\"\",$F$11*#REF!+$G$11)","v":{"$error":"#REF!"}},{"$f":"IF(ISBLANK(I18508),\"\",$F$12*#REF!+$G$12)","v":{"$error":"#REF!"}}]
[null,null,null,null,null,null,null,null,{"$f":"IF(ISBLANK(#REF!),\"\",$F$11*#REF!+$G$11)","v":{"$error":"#REF!"}},{"$f":"IF(ISBLANK(I18517),\"\",$F$12*#REF!+$G$12)","v":{"$error":"#REF!"}}]
[null,null,null,null,null,null,null,null,{"$f":"IF(ISBLANK(#REF!),\"\",$F$11*#REF!+$G$11)","v":{"$error":"#REF!"}},{"$f":"IF(ISBLANK(I18550),\"\",$F$12*#REF!+$G$12)","v":{"$error":"#REF!"}}]
[null,null,null,null,null,null,null,null,{"$f":"IF(ISBLANK(#REF!),\"\",$F$11*#REF!+$G$11)","v":{"$error":"#REF!"}},{"$f":"IF(ISBLANK(I18574),\"\",$F$12*#REF!+$G$12)","v":{"$error":"#REF!"}}]
[null,null,null,null,null,null,null,null,{"$f":"IF(ISBLANK(#REF!),\"\",$F$11*#REF!+$G$11)","v":{"$error":"#REF!"}},{"$f":"IF(ISBLANK(I18583),\"\",$F$12*#REF!+$G$12)","v":{"$error":"#REF!"}}]
[null,null,null,null,null,null,null,null,{"$f":"IF(ISBLANK(#REF!),\"\",$F$11*#REF!+$G$11)","v":{"$error":"#REF!"}},{"$f":"IF(ISBLANK(I18616),\"\",$F$12*#REF!+$G$12)","v":{"$error":"#REF!"}}]
[null,null,null,null,null,null,null,null,{"$f":"IF(ISBLANK(#REF!),\"\",$F$11*#REF!+$G$11)","v":{"$error":"#REF!"}},{"$f":"IF(ISBLANK(I18641),\"\",$F$12*#REF!+$G$12)","v":{"$error":"#REF!"}}]
[null,null,null,null,null,null,null,null,{"$f":"IF(ISBLANK(#REF!),\"\",$F$11*#REF!+$G$11)","v":{"$error":"#REF!"}},{"$f":"IF(ISBLANK(I18654),\"\",$F$12*#REF!+$G$12)","v":{"$error":"#REF!"}}]
[null,null,null,null,null,null,null,null,{"$f":"IF(ISBLANK(#REF!),\"\",$F$11*#REF!+$G$11)","v":{"$error":"#REF!"}},{"$f":"IF(ISBLANK(I18698),\"\",$F$12*#REF!+$G$12)","v":{"$error":"#REF!"}}]
[null,null,null,null,null,null,null,null,{"$f":"IF(ISBLANK(#REF!),\"\",$F$11*#REF!+$G$11)","v":{"$error":"#REF!"}},{"$f":"IF(ISBLANK(I18707),\"\",$F$12*#REF!+$G$12)","v":{"$error":"#REF!"}}]
[null,null,null,null,null,null,null,null,{"$f":"IF(ISBLANK(#REF!),\"\",$F$11*#REF!+$G$11)","v":{"$error":"#REF!"}},{"$f":"IF(ISBLANK(I18740),\"\",$F$12*#REF!+$G$12)","v":{"$error":"#REF!"}}]
[null,null,null,null,null,null,null,null,{"$f":"IF(ISBLANK(#REF!),\"\",$F$11*#REF!+$G$11)","v":{"$error":"#REF!"}},{"$f":"IF(ISBLANK(I18769),\"\",$F$12*#REF!+$G$12)","v":{"$error":"#REF!"}}]
[null,null,null,null,null,null,null,null,{"$f":"IF(ISBLANK(#REF!),\"\",$F$11*#REF!+$G$11)","v":{"$error":"#REF!"}},{"$f":"IF(ISBLANK(I18773),\"\",$F$12*#REF!+$G$12)","v":{"$error":"#REF!"}}]
[null,null,null,null,null,null,null,null,{"$f":"IF(ISBLANK(#REF!),\"\",$F$11*#REF!+$G$11)","v":{"$error":"#REF!"}},{"$f":"IF(ISBLANK(I18798),\"\",$F$12*#REF!+$G$12)","v":{"$error":"#REF!"}}]
[null,null,null,null,null,null,null,null,{"$f":"IF(ISBLANK(#REF!),\"\",$F$11*#REF!+$G$11)","v":{"$error":"#REF!"}},{"$f":"IF(ISBLANK(I18831),\"\",$F$12*#REF!+$G$12)","v":{"$error":"#REF!"}}]
[null,null,null,null,null,null,null,null,{"$f":"IF(ISBLANK(#REF!),\"\",$F$11*#REF!+$G$11)","v":{"$error":"#REF!"}},{"$f":"IF(ISBLANK(I18849),\"\",$F$12*#REF!+$G$12)","v":{"$error":"#REF!"}}]
[null,null,null,null,null,null,null,null,{"$f":"IF(ISBLANK(#REF!),\"\",$F$11*#REF!+$G$11)","v":{"$error":"#REF!"}},{"$f":"IF(ISBLANK(I18888),\"\",$F$12*#REF!+$G$12)","v":{"$error":"#REF!"}}]
[null,null,null,null,null,null,null,null,{"$f":"IF(ISBLANK(#REF!),\"\",$F$11*#REF!+$G$11)","v":{"$error":"#REF!"}},{"$f":"IF(ISBLANK(I18897),\"\",$F$12*#REF!+$G$12)","v":{"$error":"#REF!"}}]
[null,null,null,null,null,null,null,null,{"$f":"IF(ISBLANK(#REF!),\"\",$F$11*#REF!+$G$11)","v":{"$error":"#REF!"}},{"$f":"IF(ISBLANK(I18930),\"\",$F$12*#REF!+$G$12)","v":{"$error":"#REF!"}}]
[null,null,null,null,null,null,null,null,{"$f":"IF(ISBLANK(#REF!),\"\",$F$11*#REF!+$G$11)","v":{"$error":"#REF!"}},{"$f":"IF(ISBLANK(I18941),\"\",$F$12*#REF!+$G$12)","v":{"$error":"#REF!"}}]
[null,null,null,null,null,null,null,null,{"$f":"IF(ISBLANK(#REF!),\"\",$F$11*#REF!+$G$11)","v":{"$error":"#REF!"}},{"$f":"IF(ISBLANK(I18963),\"\",$F$12*#REF!+$G$12)","v":{"$error":"#REF!"}}]
[null,null,null,null,null,null,null,null,{"$f":"IF(ISBLANK(#REF!),\"\",$F$11*#REF!+$G$11)","v":{"$error":"#REF!"}},{"$f":"IF(ISBLANK(I18988),\"\",$F$12*#REF!+$G$12)","v":{"$error":"#REF!"}}]
[null,null,null,null,null,null,null,null,{"$f":"IF(ISBLANK(#REF!),\"\",$F$11*#REF!+$G$11)","v":{"$error":"#REF!"}},{"$f":"IF(ISBLANK(I19021),\"\",$F$12*#REF!+$G$12)","v":{"$error":"#REF!"}}]
[null,null,null,null,null,null,null,null,{"$f":"IF(ISBLANK(#REF!),\"\",$F$11*#REF!+$G$11)","v":{"$error":"#REF!"}},{"$f":"IF(ISBLANK(I19054),\"\",$F$12*#REF!+$G$12)","v":{"$error":"#REF!"}}]
[null,null,null,null,null,null,null,null,{"$f":"IF(ISBLANK(#REF!),\"\",$F$11*#REF!+$G$11)","v":{"$error":"#REF!"}},{"$f":"IF(ISBLANK(I19056),\"\",$F$12*#REF!+$G$12)","v":{"$error":"#REF!"}}]
[null,null,null,null,null,null,null,null,{"$f":"IF(ISBLANK(#REF!),\"\",$F$11*#REF!+$G$11)","v":{"$error":"#REF!"}},{"$f":"IF(ISBLANK(I19087),\"\",$F$12*#REF!+$G$12)","v":{"$error":"#REF!"}}]
[null,null,null,null,null,null,null,null,{"$f":"IF(ISBLANK(#REF!),\"\",$F$11*#REF!+$G$11)","v":{"$error":"#REF!"}},{"$f":"IF(ISBLANK(I19112),\"\",$F$12*#REF!+$G$12)","v":{"$error":"#REF!"}}]
[null,null,null,null,null,null,null,null,{"$f":"IF(ISBLANK(#REF!),\"\",$F$11*#REF!+$G$11)","v":{"$error":"#REF!"}},{"$f":"IF(ISBLANK(I19145),\"\",$F$12*#REF!+$G$12)","v":{"$error":"#REF!"}}]
[null,null,null,null,null,null,null,null,{"$f":"IF(ISBLANK(#REF!),\"\",$F$11*#REF!+$G$11)","v":{"$error":"#REF!"}},{"$f":"IF(ISBLANK(I19159),\"\",$F$12*#REF!+$G$12)","v":{"$error":"#REF!"}}]
[null,null,null,null,null,null,null,null,{"$f":"IF(ISBLANK(#REF!),\"\",$F$11*#REF!+$G$11)","v":{"$error":"#REF!"}},{"$f":"IF(ISBLANK(I19178),\"\",$F$12*#REF!+$G$12)","v":{"$error":"#REF!"}}]
[null,null,null,null,null,null,null,null,{"$f":"IF(ISBLANK(#REF!),\"\",$F$11*#REF!+$G$11)","v":{"$error":"#REF!"}},{"$f":"IF(ISBLANK(I19211),\"\",$F$12*#REF!+$G$12)","v":{"$error":"#REF!"}}]
[null,null,null,null,null,null,null,null,{"$f":"IF(ISBLANK(#REF!),\"\",$F$11*#REF!+$G$11)","v":{"$error":"#REF!"}},{"$f":"IF(ISBLANK(I19244),\"\",$F$12*#REF!+$G$12)","v":{"$error":"#REF!"}}]
[null,null,null,null,null,null,null,null,{"$f":"IF(ISBLANK(#REF!),\"\",$F$11*#REF!+$G$11)","v":{"$error":"#REF!"}},{"$f":"IF(ISBLANK(I19251),\"\",$F$12*#REF!+$G$12)","v":{"$error":"#REF!"}}]
[null,null,null,null,null,null,null,null,{"$f":"IF(ISBLANK(#REF!),\"\",$F$11*#REF!+$G$11)","v":{"$error":"#REF!"}},{"$f":"IF(ISBLANK(I19277),\"\",$F$12*#REF!+$G$12)","v":{"$error":"#REF!"}}]
[null,null,null,null,null,null,null,null,{"$f":"IF(ISBLANK(#REF!),\"\",$F$11*#REF!+$G$11)","v":{"$error":"#REF!"}},{"$f":"IF(ISBLANK(I19302),\"\",$F$12*#REF!+$G$12)","v":{"$error":"#REF!"}}]
[null,null,null,null,null,null,null,null,{"$f":"IF(ISBLANK(#REF!),\"\",$F$11*#REF!+$G$11)","v":{"$error":"#REF!"}},{"$f":"IF(ISBLANK(I19335),\"\",$F$12*#REF!+$G$12)","v":{"$error":"#REF!"}}]
[null,null,null,null,null,null,null,null,{"$f":"IF(ISBLANK(#REF!),\"\",$F$11*#REF!+$G$11)","v":{"$error":"#REF!"}},{"$f":"IF(ISBLANK(I19354),\"\",$F$12*#REF!+$G$12)","v":{"$error":"#REF!"}}]
[null,null,null,null,null,null,null,null,{"$f":"IF(ISBLANK(#REF!),\"\",$F$11*#REF!+$G$11)","v":{"$error":"#REF!"}},{"$f":"IF(ISBLANK(I19368),\"\",$F$12*#REF!+$G$12)","v":{"$error":"#REF!"}}]
[null,null,null,null,null,null,null,null,{"$f":"IF(ISBLANK(#REF!),\"\",$F$11*#REF!+$G$11)","v":{"$error":"#REF!"}},{"$f":"IF(ISBLANK(I19401),\"\",$F$12*#REF!+$G$12)","v":{"$error":"#REF!"}}]
[null,null,null,null,null,null,null,null,{"$f":"IF(ISBLANK(#REF!),\"\",$F$11*#REF!+$G$11)","v":{"$error":"#REF!"}},{"$f":"IF(ISBLANK(I19434),\"\",$F$12*#REF!+$G$12)","v":{"$error":"#REF!"}}]
[null,null,null,null,null,null,null,null,{"$f":"IF(ISBLANK(#REF!),\"\",$F$11*#REF!+$G$11)","v":{"$error":"#REF!"}},{"$f":"IF(ISBLANK(I19446),\"\",$F$12*#REF!+$G$12)","v":{"$error":"#REF!"}}]
[null,null,null,null,null,null,null,null,{"$f":"IF(ISBLANK(#REF!),\"\",$F$11*#REF!+$G$11)","v":{"$error":"#REF!"}},{"$f":"IF(ISBLANK(I19467),\"\",$F$12*#REF!+$G$12)","v":{"$error":"#REF!"}}]
[null,null,null,null,null,null,null,null,{"$f":"IF(ISBLANK(#REF!),\"\",$F$11*#REF!+$G$11)","v":{"$error":"#REF!"}},{"$f":"IF(ISBLANK(I19492),\"\",$F$12*#REF!+$G$12)","v":{"$error":"#REF!"}}]
[null,null,null,null,null,null,null,null,{"$f":"IF(ISBLANK(#REF!),\"\",$F$11*#REF!+$G$11)","v":{"$error":"#REF!"}},{"$f":"IF(ISBLANK(I19525),\"\",$F$12*#REF!+$G$12)","v":{"$error":"#REF!"}}]
[null,null,null,null,null,null,null,null,{"$f":"IF(ISBLANK(#REF!),\"\",$F$11*#REF!+$G$11)","v":{"$error":"#REF!"}},{"$f":"IF(ISBLANK(I19549),\"\",$F$12*#REF!+$G$12)","v":{"$error":"#REF!"}}]
[null,null,null,null,null,null,null,null,{"$f":"IF(ISBLANK(#REF!),\"\",$F$11*#REF!+$G$11)","v":{"$error":"#REF!"}},{"$f":"IF(ISBLANK(I19558),\"\",$F$12*#REF!+$G$12)","v":{"$error":"#REF!"}}]
[null,null,null,null,null,null,null,null,{"$f":"IF(ISBLANK(#REF!),\"\",$F$11*#REF!+$G$11)","v":{"$error":"#REF!"}},{"$f":"IF(ISBLANK(I19591),\"\",$F$12*#REF!+$G$12)","v":{"$error":"#REF!"}}]
[null,null,null,null,null,null,null,null,{"$f":"IF(ISBLANK(#REF!),\"\",$F$11*#REF!+$G$11)","v":{"$error":"#REF!"}},{"$f":"IF(ISBLANK(I19616),\"\",$F$12*#REF!+$G$12)","v":{"$error":"#REF!"}}]
[null,null,null,null,null,null,null,null,{"$f":"IF(ISBLANK(#REF!),\"\",$F$11*#REF!+$G$11)","v":{"$error":"#REF!"}},{"$f":"IF(ISBLANK(I19641),\"\",$F$12*#REF!+$G$12)","v":{"$error":"#REF!"}}]
[null,null,null,null,null,null,null,null,{"$f":"IF(ISBLANK(#REF!),\"\",$F$11*#REF!+$G$11)","v":{"$error":"#REF!"}},{"$f":"IF(ISBLANK(I19657),\"\",$F$12*#REF!+$G$12)","v":{"$error":"#REF!"}}]
[null,null,null,null,null,null,null,null,{"$f":"IF(ISBLANK(#REF!),\"\",$F$11*#REF!+$G$11)","v":{"$error":"#REF!"}},{"$f":"IF(ISBLANK(I19682),\"\",$F$12*#REF!+$G$12)","v":{"$error":"#REF!"}}]
[null,null,null,null,null,null,null,null,{"$f":"IF(ISBLANK(#REF!),\"\",$F$11*#REF!+$G$11)","v":{"$error":"#REF!"}},{"$f":"IF(ISBLANK(I19715),\"\",$F$12*#REF!+$G$12)","v":{"$error":"#REF!"}}]
[null,null,null,null,null,null,null,null,{"$f":"IF(ISBLANK(#REF!),\"\",$F$11*#REF!+$G$11)","v":{"$error":"#REF!"}},{"$f":"IF(ISBLANK(I19721),\"\",$F$12*#REF!+$G$12)","v":{"$error":"#REF!"}}]
[null,null,null,null,null,null,null,null,{"$f":"IF(ISBLANK(#REF!),\"\",$F$11*#REF!+$G$11)","v":{"$error":"#REF!"}},{"$f":"IF(ISBLANK(I19748),\"\",$F$12*#REF!+$G$12)","v":{"$error":"#REF!"}}]
[null,null,null,null,null,null,null,null,{"$f":"IF(ISBLANK(#REF!),\"\",$F$11*#REF!+$G$11)","v":{"$error":"#REF!"}},{"$f":"IF(ISBLANK(I19781),\"\",$F$12*#REF!+$G$12)","v":{"$error":"#REF!"}}]
[null,null,null,null,null,null,null,null,{"$f":"IF(ISBLANK(#REF!),\"\",$F$11*#REF!+$G$11)","v":{"$error":"#REF!"}},{"$f":"IF(ISBLANK(I19806),\"\",$F$12*#REF!+$G$12)","v":{"$error":"#REF!"}}]
[null,null,null,null,null,null,null,null,{"$f":"IF(ISBLANK(#REF!),\"\",$F$11*#REF!+$G$11)","v":{"$error":"#REF!"}},{"$f":"IF(ISBLANK(I19836),\"\",$F$12*#REF!+$G$12)","v":{"$error":"#REF!"}}]
[null,null,null,null,null,null,null,null,{"$f":"IF(ISBLANK(#REF!),\"\",$F$11*#REF!+$G$11)","v":{"$error":"#REF!"}},{"$f":"IF(ISBLANK(I19847),\"\",$F$12*#REF!+$G$12)","v":{"$error":"#REF!"}}]
[null,null,null,null,null,null,null,null,{"$f":"IF(ISBLANK(#REF!),\"\",$F$11*#REF!+$G$11)","v":{"$error":"#REF!"}},{"$f":"IF(ISBLANK(I19872),\"\",$F$12*#REF!+$G$12)","v":{"$error":"#REF!"}}]
[null,null,null,null,null,null,null,null,{"$f":"IF(ISBLANK(#REF!),\"\",$F$11*#REF!+$G$11)","v":{"$error":"#REF!"}},{"$f":"IF(ISBLANK(I19905),\"\",$F$12*#REF!+$G$12)","v":{"$error":"#REF!"}}]
[null,null,null,null,null,null,null,null,{"$f":"IF(ISBLANK(#REF!),\"\",$F$11*#REF!+$G$11)","v":{"$error":"#REF!"}},{"$f":"IF(ISBLANK(I19928),\"\",$F$12*#REF!+$G$12)","v":{"$error":"#REF!"}}]
[null,null,null,null,null,null,null,null,{"$f":"IF(ISBLANK(#REF!),\"\",$F$11*#REF!+$G$11)","v":{"$error":"#REF!"}},{"$f":"IF(ISBLANK(I19938),\"\",$F$12*#REF!+$G$12)","v":{"$error":"#REF!"}}]
[null,null,null,null,null,null,null,null,{"$f":"IF(ISBLANK(#REF!),\"\",$F$11*#REF!+$G$11)","v":{"$error":"#REF!"}},{"$f":"IF(ISBLANK(I19971),\"\",$F$12*#REF!+$G$12)","v":{"$error":"#REF!"}}]
[null,null,null,null,null,null,null,null,{"$f":"IF(ISBLANK(#REF!),\"\",$F$11*#REF!+$G$11)","v":{"$error":"#REF!"}},{"$f":"IF(ISBLANK(I19996),\"\",$F$12*#REF!+$G$12)","v":{"$error":"#REF!"}}]
[null,null,null,null,null,null,null,null,{"$f":"IF(ISBLANK(#REF!),\"\",$F$11*#REF!+$G$11)","v":{"$error":"#REF!"}},{"$f":"IF(ISBLANK(I20008),\"\",$F$12*#REF!+$G$12)","v":{"$error":"#REF!"}}]
[null,null,null,null,null,null,null,null,{"$f":"IF(ISBLANK(#REF!),\"\",$F$11*#REF!+$G$11)","v":{"$error":"#REF!"}},{"$f":"IF(ISBLANK(I20037),\"\",$F$12*#REF!+$G$12)","v":{"$error":"#REF!"}}]
[null,null,null,null,null,null,null,null,{"$f":"IF(ISBLANK(#REF!),\"\",$F$11*#REF!+$G$11)","v":{"$error":"#REF!"}},{"$f":"IF(ISBLANK(I20062),\"\",$F$12*#REF!+$G$12)","v":{"$error":"#REF!"}}]
[null,null,null,null,null,null,null,null,{"$f":"IF(ISBLANK(#REF!),\"\",$F$11*#REF!+$G$11)","v":{"$error":"#REF!"}},{"$f":"IF(ISBLANK(I20095),\"\",$F$12*#REF!+$G$12)","v":{"$error":"#REF!"}}]
[null,null,null,null,null,null,null,null,{"$f":"IF(ISBLANK(#REF!),\"\",$F$11*#REF!+$G$11)","v":{"$error":"#REF!"}},{"$f":"IF(ISBLANK(I20123),\"\",$F$12*#REF!+$G$12)","v":{"$error":"#REF!"}}]
[null,null,null,null,null,null,null,null,{"$f":"IF(ISBLANK(#REF!),\"\",$F$11*#REF!+$G$11)","v":{"$error":"#REF!"}},{"$f":"IF(ISBLANK(I20128),\"\",$F$12*#REF!+$G$12)","v":{"$error":"#REF!"}}]
[null,null,null,null,null,null,null,null,{"$f":"IF(ISBLANK(#REF!),\"\",$F$11*#REF!+$G$11)","v":{"$error":"#REF!"}},{"$f":"IF(ISBLANK(I20161),\"\",$F$12*#REF!+$G$12)","v":{"$error":"#REF!"}}]
[null,null,null,null,null,null,null,null,{"$f":"IF(ISBLANK(#REF!),\"\",$F$11*#REF!+$G$11)","v":{"$error":"#REF!"}},{"$f":"IF(ISBLANK(I20186),\"\",$F$12*#REF!+$G$12)","v":{"$error":"#REF!"}}]
[null,null,null,null,null,null,null,null,{"$f":"IF(ISBLANK(#REF!),\"\",$F$11*#REF!+$G$11)","v":{"$error":"#REF!"}},{"$f":"IF(ISBLANK(I20203),\"\",$F$12*#REF!+$G$12)","v":{"$error":"#REF!"}}]
[null,null,null,null,null,null,null,null,{"$f":"IF(ISBLANK(#REF!),\"\",$F$11*#REF!+$G$11)","v":{"$error":"#REF!"}},{"$f":"IF(ISBLANK(I20227),\"\",$F$12*#REF!+$G$12)","v":{"$error":"#REF!"}}]
[null,null,null,null,null,null,null,null,{"$f":"IF(ISBLANK(#REF!),\"\",$F$11*#REF!+$G$11)","v":{"$error":"#REF!"}},{"$f":"IF(ISBLANK(I20252),\"\",$F$12*#REF!+$G$12)","v":{"$error":"#REF!"}}]
[null,null,null,null,null,null,null,null,{"$f":"IF(ISBLANK(#REF!),\"\",$F$11*#REF!+$G$11)","v":{"$error":"#REF!"}},{"$f":"IF(ISBLANK(I20285),\"\",$F$12*#REF!+$G$12)","v":{"$error":"#REF!"}}]
[null,null,null,null,null,null,null,null,{"$f":"IF(ISBLANK(#REF!),\"\",$F$11*#REF!+$G$11)","v":{"$error":"#REF!"}},{"$f":"IF(ISBLANK(I20295),\"\",$F$12*#REF!+$G$12)","v":{"$error":"#REF!"}}]
[null,null,null,null,null,null,null,null,{"$f":"IF(ISBLANK(#REF!),\"\",$F$11*#REF!+$G$11)","v":{"$error":"#REF!"}},{"$f":"IF(ISBLANK(I20318),\"\",$F$12*#REF!+$G$12)","v":{"$error":"#REF!"}}]
[null,null,null,null,null,null,null,null,{"$f":"IF(ISBLANK(#REF!),\"\",$F$11*#REF!+$G$11)","v":{"$error":"#REF!"}},{"$f":"IF(ISBLANK(I20351),\"\",$F$12*#REF!+$G$12)","v":{"$error":"#REF!"}}]
[null,null,null,null,null,null,null,null,{"$f":"IF(ISBLANK(#REF!),\"\",$F$11*#REF!+$G$11)","v":{"$error":"#REF!"}},{"$f":"IF(ISBLANK(I20376),\"\",$F$12*#REF!+$G$12)","v":{"$error":"#REF!"}}]
[null,null,null,null,null,null,null,null,{"$f":"IF(ISBLANK(#REF!),\"\",$F$11*#REF!+$G$11)","v":{"$error":"#REF!"}},{"$f":"IF(ISBLANK(I20398),\"\",$F$12*#REF!+$G$12)","v":{"$error":"#REF!"}}]
[null,null,null,null,null,null,null,null,{"$f":"IF(ISBLANK(#REF!),\"\",$F$11*#REF!+$G$11)","v":{"$error":"#REF!"}},{"$f":"IF(ISBLANK(I20409),\"\",$F$12*#REF!+$G$12)","v":{"$error":"#REF!"}}]
[null,null,null,null,null,null,null,null,{"$f":"IF(ISBLANK(#REF!),\"\",$F$11*#REF!+$G$11)","v":{"$error":"#REF!"}},{"$f":"IF(ISBLANK(I20442),\"\",$F$12*#REF!+$G$12)","v":{"$error":"#REF!"}}]
[null,null,null,null,null,null,null,null,{"$f":"IF(ISBLANK(#REF!),\"\",$F$11*#REF!+$G$11)","v":{"$error":"#REF!"}},{"$f":"IF(ISBLANK(I20475),\"\",$F$12*#REF!+$G$12)","v":{"$error":"#REF!"}}]
[null,null,null,null,null,null,null,null,{"$f":"IF(ISBLANK(#REF!),\"\",$F$11*#REF!+$G$11)","v":{"$error":"#REF!"}},{"$f":"IF(ISBLANK(I20490),\"\",$F$12*#REF!+$G$12)","v":{"$error":"#REF!"}}]
[null,null,null,null,null,null,null,null,{"$f":"IF(ISBLANK(#REF!),\"\",$F$11*#REF!+$G$11)","v":{"$error":"#REF!"}},{"$f":"IF(ISBLANK(I20508),\"\",$F$12*#REF!+$G$12)","v":{"$error":"#REF!"}}]
[null,null,null,null,null,null,null,null,{"$f":"IF(ISBLANK(#REF!),\"\",$F$11*#REF!+$G$11)","v":{"$error":"#REF!"}},{"$f":"IF(ISBLANK(I20541),\"\",$F$12*#REF!+$G$12)","v":{"$error":"#REF!"}}]
[null,null,null,null,null,null,null,null,{"$f":"IF(ISBLANK(#REF!),\"\",$F$11*#REF!+$G$11)","v":{"$error":"#REF!"}},{"$f":"IF(ISBLANK(I20566),\"\",$F$12*#REF!+$G$12)","v":{"$error":"#REF!"}}]
[null,null,null,null,null,null,null,null,{"$f":"IF(ISBLANK(#REF!),\"\",$F$11*#REF!+$G$11)","v":{"$error":"#REF!"}},{"$f":"IF(ISBLANK(I20593),\"\",$F$12*#REF!+$G$12)","v":{"$error":"#REF!"}}]
[null,null,null,null,null,null,null,null,{"$f":"IF(ISBLANK(#REF!),\"\",$F$11*#REF!+$G$11)","v":{"$error":"#REF!"}},{"$f":"IF(ISBLANK(I20599),\"\",$F$12*#REF!+$G$12)","v":{"$error":"#REF!"}}]
[null,null,null,null,null,null,null,null,{"$f":"IF(ISBLANK(#REF!),\"\",$F$11*#REF!+$G$11)","v":{"$error":"#REF!"}},{"$f":"IF(ISBLANK(I20632),\"\",$F$12*#REF!+$G$12)","v":{"$error":"#REF!"}}]
[null,null,null,null,null,null,null,null,{"$f":"IF(ISBLANK(#REF!),\"\",$F$11*#REF!+$G$11)","v":{"$error":"#REF!"}},{"$f":"IF(ISBLANK(I20665),\"\",$F$12*#REF!+$G$12)","v":{"$error":"#REF!"}}]
[null,null,null,null,null,null,null,null,{"$f":"IF(ISBLANK(#REF!),\"\",$F$11*#REF!+$G$11)","v":{"$error":"#REF!"}},{"$f":"IF(ISBLANK(I20690),\"\",$F$12*#REF!+$G$12)","v":{"$error":"#REF!"}}]
[null,null,null,null,null,null,null,null,{"$f":"IF(ISBLANK(#REF!),\"\",$F$11*#REF!+$G$11)","v":{"$error":"#REF!"}},{"$f":"IF(ISBLANK(I20708),\"\",$F$12*#REF!+$G$12)","v":{"$error":"#REF!"}}]
[null,null,null,null,null,null,null,null,{"$f":"IF(ISBLANK(#REF!),\"\",$F$11*#REF!+$G$11)","v":{"$error":"#REF!"}},{"$f":"IF(ISBLANK(I20731),\"\",$F$12*#REF!+$G$12)","v":{"$error":"#REF!"}}]
[null,null,null,null,null,null,null,null,{"$f":"IF(ISBLANK(#REF!),\"\",$F$11*#REF!+$G$11)","v":{"$error":"#REF!"}},{"$f":"IF(ISBLANK(I20756),\"\",$F$12*#REF!+$G$12)","v":{"$error":"#REF!"}}]
[null,null,null,null,null,null,null,null,{"$f":"IF(ISBLANK(#REF!),\"\",$F$11*#REF!+$G$11)","v":{"$error":"#REF!"}},{"$f":"IF(ISBLANK(I20789),\"\",$F$12*#REF!+$G$12)","v":{"$error":"#REF!"}}]
[null,null,null,null,null,null,null,null,{"$f":"IF(ISBLANK(#REF!),\"\",$F$11*#REF!+$G$11)","v":{"$error":"#REF!"}},{"$f":"IF(ISBLANK(I20800),\"\",$F$12*#REF!+$G$12)","v":{"$error":"#REF!"}}]
[null,null,null,null,null,null,null,null,{"$f":"IF(ISBLANK(#REF!),\"\",$F$11*#REF!+$G$11)","v":{"$error":"#REF!"}},{"$f":"IF(ISBLANK(I20822),\"\",$F$12*#REF!+$G$12)","v":{"$error":"#REF!"}}]
[null,null,null,null,null,null,null,null,{"$f":"IF(ISBLANK(#REF!),\"\",$F$11*#REF!+$G$11)","v":{"$error":"#REF!"}},{"$f":"IF(ISBLANK(I20855),\"\",$F$12*#REF!+$G$12)","v":{"$error":"#REF!"}}]
[null,null,null,null,null,null,null,null,{"$f":"IF(ISBLANK(#REF!),\"\",$F$11*#REF!+$G$11)","v":{"$error":"#REF!"}},{"$f":"IF(ISBLANK(I20880),\"\",$F$12*#REF!+$G$12)","v":{"$error":"#REF!"}}]
[null,null,null,null,null,null,null,null,{"$f":"IF(ISBLANK(#REF!),\"\",$F$11*#REF!+$G$11)","v":{"$error":"#REF!"}},{"$f":"IF(ISBLANK(I20903),\"\",$F$12*#REF!+$G$12)","v":{"$error":"#REF!"}}]
[null,null,null,null,null,null,null,null,{"$f":"IF(ISBLANK(#REF!),\"\",$F$11*#REF!+$G$11)","v":{"$error":"#REF!"}},{"$f":"IF(ISBLANK(I20913),\"\",$F$12*#REF!+$G$12)","v":{"$error":"#REF!"}}]
[null,null,null,null,null,null,null,null,{"$f":"IF(ISBLANK(#REF!),\"\",$F$11*#REF!+$G$11)","v":{"$error":"#REF!"}},{"$f":"IF(ISBLANK(I20946),\"\",$F$12*#REF!+$G$12)","v":{"$error":"#REF!"}}]
[null,null,null,null,null,null,null,null,{"$f":"IF(ISBLANK(#REF!),\"\",$F$11*#REF!+$G$11)","v":{"$error":"#REF!"}},{"$f":"IF(ISBLANK(I20979),\"\",$F$12*#REF!+$G$12)","v":{"$error":"#REF!"}}]
[null,null,null,null,null,null,null,null,{"$f":"IF(ISBLANK(#REF!),\"\",$F$11*#REF!+$G$11)","v":{"$error":"#REF!"}},{"$f":"IF(ISBLANK(I20995),\"\",$F$12*#REF!+$G$12)","v":{"$error":"#REF!"}}]
[null,null,null,null,null,null,null,null,{"$f":"IF(ISBLANK(#REF!),\"\",$F$11*#REF!+$G$11)","v":{"$error":"#REF!"}},{"$f":"IF(ISBLANK(I21012),\"\",$F$12*#REF!+$G$12)","v":{"$error":"#REF!"}}]
[null,null,null,null,null,null,null,null,{"$f":"IF(ISBLANK(#REF!),\"\",$F$11*#REF!+$G$11)","v":{"$error":"#REF!"}},{"$f":"IF(ISBLANK(I21045),\"\",$F$12*#REF!+$G$12)","v":{"$error":"#REF!"}}]
[null,null,null,null,null,null,null,null,{"$f":"IF(ISBLANK(#REF!),\"\",$F$11*#REF!+$G$11)","v":{"$error":"#REF!"}},{"$f":"IF(ISBLANK(I21070),\"\",$F$12*#REF!+$G$12)","v":{"$error":"#REF!"}}]
[null,null,null,null,null,null,null,null,{"$f":"IF(ISBLANK(#REF!),\"\",$F$11*#REF!+$G$11)","v":{"$error":"#REF!"}},{"$f":"IF(ISBLANK(I21075),\"\",$F$12*#REF!+$G$12)","v":{"$error":"#REF!"}}]
[null,null,null,null,null,null,null,null,{"$f":"IF(ISBLANK(#REF!),\"\",$F$11*#REF!+$G$11)","v":{"$error":"#REF!"}},{"$f":"IF(ISBLANK(I21103),\"\",$F$12*#REF!+$G$12)","v":{"$error":"#REF!"}}]
[null,null,null,null,null,null,null,null,{"$f":"IF(ISBLANK(#REF!),\"\",$F$11*#REF!+$G$11)","v":{"$error":"#REF!"}},{"$f":"IF(ISBLANK(I21136),\"\",$F$12*#REF!+$G$12)","v":{"$error":"#REF!"}}]
[null,null,null,null,null,null,null,null,{"$f":"IF(ISBLANK(#REF!),\"\",$F$11*#REF!+$G$11)","v":{"$error":"#REF!"}},{"$f":"IF(ISBLANK(I21169),\"\",$F$12*#REF!+$G$12)","v":{"$error":"#REF!"}}]
[null,null,null,null,null,null,null,null,{"$f":"IF(ISBLANK(#REF!),\"\",$F$11*#REF!+$G$11)","v":{"$error":"#REF!"}},{"$f":"IF(ISBLANK(I21190),\"\",$F$12*#REF!+$G$12)","v":{"$error":"#REF!"}}]
[null,null,null,null,null,null,null,null,{"$f":"IF(ISBLANK(#REF!),\"\",$F$11*#REF!+$G$11)","v":{"$error":"#REF!"}},{"$f":"IF(ISBLANK(I21202),\"\",$F$12*#REF!+$G$12)","v":{"$error":"#REF!"}}]
[null,null,null,null,null,null,null,null,{"$f":"IF(ISBLANK(#REF!),\"\",$F$11*#REF!+$G$11)","v":{"$error":"#REF!"}},{"$f":"IF(ISBLANK(I21227),\"\",$F$12*#REF!+$G$12)","v":{"$error":"#REF!"}}]
[null,null,null,null,null,null,null,null,{"$f":"IF(ISBLANK(#REF!),\"\",$F$11*#REF!+$G$11)","v":{"$error":"#REF!"}},{"$f":"IF(ISBLANK(I21260),\"\",$F$12*#REF!+$G$12)","v":{"$error":"#REF!"}}]
[null,null,null,null,null,null,null,null,{"$f":"IF(ISBLANK(#REF!),\"\",$F$11*#REF!+$G$11)","v":{"$error":"#REF!"}},{"$f":"IF(ISBLANK(I21270),\"\",$F$12*#REF!+$G$12)","v":{"$error":"#REF!"}}]
[null,null,null,null,null,null,null,null,{"$f":"IF(ISBLANK(#REF!),\"\",$F$11*#REF!+$G$11)","v":{"$error":"#REF!"}},{"$f":"IF(ISBLANK(I21293),\"\",$F$12*#REF!+$G$12)","v":{"$error":"#REF!"}}]
[null,null,null,null,null,null,null,null,{"$f":"IF(ISBLANK(#REF!),\"\",$F$11*#REF!+$G$11)","v":{"$error":"#REF!"}},{"$f":"IF(ISBLANK(I21326),\"\",$F$12*#REF!+$G$12)","v":{"$error":"#REF!"}}]
[null,null,null,null,null,null,null,null,{"$f":"IF(ISBLANK(#REF!),\"\",$F$11*#REF!+$G$11)","v":{"$error":"#REF!"}},{"$f":"IF(ISBLANK(I21359),\"\",$F$12*#REF!+$G$12)","v":{"$error":"#REF!"}}]
[null,null,null,null,null,null,null,null,{"$f":"IF(ISBLANK(#REF!),\"\",$F$11*#REF!+$G$11)","v":{"$error":"#REF!"}},{"$f":"IF(ISBLANK(I21362),\"\",$F$12*#REF!+$G$12)","v":{"$error":"#REF!"}}]
[null,null,null,null,null,null,null,null,{"$f":"IF(ISBLANK(#REF!),\"\",$F$11*#REF!+$G$11)","v":{"$error":"#REF!"}},{"$f":"IF(ISBLANK(I21392),\"\",$F$12*#REF!+$G$12)","v":{"$error":"#REF!"}}]
[null,null,null,null,null,null,null,null,{"$f":"IF(ISBLANK(#REF!),\"\",$F$11*#REF!+$G$11)","v":{"$error":"#REF!"}},{"$f":"IF(ISBLANK(I21417),\"\",$F$12*#REF!+$G$12)","v":{"$error":"#REF!"}}]
[null,null,null,null,null,null,null,null,{"$f":"IF(ISBLANK(#REF!),\"\",$F$11*#REF!+$G$11)","v":{"$error":"#REF!"}},{"$f":"IF(ISBLANK(I21450),\"\",$F$12*#REF!+$G$12)","v":{"$error":"#REF!"}}]
[null,null,null,null,null,null,null,null,{"$f":"IF(ISBLANK(#REF!),\"\",$F$11*#REF!+$G$11)","v":{"$error":"#REF!"}},{"$f":"IF(ISBLANK(I21465),\"\",$F$12*#REF!+$G$12)","v":{"$error":"#REF!"}}]
[null,null,null,null,null,null,null,null,{"$f":"IF(ISBLANK(#REF!),\"\",$F$11*#REF!+$G$11)","v":{"$error":"#REF!"}},{"$f":"IF(ISBLANK(I21483),\"\",$F$12*#REF!+$G$12)","v":{"$error":"#REF!"}}]
[null,null,null,null,null,null,null,null,{"$f":"IF(ISBLANK(#REF!),\"\",$F$11*#REF!+$G$11)","v":{"$error":"#REF!"}},{"$f":"IF(ISBLANK(I21516),\"\",$F$12*#REF!+$G$12)","v":{"$error":"#REF!"}}]
[null,null,null,null,null,null,null,null,{"$f":"IF(ISBLANK(#REF!),\"\",$F$11*#REF!+$G$11)","v":{"$error":"#REF!"}},{"$f":"IF(ISBLANK(I21549),\"\",$F$12*#REF!+$G$12)","v":{"$error":"#REF!"}}]
[null,null,null,null,null,null,null,null,{"$f":"IF(ISBLANK(#REF!),\"\",$F$11*#REF!+$G$11)","v":{"$error":"#REF!"}},{"$f":"IF(ISBLANK(I21557),\"\",$F$12*#REF!+$G$12)","v":{"$error":"#REF!"}}]
[null,null,null,null,null,null,null,null,{"$f":"IF(ISBLANK(#REF!),\"\",$F$11*#REF!+$G$11)","v":{"$error":"#REF!"}},{"$f":"IF(ISBLANK(I21582),\"\",$F$12*#REF!+$G$12)","v":{"$error":"#REF!"}}]
[null,null,null,null,null,null,null,null,{"$f":"IF(ISBLANK(#REF!),\"\",$F$11*#REF!+$G$11)","v":{"$error":"#REF!"}},{"$f":"IF(ISBLANK(I21607),\"\",$F$12*#REF!+$G$12)","v":{"$error":"#REF!"}}]
[null,null,null,null,null,null,null,null,{"$f":"IF(ISBLANK(#REF!),\"\",$F$11*#REF!+$G$11)","v":{"$error":"#REF!"}},{"$f":"IF(ISBLANK(I21640),\"\",$F$12*#REF!+$G$12)","v":{"$error":"#REF!"}}]
[null,null,null,null,null,null,null,null,{"$f":"IF(ISBLANK(#REF!),\"\",$F$11*#REF!+$G$11)","v":{"$error":"#REF!"}},{"$f":"IF(ISBLANK(I21660),\"\",$F$12*#REF!+$G$12)","v":{"$error":"#REF!"}}]
[null,null,null,null,null,null,null,null,{"$f":"IF(ISBLANK(#REF!),\"\",$F$11*#REF!+$G$11)","v":{"$error":"#REF!"}},{"$f":"IF(ISBLANK(I21673),\"\",$F$12*#REF!+$G$12)","v":{"$error":"#REF!"}}]
[null,null,null,null,null,null,null,null,{"$f":"IF(ISBLANK(#REF!),\"\",$F$11*#REF!+$G$11)","v":{"$error":"#REF!"}},{"$f":"IF(ISBLANK(I21706),\"\",$F$12*#REF!+$G$12)","v":{"$error":"#REF!"}}]
[null,null,null,null,null,null,null,null,{"$f":"IF(ISBLANK(#REF!),\"\",$F$11*#REF!+$G$11)","v":{"$error":"#REF!"}},{"$f":"IF(ISBLANK(I21731),\"\",$F$12*#REF!+$G$12)","v":{"$error":"#REF!"}}]
[null,null,null,null,null,null,null,null,{"$f":"IF(ISBLANK(#REF!),\"\",$F$11*#REF!+$G$11)","v":{"$error":"#REF!"}},{"$f":"IF(ISBLANK(I21752),\"\",$F$12*#REF!+$G$12)","v":{"$error":"#REF!"}}]
[null,null,null,null,null,null,null,null,{"$f":"IF(ISBLANK(#REF!),\"\",$F$11*#REF!+$G$11)","v":{"$error":"#REF!"}},{"$f":"IF(ISBLANK(I21772),\"\",$F$12*#REF!+$G$12)","v":{"$error":"#REF!"}}]
[null,null,null,null,null,null,null,null,{"$f":"IF(ISBLANK(#REF!),\"\",$F$11*#REF!+$G$11)","v":{"$error":"#REF!"}},{"$f":"IF(ISBLANK(I21797),\"\",$F$12*#REF!+$G$12)","v":{"$error":"#REF!"}}]
[null,null,null,null,null,null,null,null,{"$f":"IF(ISBLANK(#REF!),\"\",$F$11*#REF!+$G$11)","v":{"$error":"#REF!"}},{"$f":"IF(ISBLANK(I21830),\"\",$F$12*#REF!+$G$12)","v":{"$error":"#REF!"}}]
[null,null,null,null,null,null,null,null,{"$f":"IF(ISBLANK(#REF!),\"\",$F$11*#REF!+$G$11)","v":{"$error":"#REF!"}},{"$f":"IF(ISBLANK(I21855),\"\",$F$12*#REF!+$G$12)","v":{"$error":"#REF!"}}]
[null,null,null,null,null,null,null,null,{"$f":"IF(ISBLANK(#REF!),\"\",$F$11*#REF!+$G$11)","v":{"$error":"#REF!"}},{"$f":"IF(ISBLANK(I21863),\"\",$F$12*#REF!+$G$12)","v":{"$error":"#REF!"}}]
[null,null,null,null,null,null,null,null,{"$f":"IF(ISBLANK(#REF!),\"\",$F$11*#REF!+$G$11)","v":{"$error":"#REF!"}},{"$f":"IF(ISBLANK(I21896),\"\",$F$12*#REF!+$G$12)","v":{"$error":"#REF!"}}]
[null,null,null,null,null,null,null,null,{"$f":"IF(ISBLANK(#REF!),\"\",$F$11*#REF!+$G$11)","v":{"$error":"#REF!"}},{"$f":"IF(ISBLANK(I21921),\"\",$F$12*#REF!+$G$12)","v":{"$error":"#REF!"}}]
[null,null,null,null,null,null,null,null,{"$f":"IF(ISBLANK(#REF!),\"\",$F$11*#REF!+$G$11)","v":{"$error":"#REF!"}},{"$f":"IF(ISBLANK(I21947),\"\",$F$12*#REF!+$G$12)","v":{"$error":"#REF!"}}]
[null,null,null,null,null,null,null,null,{"$f":"IF(ISBLANK(#REF!),\"\",$F$11*#REF!+$G$11)","v":{"$error":"#REF!"}},{"$f":"IF(ISBLANK(I21962),\"\",$F$12*#REF!+$G$12)","v":{"$error":"#REF!"}}]
[null,null,null,null,null,null,null,null,{"$f":"IF(ISBLANK(#REF!),\"\",$F$11*#REF!+$G$11)","v":{"$error":"#REF!"}},{"$f":"IF(ISBLANK(I21987),\"\",$F$12*#REF!+$G$12)","v":{"$error":"#REF!"}}]
[null,null,null,null,null,null,null,null,{"$f":"IF(ISBLANK(#REF!),\"\",$F$11*#REF!+$G$11)","v":{"$error":"#REF!"}},{"$f":"IF(ISBLANK(I22020),\"\",$F$12*#REF!+$G$12)","v":{"$error":"#REF!"}}]
[null,null,null,null,null,null,null,null,{"$f":"IF(ISBLANK(#REF!),\"\",$F$11*#REF!+$G$11)","v":{"$error":"#REF!"}},{"$f":"IF(ISBLANK(I22027),\"\",$F$12*#REF!+$G$12)","v":{"$error":"#REF!"}}]
[null,null,null,null,null,null,null,null,{"$f":"IF(ISBLANK(#REF!),\"\",$F$11*#REF!+$G$11)","v":{"$error":"#REF!"}},{"$f":"IF(ISBLANK(I22053),\"\",$F$12*#REF!+$G$12)","v":{"$error":"#REF!"}}]
[null,null,null,null,null,null,null,null,{"$f":"IF(ISBLANK(#REF!),\"\",$F$11*#REF!+$G$11)","v":{"$error":"#REF!"}},{"$f":"IF(ISBLANK(I22086),\"\",$F$12*#REF!+$G$12)","v":{"$error":"#REF!"}}]
[null,null,null,null,null,null,null,null,{"$f":"IF(ISBLANK(#REF!),\"\",$F$11*#REF!+$G$11)","v":{"$error":"#REF!"}},{"$f":"IF(ISBLANK(I22111),\"\",$F$12*#REF!+$G$12)","v":{"$error":"#REF!"}}]
[null,null,null,null,null,null,null,null,{"$f":"IF(ISBLANK(#REF!),\"\",$F$11*#REF!+$G$11)","v":{"$error":"#REF!"}},{"$f":"IF(ISBLANK(I22142),\"\",$F$12*#REF!+$G$12)","v":{"$error":"#REF!"}}]
[null,null,null,null,null,null,null,null,{"$f":"IF(ISBLANK(#REF!),\"\",$F$11*#REF!+$G$11)","v":{"$error":"#REF!"}},{"$f":"IF(ISBLANK(I22152),\"\",$F$12*#REF!+$G$12)","v":{"$error":"#REF!"}}]
[null,null,null,null,null,null,null,null,{"$f":"IF(ISBLANK(#REF!),\"\",$F$11*#REF!+$G$11)","v":{"$error":"#REF!"}},{"$f":"IF(ISBLANK(I22177),\"\",$F$12*#REF!+$G$12)","v":{"$error":"#REF!"}}]
[null,null,null,null,null,null,null,null,{"$f":"IF(ISBLANK(#REF!),\"\",$F$11*#REF!+$G$11)","v":{"$error":"#REF!"}},{"$f":"IF(ISBLANK(I22210),\"\",$F$12*#REF!+$G$12)","v":{"$error":"#REF!"}}]
[null,null,null,null,null,null,null,null,{"$f":"IF(ISBLANK(#REF!),\"\",$F$11*#REF!+$G$11)","v":{"$error":"#REF!"}},{"$f":"IF(ISBLANK(I22234),\"\",$F$12*#REF!+$G$12)","v":{"$error":"#REF!"}}]
[null,null,null,null,null,null,null,null,{"$f":"IF(ISBLANK(#REF!),\"\",$F$11*#REF!+$G$11)","v":{"$error":"#REF!"}},{"$f":"IF(ISBLANK(I22243),\"\",$F$12*#REF!+$G$12)","v":{"$error":"#REF!"}}]
[null,null,null,null,null,null,null,null,{"$f":"IF(ISBLANK(#REF!),\"\",$F$11*#REF!+$G$11)","v":{"$error":"#REF!"}},{"$f":"IF(ISBLANK(I22276),\"\",$F$12*#REF!+$G$12)","v":{"$error":"#REF!"}}]
[null,null,null,null,null,null,null,null,{"$f":"IF(ISBLANK(#REF!),\"\",$F$11*#REF!+$G$11)","v":{"$error":"#REF!"}},{"$f":"IF(ISBLANK(I22301),\"\",$F$12*#REF!+$G$12)","v":{"$error":"#REF!"}}]
[null,null,null,null,null,null,null,null,{"$f":"IF(ISBLANK(#REF!),\"\",$F$11*#REF!+$G$11)","v":{"$error":"#REF!"}},{"$f":"IF(ISBLANK(I22314),\"\",$F$12*#REF!+$G$12)","v":{"$error":"#REF!"}}]
[null,null,null,null,null,null,null,null,{"$f":"IF(ISBLANK(#REF!),\"\",$F$11*#REF!+$G$11)","v":{"$error":"#REF!"}},{"$f":"IF(ISBLANK(I22342),\"\",$F$12*#REF!+$G$12)","v":{"$error":"#REF!"}}]
[null,null,null,null,null,null,null,null,{"$f":"IF(ISBLANK(#REF!),\"\",$F$11*#REF!+$G$11)","v":{"$error":"#REF!"}},{"$f":"IF(ISBLANK(I22367),\"\",$F$12*#REF!+$G$12)","v":{"$error":"#REF!"}}]
[null,null,null,null,null,null,null,null,{"$f":"IF(ISBLANK(#REF!),\"\",$F$11*#REF!+$G$11)","v":{"$error":"#REF!"}},{"$f":"IF(ISBLANK(I22400),\"\",$F$12*#REF!+$G$12)","v":{"$error":"#REF!"}}]
[null,null,null,null,null,null,null,null,{"$f":"IF(ISBLANK(#REF!),\"\",$F$11*#REF!+$G$11)","v":{"$error":"#REF!"}},{"$f":"IF(ISBLANK(I22425),\"\",$F$12*#REF!+$G$12)","v":{"$error":"#REF!"}}]
[null,null,null,null,null,null,null,null,{"$f":"IF(ISBLANK(#REF!),\"\",$F$11*#REF!+$G$11)","v":{"$error":"#REF!"}},{"$f":"IF(ISBLANK(I22429),\"\",$F$12*#REF!+$G$12)","v":{"$error":"#REF!"}}]
[null,null,null,null,null,null,null,null,{"$f":"IF(ISBLANK(#REF!),\"\",$F$11*#REF!+$G$11)","v":{"$error":"#REF!"}},{"$f":"IF(ISBLANK(I22466),\"\",$F$12*#REF!+$G$12)","v":{"$error":"#REF!"}}]
[null,null,null,null,null,null,null,null,{"$f":"IF(ISBLANK(#REF!),\"\",$F$11*#REF!+$G$11)","v":{"$error":"#REF!"}},{"$f":"IF(ISBLANK(I22491),\"\",$F$12*#REF!+$G$12)","v":{"$error":"#REF!"}}]
[null,null,null,null,null,null,null,null,{"$f":"IF(ISBLANK(#REF!),\"\",$F$11*#REF!+$G$11)","v":{"$error":"#REF!"}},{"$f":"IF(ISBLANK(I22500),\"\",$F$12*#REF!+$G$12)","v":{"$error":"#REF!"}}]
[null,null,null,null,null,null,null,null,{"$f":"IF(ISBLANK(#REF!),\"\",$F$11*#REF!+$G$11)","v":{"$error":"#REF!"}},{"$f":"IF(ISBLANK(I22544),\"\",$F$12*#REF!+$G$12)","v":{"$error":"#REF!"}}]
[null,null,null,null,null,null,null,null,{"$f":"IF(ISBLANK(#REF!),\"\",$F$11*#REF!+$G$11)","v":{"$error":"#REF!"}},{"$f":"IF(ISBLANK(I22557),\"\",$F$12*#REF!+$G$12)","v":{"$error":"#REF!"}}]
[null,null,null,null,null,null,null,null,{"$f":"IF(ISBLANK(#REF!),\"\",$F$11*#REF!+$G$11)","v":{"$error":"#REF!"}},{"$f":"IF(ISBLANK(I22590),\"\",$F$12*#REF!+$G$12)","v":{"$error":"#REF!"}}]
[null,null,null,null,null,null,null,null,{"$f":"IF(ISBLANK(#REF!),\"\",$F$11*#REF!+$G$11)","v":{"$error":"#REF!"}},{"$f":"IF(ISBLANK(I22615),\"\",$F$12*#REF!+$G$12)","v":{"$error":"#REF!"}}]
[null,null,null,null,null,null,null,null,{"$f":"IF(ISBLANK(#REF!),\"\",$F$11*#REF!+$G$11)","v":{"$error":"#REF!"}},{"$f":"IF(ISBLANK(I22624),\"\",$F$12*#REF!+$G$12)","v":{"$error":"#REF!"}}]
[null,null,null,null,null,null,null,null,{"$f":"IF(ISBLANK(#REF!),\"\",$F$11*#REF!+$G$11)","v":{"$error":"#REF!"}},{"$f":"IF(ISBLANK(I22656),\"\",$F$12*#REF!+$G$12)","v":{"$error":"#REF!"}}]
[null,null,null,null,null,null,null,null,{"$f":"IF(ISBLANK(#REF!),\"\",$F$11*#REF!+$G$11)","v":{"$error":"#REF!"}},{"$f":"IF(ISBLANK(I22681),\"\",$F$12*#REF!+$G$12)","v":{"$error":"#REF!"}}]
[null,null,null,null,null,null,null,null,{"$f":"IF(ISBLANK(#REF!),\"\",$F$11*#REF!+$G$11)","v":{"$error":"#REF!"}},{"$f":"IF(ISBLANK(I22690),\"\",$F$12*#REF!+$G$12)","v":{"$error":"#REF!"}}]
[null,null,null,null,null,null,null,null,{"$f":"IF(ISBLANK(#REF!),\"\",$F$11*#REF!+$G$11)","v":{"$error":"#REF!"}},{"$f":"IF(ISBLANK(I22716),\"\",$F$12*#REF!+$G$12)","v":{"$error":"#REF!"}}]
[null,null,null,null,null,null,null,null,{"$f":"IF(ISBLANK(#REF!),\"\",$F$11*#REF!+$G$11)","v":{"$error":"#REF!"}},{"$f":"IF(ISBLANK(I22747),\"\",$F$12*#REF!+$G$12)","v":{"$error":"#REF!"}}]
[null,null,null,null,null,null,null,null,{"$f":"IF(ISBLANK(#REF!),\"\",$F$11*#REF!+$G$11)","v":{"$error":"#REF!"}},{"$f":"IF(ISBLANK(I22780),\"\",$F$12*#REF!+$G$12)","v":{"$error":"#REF!"}}]
[null,null,null,null,null,null,null,null,{"$f":"IF(ISBLANK(#REF!),\"\",$F$11*#REF!+$G$11)","v":{"$error":"#REF!"}},{"$f":"IF(ISBLANK(I22805),\"\",$F$12*#REF!+$G$12)","v":{"$error":"#REF!"}}]
[null,null,null,null,null,null,null,null,{"$f":"IF(ISBLANK(#REF!),\"\",$F$11*#REF!+$G$11)","v":{"$error":"#REF!"}},{"$f":"IF(ISBLANK(I22819),\"\",$F$12*#REF!+$G$12)","v":{"$error":"#REF!"}}]
[null,null,null,null,null,null,null,null,{"$f":"IF(ISBLANK(#REF!),\"\",$F$11*#REF!+$G$11)","v":{"$error":"#REF!"}},{"$f":"IF(ISBLANK(I22846),\"\",$F$12*#REF!+$G$12)","v":{"$error":"#REF!"}}]
[null,null,null,null,null,null,null,null,{"$f":"IF(ISBLANK(#REF!),\"\",$F$11*#REF!+$G$11)","v":{"$error":"#REF!"}},{"$f":"IF(ISBLANK(I22871),\"\",$F$12*#REF!+$G$12)","v":{"$error":"#REF!"}}]
[null,null,null,null,null,null,null,null,{"$f":"IF(ISBLANK(#REF!),\"\",$F$11*#REF!+$G$11)","v":{"$error":"#REF!"}},{"$f":"IF(ISBLANK(I22880),\"\",$F$12*#REF!+$G$12)","v":{"$error":"#REF!"}}]
[null,null,null,null,null,null,null,null,{"$f":"IF(ISBLANK(#REF!),\"\",$F$11*#REF!+$G$11)","v":{"$error":"#REF!"}},{"$f":"IF(ISBLANK(I22911),\"\",$F$12*#REF!+$G$12)","v":{"$error":"#REF!"}}]
[null,null,null,null,null,null,null,null,{"$f":"IF(ISBLANK(#REF!),\"\",$F$11*#REF!+$G$11)","v":{"$error":"#REF!"}},{"$f":"IF(ISBLANK(I22937),\"\",$F$12*#REF!+$G$12)","v":{"$error":"#REF!"}}]
[null,null,null,null,null,null,null,null,{"$f":"IF(ISBLANK(#REF!),\"\",$F$11*#REF!+$G$11)","v":{"$error":"#REF!"}},{"$f":"IF(ISBLANK(I22970),\"\",$F$12*#REF!+$G$12)","v":{"$error":"#REF!"}}]
[null,null,null,null,null,null,null,null,{"$f":"IF(ISBLANK(#REF!),\"\",$F$11*#REF!+$G$11)","v":{"$error":"#REF!"}},{"$f":"IF(ISBLANK(I22995),\"\",$F$12*#REF!+$G$12)","v":{"$error":"#REF!"}}]
[null,null,null,null,null,null,null,null,{"$f":"IF(ISBLANK(#REF!),\"\",$F$11*#REF!+$G$11)","v":{"$error":"#REF!"}},{"$f":"IF(ISBLANK(I23014),\"\",$F$12*#REF!+$G$12)","v":{"$error":"#REF!"}}]
[null,null,null,null,null,null,null,null,{"$f":"IF(ISBLANK(#REF!),\"\",$F$11*#REF!+$G$11)","v":{"$error":"#REF!"}},{"$f":"IF(ISBLANK(I23028),\"\",$F$12*#REF!+$G$12)","v":{"$error":"#REF!"}}]
[null,null,null,null,null,null,null,null,{"$f":"IF(ISBLANK(#REF!),\"\",$F$11*#REF!+$G$11)","v":{"$error":"#REF!"}},{"$f":"IF(ISBLANK(I23061),\"\",$F$12*#REF!+$G$12)","v":{"$error":"#REF!"}}]
[null,null,null,null,null,null,null,null,{"$f":"IF(ISBLANK(#REF!),\"\",$F$11*#REF!+$G$11)","v":{"$error":"#REF!"}},{"$f":"IF(ISBLANK(I23070),\"\",$F$12*#REF!+$G$12)","v":{"$error":"#REF!"}}]
[null,null,null,null,null,null,null,null,{"$f":"IF(ISBLANK(#REF!),\"\",$F$11*#REF!+$G$11)","v":{"$error":"#REF!"}},{"$f":"IF(ISBLANK(I23106),\"\",$F$12*#REF!+$G$12)","v":{"$error":"#REF!"}}]
[null,null,null,null,null,null,null,null,{"$f":"IF(ISBLANK(#REF!),\"\",$F$11*#REF!+$G$11)","v":{"$error":"#REF!"}},{"$f":"IF(ISBLANK(I23127),\"\",$F$12*#REF!+$G$12)","v":{"$error":"#REF!"}}]
[null,null,null,null,null,null,null,null,{"$f":"IF(ISBLANK(#REF!),\"\",$F$11*#REF!+$G$11)","v":{"$error":"#REF!"}},{"$f":"IF(ISBLANK(I23160),\"\",$F$12*#REF!+$G$12)","v":{"$error":"#REF!"}}]
[null,null,null,null,null,null,null,null,{"$f":"IF(ISBLANK(#REF!),\"\",$F$11*#REF!+$G$11)","v":{"$error":"#REF!"}},{"$f":"IF(ISBLANK(I23185),\"\",$F$12*#REF!+$G$12)","v":{"$error":"#REF!"}}]
[null,null,null,null,null,null,null,null,{"$f":"IF(ISBLANK(#REF!),\"\",$F$11*#REF!+$G$11)","v":{"$error":"#REF!"}},{"$f":"IF(ISBLANK(I23209),\"\",$F$12*#REF!+$G$12)","v":{"$error":"#REF!"}}]
[null,null,null,null,null,null,null,null,{"$f":"IF(ISBLANK(#REF!),\"\",$F$11*#REF!+$G$11)","v":{"$error":"#REF!"}},{"$f":"IF(ISBLANK(I23218),\"\",$F$12*#REF!+$G$12)","v":{"$error":"#REF!"}}]
[null,null,null,null,null,null,null,null,{"$f":"IF(ISBLANK(#REF!),\"\",$F$11*#REF!+$G$11)","v":{"$error":"#REF!"}},{"$f":"IF(ISBLANK(I23251),\"\",$F$12*#REF!+$G$12)","v":{"$error":"#REF!"}}]
[null,null,null,null,null,null,null,null,{"$f":"IF(ISBLANK(#REF!),\"\",$F$11*#REF!+$G$11)","v":{"$error":"#REF!"}},{"$f":"IF(ISBLANK(I23260),\"\",$F$12*#REF!+$G$12)","v":{"$error":"#REF!"}}]
[null,null,null,null,null,null,null,null,{"$f":"IF(ISBLANK(#REF!),\"\",$F$11*#REF!+$G$11)","v":{"$error":"#REF!"}},{"$f":"IF(ISBLANK(I23301),\"\",$F$12*#REF!+$G$12)","v":{"$error":"#REF!"}}]
[null,null,null,null,null,null,null,null,{"$f":"IF(ISBLANK(#REF!),\"\",$F$11*#REF!+$G$11)","v":{"$error":"#REF!"}},{"$f":"IF(ISBLANK(I23317),\"\",$F$12*#REF!+$G$12)","v":{"$error":"#REF!"}}]
[null,null,null,null,null,null,null,null,{"$f":"IF(ISBLANK(#REF!),\"\",$F$11*#REF!+$G$11)","v":{"$error":"#REF!"}},{"$f":"IF(ISBLANK(I23342),\"\",$F$12*#REF!+$G$12)","v":{"$error":"#REF!"}}]
[null,null,null,null,null,null,null,null,{"$f":"IF(ISBLANK(#REF!),\"\",$F$11*#REF!+$G$11)","v":{"$error":"#REF!"}},{"$f":"IF(ISBLANK(I23375),\"\",$F$12*#REF!+$G$12)","v":{"$error":"#REF!"}}]
[null,null,null,null,null,null,null,null,{"$f":"IF(ISBLANK(#REF!),\"\",$F$11*#REF!+$G$11)","v":{"$error":"#REF!"}},{"$f":"IF(ISBLANK(I23381),\"\",$F$12*#REF!+$G$12)","v":{"$error":"#REF!"}}]
[null,null,null,null,null,null,null,null,{"$f":"IF(ISBLANK(#REF!),\"\",$F$11*#REF!+$G$11)","v":{"$error":"#REF!"}},{"$f":"IF(ISBLANK(I23408),\"\",$F$12*#REF!+$G$12)","v":{"$error":"#REF!"}}]
[null,null,null,null,null,null,null,null,{"$f":"IF(ISBLANK(#REF!),\"\",$F$11*#REF!+$G$11)","v":{"$error":"#REF!"}},{"$f":"IF(ISBLANK(I23441),\"\",$F$12*#REF!+$G$12)","v":{"$error":"#REF!"}}]
[null,null,null,null,null,null,null,null,{"$f":"IF(ISBLANK(#REF!),\"\",$F$11*#REF!+$G$11)","v":{"$error":"#REF!"}},{"$f":"IF(ISBLANK(I23450),\"\",$F$12*#REF!+$G$12)","v":{"$error":"#REF!"}}]
[null,null,null,null,null,null,null,null,{"$f":"IF(ISBLANK(#REF!),\"\",$F$11*#REF!+$G$11)","v":{"$error":"#REF!"}},{"$f":"IF(ISBLANK(I23496),\"\",$F$12*#REF!+$G$12)","v":{"$error":"#REF!"}}]
[null,null,null,null,null,null,null,null,{"$f":"IF(ISBLANK(#REF!),\"\",$F$11*#REF!+$G$11)","v":{"$error":"#REF!"}},{"$f":"IF(ISBLANK(I23507),\"\",$F$12*#REF!+$G$12)","v":{"$error":"#REF!"}}]
[null,null,null,null,null,null,null,null,{"$f":"IF(ISBLANK(#REF!),\"\",$F$11*#REF!+$G$11)","v":{"$error":"#REF!"}},{"$f":"IF(ISBLANK(I23532),\"\",$F$12*#REF!+$G$12)","v":{"$error":"#REF!"}}]
[null,null,null,null,null,null,null,null,{"$f":"IF(ISBLANK(#REF!),\"\",$F$11*#REF!+$G$11)","v":{"$error":"#REF!"}},{"$f":"IF(ISBLANK(I23565),\"\",$F$12*#REF!+$G$12)","v":{"$error":"#REF!"}}]
[null,null,null,null,null,null,null,null,{"$f":"IF(ISBLANK(#REF!),\"\",$F$11*#REF!+$G$11)","v":{"$error":"#REF!"}},{"$f":"IF(ISBLANK(I23576),\"\",$F$12*#REF!+$G$12)","v":{"$error":"#REF!"}}]
[null,null,null,null,null,null,null,null,{"$f":"IF(ISBLANK(#REF!),\"\",$F$11*#REF!+$G$11)","v":{"$error":"#REF!"}},{"$f":"IF(ISBLANK(I23598),\"\",$F$12*#REF!+$G$12)","v":{"$error":"#REF!"}}]
[null,null,null,null,null,null,null,null,{"$f":"IF(ISBLANK(#REF!),\"\",$F$11*#REF!+$G$11)","v":{"$error":"#REF!"}},{"$f":"IF(ISBLANK(I23631),\"\",$F$12*#REF!+$G$12)","v":{"$error":"#REF!"}}]
[null,null,null,null,null,null,null,null,{"$f":"IF(ISBLANK(#REF!),\"\",$F$11*#REF!+$G$11)","v":{"$error":"#REF!"}},{"$f":"IF(ISBLANK(I23640),\"\",$F$12*#REF!+$G$12)","v":{"$error":"#REF!"}}]
[null,null,null,null,null,null,null,null,{"$f":"IF(ISBLANK(#REF!),\"\",$F$11*#REF!+$G$11)","v":{"$error":"#REF!"}},{"$f":"IF(ISBLANK(I23668),\"\",$F$12*#REF!+$G$12)","v":{"$error":"#REF!"}}]
[null,null,null,null,null,null,null,null,{"$f":"IF(ISBLANK(#REF!),\"\",$F$11*#REF!+$G$11)","v":{"$error":"#REF!"}},{"$f":"IF(ISBLANK(I23697),\"\",$F$12*#REF!+$G$12)","v":{"$error":"#REF!"}}]
[null,null,null,null,null,null,null,null,{"$f":"IF(ISBLANK(#REF!),\"\",$F$11*#REF!+$G$11)","v":{"$error":"#REF!"}},{"$f":"IF(ISBLANK(I23722),\"\",$F$12*#REF!+$G$12)","v":{"$error":"#REF!"}}]
[null,null,null,null,null,null,null,null,{"$f":"IF(ISBLANK(#REF!),\"\",$F$11*#REF!+$G$11)","v":{"$error":"#REF!"}},{"$f":"IF(ISBLANK(I23755),\"\",$F$12*#REF!+$G$12)","v":{"$error":"#REF!"}}]
[null,null,null,null,null,null,null,null,{"$f":"IF(ISBLANK(#REF!),\"\",$F$11*#REF!+$G$11)","v":{"$error":"#REF!"}},{"$f":"IF(ISBLANK(I23771),\"\",$F$12*#REF!+$G$12)","v":{"$error":"#REF!"}}]
[null,null,null,null,null,null,null,null,{"$f":"IF(ISBLANK(#REF!),\"\",$F$11*#REF!+$G$11)","v":{"$error":"#REF!"}},{"$f":"IF(ISBLANK(I23788),\"\",$F$12*#REF!+$G$12)","v":{"$error":"#REF!"}}]
[null,null,null,null,null,null,null,null,{"$f":"IF(ISBLANK(#REF!),\"\",$F$11*#REF!+$G$11)","v":{"$error":"#REF!"}},{"$f":"IF(ISBLANK(I23821),\"\",$F$12*#REF!+$G$12)","v":{"$error":"#REF!"}}]
[null,null,null,null,null,null,null,null,{"$f":"IF(ISBLANK(#REF!),\"\",$F$11*#REF!+$G$11)","v":{"$error":"#REF!"}},{"$f":"IF(ISBLANK(I23846),\"\",$F$12*#REF!+$G$12)","v":{"$error":"#REF!"}}]
[null,null,null,null,null,null,null,null,{"$f":"IF(ISBLANK(#REF!),\"\",$F$11*#REF!+$G$11)","v":{"$error":"#REF!"}},{"$f":"IF(ISBLANK(I23863),\"\",$F$12*#REF!+$G$12)","v":{"$error":"#REF!"}}]
[null,null,null,null,null,null,null,null,{"$f":"IF(ISBLANK(#REF!),\"\",$F$11*#REF!+$G$11)","v":{"$error":"#REF!"}},{"$f":"IF(ISBLANK(I23887),\"\",$F$12*#REF!+$G$12)","v":{"$error":"#REF!"}}]
[null,null,null,null,null,null,null,null,{"$f":"IF(ISBLANK(#REF!),\"\",$F$11*#REF!+$G$11)","v":{"$error":"#REF!"}},{"$f":"IF(ISBLANK(I23912),\"\",$F$12*#REF!+$G$12)","v":{"$error":"#REF!"}}]
[null,null,null,null,null,null,null,null,{"$f":"IF(ISBLANK(#REF!),\"\",$F$11*#REF!+$G$11)","v":{"$error":"#REF!"}},{"$f":"IF(ISBLANK(I23945),\"\",$F$12*#REF!+$G$12)","v":{"$error":"#REF!"}}]
[null,null,null,null,null,null,null,null,{"$f":"IF(ISBLANK(#REF!),\"\",$F$11*#REF!+$G$11)","v":{"$error":"#REF!"}},{"$f":"IF(ISBLANK(I23966),\"\",$F$12*#REF!+$G$12)","v":{"$error":"#REF!"}}]
[null,null,null,null,null,null,null,null,{"$f":"IF(ISBLANK(#REF!),\"\",$F$11*#REF!+$G$11)","v":{"$error":"#REF!"}},{"$f":"IF(ISBLANK(I23978),\"\",$F$12*#REF!+$G$12)","v":{"$error":"#REF!"}}]
[null,null,null,null,null,null,null,null,{"$f":"IF(ISBLANK(#REF!),\"\",$F$11*#REF!+$G$11)","v":{"$error":"#REF!"}},{"$f":"IF(ISBLANK(I24011),\"\",$F$12*#REF!+$G$12)","v":{"$error":"#REF!"}}]
[null,null,null,null,null,null,null,null,{"$f":"IF(ISBLANK(#REF!),\"\",$F$11*#REF!+$G$11)","v":{"$error":"#REF!"}},{"$f":"IF(ISBLANK(I24036),\"\",$F$12*#REF!+$G$12)","v":{"$error":"#REF!"}}]
[null,null,null,null,null,null,null,null,{"$f":"IF(ISBLANK(#REF!),\"\",$F$11*#REF!+$G$11)","v":{"$error":"#REF!"}},{"$f":"IF(ISBLANK(I24045),\"\",$F$12*#REF!+$G$12)","v":{"$error":"#REF!"}}]
[null,null,null,null,null,null,null,null,{"$f":"IF(ISBLANK(#REF!),\"\",$F$11*#REF!+$G$11)","v":{"$error":"#REF!"}},{"$f":"IF(ISBLANK(I24081),\"\",$F$12*#REF!+$G$12)","v":{"$error":"#REF!"}}]
[null,null,null,null,null,null,null,null,{"$f":"IF(ISBLANK(#REF!),\"\",$F$11*#REF!+$G$11)","v":{"$error":"#REF!"}},{"$f":"IF(ISBLANK(I24102),\"\",$F$12*#REF!+$G$12)","v":{"$error":"#REF!"}}]
[null,null,null,null,null,null,null,null,{"$f":"IF(ISBLANK(#REF!),\"\",$F$11*#REF!+$G$11)","v":{"$error":"#REF!"}},{"$f":"IF(ISBLANK(I24135),\"\",$F$12*#REF!+$G$12)","v":{"$error":"#REF!"}}]
[null,null,null,null,null,null,null,null,{"$f":"IF(ISBLANK(#REF!),\"\",$F$11*#REF!+$G$11)","v":{"$error":"#REF!"}},{"$f":"IF(ISBLANK(I24144),\"\",$F$12*#REF!+$G$12)","v":{"$error":"#REF!"}}]
[null,null,null,null,null,null,null,null,{"$f":"IF(ISBLANK(#REF!),\"\",$F$11*#REF!+$G$11)","v":{"$error":"#REF!"}},{"$f":"IF(ISBLANK(I24173),\"\",$F$12*#REF!+$G$12)","v":{"$error":"#REF!"}}]
[null,null,null,null,null,null,null,null,{"$f":"IF(ISBLANK(#REF!),\"\",$F$11*#REF!+$G$11)","v":{"$error":"#REF!"}},{"$f":"IF(ISBLANK(I24201),\"\",$F$12*#REF!+$G$12)","v":{"$error":"#REF!"}}]
[null,null,null,null,null,null,null,null,{"$f":"IF(ISBLANK(#REF!),\"\",$F$11*#REF!+$G$11)","v":{"$error":"#REF!"}},{"$f":"IF(ISBLANK(I24226),\"\",$F$12*#REF!+$G$12)","v":{"$error":"#REF!"}}]
[null,null,null,null,null,null,null,null,{"$f":"IF(ISBLANK(#REF!),\"\",$F$11*#REF!+$G$11)","v":{"$error":"#REF!"}},{"$f":"IF(ISBLANK(I24235),\"\",$F$12*#REF!+$G$12)","v":{"$error":"#REF!"}}]
[null,null,null,null,null,null,null,null,{"$f":"IF(ISBLANK(#REF!),\"\",$F$11*#REF!+$G$11)","v":{"$error":"#REF!"}},{"$f":"IF(ISBLANK(I24276),\"\",$F$12*#REF!+$G$12)","v":{"$error":"#REF!"}}]
[null,null,null,null,null,null,null,null,{"$f":"IF(ISBLANK(#REF!),\"\",$F$11*#REF!+$G$11)","v":{"$error":"#REF!"}},{"$f":"IF(ISBLANK(I24292),\"\",$F$12*#REF!+$G$12)","v":{"$error":"#REF!"}}]
[null,null,null,null,null,null,null,null,{"$f":"IF(ISBLANK(#REF!),\"\",$F$11*#REF!+$G$11)","v":{"$error":"#REF!"}},{"$f":"IF(ISBLANK(I24325),\"\",$F$12*#REF!+$G$12)","v":{"$error":"#REF!"}}]
[null,null,null,null,null,null,null,null,{"$f":"IF(ISBLANK(#REF!),\"\",$F$11*#REF!+$G$11)","v":{"$error":"#REF!"}},{"$f":"IF(ISBLANK(I24350),\"\",$F$12*#REF!+$G$12)","v":{"$error":"#REF!"}}]
[null,null,null,null,null,null,null,null,{"$f":"IF(ISBLANK(#REF!),\"\",$F$11*#REF!+$G$11)","v":{"$error":"#REF!"}},{"$f":"IF(ISBLANK(I24368),\"\",$F$12*#REF!+$G$12)","v":{"$error":"#REF!"}}]
[null,null,null,null,null,null,null,null,{"$f":"IF(ISBLANK(#REF!),\"\",$F$11*#REF!+$G$11)","v":{"$error":"#REF!"}},{"$f":"IF(ISBLANK(I24391),\"\",$F$12*#REF!+$G$12)","v":{"$error":"#REF!"}}]
[null,null,null,null,null,null,null,null,{"$f":"IF(ISBLANK(#REF!),\"\",$F$11*#REF!+$G$11)","v":{"$error":"#REF!"}},{"$f":"IF(ISBLANK(I24416),\"\",$F$12*#REF!+$G$12)","v":{"$error":"#REF!"}}]
[null,null,null,null,null,null,null,null,{"$f":"IF(ISBLANK(#REF!),\"\",$F$11*#REF!+$G$11)","v":{"$error":"#REF!"}},{"$f":"IF(ISBLANK(I24425),\"\",$F$12*#REF!+$G$12)","v":{"$error":"#REF!"}}]
[null,null,null,null,null,null,null,null,{"$f":"IF(ISBLANK(#REF!),\"\",$F$11*#REF!+$G$11)","v":{"$error":"#REF!"}},{"$f":"IF(ISBLANK(I24448),\"\",$F$12*#REF!+$G$12)","v":{"$error":"#REF!"}}]
[null,null,null,null,null,null,null,null,{"$f":"IF(ISBLANK(#REF!),\"\",$F$11*#REF!+$G$11)","v":{"$error":"#REF!"}},{"$f":"IF(ISBLANK(I24482),\"\",$F$12*#REF!+$G$12)","v":{"$error":"#REF!"}}]
[null,null,null,null,null,null,null,null,{"$f":"IF(ISBLANK(#REF!),\"\",$F$11*#REF!+$G$11)","v":{"$error":"#REF!"}},{"$f":"IF(ISBLANK(I24515),\"\",$F$12*#REF!+$G$12)","v":{"$error":"#REF!"}}]
[null,null,null,null,null,null,null,null,{"$f":"IF(ISBLANK(#REF!),\"\",$F$11*#REF!+$G$11)","v":{"$error":"#REF!"}},{"$f":"IF(ISBLANK(I24540),\"\",$F$12*#REF!+$G$12)","v":{"$error":"#REF!"}}]
[null,null,null,null,null,null,null,null,{"$f":"IF(ISBLANK(#REF!),\"\",$F$11*#REF!+$G$11)","v":{"$error":"#REF!"}},{"$f":"IF(ISBLANK(I24563),\"\",$F$12*#REF!+$G$12)","v":{"$error":"#REF!"}}]
[null,null,null,null,null,null,null,null,{"$f":"IF(ISBLANK(#REF!),\"\",$F$11*#REF!+$G$11)","v":{"$error":"#REF!"}},{"$f":"IF(ISBLANK(I24581),\"\",$F$12*#REF!+$G$12)","v":{"$error":"#REF!"}}]
[null,null,null,null,null,null,null,null,{"$f":"IF(ISBLANK(#REF!),\"\",$F$11*#REF!+$G$11)","v":{"$error":"#REF!"}},{"$f":"IF(ISBLANK(I24606),\"\",$F$12*#REF!+$G$12)","v":{"$error":"#REF!"}}]
[null,null,null,null,null,null,null,null,{"$f":"IF(ISBLANK(#REF!),\"\",$F$11*#REF!+$G$11)","v":{"$error":"#REF!"}},{"$f":"IF(ISBLANK(I24615),\"\",$F$12*#REF!+$G$12)","v":{"$error":"#REF!"}}]
[null,null,null,null,null,null,null,null,{"$f":"IF(ISBLANK(#REF!),\"\",$F$11*#REF!+$G$11)","v":{"$error":"#REF!"}},{"$f":"IF(ISBLANK(I24655),\"\",$F$12*#REF!+$G$12)","v":{"$error":"#REF!"}}]
[null,null,null,null,null,null,null,null,{"$f":"IF(ISBLANK(#REF!),\"\",$F$11*#REF!+$G$11)","v":{"$error":"#REF!"}},{"$f":"IF(ISBLANK(I24672),\"\",$F$12*#REF!+$G$12)","v":{"$error":"#REF!"}}]
[null,null,null,null,null,null,null,null,{"$f":"IF(ISBLANK(#REF!),\"\",$F$11*#REF!+$G$11)","v":{"$error":"#REF!"}},{"$f":"IF(ISBLANK(I24705),\"\",$F$12*#REF!+$G$12)","v":{"$error":"#REF!"}}]
[null,null,null,null,null,null,null,null,{"$f":"IF(ISBLANK(#REF!),\"\",$F$11*#REF!+$G$11)","v":{"$error":"#REF!"}},{"$f":"IF(ISBLANK(I24730),\"\",$F$12*#REF!+$G$12)","v":{"$error":"#REF!"}}]
[null,null,null,null,null,null,null,null,{"$f":"IF(ISBLANK(#REF!),\"\",$F$11*#REF!+$G$11)","v":{"$error":"#REF!"}},{"$f":"IF(ISBLANK(I24735),\"\",$F$12*#REF!+$G$12)","v":{"$error":"#REF!"}}]
[null,null,null,null,null,null,null,null,{"$f":"IF(ISBLANK(#REF!),\"\",$F$11*#REF!+$G$11)","v":{"$error":"#REF!"}},{"$f":"IF(ISBLANK(I24771),\"\",$F$12*#REF!+$G$12)","v":{"$error":"#REF!"}}]
[null,null,null,null,null,null,null,null,{"$f":"IF(ISBLANK(#REF!),\"\",$F$11*#REF!+$G$11)","v":{"$error":"#REF!"}},{"$f":"IF(ISBLANK(I24796),\"\",$F$12*#REF!+$G$12)","v":{"$error":"#REF!"}}]
[null,null,null,null,null,null,null,null,{"$f":"IF(ISBLANK(#REF!),\"\",$F$11*#REF!+$G$11)","v":{"$error":"#REF!"}},{"$f":"IF(ISBLANK(I24805),\"\",$F$12*#REF!+$G$12)","v":{"$error":"#REF!"}}]
[null,null,null,null,null,null,null,null,{"$f":"IF(ISBLANK(#REF!),\"\",$F$11*#REF!+$G$11)","v":{"$error":"#REF!"}},{"$f":"IF(ISBLANK(I24850),\"\",$F$12*#REF!+$G$12)","v":{"$error":"#REF!"}}]
[null,null,null,null,null,null,null,null,{"$f":"IF(ISBLANK(#REF!),\"\",$F$11*#REF!+$G$11)","v":{"$error":"#REF!"}},{"$f":"IF(ISBLANK(I24862),\"\",$F$12*#REF!+$G$12)","v":{"$error":"#REF!"}}]
[null,null,null,null,null,null,null,null,{"$f":"IF(ISBLANK(#REF!),\"\",$F$11*#REF!+$G$11)","v":{"$error":"#REF!"}},{"$f":"IF(ISBLANK(I24895),\"\",$F$12*#REF!+$G$12)","v":{"$error":"#REF!"}}]
[null,null,null,null,null,null,null,null,{"$f":"IF(ISBLANK(#REF!),\"\",$F$11*#REF!+$G$11)","v":{"$error":"#REF!"}},{"$f":"IF(ISBLANK(I24920),\"\",$F$12*#REF!+$G$12)","v":{"$error":"#REF!"}}]
[null,null,null,null,null,null,null,null,{"$f":"IF(ISBLANK(#REF!),\"\",$F$11*#REF!+$G$11)","v":{"$error":"#REF!"}},{"$f":"IF(ISBLANK(I24930),\"\",$F$12*#REF!+$G$12)","v":{"$error":"#REF!"}}]
[null,null,null,null,null,null,null,null,{"$f":"IF(ISBLANK(#REF!),\"\",$F$11*#REF!+$G$11)","v":{"$error":"#REF!"}},{"$f":"IF(ISBLANK(I24961),\"\",$F$12*#REF!+$G$12)","v":{"$error":"#REF!"}}]
[null,null,null,null,null,null,null,null,{"$f":"IF(ISBLANK(#REF!),\"\",$F$11*#REF!+$G$11)","v":{"$error":"#REF!"}},{"$f":"IF(ISBLANK(I24986),\"\",$F$12*#REF!+$G$12)","v":{"$error":"#REF!"}}]
[null,null,null,null,null,null,null,null,{"$f":"IF(ISBLANK(#REF!),\"\",$F$11*#REF!+$G$11)","v":{"$error":"#REF!"}},{"$f":"IF(ISBLANK(I24995),\"\",$F$12*#REF!+$G$12)","v":{"$error":"#REF!"}}]
[null,null,null,null,null,null,null,null,{"$f":"IF(ISBLANK(#REF!),\"\",$F$11*#REF!+$G$11)","v":{"$error":"#REF!"}},{"$f":"IF(ISBLANK(I25022),\"\",$F$12*#REF!+$G$12)","v":{"$error":"#REF!"}}]
[null,null,null,null,null,null,null,null,{"$f":"IF(ISBLANK(#REF!),\"\",$F$11*#REF!+$G$11)","v":{"$error":"#REF!"}},{"$f":"IF(ISBLANK(I25052),\"\",$F$12*#REF!+$G$12)","v":{"$error":"#REF!"}}]
[null,null,null,null,null,null,null,null,{"$f":"IF(ISBLANK(#REF!),\"\",$F$11*#REF!+$G$11)","v":{"$error":"#REF!"}},{"$f":"IF(ISBLANK(I25085),\"\",$F$12*#REF!+$G$12)","v":{"$error":"#REF!"}}]
[null,null,null,null,null,null,null,null,{"$f":"IF(ISBLANK(#REF!),\"\",$F$11*#REF!+$G$11)","v":{"$error":"#REF!"}},{"$f":"IF(ISBLANK(I25110),\"\",$F$12*#REF!+$G$12)","v":{"$error":"#REF!"}}]
[null,null,null,null,null,null,null,null,{"$f":"IF(ISBLANK(#REF!),\"\",$F$11*#REF!+$G$11)","v":{"$error":"#REF!"}},{"$f":"IF(ISBLANK(I25125),\"\",$F$12*#REF!+$G$12)","v":{"$error":"#REF!"}}]
[null,null,null,null,null,null,null,null,{"$f":"IF(ISBLANK(#REF!),\"\",$F$11*#REF!+$G$11)","v":{"$error":"#REF!"}},{"$f":"IF(ISBLANK(I25143),\"\",$F$12*#REF!+$G$12)","v":{"$error":"#REF!"}}]
[null,null,null,null,null,null,null,null,{"$f":"IF(ISBLANK(#REF!),\"\",$F$11*#REF!+$G$11)","v":{"$error":"#REF!"}},{"$f":"IF(ISBLANK(I25176),\"\",$F$12*#REF!+$G$12)","v":{"$error":"#REF!"}}]
[null,null,null,null,null,null,null,null,{"$f":"IF(ISBLANK(#REF!),\"\",$F$11*#REF!+$G$11)","v":{"$error":"#REF!"}},{"$f":"IF(ISBLANK(I25185),\"\",$F$12*#REF!+$G$12)","v":{"$error":"#REF!"}}]
[null,null,null,null,null,null,null,null,{"$f":"IF(ISBLANK(#REF!),\"\",$F$11*#REF!+$G$11)","v":{"$error":"#REF!"}},{"$f":"IF(ISBLANK(I25217),\"\",$F$12*#REF!+$G$12)","v":{"$error":"#REF!"}}]
[null,null,null,null,null,null,null,null,{"$f":"IF(ISBLANK(#REF!),\"\",$F$11*#REF!+$G$11)","v":{"$error":"#REF!"}},{"$f":"IF(ISBLANK(I25242),\"\",$F$12*#REF!+$G$12)","v":{"$error":"#REF!"}}]
[null,null,null,null,null,null,null,null,{"$f":"IF(ISBLANK(#REF!),\"\",$F$11*#REF!+$G$11)","v":{"$error":"#REF!"}},{"$f":"IF(ISBLANK(I25275),\"\",$F$12*#REF!+$G$12)","v":{"$error":"#REF!"}}]
[null,null,null,null,null,null,null,null,{"$f":"IF(ISBLANK(#REF!),\"\",$F$11*#REF!+$G$11)","v":{"$error":"#REF!"}},{"$f":"IF(ISBLANK(I25300),\"\",$F$12*#REF!+$G$12)","v":{"$error":"#REF!"}}]
[null,null,null,null,null,null,null,null,{"$f":"IF(ISBLANK(#REF!),\"\",$F$11*#REF!+$G$11)","v":{"$error":"#REF!"}},{"$f":"IF(ISBLANK(I25320),\"\",$F$12*#REF!+$G$12)","v":{"$error":"#REF!"}}]
[null,null,null,null,null,null,null,null,{"$f":"IF(ISBLANK(#REF!),\"\",$F$11*#REF!+$G$11)","v":{"$error":"#REF!"}},{"$f":"IF(ISBLANK(I25333),\"\",$F$12*#REF!+$G$12)","v":{"$error":"#REF!"}}]
[null,null,null,null,null,null,null,null,{"$f":"IF(ISBLANK(#REF!),\"\",$F$11*#REF!+$G$11)","v":{"$error":"#REF!"}},{"$f":"IF(ISBLANK(I25366),\"\",$F$12*#REF!+$G$12)","v":{"$error":"#REF!"}}]
[null,null,null,null,null,null,null,null,{"$f":"IF(ISBLANK(#REF!),\"\",$F$11*#REF!+$G$11)","v":{"$error":"#REF!"}},{"$f":"IF(ISBLANK(I25375),\"\",$F$12*#REF!+$G$12)","v":{"$error":"#REF!"}}]
[null,null,null,null,null,null,null,null,{"$f":"IF(ISBLANK(#REF!),\"\",$F$11*#REF!+$G$11)","v":{"$error":"#REF!"}},{"$f":"IF(ISBLANK(I25412),\"\",$F$12*#REF!+$G$12)","v":{"$error":"#REF!"}}]
[null,null,null,null,null,null,null,null,{"$f":"IF(ISBLANK(#REF!),\"\",$F$11*#REF!+$G$11)","v":{"$error":"#REF!"}},{"$f":"IF(ISBLANK(I25432),\"\",$F$12*#REF!+$G$12)","v":{"$error":"#REF!"}}]
[null,null,null,null,null,null,null,null,{"$f":"IF(ISBLANK(#REF!),\"\",$F$11*#REF!+$G$11)","v":{"$error":"#REF!"}},{"$f":"IF(ISBLANK(I25457),\"\",$F$12*#REF!+$G$12)","v":{"$error":"#REF!"}}]
[null,null,null,null,null,null,null,null,{"$f":"IF(ISBLANK(#REF!),\"\",$F$11*#REF!+$G$11)","v":{"$error":"#REF!"}},{"$f":"IF(ISBLANK(I25490),\"\",$F$12*#REF!+$G$12)","v":{"$error":"#REF!"}}]
[null,null,null,null,null,null,null,null,{"$f":"IF(ISBLANK(#REF!),\"\",$F$11*#REF!+$G$11)","v":{"$error":"#REF!"}},{"$f":"IF(ISBLANK(I25515),\"\",$F$12*#REF!+$G$12)","v":{"$error":"#REF!"}}]
[null,null,null,null,null,null,null,null,{"$f":"IF(ISBLANK(#REF!),\"\",$F$11*#REF!+$G$11)","v":{"$error":"#REF!"}},{"$f":"IF(ISBLANK(I25523),\"\",$F$12*#REF!+$G$12)","v":{"$error":"#REF!"}}]
[null,null,null,null,null,null,null,null,{"$f":"IF(ISBLANK(#REF!),\"\",$F$11*#REF!+$G$11)","v":{"$error":"#REF!"}},{"$f":"IF(ISBLANK(I25556),\"\",$F$12*#REF!+$G$12)","v":{"$error":"#REF!"}}]
[null,null,null,null,null,null,null,null,{"$f":"IF(ISBLANK(#REF!),\"\",$F$11*#REF!+$G$11)","v":{"$error":"#REF!"}},{"$f":"IF(ISBLANK(I25565),\"\",$F$12*#REF!+$G$12)","v":{"$error":"#REF!"}}]
[null,null,null,null,null,null,null,null,{"$f":"IF(ISBLANK(#REF!),\"\",$F$11*#REF!+$G$11)","v":{"$error":"#REF!"}},{"$f":"IF(ISBLANK(I25607),\"\",$F$12*#REF!+$G$12)","v":{"$error":"#REF!"}}]
[null,null,null,null,null,null,null,null,{"$f":"IF(ISBLANK(#REF!),\"\",$F$11*#REF!+$G$11)","v":{"$error":"#REF!"}},{"$f":"IF(ISBLANK(I25622),\"\",$F$12*#REF!+$G$12)","v":{"$error":"#REF!"}}]
[null,null,null,null,null,null,null,null,{"$f":"IF(ISBLANK(#REF!),\"\",$F$11*#REF!+$G$11)","v":{"$error":"#REF!"}},{"$f":"IF(ISBLANK(I25647),\"\",$F$12*#REF!+$G$12)","v":{"$error":"#REF!"}}]
[null,null,null,null,null,null,null,null,{"$f":"IF(ISBLANK(#REF!),\"\",$F$11*#REF!+$G$11)","v":{"$error":"#REF!"}},{"$f":"IF(ISBLANK(I25680),\"\",$F$12*#REF!+$G$12)","v":{"$error":"#REF!"}}]
[null,null,null,null,null,null,null,null,{"$f":"IF(ISBLANK(#REF!),\"\",$F$11*#REF!+$G$11)","v":{"$error":"#REF!"}},{"$f":"IF(ISBLANK(I25687),\"\",$F$12*#REF!+$G$12)","v":{"$error":"#REF!"}}]
[null,null,null,null,null,null,null,null,{"$f":"IF(ISBLANK(#REF!),\"\",$F$11*#REF!+$G$11)","v":{"$error":"#REF!"}},{"$f":"IF(ISBLANK(I25713),\"\",$F$12*#REF!+$G$12)","v":{"$error":"#REF!"}}]
[null,null,null,null,null,null,null,null,{"$f":"IF(ISBLANK(#REF!),\"\",$F$11*#REF!+$G$11)","v":{"$error":"#REF!"}},{"$f":"IF(ISBLANK(I25746),\"\",$F$12*#REF!+$G$12)","v":{"$error":"#REF!"}}]
[null,null,null,null,null,null,null,null,{"$f":"IF(ISBLANK(#REF!),\"\",$F$11*#REF!+$G$11)","v":{"$error":"#REF!"}},{"$f":"IF(ISBLANK(I25755),\"\",$F$12*#REF!+$G$12)","v":{"$error":"#REF!"}}]
[null,null,null,null,null,null,null,null,{"$f":"IF(ISBLANK(#REF!),\"\",$F$11*#REF!+$G$11)","v":{"$error":"#REF!"}},{"$f":"IF(ISBLANK(I25780),\"\",$F$12*#REF!+$G$12)","v":{"$error":"#REF!"}}]
[null,null,null,null,null,null,null,null,{"$f":"IF(ISBLANK(#REF!),\"\",$F$11*#REF!+$G$11)","v":{"$error":"#REF!"}},{"$f":"IF(ISBLANK(I25802),\"\",$F$12*#REF!+$G$12)","v":{"$error":"#REF!"}}]
[null,null,null,null,null,null,null,null,{"$f":"IF(ISBLANK(#REF!),\"\",$F$11*#REF!+$G$11)","v":{"$error":"#REF!"}},{"$f":"IF(ISBLANK(I25837),\"\",$F$12*#REF!+$G$12)","v":{"$error":"#REF!"}}]
[null,null,null,null,null,null,null,null,{"$f":"IF(ISBLANK(#REF!),\"\",$F$11*#REF!+$G$11)","v":{"$error":"#REF!"}},{"$f":"IF(ISBLANK(I25870),\"\",$F$12*#REF!+$G$12)","v":{"$error":"#REF!"}}]
[null,null,null,null,null,null,null,null,{"$f":"IF(ISBLANK(#REF!),\"\",$F$11*#REF!+$G$11)","v":{"$error":"#REF!"}},{"$f":"IF(ISBLANK(I25879),\"\",$F$12*#REF!+$G$12)","v":{"$error":"#REF!"}}]
[null,null,null,null,null,null,null,null,{"$f":"IF(ISBLANK(#REF!),\"\",$F$11*#REF!+$G$11)","v":{"$error":"#REF!"}},{"$f":"IF(ISBLANK(I25917),\"\",$F$12*#REF!+$G$12)","v":{"$error":"#REF!"}}]
[null,null,null,null,null,null,null,null,{"$f":"IF(ISBLANK(#REF!),\"\",$F$11*#REF!+$G$11)","v":{"$error":"#REF!"}},{"$f":"IF(ISBLANK(I25936),\"\",$F$12*#REF!+$G$12)","v":{"$error":"#REF!"}}]
[null,null,null,null,null,null,null,null,{"$f":"IF(ISBLANK(#REF!),\"\",$F$11*#REF!+$G$11)","v":{"$error":"#REF!"}},{"$f":"IF(ISBLANK(I25961),\"\",$F$12*#REF!+$G$12)","v":{"$error":"#REF!"}}]
[null,null,null,null,null,null,null,null,{"$f":"IF(ISBLANK(#REF!),\"\",$F$11*#REF!+$G$11)","v":{"$error":"#REF!"}},{"$f":"IF(ISBLANK(I25970),\"\",$F$12*#REF!+$G$12)","v":{"$error":"#REF!"}}]
[null,null,null,null,null,null,null,null,{"$f":"IF(ISBLANK(#REF!),\"\",$F$11*#REF!+$G$11)","v":{"$error":"#REF!"}},{"$f":"IF(ISBLANK(I25997),\"\",$F$12*#REF!+$G$12)","v":{"$error":"#REF!"}}]
[null,null,null,null,null,null,null,null,{"$f":"IF(ISBLANK(#REF!),\"\",$F$11*#REF!+$G$11)","v":{"$error":"#REF!"}},{"$f":"IF(ISBLANK(I26027),\"\",$F$12*#REF!+$G$12)","v":{"$error":"#REF!"}}]
[null,null,null,null,null,null,null,null,{"$f":"IF(ISBLANK(#REF!),\"\",$F$11*#REF!+$G$11)","v":{"$error":"#REF!"}},{"$f":"IF(ISBLANK(I26060),\"\",$F$12*#REF!+$G$12)","v":{"$error":"#REF!"}}]
[null,null,null,null,null,null,null,null,{"$f":"IF(ISBLANK(#REF!),\"\",$F$11*#REF!+$G$11)","v":{"$error":"#REF!"}},{"$f":"IF(ISBLANK(I26069),\"\",$F$12*#REF!+$G$12)","v":{"$error":"#REF!"}}]
[null,null,null,null,null,null,null,null,{"$f":"IF(ISBLANK(#REF!),\"\",$F$11*#REF!+$G$11)","v":{"$error":"#REF!"}},{"$f":"IF(ISBLANK(I26089),\"\",$F$12*#REF!+$G$12)","v":{"$error":"#REF!"}}]
[null,null,null,null,null,null,null,null,{"$f":"IF(ISBLANK(#REF!),\"\",$F$11*#REF!+$G$11)","v":{"$error":"#REF!"}},{"$f":"IF(ISBLANK(I26126),\"\",$F$12*#REF!+$G$12)","v":{"$error":"#REF!"}}]
[null,null,null,null,null,null,null,null,{"$f":"IF(ISBLANK(#REF!),\"\",$F$11*#REF!+$G$11)","v":{"$error":"#REF!"}},{"$f":"IF(ISBLANK(I26151),\"\",$F$12*#REF!+$G$12)","v":{"$error":"#REF!"}}]
[null,null,null,null,null,null,null,null,{"$f":"IF(ISBLANK(#REF!),\"\",$F$11*#REF!+$G$11)","v":{"$error":"#REF!"}},{"$f":"IF(ISBLANK(I26160),\"\",$F$12*#REF!+$G$12)","v":{"$error":"#REF!"}}]
[null,null,null,null,null,null,null,null,{"$f":"IF(ISBLANK(#REF!),\"\",$F$11*#REF!+$G$11)","v":{"$error":"#REF!"}},{"$f":"IF(ISBLANK(I26192),\"\",$F$12*#REF!+$G$12)","v":{"$error":"#REF!"}}]
[null,null,null,null,null,null,null,null,{"$f":"IF(ISBLANK(#REF!),\"\",$F$11*#REF!+$G$11)","v":{"$error":"#REF!"}},{"$f":"IF(ISBLANK(I26217),\"\",$F$12*#REF!+$G$12)","v":{"$error":"#REF!"}}]
[null,null,null,null,null,null,null,null,{"$f":"IF(ISBLANK(#REF!),\"\",$F$11*#REF!+$G$11)","v":{"$error":"#REF!"}},{"$f":"IF(ISBLANK(I26250),\"\",$F$12*#REF!+$G$12)","v":{"$error":"#REF!"}}]
[null,null,null,null,null,null,null,null,{"$f":"IF(ISBLANK(#REF!),\"\",$F$11*#REF!+$G$11)","v":{"$error":"#REF!"}},{"$f":"IF(ISBLANK(I26259),\"\",$F$12*#REF!+$G$12)","v":{"$error":"#REF!"}}]
[null,null,null,null,null,null,null,null,{"$f":"IF(ISBLANK(#REF!),\"\",$F$11*#REF!+$G$11)","v":{"$error":"#REF!"}},{"$f":"IF(ISBLANK(I26284),\"\",$F$12*#REF!+$G$12)","v":{"$error":"#REF!"}}]
[null,null,null,null,null,null,null,null,{"$f":"IF(ISBLANK(#REF!),\"\",$F$11*#REF!+$G$11)","v":{"$error":"#REF!"}},{"$f":"IF(ISBLANK(I26316),\"\",$F$12*#REF!+$G$12)","v":{"$error":"#REF!"}}]
[null,null,null,null,null,null,null,null,{"$f":"IF(ISBLANK(#REF!),\"\",$F$11*#REF!+$G$11)","v":{"$error":"#REF!"}},{"$f":"IF(ISBLANK(I26341),\"\",$F$12*#REF!+$G$12)","v":{"$error":"#REF!"}}]
[null,null,null,null,null,null,null,null,{"$f":"IF(ISBLANK(#REF!),\"\",$F$11*#REF!+$G$11)","v":{"$error":"#REF!"}},{"$f":"IF(ISBLANK(I26350),\"\",$F$12*#REF!+$G$12)","v":{"$error":"#REF!"}}]
[null,null,null,null,null,null,null,null,{"$f":"IF(ISBLANK(#REF!),\"\",$F$11*#REF!+$G$11)","v":{"$error":"#REF!"}},{"$f":"IF(ISBLANK(I26387),\"\",$F$12*#REF!+$G$12)","v":{"$error":"#REF!"}}]
[null,null,null,null,null,null,null,null,{"$f":"IF(ISBLANK(#REF!),\"\",$F$11*#REF!+$G$11)","v":{"$error":"#REF!"}},{"$f":"IF(ISBLANK(I26407),\"\",$F$12*#REF!+$G$12)","v":{"$error":"#REF!"}}]
[null,null,null,null,null,null,null,null,{"$f":"IF(ISBLANK(#REF!),\"\",$F$11*#REF!+$G$11)","v":{"$error":"#REF!"}},{"$f":"IF(ISBLANK(I26440),\"\",$F$12*#REF!+$G$12)","v":{"$error":"#REF!"}}]
[null,null,null,null,null,null,null,null,{"$f":"IF(ISBLANK(#REF!),\"\",$F$11*#REF!+$G$11)","v":{"$error":"#REF!"}},{"$f":"IF(ISBLANK(I26465),\"\",$F$12*#REF!+$G$12)","v":{"$error":"#REF!"}}]
[null,null,null,null,null,null,null,null,{"$f":"IF(ISBLANK(#REF!),\"\",$F$11*#REF!+$G$11)","v":{"$error":"#REF!"}},{"$f":"IF(ISBLANK(I26479),\"\",$F$12*#REF!+$G$12)","v":{"$error":"#REF!"}}]
[null,null,null,null,null,null,null,null,{"$f":"IF(ISBLANK(#REF!),\"\",$F$11*#REF!+$G$11)","v":{"$error":"#REF!"}},{"$f":"IF(ISBLANK(I26506),\"\",$F$12*#REF!+$G$12)","v":{"$error":"#REF!"}}]
[null,null,null,null,null,null,null,null,{"$f":"IF(ISBLANK(#REF!),\"\",$F$11*#REF!+$G$11)","v":{"$error":"#REF!"}},{"$f":"IF(ISBLANK(I26531),\"\",$F$12*#REF!+$G$12)","v":{"$error":"#REF!"}}]
[null,null,null,null,null,null,null,null,{"$f":"IF(ISBLANK(#REF!),\"\",$F$11*#REF!+$G$11)","v":{"$error":"#REF!"}},{"$f":"IF(ISBLANK(I26540),\"\",$F$12*#REF!+$G$12)","v":{"$error":"#REF!"}}]
[null,null,null,null,null,null,null,null,{"$f":"IF(ISBLANK(#REF!),\"\",$F$11*#REF!+$G$11)","v":{"$error":"#REF!"}},{"$f":"IF(ISBLANK(I26582),\"\",$F$12*#REF!+$G$12)","v":{"$error":"#REF!"}}]
[null,null,null,null,null,null,null,null,{"$f":"IF(ISBLANK(#REF!),\"\",$F$11*#REF!+$G$11)","v":{"$error":"#REF!"}},{"$f":"IF(ISBLANK(I26597),\"\",$F$12*#REF!+$G$12)","v":{"$error":"#REF!"}}]
[null,null,null,null,null,null,null,null,{"$f":"IF(ISBLANK(#REF!),\"\",$F$11*#REF!+$G$11)","v":{"$error":"#REF!"}},{"$f":"IF(ISBLANK(I26630),\"\",$F$12*#REF!+$G$12)","v":{"$error":"#REF!"}}]
[null,null,null,null,null,null,null,null,{"$f":"IF(ISBLANK(#REF!),\"\",$F$11*#REF!+$G$11)","v":{"$error":"#REF!"}},{"$f":"IF(ISBLANK(I26655),\"\",$F$12*#REF!+$G$12)","v":{"$error":"#REF!"}}]
[null,null,null,null,null,null,null,null,{"$f":"IF(ISBLANK(#REF!),\"\",$F$11*#REF!+$G$11)","v":{"$error":"#REF!"}},{"$f":"IF(ISBLANK(I26674),\"\",$F$12*#REF!+$G$12)","v":{"$error":"#REF!"}}]
[null,null,null,null,null,null,null,null,{"$f":"IF(ISBLANK(#REF!),\"\",$F$11*#REF!+$G$11)","v":{"$error":"#REF!"}},{"$f":"IF(ISBLANK(I26696),\"\",$F$12*#REF!+$G$12)","v":{"$error":"#REF!"}}]
[null,null,null,null,null,null,null,null,{"$f":"IF(ISBLANK(#REF!),\"\",$F$11*#REF!+$G$11)","v":{"$error":"#REF!"}},{"$f":"IF(ISBLANK(I26721),\"\",$F$12*#REF!+$G$12)","v":{"$error":"#REF!"}}]
[null,null,null,null,null,null,null,null,{"$f":"IF(ISBLANK(#REF!),\"\",$F$11*#REF!+$G$11)","v":{"$error":"#REF!"}},{"$f":"IF(ISBLANK(I26730),\"\",$F$12*#REF!+$G$12)","v":{"$error":"#REF!"}}]
[null,null,null,null,null,null,null,null,{"$f":"IF(ISBLANK(#REF!),\"\",$F$11*#REF!+$G$11)","v":{"$error":"#REF!"}},{"$f":"IF(ISBLANK(I26766),\"\",$F$12*#REF!+$G$12)","v":{"$error":"#REF!"}}]
[null,null,null,null,null,null,null,null,{"$f":"IF(ISBLANK(#REF!),\"\",$F$11*#REF!+$G$11)","v":{"$error":"#REF!"}},{"$f":"IF(ISBLANK(I26787),\"\",$F$12*#REF!+$G$12)","v":{"$error":"#REF!"}}]
[null,null,null,null,null,null,null,null,{"$f":"IF(ISBLANK(#REF!),\"\",$F$11*#REF!+$G$11)","v":{"$error":"#REF!"}},{"$f":"IF(ISBLANK(I26820),\"\",$F$12*#REF!+$G$12)","v":{"$error":"#REF!"}}]
[null,null,null,null,null,null,null,null,{"$f":"IF(ISBLANK(#REF!),\"\",$F$11*#REF!+$G$11)","v":{"$error":"#REF!"}},{"$f":"IF(ISBLANK(I26845),\"\",$F$12*#REF!+$G$12)","v":{"$error":"#REF!"}}]
[null,null,null,null,null,null,null,null,{"$f":"IF(ISBLANK(#REF!),\"\",$F$11*#REF!+$G$11)","v":{"$error":"#REF!"}},{"$f":"IF(ISBLANK(I26869),\"\",$F$12*#REF!+$G$12)","v":{"$error":"#REF!"}}]
[null,null,null,null,null,null,null,null,{"$f":"IF(ISBLANK(#REF!),\"\",$F$11*#REF!+$G$11)","v":{"$error":"#REF!"}},{"$f":"IF(ISBLANK(I26886),\"\",$F$12*#REF!+$G$12)","v":{"$error":"#REF!"}}]
[null,null,null,null,null,null,null,null,{"$f":"IF(ISBLANK(#REF!),\"\",$F$11*#REF!+$G$11)","v":{"$error":"#REF!"}},{"$f":"IF(ISBLANK(I26911),\"\",$F$12*#REF!+$G$12)","v":{"$error":"#REF!"}}]
[null,null,null,null,null,null,null,null,{"$f":"IF(ISBLANK(#REF!),\"\",$F$11*#REF!+$G$11)","v":{"$error":"#REF!"}},{"$f":"IF(ISBLANK(I26920),\"\",$F$12*#REF!+$G$12)","v":{"$error":"#REF!"}}]
[null,null,null,null,null,null,null,null,{"$f":"IF(ISBLANK(#REF!),\"\",$F$11*#REF!+$G$11)","v":{"$error":"#REF!"}},{"$f":"IF(ISBLANK(I26961),\"\",$F$12*#REF!+$G$12)","v":{"$error":"#REF!"}}]
[null,null,null,null,null,null,null,null,{"$f":"IF(ISBLANK(#REF!),\"\",$F$11*#REF!+$G$11)","v":{"$error":"#REF!"}},{"$f":"IF(ISBLANK(I26977),\"\",$F$12*#REF!+$G$12)","v":{"$error":"#REF!"}}]
[null,null,null,null,null,null,null,null,{"$f":"IF(ISBLANK(#REF!),\"\",$F$11*#REF!+$G$11)","v":{"$error":"#REF!"}},{"$f":"IF(ISBLANK(I27010),\"\",$F$12*#REF!+$G$12)","v":{"$error":"#REF!"}}]
[null,null,null,null,null,null,null,null,{"$f":"IF(ISBLANK(#REF!),\"\",$F$11*#REF!+$G$11)","v":{"$error":"#REF!"}},{"$f":"IF(ISBLANK(I27035),\"\",$F$12*#REF!+$G$12)","v":{"$error":"#REF!"}}]
[null,null,null,null,null,null,null,null,{"$f":"IF(ISBLANK(#REF!),\"\",$F$11*#REF!+$G$11)","v":{"$error":"#REF!"}},{"$f":"IF(ISBLANK(I27041),\"\",$F$12*#REF!+$G$12)","v":{"$error":"#REF!"}}]
[null,null,null,null,null,null,null,null,{"$f":"IF(ISBLANK(#REF!),\"\",$F$11*#REF!+$G$11)","v":{"$error":"#REF!"}},{"$f":"IF(ISBLANK(I27076),\"\",$F$12*#REF!+$G$12)","v":{"$error":"#REF!"}}]
[null,null,null,null,null,null,null,null,{"$f":"IF(ISBLANK(#REF!),\"\",$F$11*#REF!+$G$11)","v":{"$error":"#REF!"}},{"$f":"IF(ISBLANK(I27101),\"\",$F$12*#REF!+$G$12)","v":{"$error":"#REF!"}}]
[null,null,null,null,null,null,null,null,{"$f":"IF(ISBLANK(#REF!),\"\",$F$11*#REF!+$G$11)","v":{"$error":"#REF!"}},{"$f":"IF(ISBLANK(I27110),\"\",$F$12*#REF!+$G$12)","v":{"$error":"#REF!"}}]
[null,null,null,null,null,null,null,null,{"$f":"IF(ISBLANK(#REF!),\"\",$F$11*#REF!+$G$11)","v":{"$error":"#REF!"}},{"$f":"IF(ISBLANK(I27133),\"\",$F$12*#REF!+$G$12)","v":{"$error":"#REF!"}}]
[null,null,null,null,null,null,null,null,{"$f":"IF(ISBLANK(#REF!),\"\",$F$11*#REF!+$G$11)","v":{"$error":"#REF!"}},{"$f":"IF(ISBLANK(I27167),\"\",$F$12*#REF!+$G$12)","v":{"$error":"#REF!"}}]
[null,null,null,null,null,null,null,null,{"$f":"IF(ISBLANK(#REF!),\"\",$F$11*#REF!+$G$11)","v":{"$error":"#REF!"}},{"$f":"IF(ISBLANK(I27200),\"\",$F$12*#REF!+$G$12)","v":{"$error":"#REF!"}}]
[null,null,null,null,null,null,null,null,{"$f":"IF(ISBLANK(#REF!),\"\",$F$11*#REF!+$G$11)","v":{"$error":"#REF!"}},{"$f":"IF(ISBLANK(I27225),\"\",$F$12*#REF!+$G$12)","v":{"$error":"#REF!"}}]
[null,null,null,null,null,null,null,null,{"$f":"IF(ISBLANK(#REF!),\"\",$F$11*#REF!+$G$11)","v":{"$error":"#REF!"}},{"$f":"IF(ISBLANK(I27236),\"\",$F$12*#REF!+$G$12)","v":{"$error":"#REF!"}}]
[null,null,null,null,null,null,null,null,{"$f":"IF(ISBLANK(#REF!),\"\",$F$11*#REF!+$G$11)","v":{"$error":"#REF!"}},{"$f":"IF(ISBLANK(I27258),\"\",$F$12*#REF!+$G$12)","v":{"$error":"#REF!"}}]
[null,null,null,null,null,null,null,null,{"$f":"IF(ISBLANK(#REF!),\"\",$F$11*#REF!+$G$11)","v":{"$error":"#REF!"}},{"$f":"IF(ISBLANK(I27291),\"\",$F$12*#REF!+$G$12)","v":{"$error":"#REF!"}}]
[null,null,null,null,null,null,null,null,{"$f":"IF(ISBLANK(#REF!),\"\",$F$11*#REF!+$G$11)","v":{"$error":"#REF!"}},{"$f":"IF(ISBLANK(I27300),\"\",$F$12*#REF!+$G$12)","v":{"$error":"#REF!"}}]
[null,null,null,null,null,null,null,null,{"$f":"IF(ISBLANK(#REF!),\"\",$F$11*#REF!+$G$11)","v":{"$error":"#REF!"}},{"$f":"IF(ISBLANK(I27328),\"\",$F$12*#REF!+$G$12)","v":{"$error":"#REF!"}}]
[null,null,null,null,null,null,null,null,{"$f":"IF(ISBLANK(#REF!),\"\",$F$11*#REF!+$G$11)","v":{"$error":"#REF!"}},{"$f":"IF(ISBLANK(I27357),\"\",$F$12*#REF!+$G$12)","v":{"$error":"#REF!"}}]
[null,null,null,null,null,null,null,null,{"$f":"IF(ISBLANK(#REF!),\"\",$F$11*#REF!+$G$11)","v":{"$error":"#REF!"}},{"$f":"IF(ISBLANK(I27390),\"\",$F$12*#REF!+$G$12)","v":{"$error":"#REF!"}}]
[null,null,null,null,null,null,null,null,{"$f":"IF(ISBLANK(#REF!),\"\",$F$11*#REF!+$G$11)","v":{"$error":"#REF!"}},{"$f":"IF(ISBLANK(I27415),\"\",$F$12*#REF!+$G$12)","v":{"$error":"#REF!"}}]
[null,null,null,null,null,null,null,null,{"$f":"IF(ISBLANK(#REF!),\"\",$F$11*#REF!+$G$11)","v":{"$error":"#REF!"}},{"$f":"IF(ISBLANK(I27431),\"\",$F$12*#REF!+$G$12)","v":{"$error":"#REF!"}}]
[null,null,null,null,null,null,null,null,{"$f":"IF(ISBLANK(#REF!),\"\",$F$11*#REF!+$G$11)","v":{"$error":"#REF!"}},{"$f":"IF(ISBLANK(I27448),\"\",$F$12*#REF!+$G$12)","v":{"$error":"#REF!"}}]
[null,null,null,null,null,null,null,null,{"$f":"IF(ISBLANK(#REF!),\"\",$F$11*#REF!+$G$11)","v":{"$error":"#REF!"}},{"$f":"IF(ISBLANK(I27481),\"\",$F$12*#REF!+$G$12)","v":{"$error":"#REF!"}}]
[null,null,null,null,null,null,null,null,{"$f":"IF(ISBLANK(#REF!),\"\",$F$11*#REF!+$G$11)","v":{"$error":"#REF!"}},{"$f":"IF(ISBLANK(I27490),\"\",$F$12*#REF!+$G$12)","v":{"$error":"#REF!"}}]
[null,null,null,null,null,null,null,null,{"$f":"IF(ISBLANK(#REF!),\"\",$F$11*#REF!+$G$11)","v":{"$error":"#REF!"}},{"$f":"IF(ISBLANK(I27515),\"\",$F$12*#REF!+$G$12)","v":{"$error":"#REF!"}}]
[null,null,null,null,null,null,null,null,{"$f":"IF(ISBLANK(#REF!),\"\",$F$11*#REF!+$G$11)","v":{"$error":"#REF!"}},{"$f":"IF(ISBLANK(I27546),\"\",$F$12*#REF!+$G$12)","v":{"$error":"#REF!"}}]
[null,null,null,null,null,null,null,null,{"$f":"IF(ISBLANK(#REF!),\"\",$F$11*#REF!+$G$11)","v":{"$error":"#REF!"}},{"$f":"IF(ISBLANK(I27580),\"\",$F$12*#REF!+$G$12)","v":{"$error":"#REF!"}}]
[null,null,null,null,null,null,null,null,{"$f":"IF(ISBLANK(#REF!),\"\",$F$11*#REF!+$G$11)","v":{"$error":"#REF!"}},{"$f":"IF(ISBLANK(I27605),\"\",$F$12*#REF!+$G$12)","v":{"$error":"#REF!"}}]
[null,null,null,null,null,null,null,null,{"$f":"IF(ISBLANK(#REF!),\"\",$F$11*#REF!+$G$11)","v":{"$error":"#REF!"}},{"$f":"IF(ISBLANK(I27614),\"\",$F$12*#REF!+$G$12)","v":{"$error":"#REF!"}}]
[null,null,null,null,null,null,null,null,{"$f":"IF(ISBLANK(#REF!),\"\",$F$11*#REF!+$G$11)","v":{"$error":"#REF!"}},{"$f":"IF(ISBLANK(I27638),\"\",$F$12*#REF!+$G$12)","v":{"$error":"#REF!"}}]
[null,null,null,null,null,null,null,null,{"$f":"IF(ISBLANK(#REF!),\"\",$F$11*#REF!+$G$11)","v":{"$error":"#REF!"}},{"$f":"IF(ISBLANK(I27671),\"\",$F$12*#REF!+$G$12)","v":{"$error":"#REF!"}}]
[null,null,null,null,null,null,null,null,{"$f":"IF(ISBLANK(#REF!),\"\",$F$11*#REF!+$G$11)","v":{"$error":"#REF!"}},{"$f":"IF(ISBLANK(I27680),\"\",$F$12*#REF!+$G$12)","v":{"$error":"#REF!"}}]
[null,null,null,null,null,null,null,null,{"$f":"IF(ISBLANK(#REF!),\"\",$F$11*#REF!+$G$11)","v":{"$error":"#REF!"}},{"$f":"IF(ISBLANK(I27705),\"\",$F$12*#REF!+$G$12)","v":{"$error":"#REF!"}}]
[null,null,null,null,null,null,null,null,{"$f":"IF(ISBLANK(#REF!),\"\",$F$11*#REF!+$G$11)","v":{"$error":"#REF!"}},{"$f":"IF(ISBLANK(I27741),\"\",$F$12*#REF!+$G$12)","v":{"$error":"#REF!"}}]
[null,null,null,null,null,null,null,null,{"$f":"IF(ISBLANK(#REF!),\"\",$F$11*#REF!+$G$11)","v":{"$error":"#REF!"}},{"$f":"IF(ISBLANK(I27762),\"\",$F$12*#REF!+$G$12)","v":{"$error":"#REF!"}}]
[null,null,null,null,null,null,null,null,{"$f":"IF(ISBLANK(#REF!),\"\",$F$11*#REF!+$G$11)","v":{"$error":"#REF!"}},{"$f":"IF(ISBLANK(I27795),\"\",$F$12*#REF!+$G$12)","v":{"$error":"#REF!"}}]
[null,null,null,null,null,null,null,null,{"$f":"IF(ISBLANK(#REF!),\"\",$F$11*#REF!+$G$11)","v":{"$error":"#REF!"}},{"$f":"IF(ISBLANK(I27804),\"\",$F$12*#REF!+$G$12)","v":{"$error":"#REF!"}}]
[null,null,null,null,null,null,null,null,{"$f":"IF(ISBLANK(#REF!),\"\",$F$11*#REF!+$G$11)","v":{"$error":"#REF!"}},{"$f":"IF(ISBLANK(I27833),\"\",$F$12*#REF!+$G$12)","v":{"$error":"#REF!"}}]
[null,null,null,null,null,null,null,null,{"$f":"IF(ISBLANK(#REF!),\"\",$F$11*#REF!+$G$11)","v":{"$error":"#REF!"}},{"$f":"IF(ISBLANK(I27861),\"\",$F$12*#REF!+$G$12)","v":{"$error":"#REF!"}}]
[null,null,null,null,null,null,null,null,{"$f":"IF(ISBLANK(#REF!),\"\",$F$11*#REF!+$G$11)","v":{"$error":"#REF!"}},{"$f":"IF(ISBLANK(I27870),\"\",$F$12*#REF!+$G$12)","v":{"$error":"#REF!"}}]
[null,null,null,null,null,null,null,null,{"$f":"IF(ISBLANK(#REF!),\"\",$F$11*#REF!+$G$11)","v":{"$error":"#REF!"}},{"$f":"IF(ISBLANK(I27895),\"\",$F$12*#REF!+$G$12)","v":{"$error":"#REF!"}}]
[null,null,null,null,null,null,null,null,{"$f":"IF(ISBLANK(#REF!),\"\",$F$11*#REF!+$G$11)","v":{"$error":"#REF!"}},{"$f":"IF(ISBLANK(I27936),\"\",$F$12*#REF!+$G$12)","v":{"$error":"#REF!"}}]
[null,null,null,null,null,null,null,null,{"$f":"IF(ISBLANK(#REF!),\"\",$F$11*#REF!+$G$11)","v":{"$error":"#REF!"}},{"$f":"IF(ISBLANK(I27952),\"\",$F$12*#REF!+$G$12)","v":{"$error":"#REF!"}}]
[null,null,null,null,null,null,null,null,{"$f":"IF(ISBLANK(#REF!),\"\",$F$11*#REF!+$G$11)","v":{"$error":"#REF!"}},{"$f":"IF(ISBLANK(I27985),\"\",$F$12*#REF!+$G$12)","v":{"$error":"#REF!"}}]
[null,null,null,null,null,null,null,null,{"$f":"IF(ISBLANK(#REF!),\"\",$F$11*#REF!+$G$11)","v":{"$error":"#REF!"}},{"$f":"IF(ISBLANK(I27994),\"\",$F$12*#REF!+$G$12)","v":{"$error":"#REF!"}}]
[null,null,null,null,null,null,null,null,{"$f":"IF(ISBLANK(#REF!),\"\",$F$11*#REF!+$G$11)","v":{"$error":"#REF!"}},{"$f":"IF(ISBLANK(I28028),\"\",$F$12*#REF!+$G$12)","v":{"$error":"#REF!"}}]
[null,null,null,null,null,null,null,null,{"$f":"IF(ISBLANK(#REF!),\"\",$F$11*#REF!+$G$11)","v":{"$error":"#REF!"}},{"$f":"IF(ISBLANK(I28051),\"\",$F$12*#REF!+$G$12)","v":{"$error":"#REF!"}}]
[null,null,null,null,null,null,null,null,{"$f":"IF(ISBLANK(#REF!),\"\",$F$11*#REF!+$G$11)","v":{"$error":"#REF!"}},{"$f":"IF(ISBLANK(I28076),\"\",$F$12*#REF!+$G$12)","v":{"$error":"#REF!"}}]
[null,null,null,null,null,null,null,null,{"$f":"IF(ISBLANK(#REF!),\"\",$F$11*#REF!+$G$11)","v":{"$error":"#REF!"}},{"$f":"IF(ISBLANK(I28085),\"\",$F$12*#REF!+$G$12)","v":{"$error":"#REF!"}}]
[null,null,null,null,null,null,null,null,{"$f":"IF(ISBLANK(#REF!),\"\",$F$11*#REF!+$G$11)","v":{"$error":"#REF!"}},{"$f":"IF(ISBLANK(I28108),\"\",$F$12*#REF!+$G$12)","v":{"$error":"#REF!"}}]
[null,null,null,null,null,null,null,null,{"$f":"IF(ISBLANK(#REF!),\"\",$F$11*#REF!+$G$11)","v":{"$error":"#REF!"}},{"$f":"IF(ISBLANK(I28142),\"\",$F$12*#REF!+$G$12)","v":{"$error":"#REF!"}}]
[null,null,null,null,null,null,null,null,{"$f":"IF(ISBLANK(#REF!),\"\",$F$11*#REF!+$G$11)","v":{"$error":"#REF!"}},{"$f":"IF(ISBLANK(I28175),\"\",$F$12*#REF!+$G$12)","v":{"$error":"#REF!"}}]
[null,null,null,null,null,null,null,null,{"$f":"IF(ISBLANK(#REF!),\"\",$F$11*#REF!+$G$11)","v":{"$error":"#REF!"}},{"$f":"IF(ISBLANK(I28184),\"\",$F$12*#REF!+$G$12)","v":{"$error":"#REF!"}}]
[null,null,null,null,null,null,null,null,{"$f":"IF(ISBLANK(#REF!),\"\",$F$11*#REF!+$G$11)","v":{"$error":"#REF!"}},{"$f":"IF(ISBLANK(I28223),\"\",$F$12*#REF!+$G$12)","v":{"$error":"#REF!"}}]
[null,null,null,null,null,null,null,null,{"$f":"IF(ISBLANK(#REF!),\"\",$F$11*#REF!+$G$11)","v":{"$error":"#REF!"}},{"$f":"IF(ISBLANK(I28241),\"\",$F$12*#REF!+$G$12)","v":{"$error":"#REF!"}}]
[null,null,null,null,null,null,null,null,{"$f":"IF(ISBLANK(#REF!),\"\",$F$11*#REF!+$G$11)","v":{"$error":"#REF!"}},{"$f":"IF(ISBLANK(I28266),\"\",$F$12*#REF!+$G$12)","v":{"$error":"#REF!"}}]
[null,null,null,null,null,null,null,null,{"$f":"IF(ISBLANK(#REF!),\"\",$F$11*#REF!+$G$11)","v":{"$error":"#REF!"}},{"$f":"IF(ISBLANK(I28275),\"\",$F$12*#REF!+$G$12)","v":{"$error":"#REF!"}}]
[null,null,null,null,null,null,null,null,{"$f":"IF(ISBLANK(#REF!),\"\",$F$11*#REF!+$G$11)","v":{"$error":"#REF!"}},{"$f":"IF(ISBLANK(I28303),\"\",$F$12*#REF!+$G$12)","v":{"$error":"#REF!"}}]
[null,null,null,null,null,null,null,null,{"$f":"IF(ISBLANK(#REF!),\"\",$F$11*#REF!+$G$11)","v":{"$error":"#REF!"}},{"$f":"IF(ISBLANK(I28332),\"\",$F$12*#REF!+$G$12)","v":{"$error":"#REF!"}}]
[null,null,null,null,null,null,null,null,{"$f":"IF(ISBLANK(#REF!),\"\",$F$11*#REF!+$G$11)","v":{"$error":"#REF!"}},{"$f":"IF(ISBLANK(I28365),\"\",$F$12*#REF!+$G$12)","v":{"$error":"#REF!"}}]
[null,null,null,null,null,null,null,null,{"$f":"IF(ISBLANK(#REF!),\"\",$F$11*#REF!+$G$11)","v":{"$error":"#REF!"}},{"$f":"IF(ISBLANK(I28374),\"\",$F$12*#REF!+$G$12)","v":{"$error":"#REF!"}}]
[null,null,null,null,null,null,null,null,{"$f":"IF(ISBLANK(#REF!),\"\",$F$11*#REF!+$G$11)","v":{"$error":"#REF!"}},{"$f":"IF(ISBLANK(I28395),\"\",$F$12*#REF!+$G$12)","v":{"$error":"#REF!"}}]
[null,null,null,null,null,null,null,null,{"$f":"IF(ISBLANK(#REF!),\"\",$F$11*#REF!+$G$11)","v":{"$error":"#REF!"}},{"$f":"IF(ISBLANK(I28431),\"\",$F$12*#REF!+$G$12)","v":{"$error":"#REF!"}}]
[null,null,null,null,null,null,null,null,{"$f":"IF(ISBLANK(#REF!),\"\",$F$11*#REF!+$G$11)","v":{"$error":"#REF!"}},{"$f":"IF(ISBLANK(I28456),\"\",$F$12*#REF!+$G$12)","v":{"$error":"#REF!"}}]
[null,null,null,null,null,null,null,null,{"$f":"IF(ISBLANK(#REF!),\"\",$F$11*#REF!+$G$11)","v":{"$error":"#REF!"}},{"$f":"IF(ISBLANK(I28465),\"\",$F$12*#REF!+$G$12)","v":{"$error":"#REF!"}}]
[null,null,null,null,null,null,null,null,{"$f":"IF(ISBLANK(#REF!),\"\",$F$11*#REF!+$G$11)","v":{"$error":"#REF!"}},{"$f":"IF(ISBLANK(I28498),\"\",$F$12*#REF!+$G$12)","v":{"$error":"#REF!"}}]
[null,null,null,null,null,null,null,null,{"$f":"IF(ISBLANK(#REF!),\"\",$F$11*#REF!+$G$11)","v":{"$error":"#REF!"}},{"$f":"IF(ISBLANK(I28522),\"\",$F$12*#REF!+$G$12)","v":{"$error":"#REF!"}}]
[null,null,null,null,null,null,null,null,{"$f":"IF(ISBLANK(#REF!),\"\",$F$11*#REF!+$G$11)","v":{"$error":"#REF!"}},{"$f":"IF(ISBLANK(I28555),\"\",$F$12*#REF!+$G$12)","v":{"$error":"#REF!"}}]
[null,null,null,null,null,null,null,null,{"$f":"IF(ISBLANK(#REF!),\"\",$F$11*#REF!+$G$11)","v":{"$error":"#REF!"}},{"$f":"IF(ISBLANK(I28580),\"\",$F$12*#REF!+$G$12)","v":{"$error":"#REF!"}}]
[null,null,null,null,null,null,null,null,{"$f":"IF(ISBLANK(#REF!),\"\",$F$11*#REF!+$G$11)","v":{"$error":"#REF!"}},{"$f":"IF(ISBLANK(I28590),\"\",$F$12*#REF!+$G$12)","v":{"$error":"#REF!"}}]
[null,null,null,null,null,null,null,null,{"$f":"IF(ISBLANK(#REF!),\"\",$F$11*#REF!+$G$11)","v":{"$error":"#REF!"}},{"$f":"IF(ISBLANK(I28621),\"\",$F$12*#REF!+$G$12)","v":{"$error":"#REF!"}}]
[null,null,null,null,null,null,null,null,{"$f":"IF(ISBLANK(#REF!),\"\",$F$11*#REF!+$G$11)","v":{"$error":"#REF!"}},{"$f":"IF(ISBLANK(I28646),\"\",$F$12*#REF!+$G$12)","v":{"$error":"#REF!"}}]
[null,null,null,null,null,null,null,null,{"$f":"IF(ISBLANK(#REF!),\"\",$F$11*#REF!+$G$11)","v":{"$error":"#REF!"}},{"$f":"IF(ISBLANK(I28655),\"\",$F$12*#REF!+$G$12)","v":{"$error":"#REF!"}}]
[null,null,null,null,null,null,null,null,{"$f":"IF(ISBLANK(#REF!),\"\",$F$11*#REF!+$G$11)","v":{"$error":"#REF!"}},{"$f":"IF(ISBLANK(I28693),\"\",$F$12*#REF!+$G$12)","v":{"$error":"#REF!"}}]
[null,null,null,null,null,null,null,null,{"$f":"IF(ISBLANK(#REF!),\"\",$F$11*#REF!+$G$11)","v":{"$error":"#REF!"}},{"$f":"IF(ISBLANK(I28712),\"\",$F$12*#REF!+$G$12)","v":{"$error":"#REF!"}}]
[null,null,null,null,null,null,null,null,{"$f":"IF(ISBLANK(#REF!),\"\",$F$11*#REF!+$G$11)","v":{"$error":"#REF!"}},{"$f":"IF(ISBLANK(I28745),\"\",$F$12*#REF!+$G$12)","v":{"$error":"#REF!"}}]
[null,null,null,null,null,null,null,null,{"$f":"IF(ISBLANK(#REF!),\"\",$F$11*#REF!+$G$11)","v":{"$error":"#REF!"}},{"$f":"IF(ISBLANK(I28770),\"\",$F$12*#REF!+$G$12)","v":{"$error":"#REF!"}}]
[null,null,null,null,null,null,null,null,{"$f":"IF(ISBLANK(#REF!),\"\",$F$11*#REF!+$G$11)","v":{"$error":"#REF!"}},{"$f":"IF(ISBLANK(I28785),\"\",$F$12*#REF!+$G$12)","v":{"$error":"#REF!"}}]
[null,null,null,null,null,null,null,null,{"$f":"IF(ISBLANK(#REF!),\"\",$F$11*#REF!+$G$11)","v":{"$error":"#REF!"}},{"$f":"IF(ISBLANK(I28811),\"\",$F$12*#REF!+$G$12)","v":{"$error":"#REF!"}}]
[null,null,null,null,null,null,null,null,{"$f":"IF(ISBLANK(#REF!),\"\",$F$11*#REF!+$G$11)","v":{"$error":"#REF!"}},{"$f":"IF(ISBLANK(I28836),\"\",$F$12*#REF!+$G$12)","v":{"$error":"#REF!"}}]
[null,null,null,null,null,null,null,null,{"$f":"IF(ISBLANK(#REF!),\"\",$F$11*#REF!+$G$11)","v":{"$error":"#REF!"}},{"$f":"IF(ISBLANK(I28845),\"\",$F$12*#REF!+$G$12)","v":{"$error":"#REF!"}}]
[null,null,null,null,null,null,null,null,{"$f":"IF(ISBLANK(#REF!),\"\",$F$11*#REF!+$G$11)","v":{"$error":"#REF!"}},{"$f":"IF(ISBLANK(I28877),\"\",$F$12*#REF!+$G$12)","v":{"$error":"#REF!"}}]
[null,null,null,null,null,null,null,null,{"$f":"IF(ISBLANK(#REF!),\"\",$F$11*#REF!+$G$11)","v":{"$error":"#REF!"}},{"$f":"IF(ISBLANK(I28902),\"\",$F$12*#REF!+$G$12)","v":{"$error":"#REF!"}}]
[null,null,null,null,null,null,null,null,{"$f":"IF(ISBLANK(#REF!),\"\",$F$11*#REF!+$G$11)","v":{"$error":"#REF!"}},{"$f":"IF(ISBLANK(I28935),\"\",$F$12*#REF!+$G$12)","v":{"$error":"#REF!"}}]
[null,null,null,null,null,null,null,null,{"$f":"IF(ISBLANK(#REF!),\"\",$F$11*#REF!+$G$11)","v":{"$error":"#REF!"}},{"$f":"IF(ISBLANK(I28960),\"\",$F$12*#REF!+$G$12)","v":{"$error":"#REF!"}}]
[null,null,null,null,null,null,null,null,{"$f":"IF(ISBLANK(#REF!),\"\",$F$11*#REF!+$G$11)","v":{"$error":"#REF!"}},{"$f":"IF(ISBLANK(I28980),\"\",$F$12*#REF!+$G$12)","v":{"$error":"#REF!"}}]
[null,null,null,null,null,null,null,null,{"$f":"IF(ISBLANK(#REF!),\"\",$F$11*#REF!+$G$11)","v":{"$error":"#REF!"}},{"$f":"IF(ISBLANK(I29001),\"\",$F$12*#REF!+$G$12)","v":{"$error":"#REF!"}}]
[null,null,null,null,null,null,null,null,{"$f":"IF(ISBLANK(#REF!),\"\",$F$11*#REF!+$G$11)","v":{"$error":"#REF!"}},{"$f":"IF(ISBLANK(I29026),\"\",$F$12*#REF!+$G$12)","v":{"$error":"#REF!"}}]
[null,null,null,null,null,null,null,null,{"$f":"IF(ISBLANK(#REF!),\"\",$F$11*#REF!+$G$11)","v":{"$error":"#REF!"}},{"$f":"IF(ISBLANK(I29035),\"\",$F$12*#REF!+$G$12)","v":{"$error":"#REF!"}}]
[null,null,null,null,null,null,null,null,{"$f":"IF(ISBLANK(#REF!),\"\",$F$11*#REF!+$G$11)","v":{"$error":"#REF!"}},{"$f":"IF(ISBLANK(I29072),\"\",$F$12*#REF!+$G$12)","v":{"$error":"#REF!"}}]
[null,null,null,null,null,null,null,null,{"$f":"IF(ISBLANK(#REF!),\"\",$F$11*#REF!+$G$11)","v":{"$error":"#REF!"}},{"$f":"IF(ISBLANK(I29092),\"\",$F$12*#REF!+$G$12)","v":{"$error":"#REF!"}}]
[null,null,null,null,null,null,null,null,{"$f":"IF(ISBLANK(#REF!),\"\",$F$11*#REF!+$G$11)","v":{"$error":"#REF!"}},{"$f":"IF(ISBLANK(I29125),\"\",$F$12*#REF!+$G$12)","v":{"$error":"#REF!"}}]
[null,null,null,null,null,null,null,null,{"$f":"IF(ISBLANK(#REF!),\"\",$F$11*#REF!+$G$11)","v":{"$error":"#REF!"}},{"$f":"IF(ISBLANK(I29150),\"\",$F$12*#REF!+$G$12)","v":{"$error":"#REF!"}}]
[null,null,null,null,null,null,null,null,{"$f":"IF(ISBLANK(#REF!),\"\",$F$11*#REF!+$G$11)","v":{"$error":"#REF!"}},{"$f":"IF(ISBLANK(I29159),\"\",$F$12*#REF!+$G$12)","v":{"$error":"#REF!"}}]
[null,null,null,null,null,null,null,null,{"$f":"IF(ISBLANK(#REF!),\"\",$F$11*#REF!+$G$11)","v":{"$error":"#REF!"}},{"$f":"IF(ISBLANK(I29175),\"\",$F$12*#REF!+$G$12)","v":{"$error":"#REF!"}}]
[null,null,null,null,null,null,null,null,{"$f":"IF(ISBLANK(#REF!),\"\",$F$11*#REF!+$G$11)","v":{"$error":"#REF!"}},{"$f":"IF(ISBLANK(I29216),\"\",$F$12*#REF!+$G$12)","v":{"$error":"#REF!"}}]
[null,null,null,null,null,null,null,null,{"$f":"IF(ISBLANK(#REF!),\"\",$F$11*#REF!+$G$11)","v":{"$error":"#REF!"}},{"$f":"IF(ISBLANK(I29225),\"\",$F$12*#REF!+$G$12)","v":{"$error":"#REF!"}}]
[null,null,null,null,null,null,null,null,{"$f":"IF(ISBLANK(#REF!),\"\",$F$11*#REF!+$G$11)","v":{"$error":"#REF!"}},{"$f":"IF(ISBLANK(I29250),\"\",$F$12*#REF!+$G$12)","v":{"$error":"#REF!"}}]
[null,null,null,null,null,null,null,null,{"$f":"IF(ISBLANK(#REF!),\"\",$F$11*#REF!+$G$11)","v":{"$error":"#REF!"}},{"$f":"IF(ISBLANK(I29290),\"\",$F$12*#REF!+$G$12)","v":{"$error":"#REF!"}}]
[null,null,null,null,null,null,null,null,{"$f":"IF(ISBLANK(#REF!),\"\",$F$11*#REF!+$G$11)","v":{"$error":"#REF!"}},{"$f":"IF(ISBLANK(I29315),\"\",$F$12*#REF!+$G$12)","v":{"$error":"#REF!"}}]
[null,null,null,null,null,null,null,null,{"$f":"IF(ISBLANK(#REF!),\"\",$F$11*#REF!+$G$11)","v":{"$error":"#REF!"}},{"$f":"IF(ISBLANK(I29340),\"\",$F$12*#REF!+$G$12)","v":{"$error":"#REF!"}}]
[null,null,null,null,null,null,null,null,{"$f":"IF(ISBLANK(#REF!),\"\",$F$11*#REF!+$G$11)","v":{"$error":"#REF!"}},{"$f":"IF(ISBLANK(I29349),\"\",$F$12*#REF!+$G$12)","v":{"$error":"#REF!"}}]
[null,null,null,null,null,null,null,null,{"$f":"IF(ISBLANK(#REF!),\"\",$F$11*#REF!+$G$11)","v":{"$error":"#REF!"}},{"$f":"IF(ISBLANK(I29382),\"\",$F$12*#REF!+$G$12)","v":{"$error":"#REF!"}}]
[null,null,null,null,null,null,null,null,{"$f":"IF(ISBLANK(#REF!),\"\",$F$11*#REF!+$G$11)","v":{"$error":"#REF!"}},{"$f":"IF(ISBLANK(I29406),\"\",$F$12*#REF!+$G$12)","v":{"$error":"#REF!"}}]
[null,null,null,null,null,null,null,null,{"$f":"IF(ISBLANK(#REF!),\"\",$F$11*#REF!+$G$11)","v":{"$error":"#REF!"}},{"$f":"IF(ISBLANK(I29415),\"\",$F$12*#REF!+$G$12)","v":{"$error":"#REF!"}}]
[null,null,null,null,null,null,null,null,{"$f":"IF(ISBLANK(#REF!),\"\",$F$11*#REF!+$G$11)","v":{"$error":"#REF!"}},{"$f":"IF(ISBLANK(I29440),\"\",$F$12*#REF!+$G$12)","v":{"$error":"#REF!"}}]
[null,null,null,null,null,null,null,null,{"$f":"IF(ISBLANK(#REF!),\"\",$F$11*#REF!+$G$11)","v":{"$error":"#REF!"}},{"$f":"IF(ISBLANK(I29462),\"\",$F$12*#REF!+$G$12)","v":{"$error":"#REF!"}}]
[null,null,null,null,null,null,null,null,{"$f":"IF(ISBLANK(#REF!),\"\",$F$11*#REF!+$G$11)","v":{"$error":"#REF!"}},{"$f":"IF(ISBLANK(I29505),\"\",$F$12*#REF!+$G$12)","v":{"$error":"#REF!"}}]
[null,null,null,null,null,null,null,null,{"$f":"IF(ISBLANK(#REF!),\"\",$F$11*#REF!+$G$11)","v":{"$error":"#REF!"}},{"$f":"IF(ISBLANK(I29530),\"\",$F$12*#REF!+$G$12)","v":{"$error":"#REF!"}}]
[null,null,null,null,null,null,null,null,{"$f":"IF(ISBLANK(#REF!),\"\",$F$11*#REF!+$G$11)","v":{"$error":"#REF!"}},{"$f":"IF(ISBLANK(I29539),\"\",$F$12*#REF!+$G$12)","v":{"$error":"#REF!"}}]
[null,null,null,null,null,null,null,null,{"$f":"IF(ISBLANK(#REF!),\"\",$F$11*#REF!+$G$11)","v":{"$error":"#REF!"}},{"$f":"IF(ISBLANK(I29577),\"\",$F$12*#REF!+$G$12)","v":{"$error":"#REF!"}}]
[null,null,null,null,null,null,null,null,{"$f":"IF(ISBLANK(#REF!),\"\",$F$11*#REF!+$G$11)","v":{"$error":"#REF!"}},{"$f":"IF(ISBLANK(I29596),\"\",$F$12*#REF!+$G$12)","v":{"$error":"#REF!"}}]
[null,null,null,null,null,null,null,null,{"$f":"IF(ISBLANK(#REF!),\"\",$F$11*#REF!+$G$11)","v":{"$error":"#REF!"}},{"$f":"IF(ISBLANK(I29605),\"\",$F$12*#REF!+$G$12)","v":{"$error":"#REF!"}}]
[null,null,null,null,null,null,null,null,{"$f":"IF(ISBLANK(#REF!),\"\",$F$11*#REF!+$G$11)","v":{"$error":"#REF!"}},{"$f":"IF(ISBLANK(I29630),\"\",$F$12*#REF!+$G$12)","v":{"$error":"#REF!"}}]
[null,null,null,null,null,null,null,null,{"$f":"IF(ISBLANK(#REF!),\"\",$F$11*#REF!+$G$11)","v":{"$error":"#REF!"}},{"$f":"IF(ISBLANK(I29657),\"\",$F$12*#REF!+$G$12)","v":{"$error":"#REF!"}}]
[null,null,null,null,null,null,null,null,{"$f":"IF(ISBLANK(#REF!),\"\",$F$11*#REF!+$G$11)","v":{"$error":"#REF!"}},{"$f":"IF(ISBLANK(I29695),\"\",$F$12*#REF!+$G$12)","v":{"$error":"#REF!"}}]
[null,null,null,null,null,null,null,null,{"$f":"IF(ISBLANK(#REF!),\"\",$F$11*#REF!+$G$11)","v":{"$error":"#REF!"}},{"$f":"IF(ISBLANK(I29720),\"\",$F$12*#REF!+$G$12)","v":{"$error":"#REF!"}}]
[null,null,null,null,null,null,null,null,{"$f":"IF(ISBLANK(#REF!),\"\",$F$11*#REF!+$G$11)","v":{"$error":"#REF!"}},{"$f":"IF(ISBLANK(I29729),\"\",$F$12*#REF!+$G$12)","v":{"$error":"#REF!"}}]
[null,null,null,null,null,null,null,null,{"$f":"IF(ISBLANK(#REF!),\"\",$F$11*#REF!+$G$11)","v":{"$error":"#REF!"}},{"$f":"IF(ISBLANK(I29749),\"\",$F$12*#REF!+$G$12)","v":{"$error":"#REF!"}}]
[null,null,null,null,null,null,null,null,{"$f":"IF(ISBLANK(#REF!),\"\",$F$11*#REF!+$G$11)","v":{"$error":"#REF!"}},{"$f":"IF(ISBLANK(I29786),\"\",$F$12*#REF!+$G$12)","v":{"$error":"#REF!"}}]
[null,null,null,null,null,null,null,null,{"$f":"IF(ISBLANK(#REF!),\"\",$F$11*#REF!+$G$11)","v":{"$error":"#REF!"}},{"$f":"IF(ISBLANK(I29795),\"\",$F$12*#REF!+$G$12)","v":{"$error":"#REF!"}}]
[null,null,null,null,null,null,null,null,{"$f":"IF(ISBLANK(#REF!),\"\",$F$11*#REF!+$G$11)","v":{"$error":"#REF!"}},{"$f":"IF(ISBLANK(I29820),\"\",$F$12*#REF!+$G$12)","v":{"$error":"#REF!"}}]
[null,null,null,null,null,null,null,null,{"$f":"IF(ISBLANK(#REF!),\"\",$F$11*#REF!+$G$11)","v":{"$error":"#REF!"}},{"$f":"IF(ISBLANK(I29852),\"\",$F$12*#REF!+$G$12)","v":{"$error":"#REF!"}}]
[null,null,null,null,null,null,null,null,{"$f":"IF(ISBLANK(#REF!),\"\",$F$11*#REF!+$G$11)","v":{"$error":"#REF!"}},{"$f":"IF(ISBLANK(I29877),\"\",$F$12*#REF!+$G$12)","v":{"$error":"#REF!"}}]
[null,null,null,null,null,null,null,null,{"$f":"IF(ISBLANK(#REF!),\"\",$F$11*#REF!+$G$11)","v":{"$error":"#REF!"}},{"$f":"IF(ISBLANK(I29910),\"\",$F$12*#REF!+$G$12)","v":{"$error":"#REF!"}}]
[null,null,null,null,null,null,null,null,{"$f":"IF(ISBLANK(#REF!),\"\",$F$11*#REF!+$G$11)","v":{"$error":"#REF!"}},{"$f":"IF(ISBLANK(I29919),\"\",$F$12*#REF!+$G$12)","v":{"$error":"#REF!"}}]
[null,null,null,null,null,null,null,null,{"$f":"IF(ISBLANK(#REF!),\"\",$F$11*#REF!+$G$11)","v":{"$error":"#REF!"}},{"$f":"IF(ISBLANK(I29944),\"\",$F$12*#REF!+$G$12)","v":{"$error":"#REF!"}}]
[null,null,null,null,null,null,null,null,{"$f":"IF(ISBLANK(#REF!),\"\",$F$11*#REF!+$G$11)","v":{"$error":"#REF!"}},{"$f":"IF(ISBLANK(I29976),\"\",$F$12*#REF!+$G$12)","v":{"$error":"#REF!"}}]
[null,null,null,null,null,null,null,null,{"$f":"IF(ISBLANK(#REF!),\"\",$F$11*#REF!+$G$11)","v":{"$error":"#REF!"}},{"$f":"IF(ISBLANK(I29985),\"\",$F$12*#REF!+$G$12)","v":{"$error":"#REF!"}}]
[null,null,null,null,null,null,null,null,{"$f":"IF(ISBLANK(#REF!),\"\",$F$11*#REF!+$G$11)","v":{"$error":"#REF!"}},{"$f":"IF(ISBLANK(I30010),\"\",$F$12*#REF!+$G$12)","v":{"$error":"#REF!"}}]
[null,null,null,null,null,null,null,null,{"$f":"IF(ISBLANK(#REF!),\"\",$F$11*#REF!+$G$11)","v":{"$error":"#REF!"}},{"$f":"IF(ISBLANK(I30047),\"\",$F$12*#REF!+$G$12)","v":{"$error":"#REF!"}}]
[null,null,null,null,null,null,null,null,{"$f":"IF(ISBLANK(#REF!),\"\",$F$11*#REF!+$G$11)","v":{"$error":"#REF!"}},{"$f":"IF(ISBLANK(I30067),\"\",$F$12*#REF!+$G$12)","v":{"$error":"#REF!"}}]
[null,null,null,null,null,null,null,null,{"$f":"IF(ISBLANK(#REF!),\"\",$F$11*#REF!+$G$11)","v":{"$error":"#REF!"}},{"$f":"IF(ISBLANK(I30100),\"\",$F$12*#REF!+$G$12)","v":{"$error":"#REF!"}}]
[null,null,null,null,null,null,null,null,{"$f":"IF(ISBLANK(#REF!),\"\",$F$11*#REF!+$G$11)","v":{"$error":"#REF!"}},{"$f":"IF(ISBLANK(I30109),\"\",$F$12*#REF!+$G$12)","v":{"$error":"#REF!"}}]
[null,null,null,null,null,null,null,null,{"$f":"IF(ISBLANK(#REF!),\"\",$F$11*#REF!+$G$11)","v":{"$error":"#REF!"}},{"$f":"IF(ISBLANK(I30139),\"\",$F$12*#REF!+$G$12)","v":{"$error":"#REF!"}}]
[null,null,null,null,null,null,null,null,{"$f":"IF(ISBLANK(#REF!),\"\",$F$11*#REF!+$G$11)","v":{"$error":"#REF!"}},{"$f":"IF(ISBLANK(I30166),\"\",$F$12*#REF!+$G$12)","v":{"$error":"#REF!"}}]
[null,null,null,null,null,null,null,null,{"$f":"IF(ISBLANK(#REF!),\"\",$F$11*#REF!+$G$11)","v":{"$error":"#REF!"}},{"$f":"IF(ISBLANK(I30191),\"\",$F$12*#REF!+$G$12)","v":{"$error":"#REF!"}}]
[null,null,null,null,null,null,null,null,{"$f":"IF(ISBLANK(#REF!),\"\",$F$11*#REF!+$G$11)","v":{"$error":"#REF!"}},{"$f":"IF(ISBLANK(I30200),\"\",$F$12*#REF!+$G$12)","v":{"$error":"#REF!"}}]
[null,null,null,null,null,null,null,null,{"$f":"IF(ISBLANK(#REF!),\"\",$F$11*#REF!+$G$11)","v":{"$error":"#REF!"}},{"$f":"IF(ISBLANK(I30242),\"\",$F$12*#REF!+$G$12)","v":{"$error":"#REF!"}}]
[null,null,null,null,null,null,null,null,{"$f":"IF(ISBLANK(#REF!),\"\",$F$11*#REF!+$G$11)","v":{"$error":"#REF!"}},{"$f":"IF(ISBLANK(I30257),\"\",$F$12*#REF!+$G$12)","v":{"$error":"#REF!"}}]
[null,null,null,null,null,null,null,null,{"$f":"IF(ISBLANK(#REF!),\"\",$F$11*#REF!+$G$11)","v":{"$error":"#REF!"}},{"$f":"IF(ISBLANK(I30290),\"\",$F$12*#REF!+$G$12)","v":{"$error":"#REF!"}}]
[null,null,null,null,null,null,null,null,{"$f":"IF(ISBLANK(#REF!),\"\",$F$11*#REF!+$G$11)","v":{"$error":"#REF!"}},{"$f":"IF(ISBLANK(I30299),\"\",$F$12*#REF!+$G$12)","v":{"$error":"#REF!"}}]
[null,null,null,null,null,null,null,null,{"$f":"IF(ISBLANK(#REF!),\"\",$F$11*#REF!+$G$11)","v":{"$error":"#REF!"}},{"$f":"IF(ISBLANK(I30334),\"\",$F$12*#REF!+$G$12)","v":{"$error":"#REF!"}}]
[null,null,null,null,null,null,null,null,{"$f":"IF(ISBLANK(#REF!),\"\",$F$11*#REF!+$G$11)","v":{"$error":"#REF!"}},{"$f":"IF(ISBLANK(I30356),\"\",$F$12*#REF!+$G$12)","v":{"$error":"#REF!"}}]
[null,null,null,null,null,null,null,null,{"$f":"IF(ISBLANK(#REF!),\"\",$F$11*#REF!+$G$11)","v":{"$error":"#REF!"}},{"$f":"IF(ISBLANK(I30381),\"\",$F$12*#REF!+$G$12)","v":{"$error":"#REF!"}}]
[null,null,null,null,null,null,null,null,{"$f":"IF(ISBLANK(#REF!),\"\",$F$11*#REF!+$G$11)","v":{"$error":"#REF!"}},{"$f":"IF(ISBLANK(I30390),\"\",$F$12*#REF!+$G$12)","v":{"$error":"#REF!"}}]
[null,null,null,null,null,null,null,null,{"$f":"IF(ISBLANK(#REF!),\"\",$F$11*#REF!+$G$11)","v":{"$error":"#REF!"}},{"$f":"IF(ISBLANK(I30414),\"\",$F$12*#REF!+$G$12)","v":{"$error":"#REF!"}}]
[null,null,null,null,null,null,null,null,{"$f":"IF(ISBLANK(#REF!),\"\",$F$11*#REF!+$G$11)","v":{"$error":"#REF!"}},{"$f":"IF(ISBLANK(I30447),\"\",$F$12*#REF!+$G$12)","v":{"$error":"#REF!"}}]
[null,null,null,null,null,null,null,null,{"$f":"IF(ISBLANK(#REF!),\"\",$F$11*#REF!+$G$11)","v":{"$error":"#REF!"}},{"$f":"IF(ISBLANK(I30480),\"\",$F$12*#REF!+$G$12)","v":{"$error":"#REF!"}}]
[null,null,null,null,null,null,null,null,{"$f":"IF(ISBLANK(#REF!),\"\",$F$11*#REF!+$G$11)","v":{"$error":"#REF!"}},{"$f":"IF(ISBLANK(I30489),\"\",$F$12*#REF!+$G$12)","v":{"$error":"#REF!"}}]
[null,null,null,null,null,null,null,null,{"$f":"IF(ISBLANK(#REF!),\"\",$F$11*#REF!+$G$11)","v":{"$error":"#REF!"}},{"$f":"IF(ISBLANK(I30506),\"\",$F$12*#REF!+$G$12)","v":{"$error":"#REF!"}}]
[null,null,null,null,null,null,null,null,{"$f":"IF(ISBLANK(#REF!),\"\",$F$11*#REF!+$G$11)","v":{"$error":"#REF!"}},{"$f":"IF(ISBLANK(I30546),\"\",$F$12*#REF!+$G$12)","v":{"$error":"#REF!"}}]
[null,null,null,null,null,null,null,null,{"$f":"IF(ISBLANK(#REF!),\"\",$F$11*#REF!+$G$11)","v":{"$error":"#REF!"}},{"$f":"IF(ISBLANK(I30571),\"\",$F$12*#REF!+$G$12)","v":{"$error":"#REF!"}}]
[null,null,null,null,null,null,null,null,{"$f":"IF(ISBLANK(#REF!),\"\",$F$11*#REF!+$G$11)","v":{"$error":"#REF!"}},{"$f":"IF(ISBLANK(I30580),\"\",$F$12*#REF!+$G$12)","v":{"$error":"#REF!"}}]
[null,null,null,null,null,null,null,null,{"$f":"IF(ISBLANK(#REF!),\"\",$F$11*#REF!+$G$11)","v":{"$error":"#REF!"}},{"$f":"IF(ISBLANK(I30609),\"\",$F$12*#REF!+$G$12)","v":{"$error":"#REF!"}}]
[null,null,null,null,null,null,null,null,{"$f":"IF(ISBLANK(#REF!),\"\",$F$11*#REF!+$G$11)","v":{"$error":"#REF!"}},{"$f":"IF(ISBLANK(I30637),\"\",$F$12*#REF!+$G$12)","v":{"$error":"#REF!"}}]
[null,null,null,null,null,null,null,null,{"$f":"IF(ISBLANK(#REF!),\"\",$F$11*#REF!+$G$11)","v":{"$error":"#REF!"}},{"$f":"IF(ISBLANK(I30670),\"\",$F$12*#REF!+$G$12)","v":{"$error":"#REF!"}}]
[null,null,null,null,null,null,null,null,{"$f":"IF(ISBLANK(#REF!),\"\",$F$11*#REF!+$G$11)","v":{"$error":"#REF!"}},{"$f":"IF(ISBLANK(I30671),\"\",$F$12*#REF!+$G$12)","v":{"$error":"#REF!"}}]
[null,null,null,null,null,null,null,null,{"$f":"IF(ISBLANK(#REF!),\"\",$F$11*#REF!+$G$11)","v":{"$error":"#REF!"}},{"$f":"IF(ISBLANK(I30701),\"\",$F$12*#REF!+$G$12)","v":{"$error":"#REF!"}}]
[null,null,null,null,null,null,null,null,{"$f":"IF(ISBLANK(#REF!),\"\",$F$11*#REF!+$G$11)","v":{"$error":"#REF!"}},{"$f":"IF(ISBLANK(I30736),\"\",$F$12*#REF!+$G$12)","v":{"$error":"#REF!"}}]
[null,null,null,null,null,null,null,null,{"$f":"IF(ISBLANK(#REF!),\"\",$F$11*#REF!+$G$11)","v":{"$error":"#REF!"}},{"$f":"IF(ISBLANK(I30761),\"\",$F$12*#REF!+$G$12)","v":{"$error":"#REF!"}}]
[null,null,null,null,null,null,null,null,{"$f":"IF(ISBLANK(#REF!),\"\",$F$11*#REF!+$G$11)","v":{"$error":"#REF!"}},{"$f":"IF(ISBLANK(I30770),\"\",$F$12*#REF!+$G$12)","v":{"$error":"#REF!"}}]
[null,null,null,null,null,null,null,null,{"$f":"IF(ISBLANK(#REF!),\"\",$F$11*#REF!+$G$11)","v":{"$error":"#REF!"}},{"$f":"IF(ISBLANK(I30804),\"\",$F$12*#REF!+$G$12)","v":{"$error":"#REF!"}}]
[null,null,null,null,null,null,null,null,{"$f":"IF(ISBLANK(#REF!),\"\",$F$11*#REF!+$G$11)","v":{"$error":"#REF!"}},{"$f":"IF(ISBLANK(I30827),\"\",$F$12*#REF!+$G$12)","v":{"$error":"#REF!"}}]
[null,null,null,null,null,null,null,null,{"$f":"IF(ISBLANK(#REF!),\"\",$F$11*#REF!+$G$11)","v":{"$error":"#REF!"}},{"$f":"IF(ISBLANK(I30860),\"\",$F$12*#REF!+$G$12)","v":{"$error":"#REF!"}}]
[null,null,null,null,null,null,null,null,{"$f":"IF(ISBLANK(#REF!),\"\",$F$11*#REF!+$G$11)","v":{"$error":"#REF!"}},{"$f":"IF(ISBLANK(I30861),\"\",$F$12*#REF!+$G$12)","v":{"$error":"#REF!"}}]
[null,null,null,null,null,null,null,null,{"$f":"IF(ISBLANK(#REF!),\"\",$F$11*#REF!+$G$11)","v":{"$error":"#REF!"}},{"$f":"IF(ISBLANK(I30894),\"\",$F$12*#REF!+$G$12)","v":{"$error":"#REF!"}}]
[null,null,null,null,null,null,null,null,{"$f":"IF(ISBLANK(#REF!),\"\",$F$11*#REF!+$G$11)","v":{"$error":"#REF!"}},{"$f":"IF(ISBLANK(I30919),\"\",$F$12*#REF!+$G$12)","v":{"$error":"#REF!"}}]
[null,null,null,null,null,null,null,null,{"$f":"IF(ISBLANK(#REF!),\"\",$F$11*#REF!+$G$11)","v":{"$error":"#REF!"}},{"$f":"IF(ISBLANK(I30951),\"\",$F$12*#REF!+$G$12)","v":{"$error":"#REF!"}}]
[null,null,null,null,null,null,null,null,{"$f":"IF(ISBLANK(#REF!),\"\",$F$11*#REF!+$G$11)","v":{"$error":"#REF!"}},{"$f":"IF(ISBLANK(I30960),\"\",$F$12*#REF!+$G$12)","v":{"$error":"#REF!"}}]
[null,null,null,null,null,null,null,null,{"$f":"IF(ISBLANK(#REF!),\"\",$F$11*#REF!+$G$11)","v":{"$error":"#REF!"}},{"$f":"IF(ISBLANK(I30993),\"\",$F$12*#REF!+$G$12)","v":{"$error":"#REF!"}}]
[null,null,null,null,null,null,null,null,{"$f":"IF(ISBLANK(#REF!),\"\",$F$11*#REF!+$G$11)","v":{"$error":"#REF!"}},{"$f":"IF(ISBLANK(I31011),\"\",$F$12*#REF!+$G$12)","v":{"$error":"#REF!"}}]
[null,null,null,null,null,null,null,null,{"$f":"IF(ISBLANK(#REF!),\"\",$F$11*#REF!+$G$11)","v":{"$error":"#REF!"}},{"$f":"IF(ISBLANK(I31050),\"\",$F$12*#REF!+$G$12)","v":{"$error":"#REF!"}}]
[null,null,null,null,null,null,null,null,{"$f":"IF(ISBLANK(#REF!),\"\",$F$11*#REF!+$G$11)","v":{"$error":"#REF!"}},{"$f":"IF(ISBLANK(I31051),\"\",$F$12*#REF!+$G$12)","v":{"$error":"#REF!"}}]
[null,null,null,null,null,null,null,null,{"$f":"IF(ISBLANK(#REF!),\"\",$F$11*#REF!+$G$11)","v":{"$error":"#REF!"}},{"$f":"IF(ISBLANK(I31084),\"\",$F$12*#REF!+$G$12)","v":{"$error":"#REF!"}}]
[null,null,null,null,null,null,null,null,{"$f":"IF(ISBLANK(#REF!),\"\",$F$11*#REF!+$G$11)","v":{"$error":"#REF!"}},{"$f":"IF(ISBLANK(I31114),\"\",$F$12*#REF!+$G$12)","v":{"$error":"#REF!"}}]
[null,null,null,null,null,null,null,null,{"$f":"IF(ISBLANK(#REF!),\"\",$F$11*#REF!+$G$11)","v":{"$error":"#REF!"}},{"$f":"IF(ISBLANK(I31141),\"\",$F$12*#REF!+$G$12)","v":{"$error":"#REF!"}}]
[null,null,null,null,null,null,null,null,{"$f":"IF(ISBLANK(#REF!),\"\",$F$11*#REF!+$G$11)","v":{"$error":"#REF!"}},{"$f":"IF(ISBLANK(I31150),\"\",$F$12*#REF!+$G$12)","v":{"$error":"#REF!"}}]
[null,null,null,null,null,null,null,null,{"$f":"IF(ISBLANK(#REF!),\"\",$F$11*#REF!+$G$11)","v":{"$error":"#REF!"}},{"$f":"IF(ISBLANK(I31175),\"\",$F$12*#REF!+$G$12)","v":{"$error":"#REF!"}}]
[null,null,null,null,null,null,null,null,{"$f":"IF(ISBLANK(#REF!),\"\",$F$11*#REF!+$G$11)","v":{"$error":"#REF!"}},{"$f":"IF(ISBLANK(I31206),\"\",$F$12*#REF!+$G$12)","v":{"$error":"#REF!"}}]
[null,null,null,null,null,null,null,null,{"$f":"IF(ISBLANK(#REF!),\"\",$F$11*#REF!+$G$11)","v":{"$error":"#REF!"}},{"$f":"IF(ISBLANK(I31240),\"\",$F$12*#REF!+$G$12)","v":{"$error":"#REF!"}}]
[null,null,null,null,null,null,null,null,{"$f":"IF(ISBLANK(#REF!),\"\",$F$11*#REF!+$G$11)","v":{"$error":"#REF!"}},{"$f":"IF(ISBLANK(I31241),\"\",$F$12*#REF!+$G$12)","v":{"$error":"#REF!"}}]
[null,null,null,null,null,null,null,null,{"$f":"IF(ISBLANK(#REF!),\"\",$F$11*#REF!+$G$11)","v":{"$error":"#REF!"}},{"$f":"IF(ISBLANK(I31274),\"\",$F$12*#REF!+$G$12)","v":{"$error":"#REF!"}}]
[null,null,null,null,null,null,null,null,{"$f":"IF(ISBLANK(#REF!),\"\",$F$11*#REF!+$G$11)","v":{"$error":"#REF!"}},{"$f":"IF(ISBLANK(I31309),\"\",$F$12*#REF!+$G$12)","v":{"$error":"#REF!"}}]
[null,null,null,null,null,null,null,null,{"$f":"IF(ISBLANK(#REF!),\"\",$F$11*#REF!+$G$11)","v":{"$error":"#REF!"}},{"$f":"IF(ISBLANK(I31331),\"\",$F$12*#REF!+$G$12)","v":{"$error":"#REF!"}}]
[null,null,null,null,null,null,null,null,{"$f":"IF(ISBLANK(#REF!),\"\",$F$11*#REF!+$G$11)","v":{"$error":"#REF!"}},{"$f":"IF(ISBLANK(I31340),\"\",$F$12*#REF!+$G$12)","v":{"$error":"#REF!"}}]
[null,null,null,null,null,null,null,null,{"$f":"IF(ISBLANK(#REF!),\"\",$F$11*#REF!+$G$11)","v":{"$error":"#REF!"}},{"$f":"IF(ISBLANK(I31365),\"\",$F$12*#REF!+$G$12)","v":{"$error":"#REF!"}}]
[null,null,null,null,null,null,null,null,{"$f":"IF(ISBLANK(#REF!),\"\",$F$11*#REF!+$G$11)","v":{"$error":"#REF!"}},{"$f":"IF(ISBLANK(I31401),\"\",$F$12*#REF!+$G$12)","v":{"$error":"#REF!"}}]
[null,null,null,null,null,null,null,null,{"$f":"IF(ISBLANK(#REF!),\"\",$F$11*#REF!+$G$11)","v":{"$error":"#REF!"}},{"$f":"IF(ISBLANK(I31430),\"\",$F$12*#REF!+$G$12)","v":{"$error":"#REF!"}}]
[null,null,null,null,null,null,null,null,{"$f":"IF(ISBLANK(#REF!),\"\",$F$11*#REF!+$G$11)","v":{"$error":"#REF!"}},{"$f":"IF(ISBLANK(I31431),\"\",$F$12*#REF!+$G$12)","v":{"$error":"#REF!"}}]
[null,null,null,null,null,null,null,null,{"$f":"IF(ISBLANK(#REF!),\"\",$F$11*#REF!+$G$11)","v":{"$error":"#REF!"}},{"$f":"IF(ISBLANK(I31464),\"\",$F$12*#REF!+$G$12)","v":{"$error":"#REF!"}}]
[null,null,null,null,null,null,null,null,{"$f":"IF(ISBLANK(#REF!),\"\",$F$11*#REF!+$G$11)","v":{"$error":"#REF!"}},{"$f":"IF(ISBLANK(I31493),\"\",$F$12*#REF!+$G$12)","v":{"$error":"#REF!"}}]
[null,null,null,null,null,null,null,null,{"$f":"IF(ISBLANK(#REF!),\"\",$F$11*#REF!+$G$11)","v":{"$error":"#REF!"}},{"$f":"IF(ISBLANK(I31521),\"\",$F$12*#REF!+$G$12)","v":{"$error":"#REF!"}}]
[null,null,null,null,null,null,null,null,{"$f":"IF(ISBLANK(#REF!),\"\",$F$11*#REF!+$G$11)","v":{"$error":"#REF!"}},{"$f":"IF(ISBLANK(I31530),\"\",$F$12*#REF!+$G$12)","v":{"$error":"#REF!"}}]
[null,null,null,null,null,null,null,null,{"$f":"IF(ISBLANK(#REF!),\"\",$F$11*#REF!+$G$11)","v":{"$error":"#REF!"}},{"$f":"IF(ISBLANK(I31555),\"\",$F$12*#REF!+$G$12)","v":{"$error":"#REF!"}}]
[null,null,null,null,null,null,null,null,{"$f":"IF(ISBLANK(#REF!),\"\",$F$11*#REF!+$G$11)","v":{"$error":"#REF!"}},{"$f":"IF(ISBLANK(I31596),\"\",$F$12*#REF!+$G$12)","v":{"$error":"#REF!"}}]
[null,null,null,null,null,null,null,null,{"$f":"IF(ISBLANK(#REF!),\"\",$F$11*#REF!+$G$11)","v":{"$error":"#REF!"}},{"$f":"IF(ISBLANK(I31620),\"\",$F$12*#REF!+$G$12)","v":{"$error":"#REF!"}}]
[null,null,null,null,null,null,null,null,{"$f":"IF(ISBLANK(#REF!),\"\",$F$11*#REF!+$G$11)","v":{"$error":"#REF!"}},{"$f":"IF(ISBLANK(I31621),\"\",$F$12*#REF!+$G$12)","v":{"$error":"#REF!"}}]
[null,null,null,null,null,null,null,null,{"$f":"IF(ISBLANK(#REF!),\"\",$F$11*#REF!+$G$11)","v":{"$error":"#REF!"}},{"$f":"IF(ISBLANK(I31654),\"\",$F$12*#REF!+$G$12)","v":{"$error":"#REF!"}}]
[null,null,null,null,null,null,null,null,{"$f":"IF(ISBLANK(#REF!),\"\",$F$11*#REF!+$G$11)","v":{"$error":"#REF!"}},{"$f":"IF(ISBLANK(I31688),\"\",$F$12*#REF!+$G$12)","v":{"$error":"#REF!"}}]
[null,null,null,null,null,null,null,null,{"$f":"IF(ISBLANK(#REF!),\"\",$F$11*#REF!+$G$11)","v":{"$error":"#REF!"}},{"$f":"IF(ISBLANK(I31711),\"\",$F$12*#REF!+$G$12)","v":{"$error":"#REF!"}}]
[null,null,null,null,null,null,null,null,{"$f":"IF(ISBLANK(#REF!),\"\",$F$11*#REF!+$G$11)","v":{"$error":"#REF!"}},{"$f":"IF(ISBLANK(I31720),\"\",$F$12*#REF!+$G$12)","v":{"$error":"#REF!"}}]
[null,null,null,null,null,null,null,null,{"$f":"IF(ISBLANK(#REF!),\"\",$F$11*#REF!+$G$11)","v":{"$error":"#REF!"}},{"$f":"IF(ISBLANK(I31745),\"\",$F$12*#REF!+$G$12)","v":{"$error":"#REF!"}}]
[null,null,null,null,null,null,null,null,{"$f":"IF(ISBLANK(#REF!),\"\",$F$11*#REF!+$G$11)","v":{"$error":"#REF!"}},{"$f":"IF(ISBLANK(I31768),\"\",$F$12*#REF!+$G$12)","v":{"$error":"#REF!"}}]
[null,null,null,null,null,null,null,null,{"$f":"IF(ISBLANK(#REF!),\"\",$F$11*#REF!+$G$11)","v":{"$error":"#REF!"}},{"$f":"IF(ISBLANK(I31810),\"\",$F$12*#REF!+$G$12)","v":{"$error":"#REF!"}}]
[null,null,null,null,null,null,null,null,{"$f":"IF(ISBLANK(#REF!),\"\",$F$11*#REF!+$G$11)","v":{"$error":"#REF!"}},{"$f":"IF(ISBLANK(I31811),\"\",$F$12*#REF!+$G$12)","v":{"$error":"#REF!"}}]
[null,null,null,null,null,null,null,null,{"$f":"IF(ISBLANK(#REF!),\"\",$F$11*#REF!+$G$11)","v":{"$error":"#REF!"}},{"$f":"IF(ISBLANK(I31844),\"\",$F$12*#REF!+$G$12)","v":{"$error":"#REF!"}}]
[null,null,null,null,null,null,null,null,{"$f":"IF(ISBLANK(#REF!),\"\",$F$11*#REF!+$G$11)","v":{"$error":"#REF!"}},{"$f":"IF(ISBLANK(I31860),\"\",$F$12*#REF!+$G$12)","v":{"$error":"#REF!"}}]
[null,null,null,null,null,null,null,null,{"$f":"IF(ISBLANK(#REF!),\"\",$F$11*#REF!+$G$11)","v":{"$error":"#REF!"}},{"$f":"IF(ISBLANK(I31901),\"\",$F$12*#REF!+$G$12)","v":{"$error":"#REF!"}}]
[null,null,null,null,null,null,null,null,{"$f":"IF(ISBLANK(#REF!),\"\",$F$11*#REF!+$G$11)","v":{"$error":"#REF!"}},{"$f":"IF(ISBLANK(I31910),\"\",$F$12*#REF!+$G$12)","v":{"$error":"#REF!"}}]
[null,null,null,null,null,null,null,null,{"$f":"IF(ISBLANK(#REF!),\"\",$F$11*#REF!+$G$11)","v":{"$error":"#REF!"}},{"$f":"IF(ISBLANK(I31935),\"\",$F$12*#REF!+$G$12)","v":{"$error":"#REF!"}}]
[null,null,null,null,null,null,null,null,{"$f":"IF(ISBLANK(#REF!),\"\",$F$11*#REF!+$G$11)","v":{"$error":"#REF!"}},{"$f":"IF(ISBLANK(I31963),\"\",$F$12*#REF!+$G$12)","v":{"$error":"#REF!"}}]
[null,null,null,null,null,null,null,null,{"$f":"IF(ISBLANK(#REF!),\"\",$F$11*#REF!+$G$11)","v":{"$error":"#REF!"}},{"$f":"IF(ISBLANK(I31992),\"\",$F$12*#REF!+$G$12)","v":{"$error":"#REF!"}}]
[null,null,null,null,null,null,null,null,{"$f":"IF(ISBLANK(#REF!),\"\",$F$11*#REF!+$G$11)","v":{"$error":"#REF!"}},{"$f":"IF(ISBLANK(I32001),\"\",$F$12*#REF!+$G$12)","v":{"$error":"#REF!"}}]
[null,null,null,null,null,null,null,null,{"$f":"IF(ISBLANK(#REF!),\"\",$F$11*#REF!+$G$11)","v":{"$error":"#REF!"}},{"$f":"IF(ISBLANK(I32034),\"\",$F$12*#REF!+$G$12)","v":{"$error":"#REF!"}}]
[null,null,null,null,null,null,null,null,{"$f":"IF(ISBLANK(#REF!),\"\",$F$11*#REF!+$G$11)","v":{"$error":"#REF!"}},{"$f":"IF(ISBLANK(I32055),\"\",$F$12*#REF!+$G$12)","v":{"$error":"#REF!"}}]
[null,null,null,null,null,null,null,null,{"$f":"IF(ISBLANK(#REF!),\"\",$F$11*#REF!+$G$11)","v":{"$error":"#REF!"}},{"$f":"IF(ISBLANK(I32091),\"\",$F$12*#REF!+$G$12)","v":{"$error":"#REF!"}}]
[null,null,null,null,null,null,null,null,{"$f":"IF(ISBLANK(#REF!),\"\",$F$11*#REF!+$G$11)","v":{"$error":"#REF!"}},{"$f":"IF(ISBLANK(I32100),\"\",$F$12*#REF!+$G$12)","v":{"$error":"#REF!"}}]
[null,null,null,null,null,null,null,null,{"$f":"IF(ISBLANK(#REF!),\"\",$F$11*#REF!+$G$11)","v":{"$error":"#REF!"}},{"$f":"IF(ISBLANK(I32125),\"\",$F$12*#REF!+$G$12)","v":{"$error":"#REF!"}}]
[null,null,null,null,null,null,null,null,{"$f":"IF(ISBLANK(#REF!),\"\",$F$11*#REF!+$G$11)","v":{"$error":"#REF!"}},{"$f":"IF(ISBLANK(I32158),\"\",$F$12*#REF!+$G$12)","v":{"$error":"#REF!"}}]
[null,null,null,null,null,null,null,null,{"$f":"IF(ISBLANK(#REF!),\"\",$F$11*#REF!+$G$11)","v":{"$error":"#REF!"}},{"$f":"IF(ISBLANK(I32182),\"\",$F$12*#REF!+$G$12)","v":{"$error":"#REF!"}}]
[null,null,null,null,null,null,null,null,{"$f":"IF(ISBLANK(#REF!),\"\",$F$11*#REF!+$G$11)","v":{"$error":"#REF!"}},{"$f":"IF(ISBLANK(I32191),\"\",$F$12*#REF!+$G$12)","v":{"$error":"#REF!"}}]
[null,null,null,null,null,null,null,null,{"$f":"IF(ISBLANK(#REF!),\"\",$F$11*#REF!+$G$11)","v":{"$error":"#REF!"}},{"$f":"IF(ISBLANK(I32224),\"\",$F$12*#REF!+$G$12)","v":{"$error":"#REF!"}}]
[null,null,null,null,null,null,null,null,{"$f":"IF(ISBLANK(#REF!),\"\",$F$11*#REF!+$G$11)","v":{"$error":"#REF!"}},{"$f":"IF(ISBLANK(I32250),\"\",$F$12*#REF!+$G$12)","v":{"$error":"#REF!"}}]
[null,null,null,null,null,null,null,null,{"$f":"IF(ISBLANK(#REF!),\"\",$F$11*#REF!+$G$11)","v":{"$error":"#REF!"}},{"$f":"IF(ISBLANK(I32281),\"\",$F$12*#REF!+$G$12)","v":{"$error":"#REF!"}}]
[null,null,null,null,null,null,null,null,{"$f":"IF(ISBLANK(#REF!),\"\",$F$11*#REF!+$G$11)","v":{"$error":"#REF!"}},{"$f":"IF(ISBLANK(I32306),\"\",$F$12*#REF!+$G$12)","v":{"$error":"#REF!"}}]
[null,null,null,null,null,null,null,null,{"$f":"IF(ISBLANK(#REF!),\"\",$F$11*#REF!+$G$11)","v":{"$error":"#REF!"}},{"$f":"IF(ISBLANK(I32315),\"\",$F$12*#REF!+$G$12)","v":{"$error":"#REF!"}}]
[null,null,null,null,null,null,null,null,{"$f":"IF(ISBLANK(#REF!),\"\",$F$11*#REF!+$G$11)","v":{"$error":"#REF!"}},{"$f":"IF(ISBLANK(I32353),\"\",$F$12*#REF!+$G$12)","v":{"$error":"#REF!"}}]
[null,null,null,null,null,null,null,null,{"$f":"IF(ISBLANK(#REF!),\"\",$F$11*#REF!+$G$11)","v":{"$error":"#REF!"}},{"$f":"IF(ISBLANK(I32372),\"\",$F$12*#REF!+$G$12)","v":{"$error":"#REF!"}}]
[null,null,null,null,null,null,null,null,{"$f":"IF(ISBLANK(#REF!),\"\",$F$11*#REF!+$G$11)","v":{"$error":"#REF!"}},{"$f":"IF(ISBLANK(I32381),\"\",$F$12*#REF!+$G$12)","v":{"$error":"#REF!"}}]
[null,null,null,null,null,null,null,null,{"$f":"IF(ISBLANK(#REF!),\"\",$F$11*#REF!+$G$11)","v":{"$error":"#REF!"}},{"$f":"IF(ISBLANK(I32414),\"\",$F$12*#REF!+$G$12)","v":{"$error":"#REF!"}}]
[null,null,null,null,null,null,null,null,{"$f":"IF(ISBLANK(#REF!),\"\",$F$11*#REF!+$G$11)","v":{"$error":"#REF!"}},{"$f":"IF(ISBLANK(I32445),\"\",$F$12*#REF!+$G$12)","v":{"$error":"#REF!"}}]
[null,null,null,null,null,null,null,null,{"$f":"IF(ISBLANK(#REF!),\"\",$F$11*#REF!+$G$11)","v":{"$error":"#REF!"}},{"$f":"IF(ISBLANK(I32471),\"\",$F$12*#REF!+$G$12)","v":{"$error":"#REF!"}}]
[null,null,null,null,null,null,null,null,{"$f":"IF(ISBLANK(#REF!),\"\",$F$11*#REF!+$G$11)","v":{"$error":"#REF!"}},{"$f":"IF(ISBLANK(I32496),\"\",$F$12*#REF!+$G$12)","v":{"$error":"#REF!"}}]
[null,null,null,null,null,null,null,null,{"$f":"IF(ISBLANK(#REF!),\"\",$F$11*#REF!+$G$11)","v":{"$error":"#REF!"}},{"$f":"IF(ISBLANK(I32505),\"\",$F$12*#REF!+$G$12)","v":{"$error":"#REF!"}}]
[null,null,null,null,null,null,null,null,{"$f":"IF(ISBLANK(#REF!),\"\",$F$11*#REF!+$G$11)","v":{"$error":"#REF!"}},{"$f":"IF(ISBLANK(I32538),\"\",$F$12*#REF!+$G$12)","v":{"$error":"#REF!"}}]
[null,null,null,null,null,null,null,null,{"$f":"IF(ISBLANK(#REF!),\"\",$F$11*#REF!+$G$11)","v":{"$error":"#REF!"}},{"$f":"IF(ISBLANK(I32560),\"\",$F$12*#REF!+$G$12)","v":{"$error":"#REF!"}}]
[null,null,null,null,null,null,null,null,{"$f":"IF(ISBLANK(#REF!),\"\",$F$11*#REF!+$G$11)","v":{"$error":"#REF!"}},{"$f":"IF(ISBLANK(I32571),\"\",$F$12*#REF!+$G$12)","v":{"$error":"#REF!"}}]
[null,null,null,null,null,null,null,null,{"$f":"IF(ISBLANK(#REF!),\"\",$F$11*#REF!+$G$11)","v":{"$error":"#REF!"}},{"$f":"IF(ISBLANK(I32604),\"\",$F$12*#REF!+$G$12)","v":{"$error":"#REF!"}}]
[null,null,null,null,null,null,null,null,{"$f":"IF(ISBLANK(#REF!),\"\",$F$11*#REF!+$G$11)","v":{"$error":"#REF!"}},{"$f":"IF(ISBLANK(I32629),\"\",$F$12*#REF!+$G$12)","v":{"$error":"#REF!"}}]
[null,null,null,null,null,null,null,null,{"$f":"IF(ISBLANK(#REF!),\"\",$F$11*#REF!+$G$11)","v":{"$error":"#REF!"}},{"$f":"IF(ISBLANK(I32663),\"\",$F$12*#REF!+$G$12)","v":{"$error":"#REF!"}}]
[null,null,null,null,null,null,null,null,{"$f":"IF(ISBLANK(#REF!),\"\",$F$11*#REF!+$G$11)","v":{"$error":"#REF!"}},{"$f":"IF(ISBLANK(I32686),\"\",$F$12*#REF!+$G$12)","v":{"$error":"#REF!"}}]
[null,null,null,null,null,null,null,null,{"$f":"IF(ISBLANK(#REF!),\"\",$F$11*#REF!+$G$11)","v":{"$error":"#REF!"}},{"$f":"IF(ISBLANK(I32695),\"\",$F$12*#REF!+$G$12)","v":{"$error":"#REF!"}}]
[null,null,null,null,null,null,null,null,{"$f":"IF(ISBLANK(#REF!),\"\",$F$11*#REF!+$G$11)","v":{"$error":"#REF!"}},{"$f":"IF(ISBLANK(I32728),\"\",$F$12*#REF!+$G$12)","v":{"$error":"#REF!"}}]
[null,null,null,null,null,null,null,null,{"$f":"IF(ISBLANK(#REF!),\"\",$F$11*#REF!+$G$11)","v":{"$error":"#REF!"}},{"$f":"IF(ISBLANK(I32755),\"\",$F$12*#REF!+$G$12)","v":{"$error":"#REF!"}}]
[null,null,null,null,null,null,null,null,{"$f":"IF(ISBLANK(#REF!),\"\",$F$11*#REF!+$G$11)","v":{"$error":"#REF!"}},{"$f":"IF(ISBLANK(I32761),\"\",$F$12*#REF!+$G$12)","v":{"$error":"#REF!"}}]
[null,null,null,null,null,null,null,null,{"$f":"IF(ISBLANK(#REF!),\"\",$F$11*#REF!+$G$11)","v":{"$error":"#REF!"}},{"$f":"IF(ISBLANK(I32786),\"\",$F$12*#REF!+$G$12)","v":{"$error":"#REF!"}}]
[null,null,null,null,null,null,null,null,{"$f":"IF(ISBLANK(#REF!),\"\",$F$11*#REF!+$G$11)","v":{"$error":"#REF!"}},{"$f":"IF(ISBLANK(I32819),\"\",$F$12*#REF!+$G$12)","v":{"$error":"#REF!"}}]
[null,null,null,null,null,null,null,null,{"$f":"IF(ISBLANK(#REF!),\"\",$F$11*#REF!+$G$11)","v":{"$error":"#REF!"}},{"$f":"IF(ISBLANK(I32835),\"\",$F$12*#REF!+$G$12)","v":{"$error":"#REF!"}}]
[null,null,null,null,null,null,null,null,{"$f":"IF(ISBLANK(#REF!),\"\",$F$11*#REF!+$G$11)","v":{"$error":"#REF!"}},{"$f":"IF(ISBLANK(I32876),\"\",$F$12*#REF!+$G$12)","v":{"$error":"#REF!"}}]
[null,null,null,null,null,null,null,null,{"$f":"IF(ISBLANK(#REF!),\"\",$F$11*#REF!+$G$11)","v":{"$error":"#REF!"}},{"$f":"IF(ISBLANK(I32885),\"\",$F$12*#REF!+$G$12)","v":{"$error":"#REF!"}}]
[null,null,null,null,null,null,null,null,{"$f":"IF(ISBLANK(#REF!),\"\",$F$11*#REF!+$G$11)","v":{"$error":"#REF!"}},{"$f":"IF(ISBLANK(I32918),\"\",$F$12*#REF!+$G$12)","v":{"$error":"#REF!"}}]
[null,null,null,null,null,null,null,null,{"$f":"IF(ISBLANK(#REF!),\"\",$F$11*#REF!+$G$11)","v":{"$error":"#REF!"}},{"$f":"IF(ISBLANK(I32950),\"\",$F$12*#REF!+$G$12)","v":{"$error":"#REF!"}}]
[null,null,null,null,null,null,null,null,{"$f":"IF(ISBLANK(#REF!),\"\",$F$11*#REF!+$G$11)","v":{"$error":"#REF!"}},{"$f":"IF(ISBLANK(I32951),\"\",$F$12*#REF!+$G$12)","v":{"$error":"#REF!"}}]
[null,null,null,null,null,null,null,null,{"$f":"IF(ISBLANK(#REF!),\"\",$F$11*#REF!+$G$11)","v":{"$error":"#REF!"}},{"$f":"IF(ISBLANK(I32976),\"\",$F$12*#REF!+$G$12)","v":{"$error":"#REF!"}}]
[null,null,null,null,null,null,null,null,{"$f":"IF(ISBLANK(#REF!),\"\",$F$11*#REF!+$G$11)","v":{"$error":"#REF!"}},{"$f":"IF(ISBLANK(I33009),\"\",$F$12*#REF!+$G$12)","v":{"$error":"#REF!"}}]
[null,null,null,null,null,null,null,null,{"$f":"IF(ISBLANK(#REF!),\"\",$F$11*#REF!+$G$11)","v":{"$error":"#REF!"}},{"$f":"IF(ISBLANK(I33030),\"\",$F$12*#REF!+$G$12)","v":{"$error":"#REF!"}}]
[null,null,null,null,null,null,null,null,{"$f":"IF(ISBLANK(#REF!),\"\",$F$11*#REF!+$G$11)","v":{"$error":"#REF!"}},{"$f":"IF(ISBLANK(I33066),\"\",$F$12*#REF!+$G$12)","v":{"$error":"#REF!"}}]
[null,null,null,null,null,null,null,null,{"$f":"IF(ISBLANK(#REF!),\"\",$F$11*#REF!+$G$11)","v":{"$error":"#REF!"}},{"$f":"IF(ISBLANK(I33075),\"\",$F$12*#REF!+$G$12)","v":{"$error":"#REF!"}}]
[null,null,null,null,null,null,null,null,{"$f":"IF(ISBLANK(#REF!),\"\",$F$11*#REF!+$G$11)","v":{"$error":"#REF!"}},{"$f":"IF(ISBLANK(I33108),\"\",$F$12*#REF!+$G$12)","v":{"$error":"#REF!"}}]
[null,null,null,null,null,null,null,null,{"$f":"IF(ISBLANK(#REF!),\"\",$F$11*#REF!+$G$11)","v":{"$error":"#REF!"}},{"$f":"IF(ISBLANK(I33122),\"\",$F$12*#REF!+$G$12)","v":{"$error":"#REF!"}}]
[null,null,null,null,null,null,null,null,{"$f":"IF(ISBLANK(#REF!),\"\",$F$11*#REF!+$G$11)","v":{"$error":"#REF!"}},{"$f":"IF(ISBLANK(I33141),\"\",$F$12*#REF!+$G$12)","v":{"$error":"#REF!"}}]
[null,null,null,null,null,null,null,null,{"$f":"IF(ISBLANK(#REF!),\"\",$F$11*#REF!+$G$11)","v":{"$error":"#REF!"}},{"$f":"IF(ISBLANK(I33166),\"\",$F$12*#REF!+$G$12)","v":{"$error":"#REF!"}}]
[null,null,null,null,null,null,null,null,{"$f":"IF(ISBLANK(#REF!),\"\",$F$11*#REF!+$G$11)","v":{"$error":"#REF!"}},{"$f":"IF(ISBLANK(I33199),\"\",$F$12*#REF!+$G$12)","v":{"$error":"#REF!"}}]
[null,null,null,null,null,null,null,null,{"$f":"IF(ISBLANK(#REF!),\"\",$F$11*#REF!+$G$11)","v":{"$error":"#REF!"}},{"$f":"IF(ISBLANK(I33225),\"\",$F$12*#REF!+$G$12)","v":{"$error":"#REF!"}}]
[null,null,null,null,null,null,null,null,{"$f":"IF(ISBLANK(#REF!),\"\",$F$11*#REF!+$G$11)","v":{"$error":"#REF!"}},{"$f":"IF(ISBLANK(I33256),\"\",$F$12*#REF!+$G$12)","v":{"$error":"#REF!"}}]
[null,null,null,null,null,null,null,null,{"$f":"IF(ISBLANK(#REF!),\"\",$F$11*#REF!+$G$11)","v":{"$error":"#REF!"}},{"$f":"IF(ISBLANK(I33265),\"\",$F$12*#REF!+$G$12)","v":{"$error":"#REF!"}}]
[null,null,null,null,null,null,null,null,{"$f":"IF(ISBLANK(#REF!),\"\",$F$11*#REF!+$G$11)","v":{"$error":"#REF!"}},{"$f":"IF(ISBLANK(I33290),\"\",$F$12*#REF!+$G$12)","v":{"$error":"#REF!"}}]
[null,null,null,null,null,null,null,null,{"$f":"IF(ISBLANK(#REF!),\"\",$F$11*#REF!+$G$11)","v":{"$error":"#REF!"}},{"$f":"IF(ISBLANK(I33317),\"\",$F$12*#REF!+$G$12)","v":{"$error":"#REF!"}}]
[null,null,null,null,null,null,null,null,{"$f":"IF(ISBLANK(#REF!),\"\",$F$11*#REF!+$G$11)","v":{"$error":"#REF!"}},{"$f":"IF(ISBLANK(I33331),\"\",$F$12*#REF!+$G$12)","v":{"$error":"#REF!"}}]
[null,null,null,null,null,null,null,null,{"$f":"IF(ISBLANK(#REF!),\"\",$F$11*#REF!+$G$11)","v":{"$error":"#REF!"}},{"$f":"IF(ISBLANK(I33356),\"\",$F$12*#REF!+$G$12)","v":{"$error":"#REF!"}}]
[null,null,null,null,null,null,null,null,{"$f":"IF(ISBLANK(#REF!),\"\",$F$11*#REF!+$G$11)","v":{"$error":"#REF!"}},{"$f":"IF(ISBLANK(I33389),\"\",$F$12*#REF!+$G$12)","v":{"$error":"#REF!"}}]
[null,null,null,null,null,null,null,null,{"$f":"IF(ISBLANK(#REF!),\"\",$F$11*#REF!+$G$11)","v":{"$error":"#REF!"}},{"$f":"IF(ISBLANK(I33420),\"\",$F$12*#REF!+$G$12)","v":{"$error":"#REF!"}}]
[null,null,null,null,null,null,null,null,{"$f":"IF(ISBLANK(#REF!),\"\",$F$11*#REF!+$G$11)","v":{"$error":"#REF!"}},{"$f":"IF(ISBLANK(I33446),\"\",$F$12*#REF!+$G$12)","v":{"$error":"#REF!"}}]
[null,null,null,null,null,null,null,null,{"$f":"IF(ISBLANK(#REF!),\"\",$F$11*#REF!+$G$11)","v":{"$error":"#REF!"}},{"$f":"IF(ISBLANK(I33455),\"\",$F$12*#REF!+$G$12)","v":{"$error":"#REF!"}}]
[null,null,null,null,null,null,null,null,{"$f":"IF(ISBLANK(#REF!),\"\",$F$11*#REF!+$G$11)","v":{"$error":"#REF!"}},{"$f":"IF(ISBLANK(I33480),\"\",$F$12*#REF!+$G$12)","v":{"$error":"#REF!"}}]
[null,null,null,null,null,null,null,null,{"$f":"IF(ISBLANK(#REF!),\"\",$F$11*#REF!+$G$11)","v":{"$error":"#REF!"}},{"$f":"IF(ISBLANK(I33512),\"\",$F$12*#REF!+$G$12)","v":{"$error":"#REF!"}}]
[null,null,null,null,null,null,null,null,{"$f":"IF(ISBLANK(#REF!),\"\",$F$11*#REF!+$G$11)","v":{"$error":"#REF!"}},{"$f":"IF(ISBLANK(I33521),\"\",$F$12*#REF!+$G$12)","v":{"$error":"#REF!"}}]
[null,null,null,null,null,null,null,null,{"$f":"IF(ISBLANK(#REF!),\"\",$F$11*#REF!+$G$11)","v":{"$error":"#REF!"}},{"$f":"IF(ISBLANK(I33546),\"\",$F$12*#REF!+$G$12)","v":{"$error":"#REF!"}}]
[null,null,null,null,null,null,null,null,{"$f":"IF(ISBLANK(#REF!),\"\",$F$11*#REF!+$G$11)","v":{"$error":"#REF!"}},{"$f":"IF(ISBLANK(I33579),\"\",$F$12*#REF!+$G$12)","v":{"$error":"#REF!"}}]
[null,null,null,null,null,null,null,null,{"$f":"IF(ISBLANK(#REF!),\"\",$F$11*#REF!+$G$11)","v":{"$error":"#REF!"}},{"$f":"IF(ISBLANK(I33604),\"\",$F$12*#REF!+$G$12)","v":{"$error":"#REF!"}}]
[null,null,null,null,null,null,null,null,{"$f":"IF(ISBLANK(#REF!),\"\",$F$11*#REF!+$G$11)","v":{"$error":"#REF!"}},{"$f":"IF(ISBLANK(I33636),\"\",$F$12*#REF!+$G$12)","v":{"$error":"#REF!"}}]
[null,null,null,null,null,null,null,null,{"$f":"IF(ISBLANK(#REF!),\"\",$F$11*#REF!+$G$11)","v":{"$error":"#REF!"}},{"$f":"IF(ISBLANK(I33645),\"\",$F$12*#REF!+$G$12)","v":{"$error":"#REF!"}}]
[null,null,null,null,null,null,null,null,{"$f":"IF(ISBLANK(#REF!),\"\",$F$11*#REF!+$G$11)","v":{"$error":"#REF!"}},{"$f":"IF(ISBLANK(I33670),\"\",$F$12*#REF!+$G$12)","v":{"$error":"#REF!"}}]
[null,null,null,null,null,null,null,null,{"$f":"IF(ISBLANK(#REF!),\"\",$F$11*#REF!+$G$11)","v":{"$error":"#REF!"}},{"$f":"IF(ISBLANK(I33707),\"\",$F$12*#REF!+$G$12)","v":{"$error":"#REF!"}}]
[null,null,null,null,null,null,null,null,{"$f":"IF(ISBLANK(#REF!),\"\",$F$11*#REF!+$G$11)","v":{"$error":"#REF!"}},{"$f":"IF(ISBLANK(I33711),\"\",$F$12*#REF!+$G$12)","v":{"$error":"#REF!"}}]
[null,null,null,null,null,null,null,null,{"$f":"IF(ISBLANK(#REF!),\"\",$F$11*#REF!+$G$11)","v":{"$error":"#REF!"}},{"$f":"IF(ISBLANK(I33736),\"\",$F$12*#REF!+$G$12)","v":{"$error":"#REF!"}}]
[null,null,null,null,null,null,null,null,{"$f":"IF(ISBLANK(#REF!),\"\",$F$11*#REF!+$G$11)","v":{"$error":"#REF!"}},{"$f":"IF(ISBLANK(I33769),\"\",$F$12*#REF!+$G$12)","v":{"$error":"#REF!"}}]
[null,null,null,null,null,null,null,null,{"$f":"IF(ISBLANK(#REF!),\"\",$F$11*#REF!+$G$11)","v":{"$error":"#REF!"}},{"$f":"IF(ISBLANK(I33799),\"\",$F$12*#REF!+$G$12)","v":{"$error":"#REF!"}}]
[null,null,null,null,null,null,null,null,{"$f":"IF(ISBLANK(#REF!),\"\",$F$11*#REF!+$G$11)","v":{"$error":"#REF!"}},{"$f":"IF(ISBLANK(I33826),\"\",$F$12*#REF!+$G$12)","v":{"$error":"#REF!"}}]
[null,null,null,null,null,null,null,null,{"$f":"IF(ISBLANK(#REF!),\"\",$F$11*#REF!+$G$11)","v":{"$error":"#REF!"}},{"$f":"IF(ISBLANK(I33835),\"\",$F$12*#REF!+$G$12)","v":{"$error":"#REF!"}}]
[null,null,null,null,null,null,null,null,{"$f":"IF(ISBLANK(#REF!),\"\",$F$11*#REF!+$G$11)","v":{"$error":"#REF!"}},{"$f":"IF(ISBLANK(I33860),\"\",$F$12*#REF!+$G$12)","v":{"$error":"#REF!"}}]
[null,null,null,null,null,null,null,null,{"$f":"IF(ISBLANK(#REF!),\"\",$F$11*#REF!+$G$11)","v":{"$error":"#REF!"}},{"$f":"IF(ISBLANK(I33879),\"\",$F$12*#REF!+$G$12)","v":{"$error":"#REF!"}}]
[null,null,null,null,null,null,null,null,{"$f":"IF(ISBLANK(#REF!),\"\",$F$11*#REF!+$G$11)","v":{"$error":"#REF!"}},{"$f":"IF(ISBLANK(I33901),\"\",$F$12*#REF!+$G$12)","v":{"$error":"#REF!"}}]
[null,null,null,null,null,null,null,null,{"$f":"IF(ISBLANK(#REF!),\"\",$F$11*#REF!+$G$11)","v":{"$error":"#REF!"}},{"$f":"IF(ISBLANK(I33926),\"\",$F$12*#REF!+$G$12)","v":{"$error":"#REF!"}}]
[null,null,null,null,null,null,null,null,{"$f":"IF(ISBLANK(#REF!),\"\",$F$11*#REF!+$G$11)","v":{"$error":"#REF!"}},{"$f":"IF(ISBLANK(I33959),\"\",$F$12*#REF!+$G$12)","v":{"$error":"#REF!"}}]
[null,null,null,null,null,null,null,null,{"$f":"IF(ISBLANK(#REF!),\"\",$F$11*#REF!+$G$11)","v":{"$error":"#REF!"}},{"$f":"IF(ISBLANK(I33994),\"\",$F$12*#REF!+$G$12)","v":{"$error":"#REF!"}}]
[null,null,null,null,null,null,null,null,{"$f":"IF(ISBLANK(#REF!),\"\",$F$11*#REF!+$G$11)","v":{"$error":"#REF!"}},{"$f":"IF(ISBLANK(I34016),\"\",$F$12*#REF!+$G$12)","v":{"$error":"#REF!"}}]
[null,null,null,null,null,null,null,null,{"$f":"IF(ISBLANK(#REF!),\"\",$F$11*#REF!+$G$11)","v":{"$error":"#REF!"}},{"$f":"IF(ISBLANK(I34025),\"\",$F$12*#REF!+$G$12)","v":{"$error":"#REF!"}}]
[null,null,null,null,null,null,null,null,{"$f":"IF(ISBLANK(#REF!),\"\",$F$11*#REF!+$G$11)","v":{"$error":"#REF!"}},{"$f":"IF(ISBLANK(I34050),\"\",$F$12*#REF!+$G$12)","v":{"$error":"#REF!"}}]
[null,null,null,null,null,null,null,null,{"$f":"IF(ISBLANK(#REF!),\"\",$F$11*#REF!+$G$11)","v":{"$error":"#REF!"}},{"$f":"IF(ISBLANK(I34074),\"\",$F$12*#REF!+$G$12)","v":{"$error":"#REF!"}}]
[null,null,null,null,null,null,null,null,{"$f":"IF(ISBLANK(#REF!),\"\",$F$11*#REF!+$G$11)","v":{"$error":"#REF!"}},{"$f":"IF(ISBLANK(I34107),\"\",$F$12*#REF!+$G$12)","v":{"$error":"#REF!"}}]
[null,null,null,null,null,null,null,null,{"$f":"IF(ISBLANK(#REF!),\"\",$F$11*#REF!+$G$11)","v":{"$error":"#REF!"}},{"$f":"IF(ISBLANK(I34116),\"\",$F$12*#REF!+$G$12)","v":{"$error":"#REF!"}}]
[null,null,null,null,null,null,null,null,{"$f":"IF(ISBLANK(#REF!),\"\",$F$11*#REF!+$G$11)","v":{"$error":"#REF!"}},{"$f":"IF(ISBLANK(I34149),\"\",$F$12*#REF!+$G$12)","v":{"$error":"#REF!"}}]
[null,null,null,null,null,null,null,null,{"$f":"IF(ISBLANK(#REF!),\"\",$F$11*#REF!+$G$11)","v":{"$error":"#REF!"}},{"$f":"IF(ISBLANK(I34166),\"\",$F$12*#REF!+$G$12)","v":{"$error":"#REF!"}}]
[null,null,null,null,null,null,null,null,{"$f":"IF(ISBLANK(#REF!),\"\",$F$11*#REF!+$G$11)","v":{"$error":"#REF!"}},{"$f":"IF(ISBLANK(I34206),\"\",$F$12*#REF!+$G$12)","v":{"$error":"#REF!"}}]
[null,null,null,null,null,null,null,null,{"$f":"IF(ISBLANK(#REF!),\"\",$F$11*#REF!+$G$11)","v":{"$error":"#REF!"}},{"$f":"IF(ISBLANK(I34215),\"\",$F$12*#REF!+$G$12)","v":{"$error":"#REF!"}}]
[null,null,null,null,null,null,null,null,{"$f":"IF(ISBLANK(#REF!),\"\",$F$11*#REF!+$G$11)","v":{"$error":"#REF!"}},{"$f":"IF(ISBLANK(I34240),\"\",$F$12*#REF!+$G$12)","v":{"$error":"#REF!"}}]
[null,null,null,null,null,null,null,null,{"$f":"IF(ISBLANK(#REF!),\"\",$F$11*#REF!+$G$11)","v":{"$error":"#REF!"}},{"$f":"IF(ISBLANK(I34273),\"\",$F$12*#REF!+$G$12)","v":{"$error":"#REF!"}}]
[null,null,null,null,null,null,null,null,{"$f":"IF(ISBLANK(#REF!),\"\",$F$11*#REF!+$G$11)","v":{"$error":"#REF!"}},{"$f":"IF(ISBLANK(I34304),\"\",$F$12*#REF!+$G$12)","v":{"$error":"#REF!"}}]
[null,null,null,null,null,null,null,null,{"$f":"IF(ISBLANK(#REF!),\"\",$F$11*#REF!+$G$11)","v":{"$error":"#REF!"}},{"$f":"IF(ISBLANK(I34306),\"\",$F$12*#REF!+$G$12)","v":{"$error":"#REF!"}}]
[null,null,null,null,null,null,null,null,{"$f":"IF(ISBLANK(#REF!),\"\",$F$11*#REF!+$G$11)","v":{"$error":"#REF!"}},{"$f":"IF(ISBLANK(I34339),\"\",$F$12*#REF!+$G$12)","v":{"$error":"#REF!"}}]
[null,null,null,null,null,null,null,null,{"$f":"IF(ISBLANK(#REF!),\"\",$F$11*#REF!+$G$11)","v":{"$error":"#REF!"}},{"$f":"IF(ISBLANK(I34364),\"\",$F$12*#REF!+$G$12)","v":{"$error":"#REF!"}}]
[null,null,null,null,null,null,null,null,{"$f":"IF(ISBLANK(#REF!),\"\",$F$11*#REF!+$G$11)","v":{"$error":"#REF!"}},{"$f":"IF(ISBLANK(I34384),\"\",$F$12*#REF!+$G$12)","v":{"$error":"#REF!"}}]
[null,null,null,null,null,null,null,null,{"$f":"IF(ISBLANK(#REF!),\"\",$F$11*#REF!+$G$11)","v":{"$error":"#REF!"}},{"$f":"IF(ISBLANK(I34421),\"\",$F$12*#REF!+$G$12)","v":{"$error":"#REF!"}}]
[null,null,null,null,null,null,null,null,{"$f":"IF(ISBLANK(#REF!),\"\",$F$11*#REF!+$G$11)","v":{"$error":"#REF!"}},{"$f":"IF(ISBLANK(I34430),\"\",$F$12*#REF!+$G$12)","v":{"$error":"#REF!"}}]
[null,null,null,null,null,null,null,null,{"$f":"IF(ISBLANK(#REF!),\"\",$F$11*#REF!+$G$11)","v":{"$error":"#REF!"}},{"$f":"IF(ISBLANK(I34463),\"\",$F$12*#REF!+$G$12)","v":{"$error":"#REF!"}}]
[null,null,null,null,null,null,null,null,{"$f":"IF(ISBLANK(#REF!),\"\",$F$11*#REF!+$G$11)","v":{"$error":"#REF!"}},{"$f":"IF(ISBLANK(I34476),\"\",$F$12*#REF!+$G$12)","v":{"$error":"#REF!"}}]
[null,null,null,null,null,null,null,null,{"$f":"IF(ISBLANK(#REF!),\"\",$F$11*#REF!+$G$11)","v":{"$error":"#REF!"}},{"$f":"IF(ISBLANK(I34496),\"\",$F$12*#REF!+$G$12)","v":{"$error":"#REF!"}}]
[null,null,null,null,null,null,null,null,{"$f":"IF(ISBLANK(#REF!),\"\",$F$11*#REF!+$G$11)","v":{"$error":"#REF!"}},{"$f":"IF(ISBLANK(I34529),\"\",$F$12*#REF!+$G$12)","v":{"$error":"#REF!"}}]
[null,null,null,null,null,null,null,null,{"$f":"IF(ISBLANK(#REF!),\"\",$F$11*#REF!+$G$11)","v":{"$error":"#REF!"}},{"$f":"IF(ISBLANK(I34554),\"\",$F$12*#REF!+$G$12)","v":{"$error":"#REF!"}}]
[null,null,null,null,null,null,null,null,{"$f":"IF(ISBLANK(#REF!),\"\",$F$11*#REF!+$G$11)","v":{"$error":"#REF!"}},{"$f":"IF(ISBLANK(I34579),\"\",$F$12*#REF!+$G$12)","v":{"$error":"#REF!"}}]
[null,null,null,null,null,null,null,null,{"$f":"IF(ISBLANK(#REF!),\"\",$F$11*#REF!+$G$11)","v":{"$error":"#REF!"}},{"$f":"IF(ISBLANK(I34611),\"\",$F$12*#REF!+$G$12)","v":{"$error":"#REF!"}}]
[null,null,null,null,null,null,null,null,{"$f":"IF(ISBLANK(#REF!),\"\",$F$11*#REF!+$G$11)","v":{"$error":"#REF!"}},{"$f":"IF(ISBLANK(I34620),\"\",$F$12*#REF!+$G$12)","v":{"$error":"#REF!"}}]
[null,null,null,null,null,null,null,null,{"$f":"IF(ISBLANK(#REF!),\"\",$F$11*#REF!+$G$11)","v":{"$error":"#REF!"}},{"$f":"IF(ISBLANK(I34653),\"\",$F$12*#REF!+$G$12)","v":{"$error":"#REF!"}}]
[null,null,null,null,null,null,null,null,{"$f":"IF(ISBLANK(#REF!),\"\",$F$11*#REF!+$G$11)","v":{"$error":"#REF!"}},{"$f":"IF(ISBLANK(I34671),\"\",$F$12*#REF!+$G$12)","v":{"$error":"#REF!"}}]
[null,null,null,null,null,null,null,null,{"$f":"IF(ISBLANK(#REF!),\"\",$F$11*#REF!+$G$11)","v":{"$error":"#REF!"}},{"$f":"IF(ISBLANK(I34686),\"\",$F$12*#REF!+$G$12)","v":{"$error":"#REF!"}}]
[null,null,null,null,null,null,null,null,{"$f":"IF(ISBLANK(#REF!),\"\",$F$11*#REF!+$G$11)","v":{"$error":"#REF!"}},{"$f":"IF(ISBLANK(I34719),\"\",$F$12*#REF!+$G$12)","v":{"$error":"#REF!"}}]
[null,null,null,null,null,null,null,null,{"$f":"IF(ISBLANK(#REF!),\"\",$F$11*#REF!+$G$11)","v":{"$error":"#REF!"}},{"$f":"IF(ISBLANK(I34744),\"\",$F$12*#REF!+$G$12)","v":{"$error":"#REF!"}}]
[null,null,null,null,null,null,null,null,{"$f":"IF(ISBLANK(#REF!),\"\",$F$11*#REF!+$G$11)","v":{"$error":"#REF!"}},{"$f":"IF(ISBLANK(I34774),\"\",$F$12*#REF!+$G$12)","v":{"$error":"#REF!"}}]
[null,null,null,null,null,null,null,null,{"$f":"IF(ISBLANK(#REF!),\"\",$F$11*#REF!+$G$11)","v":{"$error":"#REF!"}},{"$f":"IF(ISBLANK(I34801),\"\",$F$12*#REF!+$G$12)","v":{"$error":"#REF!"}}]
[null,null,null,null,null,null,null,null,{"$f":"IF(ISBLANK(#REF!),\"\",$F$11*#REF!+$G$11)","v":{"$error":"#REF!"}},{"$f":"IF(ISBLANK(I34810),\"\",$F$12*#REF!+$G$12)","v":{"$error":"#REF!"}}]
[null,null,null,null,null,null,null,null,{"$f":"IF(ISBLANK(#REF!),\"\",$F$11*#REF!+$G$11)","v":{"$error":"#REF!"}},{"$f":"IF(ISBLANK(I34843),\"\",$F$12*#REF!+$G$12)","v":{"$error":"#REF!"}}]
[null,null,null,null,null,null,null,null,{"$f":"IF(ISBLANK(#REF!),\"\",$F$11*#REF!+$G$11)","v":{"$error":"#REF!"}},{"$f":"IF(ISBLANK(I34866),\"\",$F$12*#REF!+$G$12)","v":{"$error":"#REF!"}}]
[null,null,null,null,null,null,null,null,{"$f":"IF(ISBLANK(#REF!),\"\",$F$11*#REF!+$G$11)","v":{"$error":"#REF!"}},{"$f":"IF(ISBLANK(I34876),\"\",$F$12*#REF!+$G$12)","v":{"$error":"#REF!"}}]
[null,null,null,null,null,null,null,null,{"$f":"IF(ISBLANK(#REF!),\"\",$F$11*#REF!+$G$11)","v":{"$error":"#REF!"}},{"$f":"IF(ISBLANK(I34901),\"\",$F$12*#REF!+$G$12)","v":{"$error":"#REF!"}}]
[null,null,null,null,null,null,null,null,{"$f":"IF(ISBLANK(#REF!),\"\",$F$11*#REF!+$G$11)","v":{"$error":"#REF!"}},{"$f":"IF(ISBLANK(I34934),\"\",$F$12*#REF!+$G$12)","v":{"$error":"#REF!"}}]
[null,null,null,null,null,null,null,null,{"$f":"IF(ISBLANK(#REF!),\"\",$F$11*#REF!+$G$11)","v":{"$error":"#REF!"}},{"$f":"IF(ISBLANK(I34969),\"\",$F$12*#REF!+$G$12)","v":{"$error":"#REF!"}}]
[null,null,null,null,null,null,null,null,{"$f":"IF(ISBLANK(#REF!),\"\",$F$11*#REF!+$G$11)","v":{"$error":"#REF!"}},{"$f":"IF(ISBLANK(I34991),\"\",$F$12*#REF!+$G$12)","v":{"$error":"#REF!"}}]
[null,null,null,null,null,null,null,null,{"$f":"IF(ISBLANK(#REF!),\"\",$F$11*#REF!+$G$11)","v":{"$error":"#REF!"}},{"$f":"IF(ISBLANK(I35000),\"\",$F$12*#REF!+$G$12)","v":{"$error":"#REF!"}}]
[null,null,null,null,null,null,null,null,{"$f":"IF(ISBLANK(#REF!),\"\",$F$11*#REF!+$G$11)","v":{"$error":"#REF!"}},{"$f":"IF(ISBLANK(I35033),\"\",$F$12*#REF!+$G$12)","v":{"$error":"#REF!"}}]
[null,null,null,null,null,null,null,null,{"$f":"IF(ISBLANK(#REF!),\"\",$F$11*#REF!+$G$11)","v":{"$error":"#REF!"}},{"$f":"IF(ISBLANK(I35061),\"\",$F$12*#REF!+$G$12)","v":{"$error":"#REF!"}}]
[null,null,null,null,null,null,null,null,{"$f":"IF(ISBLANK(#REF!),\"\",$F$11*#REF!+$G$11)","v":{"$error":"#REF!"}},{"$f":"IF(ISBLANK(I35066),\"\",$F$12*#REF!+$G$12)","v":{"$error":"#REF!"}}]
[null,null,null,null,null,null,null,null,{"$f":"IF(ISBLANK(#REF!),\"\",$F$11*#REF!+$G$11)","v":{"$error":"#REF!"}},{"$f":"IF(ISBLANK(I35091),\"\",$F$12*#REF!+$G$12)","v":{"$error":"#REF!"}}]
[null,null,null,null,null,null,null,null,{"$f":"IF(ISBLANK(#REF!),\"\",$F$11*#REF!+$G$11)","v":{"$error":"#REF!"}},{"$f":"IF(ISBLANK(I35124),\"\",$F$12*#REF!+$G$12)","v":{"$error":"#REF!"}}]
[null,null,null,null,null,null,null,null,{"$f":"IF(ISBLANK(#REF!),\"\",$F$11*#REF!+$G$11)","v":{"$error":"#REF!"}},{"$f":"IF(ISBLANK(I35141),\"\",$F$12*#REF!+$G$12)","v":{"$error":"#REF!"}}]
[null,null,null,null,null,null,null,null,{"$f":"IF(ISBLANK(#REF!),\"\",$F$11*#REF!+$G$11)","v":{"$error":"#REF!"}},{"$f":"IF(ISBLANK(I35181),\"\",$F$12*#REF!+$G$12)","v":{"$error":"#REF!"}}]
[null,null,null,null,null,null,null,null,{"$f":"IF(ISBLANK(#REF!),\"\",$F$11*#REF!+$G$11)","v":{"$error":"#REF!"}},{"$f":"IF(ISBLANK(I35190),\"\",$F$12*#REF!+$G$12)","v":{"$error":"#REF!"}}]
[null,null,null,null,null,null,null,null,{"$f":"IF(ISBLANK(#REF!),\"\",$F$11*#REF!+$G$11)","v":{"$error":"#REF!"}},{"$f":"IF(ISBLANK(I35223),\"\",$F$12*#REF!+$G$12)","v":{"$error":"#REF!"}}]
[null,null,null,null,null,null,null,null,{"$f":"IF(ISBLANK(#REF!),\"\",$F$11*#REF!+$G$11)","v":{"$error":"#REF!"}},{"$f":"IF(ISBLANK(I35233),\"\",$F$12*#REF!+$G$12)","v":{"$error":"#REF!"}}]
[null,null,null,null,null,null,null,null,{"$f":"IF(ISBLANK(#REF!),\"\",$F$11*#REF!+$G$11)","v":{"$error":"#REF!"}},{"$f":"IF(ISBLANK(I35256),\"\",$F$12*#REF!+$G$12)","v":{"$error":"#REF!"}}]
[null,null,null,null,null,null,null,null,{"$f":"IF(ISBLANK(#REF!),\"\",$F$11*#REF!+$G$11)","v":{"$error":"#REF!"}},{"$f":"IF(ISBLANK(I35281),\"\",$F$12*#REF!+$G$12)","v":{"$error":"#REF!"}}]
[null,null,null,null,null,null,null,null,{"$f":"IF(ISBLANK(#REF!),\"\",$F$11*#REF!+$G$11)","v":{"$error":"#REF!"}},{"$f":"IF(ISBLANK(I35314),\"\",$F$12*#REF!+$G$12)","v":{"$error":"#REF!"}}]
[null,null,null,null,null,null,null,null,{"$f":"IF(ISBLANK(#REF!),\"\",$F$11*#REF!+$G$11)","v":{"$error":"#REF!"}},{"$f":"IF(ISBLANK(I35336),\"\",$F$12*#REF!+$G$12)","v":{"$error":"#REF!"}}]
[null,null,null,null,null,null,null,null,{"$f":"IF(ISBLANK(#REF!),\"\",$F$11*#REF!+$G$11)","v":{"$error":"#REF!"}},{"$f":"IF(ISBLANK(I35371),\"\",$F$12*#REF!+$G$12)","v":{"$error":"#REF!"}}]
[null,null,null,null,null,null,null,null,{"$f":"IF(ISBLANK(#REF!),\"\",$F$11*#REF!+$G$11)","v":{"$error":"#REF!"}},{"$f":"IF(ISBLANK(I35380),\"\",$F$12*#REF!+$G$12)","v":{"$error":"#REF!"}}]
[null,null,null,null,null,null,null,null,{"$f":"IF(ISBLANK(#REF!),\"\",$F$11*#REF!+$G$11)","v":{"$error":"#REF!"}},{"$f":"IF(ISBLANK(I35405),\"\",$F$12*#REF!+$G$12)","v":{"$error":"#REF!"}}]
[null,null,null,null,null,null,null,null,{"$f":"IF(ISBLANK(#REF!),\"\",$F$11*#REF!+$G$11)","v":{"$error":"#REF!"}},{"$f":"IF(ISBLANK(I35428),\"\",$F$12*#REF!+$G$12)","v":{"$error":"#REF!"}}]
[null,null,null,null,null,null,null,null,{"$f":"IF(ISBLANK(#REF!),\"\",$F$11*#REF!+$G$11)","v":{"$error":"#REF!"}},{"$f":"IF(ISBLANK(I35446),\"\",$F$12*#REF!+$G$12)","v":{"$error":"#REF!"}}]
[null,null,null,null,null,null,null,null,{"$f":"IF(ISBLANK(#REF!),\"\",$F$11*#REF!+$G$11)","v":{"$error":"#REF!"}},{"$f":"IF(ISBLANK(I35471),\"\",$F$12*#REF!+$G$12)","v":{"$error":"#REF!"}}]
[null,null,null,null,null,null,null,null,{"$f":"IF(ISBLANK(#REF!),\"\",$F$11*#REF!+$G$11)","v":{"$error":"#REF!"}},{"$f":"IF(ISBLANK(I35504),\"\",$F$12*#REF!+$G$12)","v":{"$error":"#REF!"}}]
[null,null,null,null,null,null,null,null,{"$f":"IF(ISBLANK(#REF!),\"\",$F$11*#REF!+$G$11)","v":{"$error":"#REF!"}},{"$f":"IF(ISBLANK(I35531),\"\",$F$12*#REF!+$G$12)","v":{"$error":"#REF!"}}]
[null,null,null,null,null,null,null,null,{"$f":"IF(ISBLANK(#REF!),\"\",$F$11*#REF!+$G$11)","v":{"$error":"#REF!"}},{"$f":"IF(ISBLANK(I35561),\"\",$F$12*#REF!+$G$12)","v":{"$error":"#REF!"}}]
[null,null,null,null,null,null,null,null,{"$f":"IF(ISBLANK(#REF!),\"\",$F$11*#REF!+$G$11)","v":{"$error":"#REF!"}},{"$f":"IF(ISBLANK(I35570),\"\",$F$12*#REF!+$G$12)","v":{"$error":"#REF!"}}]
[null,null,null,null,null,null,null,null,{"$f":"IF(ISBLANK(#REF!),\"\",$F$11*#REF!+$G$11)","v":{"$error":"#REF!"}},{"$f":"IF(ISBLANK(I35595),\"\",$F$12*#REF!+$G$12)","v":{"$error":"#REF!"}}]
[null,null,null,null,null,null,null,null,{"$f":"IF(ISBLANK(#REF!),\"\",$F$11*#REF!+$G$11)","v":{"$error":"#REF!"}},{"$f":"IF(ISBLANK(I35623),\"\",$F$12*#REF!+$G$12)","v":{"$error":"#REF!"}}]
[null,null,null,null,null,null,null,null,{"$f":"IF(ISBLANK(#REF!),\"\",$F$11*#REF!+$G$11)","v":{"$error":"#REF!"}},{"$f":"IF(ISBLANK(I35636),\"\",$F$12*#REF!+$G$12)","v":{"$error":"#REF!"}}]
[null,null,null,null,null,null,null,null,{"$f":"IF(ISBLANK(#REF!),\"\",$F$11*#REF!+$G$11)","v":{"$error":"#REF!"}},{"$f":"IF(ISBLANK(I35661),\"\",$F$12*#REF!+$G$12)","v":{"$error":"#REF!"}}]
[null,null,null,null,null,null,null,null,{"$f":"IF(ISBLANK(#REF!),\"\",$F$11*#REF!+$G$11)","v":{"$error":"#REF!"}},{"$f":"IF(ISBLANK(I35694),\"\",$F$12*#REF!+$G$12)","v":{"$error":"#REF!"}}]
[null,null,null,null,null,null,null,null,{"$f":"IF(ISBLANK(#REF!),\"\",$F$11*#REF!+$G$11)","v":{"$error":"#REF!"}},{"$f":"IF(ISBLANK(I35715),\"\",$F$12*#REF!+$G$12)","v":{"$error":"#REF!"}}]
[null,null,null,null,null,null,null,null,{"$f":"IF(ISBLANK(#REF!),\"\",$F$11*#REF!+$G$11)","v":{"$error":"#REF!"}},{"$f":"IF(ISBLANK(I35751),\"\",$F$12*#REF!+$G$12)","v":{"$error":"#REF!"}}]
[null,null,null,null,null,null,null,null,{"$f":"IF(ISBLANK(#REF!),\"\",$F$11*#REF!+$G$11)","v":{"$error":"#REF!"}},{"$f":"IF(ISBLANK(I35760),\"\",$F$12*#REF!+$G$12)","v":{"$error":"#REF!"}}]
[null,null,null,null,null,null,null,null,{"$f":"IF(ISBLANK(#REF!),\"\",$F$11*#REF!+$G$11)","v":{"$error":"#REF!"}},{"$f":"IF(ISBLANK(I35785),\"\",$F$12*#REF!+$G$12)","v":{"$error":"#REF!"}}]
[null,null,null,null,null,null,null,null,{"$f":"IF(ISBLANK(#REF!),\"\",$F$11*#REF!+$G$11)","v":{"$error":"#REF!"}},{"$f":"IF(ISBLANK(I35818),\"\",$F$12*#REF!+$G$12)","v":{"$error":"#REF!"}}]
[null,null,null,null,null,null,null,null,{"$f":"IF(ISBLANK(#REF!),\"\",$F$11*#REF!+$G$11)","v":{"$error":"#REF!"}},{"$f":"IF(ISBLANK(I35826),\"\",$F$12*#REF!+$G$12)","v":{"$error":"#REF!"}}]
[null,null,null,null,null,null,null,null,{"$f":"IF(ISBLANK(#REF!),\"\",$F$11*#REF!+$G$11)","v":{"$error":"#REF!"}},{"$f":"IF(ISBLANK(I35851),\"\",$F$12*#REF!+$G$12)","v":{"$error":"#REF!"}}]
[null,null,null,null,null,null,null,null,{"$f":"IF(ISBLANK(#REF!),\"\",$F$11*#REF!+$G$11)","v":{"$error":"#REF!"}},{"$f":"IF(ISBLANK(I35884),\"\",$F$12*#REF!+$G$12)","v":{"$error":"#REF!"}}]
[null,null,null,null,null,null,null,null,{"$f":"IF(ISBLANK(#REF!),\"\",$F$11*#REF!+$G$11)","v":{"$error":"#REF!"}},{"$f":"IF(ISBLANK(I35910),\"\",$F$12*#REF!+$G$12)","v":{"$error":"#REF!"}}]
[null,null,null,null,null,null,null,null,{"$f":"IF(ISBLANK(#REF!),\"\",$F$11*#REF!+$G$11)","v":{"$error":"#REF!"}},{"$f":"IF(ISBLANK(I35941),\"\",$F$12*#REF!+$G$12)","v":{"$error":"#REF!"}}]
[null,null,null,null,null,null,null,null,{"$f":"IF(ISBLANK(#REF!),\"\",$F$11*#REF!+$G$11)","v":{"$error":"#REF!"}},{"$f":"IF(ISBLANK(I35950),\"\",$F$12*#REF!+$G$12)","v":{"$error":"#REF!"}}]
[null,null,null,null,null,null,null,null,{"$f":"IF(ISBLANK(#REF!),\"\",$F$11*#REF!+$G$11)","v":{"$error":"#REF!"}},{"$f":"IF(ISBLANK(I35975),\"\",$F$12*#REF!+$G$12)","v":{"$error":"#REF!"}}]
[null,null,null,null,null,null,null,null,{"$f":"IF(ISBLANK(#REF!),\"\",$F$11*#REF!+$G$11)","v":{"$error":"#REF!"}},{"$f":"IF(ISBLANK(I36008),\"\",$F$12*#REF!+$G$12)","v":{"$error":"#REF!"}}]
[null,null,null,null,null,null,null,null,{"$f":"IF(ISBLANK(#REF!),\"\",$F$11*#REF!+$G$11)","v":{"$error":"#REF!"}},{"$f":"IF(ISBLANK(I36036),\"\",$F$12*#REF!+$G$12)","v":{"$error":"#REF!"}}]
[null,null,null,null,null,null,null,null,{"$f":"IF(ISBLANK(#REF!),\"\",$F$11*#REF!+$G$11)","v":{"$error":"#REF!"}},{"$f":"IF(ISBLANK(I36041),\"\",$F$12*#REF!+$G$12)","v":{"$error":"#REF!"}}]
[null,null,null,null,null,null,null,null,{"$f":"IF(ISBLANK(#REF!),\"\",$F$11*#REF!+$G$11)","v":{"$error":"#REF!"}},{"$f":"IF(ISBLANK(I36074),\"\",$F$12*#REF!+$G$12)","v":{"$error":"#REF!"}}]
[null,null,null,null,null,null,null,null,{"$f":"IF(ISBLANK(#REF!),\"\",$F$11*#REF!+$G$11)","v":{"$error":"#REF!"}},{"$f":"IF(ISBLANK(I36099),\"\",$F$12*#REF!+$G$12)","v":{"$error":"#REF!"}}]
[null,null,null,null,null,null,null,null,{"$f":"IF(ISBLANK(#REF!),\"\",$F$11*#REF!+$G$11)","v":{"$error":"#REF!"}},{"$f":"IF(ISBLANK(I36128),\"\",$F$12*#REF!+$G$12)","v":{"$error":"#REF!"}}]
[null,null,null,null,null,null,null,null,{"$f":"IF(ISBLANK(#REF!),\"\",$F$11*#REF!+$G$11)","v":{"$error":"#REF!"}},{"$f":"IF(ISBLANK(I36140),\"\",$F$12*#REF!+$G$12)","v":{"$error":"#REF!"}}]
[null,null,null,null,null,null,null,null,{"$f":"IF(ISBLANK(#REF!),\"\",$F$11*#REF!+$G$11)","v":{"$error":"#REF!"}},{"$f":"IF(ISBLANK(I36165),\"\",$F$12*#REF!+$G$12)","v":{"$error":"#REF!"}}]
[null,null,null,null,null,null,null,null,{"$f":"IF(ISBLANK(#REF!),\"\",$F$11*#REF!+$G$11)","v":{"$error":"#REF!"}},{"$f":"IF(ISBLANK(I36198),\"\",$F$12*#REF!+$G$12)","v":{"$error":"#REF!"}}]
[null,null,null,null,null,null,null,null,{"$f":"IF(ISBLANK(#REF!),\"\",$F$11*#REF!+$G$11)","v":{"$error":"#REF!"}},{"$f":"IF(ISBLANK(I36220),\"\",$F$12*#REF!+$G$12)","v":{"$error":"#REF!"}}]
[null,null,null,null,null,null,null,null,{"$f":"IF(ISBLANK(#REF!),\"\",$F$11*#REF!+$G$11)","v":{"$error":"#REF!"}},{"$f":"IF(ISBLANK(I36231),\"\",$F$12*#REF!+$G$12)","v":{"$error":"#REF!"}}]
[null,null,null,null,null,null,null,null,{"$f":"IF(ISBLANK(#REF!),\"\",$F$11*#REF!+$G$11)","v":{"$error":"#REF!"}},{"$f":"IF(ISBLANK(I36264),\"\",$F$12*#REF!+$G$12)","v":{"$error":"#REF!"}}]
[null,null,null,null,null,null,null,null,{"$f":"IF(ISBLANK(#REF!),\"\",$F$11*#REF!+$G$11)","v":{"$error":"#REF!"}},{"$f":"IF(ISBLANK(I36289),\"\",$F$12*#REF!+$G$12)","v":{"$error":"#REF!"}}]
[null,null,null,null,null,null,null,null,{"$f":"IF(ISBLANK(#REF!),\"\",$F$11*#REF!+$G$11)","v":{"$error":"#REF!"}},{"$f":"IF(ISBLANK(I36323),\"\",$F$12*#REF!+$G$12)","v":{"$error":"#REF!"}}]
[null,null,null,null,null,null,null,null,{"$f":"IF(ISBLANK(#REF!),\"\",$F$11*#REF!+$G$11)","v":{"$error":"#REF!"}},{"$f":"IF(ISBLANK(I36330),\"\",$F$12*#REF!+$G$12)","v":{"$error":"#REF!"}}]
[null,null,null,null,null,null,null,null,{"$f":"IF(ISBLANK(#REF!),\"\",$F$11*#REF!+$G$11)","v":{"$error":"#REF!"}},{"$f":"IF(ISBLANK(I36355),\"\",$F$12*#REF!+$G$12)","v":{"$error":"#REF!"}}]
[null,null,null,null,null,null,null,null,{"$f":"IF(ISBLANK(#REF!),\"\",$F$11*#REF!+$G$11)","v":{"$error":"#REF!"}},{"$f":"IF(ISBLANK(I36388),\"\",$F$12*#REF!+$G$12)","v":{"$error":"#REF!"}}]
[null,null,null,null,null,null,null,null,{"$f":"IF(ISBLANK(#REF!),\"\",$F$11*#REF!+$G$11)","v":{"$error":"#REF!"}},{"$f":"IF(ISBLANK(I36415),\"\",$F$12*#REF!+$G$12)","v":{"$error":"#REF!"}}]
[null,null,null,null,null,null,null,null,{"$f":"IF(ISBLANK(#REF!),\"\",$F$11*#REF!+$G$11)","v":{"$error":"#REF!"}},{"$f":"IF(ISBLANK(I36421),\"\",$F$12*#REF!+$G$12)","v":{"$error":"#REF!"}}]
[null,null,null,null,null,null,null,null,{"$f":"IF(ISBLANK(#REF!),\"\",$F$11*#REF!+$G$11)","v":{"$error":"#REF!"}},{"$f":"IF(ISBLANK(I36454),\"\",$F$12*#REF!+$G$12)","v":{"$error":"#REF!"}}]
[null,null,null,null,null,null,null,null,{"$f":"IF(ISBLANK(#REF!),\"\",$F$11*#REF!+$G$11)","v":{"$error":"#REF!"}},{"$f":"IF(ISBLANK(I36479),\"\",$F$12*#REF!+$G$12)","v":{"$error":"#REF!"}}]
[null,null,null,null,null,null,null,null,{"$f":"IF(ISBLANK(#REF!),\"\",$F$11*#REF!+$G$11)","v":{"$error":"#REF!"}},{"$f":"IF(ISBLANK(I36495),\"\",$F$12*#REF!+$G$12)","v":{"$error":"#REF!"}}]
[null,null,null,null,null,null,null,null,{"$f":"IF(ISBLANK(#REF!),\"\",$F$11*#REF!+$G$11)","v":{"$error":"#REF!"}},{"$f":"IF(ISBLANK(I36520),\"\",$F$12*#REF!+$G$12)","v":{"$error":"#REF!"}}]
[null,null,null,null,null,null,null,null,{"$f":"IF(ISBLANK(#REF!),\"\",$F$11*#REF!+$G$11)","v":{"$error":"#REF!"}},{"$f":"IF(ISBLANK(I36545),\"\",$F$12*#REF!+$G$12)","v":{"$error":"#REF!"}}]
[null,null,null,null,null,null,null,null,{"$f":"IF(ISBLANK(#REF!),\"\",$F$11*#REF!+$G$11)","v":{"$error":"#REF!"}},{"$f":"IF(ISBLANK(I36578),\"\",$F$12*#REF!+$G$12)","v":{"$error":"#REF!"}}]
[null,null,null,null,null,null,null,null,{"$f":"IF(ISBLANK(#REF!),\"\",$F$11*#REF!+$G$11)","v":{"$error":"#REF!"}},{"$f":"IF(ISBLANK(I36587),\"\",$F$12*#REF!+$G$12)","v":{"$error":"#REF!"}}]
[null,null,null,null,null,null,null,null,{"$f":"IF(ISBLANK(#REF!),\"\",$F$11*#REF!+$G$11)","v":{"$error":"#REF!"}},{"$f":"IF(ISBLANK(I36611),\"\",$F$12*#REF!+$G$12)","v":{"$error":"#REF!"}}]
[null,null,null,null,null,null,null,null,{"$f":"IF(ISBLANK(#REF!),\"\",$F$11*#REF!+$G$11)","v":{"$error":"#REF!"}},{"$f":"IF(ISBLANK(I36644),\"\",$F$12*#REF!+$G$12)","v":{"$error":"#REF!"}}]
[null,null,null,null,null,null,null,null,{"$f":"IF(ISBLANK(#REF!),\"\",$F$11*#REF!+$G$11)","v":{"$error":"#REF!"}},{"$f":"IF(ISBLANK(I36669),\"\",$F$12*#REF!+$G$12)","v":{"$error":"#REF!"}}]
[null,null,null,null,null,null,null,null,{"$f":"IF(ISBLANK(#REF!),\"\",$F$11*#REF!+$G$11)","v":{"$error":"#REF!"}},{"$f":"IF(ISBLANK(I36690),\"\",$F$12*#REF!+$G$12)","v":{"$error":"#REF!"}}]
[null,null,null,null,null,null,null,null,{"$f":"IF(ISBLANK(#REF!),\"\",$F$11*#REF!+$G$11)","v":{"$error":"#REF!"}},{"$f":"IF(ISBLANK(I36726),\"\",$F$12*#REF!+$G$12)","v":{"$error":"#REF!"}}]
[null,null,null,null,null,null,null,null,{"$f":"IF(ISBLANK(#REF!),\"\",$F$11*#REF!+$G$11)","v":{"$error":"#REF!"}},{"$f":"IF(ISBLANK(I36735),\"\",$F$12*#REF!+$G$12)","v":{"$error":"#REF!"}}]
[null,null,null,null,null,null,null,null,{"$f":"IF(ISBLANK(#REF!),\"\",$F$11*#REF!+$G$11)","v":{"$error":"#REF!"}},{"$f":"IF(ISBLANK(I36768),\"\",$F$12*#REF!+$G$12)","v":{"$error":"#REF!"}}]
[null,null,null,null,null,null,null,null,{"$f":"IF(ISBLANK(#REF!),\"\",$F$11*#REF!+$G$11)","v":{"$error":"#REF!"}},{"$f":"IF(ISBLANK(I36782),\"\",$F$12*#REF!+$G$12)","v":{"$error":"#REF!"}}]
[null,null,null,null,null,null,null,null,{"$f":"IF(ISBLANK(#REF!),\"\",$F$11*#REF!+$G$11)","v":{"$error":"#REF!"}},{"$f":"IF(ISBLANK(I36801),\"\",$F$12*#REF!+$G$12)","v":{"$error":"#REF!"}}]
[null,null,null,null,null,null,null,null,{"$f":"IF(ISBLANK(#REF!),\"\",$F$11*#REF!+$G$11)","v":{"$error":"#REF!"}},{"$f":"IF(ISBLANK(I36834),\"\",$F$12*#REF!+$G$12)","v":{"$error":"#REF!"}}]
[null,null,null,null,null,null,null,null,{"$f":"IF(ISBLANK(#REF!),\"\",$F$11*#REF!+$G$11)","v":{"$error":"#REF!"}},{"$f":"IF(ISBLANK(I36859),\"\",$F$12*#REF!+$G$12)","v":{"$error":"#REF!"}}]
[null,null,null,null,null,null,null,null,{"$f":"IF(ISBLANK(#REF!),\"\",$F$11*#REF!+$G$11)","v":{"$error":"#REF!"}},{"$f":"IF(ISBLANK(I36885),\"\",$F$12*#REF!+$G$12)","v":{"$error":"#REF!"}}]
[null,null,null,null,null,null,null,null,{"$f":"IF(ISBLANK(#REF!),\"\",$F$11*#REF!+$G$11)","v":{"$error":"#REF!"}},{"$f":"IF(ISBLANK(I36916),\"\",$F$12*#REF!+$G$12)","v":{"$error":"#REF!"}}]
[null,null,null,null,null,null,null,null,{"$f":"IF(ISBLANK(#REF!),\"\",$F$11*#REF!+$G$11)","v":{"$error":"#REF!"}},{"$f":"IF(ISBLANK(I36925),\"\",$F$12*#REF!+$G$12)","v":{"$error":"#REF!"}}]
[null,null,null,null,null,null,null,null,{"$f":"IF(ISBLANK(#REF!),\"\",$F$11*#REF!+$G$11)","v":{"$error":"#REF!"}},{"$f":"IF(ISBLANK(I36958),\"\",$F$12*#REF!+$G$12)","v":{"$error":"#REF!"}}]
[null,null,null,null,null,null,null,null,{"$f":"IF(ISBLANK(#REF!),\"\",$F$11*#REF!+$G$11)","v":{"$error":"#REF!"}},{"$f":"IF(ISBLANK(I36977),\"\",$F$12*#REF!+$G$12)","v":{"$error":"#REF!"}}]
[null,null,null,null,null,null,null,null,{"$f":"IF(ISBLANK(#REF!),\"\",$F$11*#REF!+$G$11)","v":{"$error":"#REF!"}},{"$f":"IF(ISBLANK(I36991),\"\",$F$12*#REF!+$G$12)","v":{"$error":"#REF!"}}]
[null,null,null,null,null,null,null,null,{"$f":"IF(ISBLANK(#REF!),\"\",$F$11*#REF!+$G$11)","v":{"$error":"#REF!"}},{"$f":"IF(ISBLANK(I37016),\"\",$F$12*#REF!+$G$12)","v":{"$error":"#REF!"}}]
[null,null,null,null,null,null,null,null,{"$f":"IF(ISBLANK(#REF!),\"\",$F$11*#REF!+$G$11)","v":{"$error":"#REF!"}},{"$f":"IF(ISBLANK(I37049),\"\",$F$12*#REF!+$G$12)","v":{"$error":"#REF!"}}]
[null,null,null,null,null,null,null,null,{"$f":"IF(ISBLANK(#REF!),\"\",$F$11*#REF!+$G$11)","v":{"$error":"#REF!"}},{"$f":"IF(ISBLANK(I37080),\"\",$F$12*#REF!+$G$12)","v":{"$error":"#REF!"}}]
[null,null,null,null,null,null,null,null,{"$f":"IF(ISBLANK(#REF!),\"\",$F$11*#REF!+$G$11)","v":{"$error":"#REF!"}},{"$f":"IF(ISBLANK(I37106),\"\",$F$12*#REF!+$G$12)","v":{"$error":"#REF!"}}]
[null,null,null,null,null,null,null,null,{"$f":"IF(ISBLANK(#REF!),\"\",$F$11*#REF!+$G$11)","v":{"$error":"#REF!"}},{"$f":"IF(ISBLANK(I37115),\"\",$F$12*#REF!+$G$12)","v":{"$error":"#REF!"}}]
[null,null,null,null,null,null,null,null,{"$f":"IF(ISBLANK(#REF!),\"\",$F$11*#REF!+$G$11)","v":{"$error":"#REF!"}},{"$f":"IF(ISBLANK(I37148),\"\",$F$12*#REF!+$G$12)","v":{"$error":"#REF!"}}]
[null,null,null,null,null,null,null,null,{"$f":"IF(ISBLANK(#REF!),\"\",$F$11*#REF!+$G$11)","v":{"$error":"#REF!"}},{"$f":"IF(ISBLANK(I37172),\"\",$F$12*#REF!+$G$12)","v":{"$error":"#REF!"}}]
[null,null,null,null,null,null,null,null,{"$f":"IF(ISBLANK(#REF!),\"\",$F$11*#REF!+$G$11)","v":{"$error":"#REF!"}},{"$f":"IF(ISBLANK(I37181),\"\",$F$12*#REF!+$G$12)","v":{"$error":"#REF!"}}]
[null,null,null,null,null,null,null,null,{"$f":"IF(ISBLANK(#REF!),\"\",$F$11*#REF!+$G$11)","v":{"$error":"#REF!"}},{"$f":"IF(ISBLANK(I37206),\"\",$F$12*#REF!+$G$12)","v":{"$error":"#REF!"}}]
[null,null,null,null,null,null,null,null,{"$f":"IF(ISBLANK(#REF!),\"\",$F$11*#REF!+$G$11)","v":{"$error":"#REF!"}},{"$f":"IF(ISBLANK(I37239),\"\",$F$12*#REF!+$G$12)","v":{"$error":"#REF!"}}]
[null,null,null,null,null,null,null,null,{"$f":"IF(ISBLANK(#REF!),\"\",$F$11*#REF!+$G$11)","v":{"$error":"#REF!"}},{"$f":"IF(ISBLANK(I37252),\"\",$F$12*#REF!+$G$12)","v":{"$error":"#REF!"}}]
[null,null,null,null,null,null,null,null,{"$f":"IF(ISBLANK(#REF!),\"\",$F$11*#REF!+$G$11)","v":{"$error":"#REF!"}},{"$f":"IF(ISBLANK(I37296),\"\",$F$12*#REF!+$G$12)","v":{"$error":"#REF!"}}]
[null,null,null,null,null,null,null,null,{"$f":"IF(ISBLANK(#REF!),\"\",$F$11*#REF!+$G$11)","v":{"$error":"#REF!"}},{"$f":"IF(ISBLANK(I37305),\"\",$F$12*#REF!+$G$12)","v":{"$error":"#REF!"}}]
[null,null,null,null,null,null,null,null,{"$f":"IF(ISBLANK(#REF!),\"\",$F$11*#REF!+$G$11)","v":{"$error":"#REF!"}},{"$f":"IF(ISBLANK(I37338),\"\",$F$12*#REF!+$G$12)","v":{"$error":"#REF!"}}]
[null,null,null,null,null,null,null,null,{"$f":"IF(ISBLANK(#REF!),\"\",$F$11*#REF!+$G$11)","v":{"$error":"#REF!"}},{"$f":"IF(ISBLANK(I37367),\"\",$F$12*#REF!+$G$12)","v":{"$error":"#REF!"}}]
[null,null,null,null,null,null,null,null,{"$f":"IF(ISBLANK(#REF!),\"\",$F$11*#REF!+$G$11)","v":{"$error":"#REF!"}},{"$f":"IF(ISBLANK(I37371),\"\",$F$12*#REF!+$G$12)","v":{"$error":"#REF!"}}]
[null,null,null,null,null,null,null,null,{"$f":"IF(ISBLANK(#REF!),\"\",$F$11*#REF!+$G$11)","v":{"$error":"#REF!"}},{"$f":"IF(ISBLANK(I37396),\"\",$F$12*#REF!+$G$12)","v":{"$error":"#REF!"}}]
[null,null,null,null,null,null,null,null,{"$f":"IF(ISBLANK(#REF!),\"\",$F$11*#REF!+$G$11)","v":{"$error":"#REF!"}},{"$f":"IF(ISBLANK(I37429),\"\",$F$12*#REF!+$G$12)","v":{"$error":"#REF!"}}]
[null,null,null,null,null,null,null,null,{"$f":"IF(ISBLANK(#REF!),\"\",$F$11*#REF!+$G$11)","v":{"$error":"#REF!"}},{"$f":"IF(ISBLANK(I37447),\"\",$F$12*#REF!+$G$12)","v":{"$error":"#REF!"}}]
[null,null,null,null,null,null,null,null,{"$f":"IF(ISBLANK(#REF!),\"\",$F$11*#REF!+$G$11)","v":{"$error":"#REF!"}},{"$f":"IF(ISBLANK(I37486),\"\",$F$12*#REF!+$G$12)","v":{"$error":"#REF!"}}]
[null,null,null,null,null,null,null,null,{"$f":"IF(ISBLANK(#REF!),\"\",$F$11*#REF!+$G$11)","v":{"$error":"#REF!"}},{"$f":"IF(ISBLANK(I37495),\"\",$F$12*#REF!+$G$12)","v":{"$error":"#REF!"}}]
[null,null,null,null,null,null,null,null,{"$f":"IF(ISBLANK(#REF!),\"\",$F$11*#REF!+$G$11)","v":{"$error":"#REF!"}},{"$f":"IF(ISBLANK(I37520),\"\",$F$12*#REF!+$G$12)","v":{"$error":"#REF!"}}]
[null,null,null,null,null,null,null,null,{"$f":"IF(ISBLANK(#REF!),\"\",$F$11*#REF!+$G$11)","v":{"$error":"#REF!"}},{"$f":"IF(ISBLANK(I37539),\"\",$F$12*#REF!+$G$12)","v":{"$error":"#REF!"}}]
[null,null,null,null,null,null,null,null,{"$f":"IF(ISBLANK(#REF!),\"\",$F$11*#REF!+$G$11)","v":{"$error":"#REF!"}},{"$f":"IF(ISBLANK(I37561),\"\",$F$12*#REF!+$G$12)","v":{"$error":"#REF!"}}]
[null,null,null,null,null,null,null,null,{"$f":"IF(ISBLANK(#REF!),\"\",$F$11*#REF!+$G$11)","v":{"$error":"#REF!"}},{"$f":"IF(ISBLANK(I37586),\"\",$F$12*#REF!+$G$12)","v":{"$error":"#REF!"}}]
[null,null,null,null,null,null,null,null,{"$f":"IF(ISBLANK(#REF!),\"\",$F$11*#REF!+$G$11)","v":{"$error":"#REF!"}},{"$f":"IF(ISBLANK(I37619),\"\",$F$12*#REF!+$G$12)","v":{"$error":"#REF!"}}]
[null,null,null,null,null,null,null,null,{"$f":"IF(ISBLANK(#REF!),\"\",$F$11*#REF!+$G$11)","v":{"$error":"#REF!"}},{"$f":"IF(ISBLANK(I37652),\"\",$F$12*#REF!+$G$12)","v":{"$error":"#REF!"}}]
[null,null,null,null,null,null,null,null,{"$f":"IF(ISBLANK(#REF!),\"\",$F$11*#REF!+$G$11)","v":{"$error":"#REF!"}},{"$f":"IF(ISBLANK(I37677),\"\",$F$12*#REF!+$G$12)","v":{"$error":"#REF!"}}]
[null,null,null,null,null,null,null,null,{"$f":"IF(ISBLANK(#REF!),\"\",$F$11*#REF!+$G$11)","v":{"$error":"#REF!"}},{"$f":"IF(ISBLANK(I37685),\"\",$F$12*#REF!+$G$12)","v":{"$error":"#REF!"}}]
[null,null,null,null,null,null,null,null,{"$f":"IF(ISBLANK(#REF!),\"\",$F$11*#REF!+$G$11)","v":{"$error":"#REF!"}},{"$f":"IF(ISBLANK(I37710),\"\",$F$12*#REF!+$G$12)","v":{"$error":"#REF!"}}]
[null,null,null,null,null,null,null,null,{"$f":"IF(ISBLANK(#REF!),\"\",$F$11*#REF!+$G$11)","v":{"$error":"#REF!"}},{"$f":"IF(ISBLANK(I37743),\"\",$F$12*#REF!+$G$12)","v":{"$error":"#REF!"}}]
[null,null,null,null,null,null,null,null,{"$f":"IF(ISBLANK(#REF!),\"\",$F$11*#REF!+$G$11)","v":{"$error":"#REF!"}},{"$f":"IF(ISBLANK(I37757),\"\",$F$12*#REF!+$G$12)","v":{"$error":"#REF!"}}]
[null,null,null,null,null,null,null,null,{"$f":"IF(ISBLANK(#REF!),\"\",$F$11*#REF!+$G$11)","v":{"$error":"#REF!"}},{"$f":"IF(ISBLANK(I37776),\"\",$F$12*#REF!+$G$12)","v":{"$error":"#REF!"}}]
[null,null,null,null,null,null,null,null,{"$f":"IF(ISBLANK(#REF!),\"\",$F$11*#REF!+$G$11)","v":{"$error":"#REF!"}},{"$f":"IF(ISBLANK(I37809),\"\",$F$12*#REF!+$G$12)","v":{"$error":"#REF!"}}]
[null,null,null,null,null,null,null,null,{"$f":"IF(ISBLANK(#REF!),\"\",$F$11*#REF!+$G$11)","v":{"$error":"#REF!"}},{"$f":"IF(ISBLANK(I37834),\"\",$F$12*#REF!+$G$12)","v":{"$error":"#REF!"}}]
[null,null,null,null,null,null,null,null,{"$f":"IF(ISBLANK(#REF!),\"\",$F$11*#REF!+$G$11)","v":{"$error":"#REF!"}},{"$f":"IF(ISBLANK(I37849),\"\",$F$12*#REF!+$G$12)","v":{"$error":"#REF!"}}]
[null,null,null,null,null,null,null,null,{"$f":"IF(ISBLANK(#REF!),\"\",$F$11*#REF!+$G$11)","v":{"$error":"#REF!"}},{"$f":"IF(ISBLANK(I37875),\"\",$F$12*#REF!+$G$12)","v":{"$error":"#REF!"}}]
[null,null,null,null,null,null,null,null,{"$f":"IF(ISBLANK(#REF!),\"\",$F$11*#REF!+$G$11)","v":{"$error":"#REF!"}},{"$f":"IF(ISBLANK(I37900),\"\",$F$12*#REF!+$G$12)","v":{"$error":"#REF!"}}]
[null,null,null,null,null,null,null,null,{"$f":"IF(ISBLANK(#REF!),\"\",$F$11*#REF!+$G$11)","v":{"$error":"#REF!"}},{"$f":"IF(ISBLANK(I37933),\"\",$F$12*#REF!+$G$12)","v":{"$error":"#REF!"}}]
[null,null,null,null,null,null,null,null,{"$f":"IF(ISBLANK(#REF!),\"\",$F$11*#REF!+$G$11)","v":{"$error":"#REF!"}},{"$f":"IF(ISBLANK(I37952),\"\",$F$12*#REF!+$G$12)","v":{"$error":"#REF!"}}]
[null,null,null,null,null,null,null,null,{"$f":"IF(ISBLANK(#REF!),\"\",$F$11*#REF!+$G$11)","v":{"$error":"#REF!"}},{"$f":"IF(ISBLANK(I37966),\"\",$F$12*#REF!+$G$12)","v":{"$error":"#REF!"}}]
[null,null,null,null,null,null,null,null,{"$f":"IF(ISBLANK(#REF!),\"\",$F$11*#REF!+$G$11)","v":{"$error":"#REF!"}},{"$f":"IF(ISBLANK(I37999),\"\",$F$12*#REF!+$G$12)","v":{"$error":"#REF!"}}]
[null,null,null,null,null,null,null,null,{"$f":"IF(ISBLANK(#REF!),\"\",$F$11*#REF!+$G$11)","v":{"$error":"#REF!"}},{"$f":"IF(ISBLANK(I38024),\"\",$F$12*#REF!+$G$12)","v":{"$error":"#REF!"}}]
[null,null,null,null,null,null,null,null,{"$f":"IF(ISBLANK(#REF!),\"\",$F$11*#REF!+$G$11)","v":{"$error":"#REF!"}},{"$f":"IF(ISBLANK(I38044),\"\",$F$12*#REF!+$G$12)","v":{"$error":"#REF!"}}]
[null,null,null,null,null,null,null,null,{"$f":"IF(ISBLANK(#REF!),\"\",$F$11*#REF!+$G$11)","v":{"$error":"#REF!"}},{"$f":"IF(ISBLANK(I38065),\"\",$F$12*#REF!+$G$12)","v":{"$error":"#REF!"}}]
[null,null,null,null,null,null,null,null,{"$f":"IF(ISBLANK(#REF!),\"\",$F$11*#REF!+$G$11)","v":{"$error":"#REF!"}},{"$f":"IF(ISBLANK(I38090),\"\",$F$12*#REF!+$G$12)","v":{"$error":"#REF!"}}]
[null,null,null,null,null,null,null,null,{"$f":"IF(ISBLANK(#REF!),\"\",$F$11*#REF!+$G$11)","v":{"$error":"#REF!"}},{"$f":"IF(ISBLANK(I38123),\"\",$F$12*#REF!+$G$12)","v":{"$error":"#REF!"}}]
[null,null,null,null,null,null,null,null,{"$f":"IF(ISBLANK(#REF!),\"\",$F$11*#REF!+$G$11)","v":{"$error":"#REF!"}},{"$f":"IF(ISBLANK(I38147),\"\",$F$12*#REF!+$G$12)","v":{"$error":"#REF!"}}]
[null,null,null,null,null,null,null,null,{"$f":"IF(ISBLANK(#REF!),\"\",$F$11*#REF!+$G$11)","v":{"$error":"#REF!"}},{"$f":"IF(ISBLANK(I38156),\"\",$F$12*#REF!+$G$12)","v":{"$error":"#REF!"}}]
[null,null,null,null,null,null,null,null,{"$f":"IF(ISBLANK(#REF!),\"\",$F$11*#REF!+$G$11)","v":{"$error":"#REF!"}},{"$f":"IF(ISBLANK(I38189),\"\",$F$12*#REF!+$G$12)","v":{"$error":"#REF!"}}]
[null,null,null,null,null,null,null,null,{"$f":"IF(ISBLANK(#REF!),\"\",$F$11*#REF!+$G$11)","v":{"$error":"#REF!"}},{"$f":"IF(ISBLANK(I38214),\"\",$F$12*#REF!+$G$12)","v":{"$error":"#REF!"}}]
[null,null,null,null,null,null,null,null,{"$f":"IF(ISBLANK(#REF!),\"\",$F$11*#REF!+$G$11)","v":{"$error":"#REF!"}},{"$f":"IF(ISBLANK(I38239),\"\",$F$12*#REF!+$G$12)","v":{"$error":"#REF!"}}]
[null,null,null,null,null,null,null,null,{"$f":"IF(ISBLANK(#REF!),\"\",$F$11*#REF!+$G$11)","v":{"$error":"#REF!"}},{"$f":"IF(ISBLANK(I38255),\"\",$F$12*#REF!+$G$12)","v":{"$error":"#REF!"}}]
[null,null,null,null,null,null,null,null,{"$f":"IF(ISBLANK(#REF!),\"\",$F$11*#REF!+$G$11)","v":{"$error":"#REF!"}},{"$f":"IF(ISBLANK(I38280),\"\",$F$12*#REF!+$G$12)","v":{"$error":"#REF!"}}]
[null,null,null,null,null,null,null,null,{"$f":"IF(ISBLANK(#REF!),\"\",$F$11*#REF!+$G$11)","v":{"$error":"#REF!"}},{"$f":"IF(ISBLANK(I38313),\"\",$F$12*#REF!+$G$12)","v":{"$error":"#REF!"}}]
[null,null,null,null,null,null,null,null,{"$f":"IF(ISBLANK(#REF!),\"\",$F$11*#REF!+$G$11)","v":{"$error":"#REF!"}},{"$f":"IF(ISBLANK(I38331),\"\",$F$12*#REF!+$G$12)","v":{"$error":"#REF!"}}]
[null,null,null,null,null,null,null,null,{"$f":"IF(ISBLANK(#REF!),\"\",$F$11*#REF!+$G$11)","v":{"$error":"#REF!"}},{"$f":"IF(ISBLANK(I38346),\"\",$F$12*#REF!+$G$12)","v":{"$error":"#REF!"}}]
[null,null,null,null,null,null,null,null,{"$f":"IF(ISBLANK(#REF!),\"\",$F$11*#REF!+$G$11)","v":{"$error":"#REF!"}},{"$f":"IF(ISBLANK(I38379),\"\",$F$12*#REF!+$G$12)","v":{"$error":"#REF!"}}]
[null,null,null,null,null,null,null,null,{"$f":"IF(ISBLANK(#REF!),\"\",$F$11*#REF!+$G$11)","v":{"$error":"#REF!"}},{"$f":"IF(ISBLANK(I38404),\"\",$F$12*#REF!+$G$12)","v":{"$error":"#REF!"}}]
[null,null,null,null,null,null,null,null,{"$f":"IF(ISBLANK(#REF!),\"\",$F$11*#REF!+$G$11)","v":{"$error":"#REF!"}},{"$f":"IF(ISBLANK(I38434),\"\",$F$12*#REF!+$G$12)","v":{"$error":"#REF!"}}]
[null,null,null,null,null,null,null,null,{"$f":"IF(ISBLANK(#REF!),\"\",$F$11*#REF!+$G$11)","v":{"$error":"#REF!"}},{"$f":"IF(ISBLANK(I38445),\"\",$F$12*#REF!+$G$12)","v":{"$error":"#REF!"}}]
[null,null,null,null,null,null,null,null,{"$f":"IF(ISBLANK(#REF!),\"\",$F$11*#REF!+$G$11)","v":{"$error":"#REF!"}},{"$f":"IF(ISBLANK(I38470),\"\",$F$12*#REF!+$G$12)","v":{"$error":"#REF!"}}]
[null,null,null,null,null,null,null,null,{"$f":"IF(ISBLANK(#REF!),\"\",$F$11*#REF!+$G$11)","v":{"$error":"#REF!"}},{"$f":"IF(ISBLANK(I38503),\"\",$F$12*#REF!+$G$12)","v":{"$error":"#REF!"}}]
[null,null,null,null,null,null,null,null,{"$f":"IF(ISBLANK(#REF!),\"\",$F$11*#REF!+$G$11)","v":{"$error":"#REF!"}},{"$f":"IF(ISBLANK(I38526),\"\",$F$12*#REF!+$G$12)","v":{"$error":"#REF!"}}]
[null,null,null,null,null,null,null,null,{"$f":"IF(ISBLANK(#REF!),\"\",$F$11*#REF!+$G$11)","v":{"$error":"#REF!"}},{"$f":"IF(ISBLANK(I38536),\"\",$F$12*#REF!+$G$12)","v":{"$error":"#REF!"}}]
[null,null,null,null,null,null,null,null,{"$f":"IF(ISBLANK(#REF!),\"\",$F$11*#REF!+$G$11)","v":{"$error":"#REF!"}},{"$f":"IF(ISBLANK(I38569),\"\",$F$12*#REF!+$G$12)","v":{"$error":"#REF!"}}]
[null,null,null,null,null,null,null,null,{"$f":"IF(ISBLANK(#REF!),\"\",$F$11*#REF!+$G$11)","v":{"$error":"#REF!"}},{"$f":"IF(ISBLANK(I38594),\"\",$F$12*#REF!+$G$12)","v":{"$error":"#REF!"}}]
[null,null,null,null,null,null,null,null,{"$f":"IF(ISBLANK(#REF!),\"\",$F$11*#REF!+$G$11)","v":{"$error":"#REF!"}},{"$f":"IF(ISBLANK(I38606),\"\",$F$12*#REF!+$G$12)","v":{"$error":"#REF!"}}]
[null,null,null,null,null,null,null,null,{"$f":"IF(ISBLANK(#REF!),\"\",$F$11*#REF!+$G$11)","v":{"$error":"#REF!"}},{"$f":"IF(ISBLANK(I38635),\"\",$F$12*#REF!+$G$12)","v":{"$error":"#REF!"}}]
[null,null,null,null,null,null,null,null,{"$f":"IF(ISBLANK(#REF!),\"\",$F$11*#REF!+$G$11)","v":{"$error":"#REF!"}},{"$f":"IF(ISBLANK(I38660),\"\",$F$12*#REF!+$G$12)","v":{"$error":"#REF!"}}]
[null,null,null,null,null,null,null,null,{"$f":"IF(ISBLANK(#REF!),\"\",$F$11*#REF!+$G$11)","v":{"$error":"#REF!"}},{"$f":"IF(ISBLANK(I38693),\"\",$F$12*#REF!+$G$12)","v":{"$error":"#REF!"}}]
[null,null,null,null,null,null,null,null,{"$f":"IF(ISBLANK(#REF!),\"\",$F$11*#REF!+$G$11)","v":{"$error":"#REF!"}},{"$f":"IF(ISBLANK(I38721),\"\",$F$12*#REF!+$G$12)","v":{"$error":"#REF!"}}]
[null,null,null,null,null,null,null,null,{"$f":"IF(ISBLANK(#REF!),\"\",$F$11*#REF!+$G$11)","v":{"$error":"#REF!"}},{"$f":"IF(ISBLANK(I38726),\"\",$F$12*#REF!+$G$12)","v":{"$error":"#REF!"}}]
[null,null,null,null,null,null,null,null,{"$f":"IF(ISBLANK(#REF!),\"\",$F$11*#REF!+$G$11)","v":{"$error":"#REF!"}},{"$f":"IF(ISBLANK(I38759),\"\",$F$12*#REF!+$G$12)","v":{"$error":"#REF!"}}]
[null,null,null,null,null,null,null,null,{"$f":"IF(ISBLANK(#REF!),\"\",$F$11*#REF!+$G$11)","v":{"$error":"#REF!"}},{"$f":"IF(ISBLANK(I38784),\"\",$F$12*#REF!+$G$12)","v":{"$error":"#REF!"}}]
[null,null,null,null,null,null,null,null,{"$f":"IF(ISBLANK(#REF!),\"\",$F$11*#REF!+$G$11)","v":{"$error":"#REF!"}},{"$f":"IF(ISBLANK(I38801),\"\",$F$12*#REF!+$G$12)","v":{"$error":"#REF!"}}]
[null,null,null,null,null,null,null,null,{"$f":"IF(ISBLANK(#REF!),\"\",$F$11*#REF!+$G$11)","v":{"$error":"#REF!"}},{"$f":"IF(ISBLANK(I38841),\"\",$F$12*#REF!+$G$12)","v":{"$error":"#REF!"}}]
[null,null,null,null,null,null,null,null,{"$f":"IF(ISBLANK(#REF!),\"\",$F$11*#REF!+$G$11)","v":{"$error":"#REF!"}},{"$f":"IF(ISBLANK(I38850),\"\",$F$12*#REF!+$G$12)","v":{"$error":"#REF!"}}]
[null,null,null,null,null,null,null,null,{"$f":"IF(ISBLANK(#REF!),\"\",$F$11*#REF!+$G$11)","v":{"$error":"#REF!"}},{"$f":"IF(ISBLANK(I38883),\"\",$F$12*#REF!+$G$12)","v":{"$error":"#REF!"}}]
[null,null,null,null,null,null,null,null,{"$f":"IF(ISBLANK(#REF!),\"\",$F$11*#REF!+$G$11)","v":{"$error":"#REF!"}},{"$f":"IF(ISBLANK(I38893),\"\",$F$12*#REF!+$G$12)","v":{"$error":"#REF!"}}]
[null,null,null,null,null,null,null,null,{"$f":"IF(ISBLANK(#REF!),\"\",$F$11*#REF!+$G$11)","v":{"$error":"#REF!"}},{"$f":"IF(ISBLANK(I38916),\"\",$F$12*#REF!+$G$12)","v":{"$error":"#REF!"}}]
[null,null,null,null,null,null,null,null,{"$f":"IF(ISBLANK(#REF!),\"\",$F$11*#REF!+$G$11)","v":{"$error":"#REF!"}},{"$f":"IF(ISBLANK(I38949),\"\",$F$12*#REF!+$G$12)","v":{"$error":"#REF!"}}]
[null,null,null,null,null,null,null,null,{"$f":"IF(ISBLANK(#REF!),\"\",$F$11*#REF!+$G$11)","v":{"$error":"#REF!"}},{"$f":"IF(ISBLANK(I38974),\"\",$F$12*#REF!+$G$12)","v":{"$error":"#REF!"}}]
[null,null,null,null,null,null,null,null,{"$f":"IF(ISBLANK(#REF!),\"\",$F$11*#REF!+$G$11)","v":{"$error":"#REF!"}},{"$f":"IF(ISBLANK(I38996),\"\",$F$12*#REF!+$G$12)","v":{"$error":"#REF!"}}]
[null,null,null,null,null,null,null,null,{"$f":"IF(ISBLANK(#REF!),\"\",$F$11*#REF!+$G$11)","v":{"$error":"#REF!"}},{"$f":"IF(ISBLANK(I39031),\"\",$F$12*#REF!+$G$12)","v":{"$error":"#REF!"}}]
[null,null,null,null,null,null,null,null,{"$f":"IF(ISBLANK(#REF!),\"\",$F$11*#REF!+$G$11)","v":{"$error":"#REF!"}},{"$f":"IF(ISBLANK(I39040),\"\",$F$12*#REF!+$G$12)","v":{"$error":"#REF!"}}]
[null,null,null,null,null,null,null,null,{"$f":"IF(ISBLANK(#REF!),\"\",$F$11*#REF!+$G$11)","v":{"$error":"#REF!"}},{"$f":"IF(ISBLANK(I39073),\"\",$F$12*#REF!+$G$12)","v":{"$error":"#REF!"}}]
[null,null,null,null,null,null,null,null,{"$f":"IF(ISBLANK(#REF!),\"\",$F$11*#REF!+$G$11)","v":{"$error":"#REF!"}},{"$f":"IF(ISBLANK(I39088),\"\",$F$12*#REF!+$G$12)","v":{"$error":"#REF!"}}]
[null,null,null,null,null,null,null,null,{"$f":"IF(ISBLANK(#REF!),\"\",$F$11*#REF!+$G$11)","v":{"$error":"#REF!"}},{"$f":"IF(ISBLANK(I39106),\"\",$F$12*#REF!+$G$12)","v":{"$error":"#REF!"}}]
[null,null,null,null,null,null,null,null,{"$f":"IF(ISBLANK(#REF!),\"\",$F$11*#REF!+$G$11)","v":{"$error":"#REF!"}},{"$f":"IF(ISBLANK(I39131),\"\",$F$12*#REF!+$G$12)","v":{"$error":"#REF!"}}]
[null,null,null,null,null,null,null,null,{"$f":"IF(ISBLANK(#REF!),\"\",$F$11*#REF!+$G$11)","v":{"$error":"#REF!"}},{"$f":"IF(ISBLANK(I39164),\"\",$F$12*#REF!+$G$12)","v":{"$error":"#REF!"}}]
[null,null,null,null,null,null,null,null,{"$f":"IF(ISBLANK(#REF!),\"\",$F$11*#REF!+$G$11)","v":{"$error":"#REF!"}},{"$f":"IF(ISBLANK(I39191),\"\",$F$12*#REF!+$G$12)","v":{"$error":"#REF!"}}]
[null,null,null,null,null,null,null,null,{"$f":"IF(ISBLANK(#REF!),\"\",$F$11*#REF!+$G$11)","v":{"$error":"#REF!"}},{"$f":"IF(ISBLANK(I39221),\"\",$F$12*#REF!+$G$12)","v":{"$error":"#REF!"}}]
[null,null,null,null,null,null,null,null,{"$f":"IF(ISBLANK(#REF!),\"\",$F$11*#REF!+$G$11)","v":{"$error":"#REF!"}},{"$f":"IF(ISBLANK(I39230),\"\",$F$12*#REF!+$G$12)","v":{"$error":"#REF!"}}]
[null,null,null,null,null,null,null,null,{"$f":"IF(ISBLANK(#REF!),\"\",$F$11*#REF!+$G$11)","v":{"$error":"#REF!"}},{"$f":"IF(ISBLANK(I39263),\"\",$F$12*#REF!+$G$12)","v":{"$error":"#REF!"}}]
[null,null,null,null,null,null,null,null,{"$f":"IF(ISBLANK(#REF!),\"\",$F$11*#REF!+$G$11)","v":{"$error":"#REF!"}},{"$f":"IF(ISBLANK(I39283),\"\",$F$12*#REF!+$G$12)","v":{"$error":"#REF!"}}]
[null,null,null,null,null,null,null,null,{"$f":"IF(ISBLANK(#REF!),\"\",$F$11*#REF!+$G$11)","v":{"$error":"#REF!"}},{"$f":"IF(ISBLANK(I39296),\"\",$F$12*#REF!+$G$12)","v":{"$error":"#REF!"}}]
[null,null,null,null,null,null,null,null,{"$f":"IF(ISBLANK(#REF!),\"\",$F$11*#REF!+$G$11)","v":{"$error":"#REF!"}},{"$f":"IF(ISBLANK(I39321),\"\",$F$12*#REF!+$G$12)","v":{"$error":"#REF!"}}]
[null,null,null,null,null,null,null,null,{"$f":"IF(ISBLANK(#REF!),\"\",$F$11*#REF!+$G$11)","v":{"$error":"#REF!"}},{"$f":"IF(ISBLANK(I39354),\"\",$F$12*#REF!+$G$12)","v":{"$error":"#REF!"}}]
[null,null,null,null,null,null,null,null,{"$f":"IF(ISBLANK(#REF!),\"\",$F$11*#REF!+$G$11)","v":{"$error":"#REF!"}},{"$f":"IF(ISBLANK(I39387),\"\",$F$12*#REF!+$G$12)","v":{"$error":"#REF!"}}]
[null,null,null,null,null,null,null,null,{"$f":"IF(ISBLANK(#REF!),\"\",$F$11*#REF!+$G$11)","v":{"$error":"#REF!"}},{"$f":"IF(ISBLANK(I39398),\"\",$F$12*#REF!+$G$12)","v":{"$error":"#REF!"}}]
[null,null,null,null,null,null,null,null,{"$f":"IF(ISBLANK(#REF!),\"\",$F$11*#REF!+$G$11)","v":{"$error":"#REF!"}},{"$f":"IF(ISBLANK(I39420),\"\",$F$12*#REF!+$G$12)","v":{"$error":"#REF!"}}]
[null,null,null,null,null,null,null,null,{"$f":"IF(ISBLANK(#REF!),\"\",$F$11*#REF!+$G$11)","v":{"$error":"#REF!"}},{"$f":"IF(ISBLANK(I39453),\"\",$F$12*#REF!+$G$12)","v":{"$error":"#REF!"}}]
[null,null,null,null,null,null,null,null,{"$f":"IF(ISBLANK(#REF!),\"\",$F$11*#REF!+$G$11)","v":{"$error":"#REF!"}},{"$f":"IF(ISBLANK(I39478),\"\",$F$12*#REF!+$G$12)","v":{"$error":"#REF!"}}]
[null,null,null,null,null,null,null,null,{"$f":"IF(ISBLANK(#REF!),\"\",$F$11*#REF!+$G$11)","v":{"$error":"#REF!"}},{"$f":"IF(ISBLANK(I39501),\"\",$F$12*#REF!+$G$12)","v":{"$error":"#REF!"}}]
[null,null,null,null,null,null,null,null,{"$f":"IF(ISBLANK(#REF!),\"\",$F$11*#REF!+$G$11)","v":{"$error":"#REF!"}},{"$f":"IF(ISBLANK(I39511),\"\",$F$12*#REF!+$G$12)","v":{"$error":"#REF!"}}]
[null,null,null,null,null,null,null,null,{"$f":"IF(ISBLANK(#REF!),\"\",$F$11*#REF!+$G$11)","v":{"$error":"#REF!"}},{"$f":"IF(ISBLANK(I39544),\"\",$F$12*#REF!+$G$12)","v":{"$error":"#REF!"}}]
[null,null,null,null,null,null,null,null,{"$f":"IF(ISBLANK(#REF!),\"\",$F$11*#REF!+$G$11)","v":{"$error":"#REF!"}},{"$f":"IF(ISBLANK(I39577),\"\",$F$12*#REF!+$G$12)","v":{"$error":"#REF!"}}]
[null,null,null,null,null,null,null,null,{"$f":"IF(ISBLANK(#REF!),\"\",$F$11*#REF!+$G$11)","v":{"$error":"#REF!"}},{"$f":"IF(ISBLANK(I39593),\"\",$F$12*#REF!+$G$12)","v":{"$error":"#REF!"}}]
[null,null,null,null,null,null,null,null,{"$f":"IF(ISBLANK(#REF!),\"\",$F$11*#REF!+$G$11)","v":{"$error":"#REF!"}},{"$f":"IF(ISBLANK(I39610),\"\",$F$12*#REF!+$G$12)","v":{"$error":"#REF!"}}]
[null,null,null,null,null,null,null,null,{"$f":"IF(ISBLANK(#REF!),\"\",$F$11*#REF!+$G$11)","v":{"$error":"#REF!"}},{"$f":"IF(ISBLANK(I39635),\"\",$F$12*#REF!+$G$12)","v":{"$error":"#REF!"}}]
[null,null,null,null,null,null,null,null,{"$f":"IF(ISBLANK(#REF!),\"\",$F$11*#REF!+$G$11)","v":{"$error":"#REF!"}},{"$f":"IF(ISBLANK(I39668),\"\",$F$12*#REF!+$G$12)","v":{"$error":"#REF!"}}]
[null,null,null,null,null,null,null,null,{"$f":"IF(ISBLANK(#REF!),\"\",$F$11*#REF!+$G$11)","v":{"$error":"#REF!"}},{"$f":"IF(ISBLANK(I39696),\"\",$F$12*#REF!+$G$12)","v":{"$error":"#REF!"}}]
[null,null,null,null,null,null,null,null,{"$f":"IF(ISBLANK(#REF!),\"\",$F$11*#REF!+$G$11)","v":{"$error":"#REF!"}},{"$f":"IF(ISBLANK(I39701),\"\",$F$12*#REF!+$G$12)","v":{"$error":"#REF!"}}]
[null,null,null,null,null,null,null,null,{"$f":"IF(ISBLANK(#REF!),\"\",$F$11*#REF!+$G$11)","v":{"$error":"#REF!"}},{"$f":"IF(ISBLANK(I39734),\"\",$F$12*#REF!+$G$12)","v":{"$error":"#REF!"}}]
[null,null,null,null,null,null,null,null,{"$f":"IF(ISBLANK(#REF!),\"\",$F$11*#REF!+$G$11)","v":{"$error":"#REF!"}},{"$f":"IF(ISBLANK(I39767),\"\",$F$12*#REF!+$G$12)","v":{"$error":"#REF!"}}]
[null,null,null,null,null,null,null,null,{"$f":"IF(ISBLANK(#REF!),\"\",$F$11*#REF!+$G$11)","v":{"$error":"#REF!"}},{"$f":"IF(ISBLANK(I39788),\"\",$F$12*#REF!+$G$12)","v":{"$error":"#REF!"}}]
[null,null,null,null,null,null,null,null,{"$f":"IF(ISBLANK(#REF!),\"\",$F$11*#REF!+$G$11)","v":{"$error":"#REF!"}},{"$f":"IF(ISBLANK(I39800),\"\",$F$12*#REF!+$G$12)","v":{"$error":"#REF!"}}]
[null,null,null,null,null,null,null,null,{"$f":"IF(ISBLANK(#REF!),\"\",$F$11*#REF!+$G$11)","v":{"$error":"#REF!"}},{"$f":"IF(ISBLANK(I39825),\"\",$F$12*#REF!+$G$12)","v":{"$error":"#REF!"}}]
[null,null,null,null,null,null,null,null,{"$f":"IF(ISBLANK(#REF!),\"\",$F$11*#REF!+$G$11)","v":{"$error":"#REF!"}},{"$f":"IF(ISBLANK(I39858),\"\",$F$12*#REF!+$G$12)","v":{"$error":"#REF!"}}]
[null,null,null,null,null,null,null,null,{"$f":"IF(ISBLANK(#REF!),\"\",$F$11*#REF!+$G$11)","v":{"$error":"#REF!"}},{"$f":"IF(ISBLANK(I39868),\"\",$F$12*#REF!+$G$12)","v":{"$error":"#REF!"}}]
[null,null,null,null,null,null,null,null,{"$f":"IF(ISBLANK(#REF!),\"\",$F$11*#REF!+$G$11)","v":{"$error":"#REF!"}},{"$f":"IF(ISBLANK(I39891),\"\",$F$12*#REF!+$G$12)","v":{"$error":"#REF!"}}]
[null,null,null,null,null,null,null,null,{"$f":"IF(ISBLANK(#REF!),\"\",$F$11*#REF!+$G$11)","v":{"$error":"#REF!"}},{"$f":"IF(ISBLANK(I39924),\"\",$F$12*#REF!+$G$12)","v":{"$error":"#REF!"}}]
[null,null,null,null,null,null,null,null,{"$f":"IF(ISBLANK(#REF!),\"\",$F$11*#REF!+$G$11)","v":{"$error":"#REF!"}},{"$f":"IF(ISBLANK(I39957),\"\",$F$12*#REF!+$G$12)","v":{"$error":"#REF!"}}]
[null,null,null,null,null,null,null,null,{"$f":"IF(ISBLANK(#REF!),\"\",$F$11*#REF!+$G$11)","v":{"$error":"#REF!"}},{"$f":"IF(ISBLANK(I39960),\"\",$F$12*#REF!+$G$12)","v":{"$error":"#REF!"}}]
[null,null,null,null,null,null,null,null,{"$f":"IF(ISBLANK(#REF!),\"\",$F$11*#REF!+$G$11)","v":{"$error":"#REF!"}},{"$f":"IF(ISBLANK(I39990),\"\",$F$12*#REF!+$G$12)","v":{"$error":"#REF!"}}]
[null,null,null,null,null,null,null,null,{"$f":"IF(ISBLANK(#REF!),\"\",$F$11*#REF!+$G$11)","v":{"$error":"#REF!"}},{"$f":"IF(ISBLANK(I40015),\"\",$F$12*#REF!+$G$12)","v":{"$error":"#REF!"}}]
[null,null,null,null,null,null,null,null,{"$f":"IF(ISBLANK(#REF!),\"\",$F$11*#REF!+$G$11)","v":{"$error":"#REF!"}},{"$f":"IF(ISBLANK(I40048),\"\",$F$12*#REF!+$G$12)","v":{"$error":"#REF!"}}]
[null,null,null,null,null,null,null,null,{"$f":"IF(ISBLANK(#REF!),\"\",$F$11*#REF!+$G$11)","v":{"$error":"#REF!"}},{"$f":"IF(ISBLANK(I40063),\"\",$F$12*#REF!+$G$12)","v":{"$error":"#REF!"}}]
[null,null,null,null,null,null,null,null,{"$f":"IF(ISBLANK(#REF!),\"\",$F$11*#REF!+$G$11)","v":{"$error":"#REF!"}},{"$f":"IF(ISBLANK(I40081),\"\",$F$12*#REF!+$G$12)","v":{"$error":"#REF!"}}]
[null,null,null,null,null,null,null,null,{"$f":"IF(ISBLANK(#REF!),\"\",$F$11*#REF!+$G$11)","v":{"$error":"#REF!"}},{"$f":"IF(ISBLANK(I40114),\"\",$F$12*#REF!+$G$12)","v":{"$error":"#REF!"}}]
[null,null,null,null,null,null,null,null,{"$f":"IF(ISBLANK(#REF!),\"\",$F$11*#REF!+$G$11)","v":{"$error":"#REF!"}},{"$f":"IF(ISBLANK(I40139),\"\",$F$12*#REF!+$G$12)","v":{"$error":"#REF!"}}]
[null,null,null,null,null,null,null,null,{"$f":"IF(ISBLANK(#REF!),\"\",$F$11*#REF!+$G$11)","v":{"$error":"#REF!"}},{"$f":"IF(ISBLANK(I40155),\"\",$F$12*#REF!+$G$12)","v":{"$error":"#REF!"}}]
[null,null,null,null,null,null,null,null,{"$f":"IF(ISBLANK(#REF!),\"\",$F$11*#REF!+$G$11)","v":{"$error":"#REF!"}},{"$f":"IF(ISBLANK(I40180),\"\",$F$12*#REF!+$G$12)","v":{"$error":"#REF!"}}]
[null,null,null,null,null,null,null,null,{"$f":"IF(ISBLANK(#REF!),\"\",$F$11*#REF!+$G$11)","v":{"$error":"#REF!"}},{"$f":"IF(ISBLANK(I40205),\"\",$F$12*#REF!+$G$12)","v":{"$error":"#REF!"}}]
[null,null,null,null,null,null,null,null,{"$f":"IF(ISBLANK(#REF!),\"\",$F$11*#REF!+$G$11)","v":{"$error":"#REF!"}},{"$f":"IF(ISBLANK(I40238),\"\",$F$12*#REF!+$G$12)","v":{"$error":"#REF!"}}]
[null,null,null,null,null,null,null,null,{"$f":"IF(ISBLANK(#REF!),\"\",$F$11*#REF!+$G$11)","v":{"$error":"#REF!"}},{"$f":"IF(ISBLANK(I40258),\"\",$F$12*#REF!+$G$12)","v":{"$error":"#REF!"}}]
[null,null,null,null,null,null,null,null,{"$f":"IF(ISBLANK(#REF!),\"\",$F$11*#REF!+$G$11)","v":{"$error":"#REF!"}},{"$f":"IF(ISBLANK(I40271),\"\",$F$12*#REF!+$G$12)","v":{"$error":"#REF!"}}]
[null,null,null,null,null,null,null,null,{"$f":"IF(ISBLANK(#REF!),\"\",$F$11*#REF!+$G$11)","v":{"$error":"#REF!"}},{"$f":"IF(ISBLANK(I40304),\"\",$F$12*#REF!+$G$12)","v":{"$error":"#REF!"}}]
[null,null,null,null,null,null,null,null,{"$f":"IF(ISBLANK(#REF!),\"\",$F$11*#REF!+$G$11)","v":{"$error":"#REF!"}},{"$f":"IF(ISBLANK(I40329),\"\",$F$12*#REF!+$G$12)","v":{"$error":"#REF!"}}]
[null,null,null,null,null,null,null,null,{"$f":"IF(ISBLANK(#REF!),\"\",$F$11*#REF!+$G$11)","v":{"$error":"#REF!"}},{"$f":"IF(ISBLANK(I40350),\"\",$F$12*#REF!+$G$12)","v":{"$error":"#REF!"}}]
[null,null,null,null,null,null,null,null,{"$f":"IF(ISBLANK(#REF!),\"\",$F$11*#REF!+$G$11)","v":{"$error":"#REF!"}},{"$f":"IF(ISBLANK(I40370),\"\",$F$12*#REF!+$G$12)","v":{"$error":"#REF!"}}]
[null,null,null,null,null,null,null,null,{"$f":"IF(ISBLANK(#REF!),\"\",$F$11*#REF!+$G$11)","v":{"$error":"#REF!"}},{"$f":"IF(ISBLANK(I40395),\"\",$F$12*#REF!+$G$12)","v":{"$error":"#REF!"}}]
[null,null,null,null,null,null,null,null,{"$f":"IF(ISBLANK(#REF!),\"\",$F$11*#REF!+$G$11)","v":{"$error":"#REF!"}},{"$f":"IF(ISBLANK(I40428),\"\",$F$12*#REF!+$G$12)","v":{"$error":"#REF!"}}]
[null,null,null,null,null,null,null,null,{"$f":"IF(ISBLANK(#REF!),\"\",$F$11*#REF!+$G$11)","v":{"$error":"#REF!"}},{"$f":"IF(ISBLANK(I40442),\"\",$F$12*#REF!+$G$12)","v":{"$error":"#REF!"}}]
[null,null,null,null,null,null,null,null,{"$f":"IF(ISBLANK(#REF!),\"\",$F$11*#REF!+$G$11)","v":{"$error":"#REF!"}},{"$f":"IF(ISBLANK(I40461),\"\",$F$12*#REF!+$G$12)","v":{"$error":"#REF!"}}]
[null,null,null,null,null,null,null,null,{"$f":"IF(ISBLANK(#REF!),\"\",$F$11*#REF!+$G$11)","v":{"$error":"#REF!"}},{"$f":"IF(ISBLANK(I40494),\"\",$F$12*#REF!+$G$12)","v":{"$error":"#REF!"}}]
[null,null,null,null,null,null,null,null,{"$f":"IF(ISBLANK(#REF!),\"\",$F$11*#REF!+$G$11)","v":{"$error":"#REF!"}},{"$f":"IF(ISBLANK(I40519),\"\",$F$12*#REF!+$G$12)","v":{"$error":"#REF!"}}]
[null,null,null,null,null,null,null,null,{"$f":"IF(ISBLANK(#REF!),\"\",$F$11*#REF!+$G$11)","v":{"$error":"#REF!"}},{"$f":"IF(ISBLANK(I40545),\"\",$F$12*#REF!+$G$12)","v":{"$error":"#REF!"}}]
[null,null,null,null,null,null,null,null,{"$f":"IF(ISBLANK(#REF!),\"\",$F$11*#REF!+$G$11)","v":{"$error":"#REF!"}},{"$f":"IF(ISBLANK(I40560),\"\",$F$12*#REF!+$G$12)","v":{"$error":"#REF!"}}]
[null,null,null,null,null,null,null,null,{"$f":"IF(ISBLANK(#REF!),\"\",$F$11*#REF!+$G$11)","v":{"$error":"#REF!"}},{"$f":"IF(ISBLANK(I40585),\"\",$F$12*#REF!+$G$12)","v":{"$error":"#REF!"}}]
[null,null,null,null,null,null,null,null,{"$f":"IF(ISBLANK(#REF!),\"\",$F$11*#REF!+$G$11)","v":{"$error":"#REF!"}},{"$f":"IF(ISBLANK(I40618),\"\",$F$12*#REF!+$G$12)","v":{"$error":"#REF!"}}]
[null,null,null,null,null,null,null,null,{"$f":"IF(ISBLANK(#REF!),\"\",$F$11*#REF!+$G$11)","v":{"$error":"#REF!"}},{"$f":"IF(ISBLANK(I40637),\"\",$F$12*#REF!+$G$12)","v":{"$error":"#REF!"}}]
[null,null,null,null,null,null,null,null,{"$f":"IF(ISBLANK(#REF!),\"\",$F$11*#REF!+$G$11)","v":{"$error":"#REF!"}},{"$f":"IF(ISBLANK(I40651),\"\",$F$12*#REF!+$G$12)","v":{"$error":"#REF!"}}]
[null,null,null,null,null,null,null,null,{"$f":"IF(ISBLANK(#REF!),\"\",$F$11*#REF!+$G$11)","v":{"$error":"#REF!"}},{"$f":"IF(ISBLANK(I40684),\"\",$F$12*#REF!+$G$12)","v":{"$error":"#REF!"}}]
[null,null,null,null,null,null,null,null,{"$f":"IF(ISBLANK(#REF!),\"\",$F$11*#REF!+$G$11)","v":{"$error":"#REF!"}},{"$f":"IF(ISBLANK(I40709),\"\",$F$12*#REF!+$G$12)","v":{"$error":"#REF!"}}]
[null,null,null,null,null,null,null,null,{"$f":"IF(ISBLANK(#REF!),\"\",$F$11*#REF!+$G$11)","v":{"$error":"#REF!"}},{"$f":"IF(ISBLANK(I40740),\"\",$F$12*#REF!+$G$12)","v":{"$error":"#REF!"}}]
[null,null,null,null,null,null,null,null,{"$f":"IF(ISBLANK(#REF!),\"\",$F$11*#REF!+$G$11)","v":{"$error":"#REF!"}},{"$f":"IF(ISBLANK(I40750),\"\",$F$12*#REF!+$G$12)","v":{"$error":"#REF!"}}]
[null,null,null,null,null,null,null,null,{"$f":"IF(ISBLANK(#REF!),\"\",$F$11*#REF!+$G$11)","v":{"$error":"#REF!"}},{"$f":"IF(ISBLANK(I40775),\"\",$F$12*#REF!+$G$12)","v":{"$error":"#REF!"}}]
[null,null,null,null,null,null,null,null,{"$f":"IF(ISBLANK(#REF!),\"\",$F$11*#REF!+$G$11)","v":{"$error":"#REF!"}},{"$f":"IF(ISBLANK(I40808),\"\",$F$12*#REF!+$G$12)","v":{"$error":"#REF!"}}]
[null,null,null,null,null,null,null,null,{"$f":"IF(ISBLANK(#REF!),\"\",$F$11*#REF!+$G$11)","v":{"$error":"#REF!"}},{"$f":"IF(ISBLANK(I40832),\"\",$F$12*#REF!+$G$12)","v":{"$error":"#REF!"}}]
[null,null,null,null,null,null,null,null,{"$f":"IF(ISBLANK(#REF!),\"\",$F$11*#REF!+$G$11)","v":{"$error":"#REF!"}},{"$f":"IF(ISBLANK(I40841),\"\",$F$12*#REF!+$G$12)","v":{"$error":"#REF!"}}]
[null,null,null,null,null,null,null,null,{"$f":"IF(ISBLANK(#REF!),\"\",$F$11*#REF!+$G$11)","v":{"$error":"#REF!"}},{"$f":"IF(ISBLANK(I40874),\"\",$F$12*#REF!+$G$12)","v":{"$error":"#REF!"}}]
[null,null,null,null,null,null,null,null,{"$f":"IF(ISBLANK(#REF!),\"\",$F$11*#REF!+$G$11)","v":{"$error":"#REF!"}},{"$f":"IF(ISBLANK(I40899),\"\",$F$12*#REF!+$G$12)","v":{"$error":"#REF!"}}]
[null,null,null,null,null,null,null,null,{"$f":"IF(ISBLANK(#REF!),\"\",$F$11*#REF!+$G$11)","v":{"$error":"#REF!"}},{"$f":"IF(ISBLANK(I40912),\"\",$F$12*#REF!+$G$12)","v":{"$error":"#REF!"}}]
[null,null,null,null,null,null,null,null,{"$f":"IF(ISBLANK(#REF!),\"\",$F$11*#REF!+$G$11)","v":{"$error":"#REF!"}},{"$f":"IF(ISBLANK(I40932),\"\",$F$12*#REF!+$G$12)","v":{"$error":"#REF!"}}]
[null,null,null,null,null,null,null,null,{"$f":"IF(ISBLANK(#REF!),\"\",$F$11*#REF!+$G$11)","v":{"$error":"#REF!"}},{"$f":"IF(ISBLANK(I40965),\"\",$F$12*#REF!+$G$12)","v":{"$error":"#REF!"}}]
[null,null,null,null,null,null,null,null,{"$f":"IF(ISBLANK(#REF!),\"\",$F$11*#REF!+$G$11)","v":{"$error":"#REF!"}},{"$f":"IF(ISBLANK(I40998),\"\",$F$12*#REF!+$G$12)","v":{"$error":"#REF!"}}]
[null,null,null,null,null,null,null,null,{"$f":"IF(ISBLANK(#REF!),\"\",$F$11*#REF!+$G$11)","v":{"$error":"#REF!"}},{"$f":"IF(ISBLANK(I41023),\"\",$F$12*#REF!+$G$12)","v":{"$error":"#REF!"}}]
[null,null,null,null,null,null,null,null,{"$f":"IF(ISBLANK(#REF!),\"\",$F$11*#REF!+$G$11)","v":{"$error":"#REF!"}},{"$f":"IF(ISBLANK(I41050),\"\",$F$12*#REF!+$G$12)","v":{"$error":"#REF!"}}]
[null,null,null,null,null,null,null,null,{"$f":"IF(ISBLANK(#REF!),\"\",$F$11*#REF!+$G$11)","v":{"$error":"#REF!"}},{"$f":"IF(ISBLANK(I41064),\"\",$F$12*#REF!+$G$12)","v":{"$error":"#REF!"}}]
[null,null,null,null,null,null,null,null,{"$f":"IF(ISBLANK(#REF!),\"\",$F$11*#REF!+$G$11)","v":{"$error":"#REF!"}},{"$f":"IF(ISBLANK(I41089),\"\",$F$12*#REF!+$G$12)","v":{"$error":"#REF!"}}]
[null,null,null,null,null,null,null,null,{"$f":"IF(ISBLANK(#REF!),\"\",$F$11*#REF!+$G$11)","v":{"$error":"#REF!"}},{"$f":"IF(ISBLANK(I41122),\"\",$F$12*#REF!+$G$12)","v":{"$error":"#REF!"}}]
[null,null,null,null,null,null,null,null,{"$f":"IF(ISBLANK(#REF!),\"\",$F$11*#REF!+$G$11)","v":{"$error":"#REF!"}},{"$f":"IF(ISBLANK(I41142),\"\",$F$12*#REF!+$G$12)","v":{"$error":"#REF!"}}]
[null,null,null,null,null,null,null,null,{"$f":"IF(ISBLANK(#REF!),\"\",$F$11*#REF!+$G$11)","v":{"$error":"#REF!"}},{"$f":"IF(ISBLANK(I41155),\"\",$F$12*#REF!+$G$12)","v":{"$error":"#REF!"}}]
[null,null,null,null,null,null,null,null,{"$f":"IF(ISBLANK(#REF!),\"\",$F$11*#REF!+$G$11)","v":{"$error":"#REF!"}},{"$f":"IF(ISBLANK(I41188),\"\",$F$12*#REF!+$G$12)","v":{"$error":"#REF!"}}]
[null,null,null,null,null,null,null,null,{"$f":"IF(ISBLANK(#REF!),\"\",$F$11*#REF!+$G$11)","v":{"$error":"#REF!"}},{"$f":"IF(ISBLANK(I41213),\"\",$F$12*#REF!+$G$12)","v":{"$error":"#REF!"}}]
[null,null,null,null,null,null,null,null,{"$f":"IF(ISBLANK(#REF!),\"\",$F$11*#REF!+$G$11)","v":{"$error":"#REF!"}},{"$f":"IF(ISBLANK(I41222),\"\",$F$12*#REF!+$G$12)","v":{"$error":"#REF!"}}]
[null,null,null,null,null,null,null,null,{"$f":"IF(ISBLANK(#REF!),\"\",$F$11*#REF!+$G$11)","v":{"$error":"#REF!"}},{"$f":"IF(ISBLANK(I41246),\"\",$F$12*#REF!+$G$12)","v":{"$error":"#REF!"}}]
[null,null,null,null,null,null,null,null,{"$f":"IF(ISBLANK(#REF!),\"\",$F$11*#REF!+$G$11)","v":{"$error":"#REF!"}},{"$f":"IF(ISBLANK(I41279),\"\",$F$12*#REF!+$G$12)","v":{"$error":"#REF!"}}]
[null,null,null,null,null,null,null,null,{"$f":"IF(ISBLANK(#REF!),\"\",$F$11*#REF!+$G$11)","v":{"$error":"#REF!"}},{"$f":"IF(ISBLANK(I41312),\"\",$F$12*#REF!+$G$12)","v":{"$error":"#REF!"}}]
[null,null,null,null,null,null,null,null,{"$f":"IF(ISBLANK(#REF!),\"\",$F$11*#REF!+$G$11)","v":{"$error":"#REF!"}},{"$f":"IF(ISBLANK(I41314),\"\",$F$12*#REF!+$G$12)","v":{"$error":"#REF!"}}]
[null,null,null,null,null,null,null,null,{"$f":"IF(ISBLANK(#REF!),\"\",$F$11*#REF!+$G$11)","v":{"$error":"#REF!"}},{"$f":"IF(ISBLANK(I41345),\"\",$F$12*#REF!+$G$12)","v":{"$error":"#REF!"}}]
[null,null,null,null,null,null,null,null,{"$f":"IF(ISBLANK(#REF!),\"\",$F$11*#REF!+$G$11)","v":{"$error":"#REF!"}},{"$f":"IF(ISBLANK(I41378),\"\",$F$12*#REF!+$G$12)","v":{"$error":"#REF!"}}]
[null,null,null,null,null,null,null,null,{"$f":"IF(ISBLANK(#REF!),\"\",$F$11*#REF!+$G$11)","v":{"$error":"#REF!"}},{"$f":"IF(ISBLANK(I41403),\"\",$F$12*#REF!+$G$12)","v":{"$error":"#REF!"}}]
[null,null,null,null,null,null,null,null,{"$f":"IF(ISBLANK(#REF!),\"\",$F$11*#REF!+$G$11)","v":{"$error":"#REF!"}},{"$f":"IF(ISBLANK(I41417),\"\",$F$12*#REF!+$G$12)","v":{"$error":"#REF!"}}]
[null,null,null,null,null,null,null,null,{"$f":"IF(ISBLANK(#REF!),\"\",$F$11*#REF!+$G$11)","v":{"$error":"#REF!"}},{"$f":"IF(ISBLANK(I41436),\"\",$F$12*#REF!+$G$12)","v":{"$error":"#REF!"}}]
[null,null,null,null,null,null,null,null,{"$f":"IF(ISBLANK(#REF!),\"\",$F$11*#REF!+$G$11)","v":{"$error":"#REF!"}},{"$f":"IF(ISBLANK(I41469),\"\",$F$12*#REF!+$G$12)","v":{"$error":"#REF!"}}]
[null,null,null,null,null,null,null,null,{"$f":"IF(ISBLANK(#REF!),\"\",$F$11*#REF!+$G$11)","v":{"$error":"#REF!"}},{"$f":"IF(ISBLANK(I41502),\"\",$F$12*#REF!+$G$12)","v":{"$error":"#REF!"}}]
[null,null,null,null,null,null,null,null,{"$f":"IF(ISBLANK(#REF!),\"\",$F$11*#REF!+$G$11)","v":{"$error":"#REF!"}},{"$f":"IF(ISBLANK(I41509),\"\",$F$12*#REF!+$G$12)","v":{"$error":"#REF!"}}]
[null,null,null,null,null,null,null,null,{"$f":"IF(ISBLANK(#REF!),\"\",$F$11*#REF!+$G$11)","v":{"$error":"#REF!"}},{"$f":"IF(ISBLANK(I41535),\"\",$F$12*#REF!+$G$12)","v":{"$error":"#REF!"}}]
[null,null,null,null,null,null,null,null,{"$f":"IF(ISBLANK(#REF!),\"\",$F$11*#REF!+$G$11)","v":{"$error":"#REF!"}},{"$f":"IF(ISBLANK(I41568),\"\",$F$12*#REF!+$G$12)","v":{"$error":"#REF!"}}]
[null,null,null,null,null,null,null,null,{"$f":"IF(ISBLANK(#REF!),\"\",$F$11*#REF!+$G$11)","v":{"$error":"#REF!"}},{"$f":"IF(ISBLANK(I41593),\"\",$F$12*#REF!+$G$12)","v":{"$error":"#REF!"}}]
[null,null,null,null,null,null,null,null,{"$f":"IF(ISBLANK(#REF!),\"\",$F$11*#REF!+$G$11)","v":{"$error":"#REF!"}},{"$f":"IF(ISBLANK(I41612),\"\",$F$12*#REF!+$G$12)","v":{"$error":"#REF!"}}]
[null,null,null,null,null,null,null,null,{"$f":"IF(ISBLANK(#REF!),\"\",$F$11*#REF!+$G$11)","v":{"$error":"#REF!"}},{"$f":"IF(ISBLANK(I41626),\"\",$F$12*#REF!+$G$12)","v":{"$error":"#REF!"}}]
[null,null,null,null,null,null,null,null,{"$f":"IF(ISBLANK(#REF!),\"\",$F$11*#REF!+$G$11)","v":{"$error":"#REF!"}},{"$f":"IF(ISBLANK(I41659),\"\",$F$12*#REF!+$G$12)","v":{"$error":"#REF!"}}]
[null,null,null,null,null,null,null,null,{"$f":"IF(ISBLANK(#REF!),\"\",$F$11*#REF!+$G$11)","v":{"$error":"#REF!"}},{"$f":"IF(ISBLANK(I41692),\"\",$F$12*#REF!+$G$12)","v":{"$error":"#REF!"}}]
[null,null,null,null,null,null,null,null,{"$f":"IF(ISBLANK(#REF!),\"\",$F$11*#REF!+$G$11)","v":{"$error":"#REF!"}},{"$f":"IF(ISBLANK(I41704),\"\",$F$12*#REF!+$G$12)","v":{"$error":"#REF!"}}]
[null,null,null,null,null,null,null,null,{"$f":"IF(ISBLANK(#REF!),\"\",$F$11*#REF!+$G$11)","v":{"$error":"#REF!"}},{"$f":"IF(ISBLANK(I41725),\"\",$F$12*#REF!+$G$12)","v":{"$error":"#REF!"}}]
[null,null,null,null,null,null,null,null,{"$f":"IF(ISBLANK(#REF!),\"\",$F$11*#REF!+$G$11)","v":{"$error":"#REF!"}},{"$f":"IF(ISBLANK(I41750),\"\",$F$12*#REF!+$G$12)","v":{"$error":"#REF!"}}]
[null,null,null,null,null,null,null,null,{"$f":"IF(ISBLANK(#REF!),\"\",$F$11*#REF!+$G$11)","v":{"$error":"#REF!"}},{"$f":"IF(ISBLANK(I41783),\"\",$F$12*#REF!+$G$12)","v":{"$error":"#REF!"}}]
[null,null,null,null,null,null,null,null,{"$f":"IF(ISBLANK(#REF!),\"\",$F$11*#REF!+$G$11)","v":{"$error":"#REF!"}},{"$f":"IF(ISBLANK(I41807),\"\",$F$12*#REF!+$G$12)","v":{"$error":"#REF!"}}]
[null,null,null,null,null,null,null,null,{"$f":"IF(ISBLANK(#REF!),\"\",$F$11*#REF!+$G$11)","v":{"$error":"#REF!"}},{"$f":"IF(ISBLANK(I41816),\"\",$F$12*#REF!+$G$12)","v":{"$error":"#REF!"}}]
[null,null,null,null,null,null,null,null,{"$f":"IF(ISBLANK(#REF!),\"\",$F$11*#REF!+$G$11)","v":{"$error":"#REF!"}},{"$f":"IF(ISBLANK(I41849),\"\",$F$12*#REF!+$G$12)","v":{"$error":"#REF!"}}]
[null,null,null,null,null,null,null,null,{"$f":"IF(ISBLANK(#REF!),\"\",$F$11*#REF!+$G$11)","v":{"$error":"#REF!"}},{"$f":"IF(ISBLANK(I41882),\"\",$F$12*#REF!+$G$12)","v":{"$error":"#REF!"}}]
[null,null,null,null,null,null,null,null,{"$f":"IF(ISBLANK(#REF!),\"\",$F$11*#REF!+$G$11)","v":{"$error":"#REF!"}},{"$f":"IF(ISBLANK(I41899),\"\",$F$12*#REF!+$G$12)","v":{"$error":"#REF!"}}]
[null,null,null,null,null,null,null,null,{"$f":"IF(ISBLANK(#REF!),\"\",$F$11*#REF!+$G$11)","v":{"$error":"#REF!"}},{"$f":"IF(ISBLANK(I41915),\"\",$F$12*#REF!+$G$12)","v":{"$error":"#REF!"}}]
[null,null,null,null,null,null,null,null,{"$f":"IF(ISBLANK(#REF!),\"\",$F$11*#REF!+$G$11)","v":{"$error":"#REF!"}},{"$f":"IF(ISBLANK(I41940),\"\",$F$12*#REF!+$G$12)","v":{"$error":"#REF!"}}]
[null,null,null,null,null,null,null,null,{"$f":"IF(ISBLANK(#REF!),\"\",$F$11*#REF!+$G$11)","v":{"$error":"#REF!"}},{"$f":"IF(ISBLANK(I41973),\"\",$F$12*#REF!+$G$12)","v":{"$error":"#REF!"}}]
[null,null,null,null,null,null,null,null,{"$f":"IF(ISBLANK(#REF!),\"\",$F$11*#REF!+$G$11)","v":{"$error":"#REF!"}},{"$f":"IF(ISBLANK(I41979),\"\",$F$12*#REF!+$G$12)","v":{"$error":"#REF!"}}]
[null,null,null,null,null,null,null,null,{"$f":"IF(ISBLANK(#REF!),\"\",$F$11*#REF!+$G$11)","v":{"$error":"#REF!"}},{"$f":"IF(ISBLANK(I42006),\"\",$F$12*#REF!+$G$12)","v":{"$error":"#REF!"}}]
[null,null,null,null,null,null,null,null,{"$f":"IF(ISBLANK(#REF!),\"\",$F$11*#REF!+$G$11)","v":{"$error":"#REF!"}},{"$f":"IF(ISBLANK(I42039),\"\",$F$12*#REF!+$G$12)","v":{"$error":"#REF!"}}]
[null,null,null,null,null,null,null,null,{"$f":"IF(ISBLANK(#REF!),\"\",$F$11*#REF!+$G$11)","v":{"$error":"#REF!"}},{"$f":"IF(ISBLANK(I42072),\"\",$F$12*#REF!+$G$12)","v":{"$error":"#REF!"}}]
[null,null,null,null,null,null,null,null,{"$f":"IF(ISBLANK(#REF!),\"\",$F$11*#REF!+$G$11)","v":{"$error":"#REF!"}},{"$f":"IF(ISBLANK(I42094),\"\",$F$12*#REF!+$G$12)","v":{"$error":"#REF!"}}]
[null,null,null,null,null,null,null,null,{"$f":"IF(ISBLANK(#REF!),\"\",$F$11*#REF!+$G$11)","v":{"$error":"#REF!"}},{"$f":"IF(ISBLANK(I42105),\"\",$F$12*#REF!+$G$12)","v":{"$error":"#REF!"}}]
[null,null,null,null,null,null,null,null,{"$f":"IF(ISBLANK(#REF!),\"\",$F$11*#REF!+$G$11)","v":{"$error":"#REF!"}},{"$f":"IF(ISBLANK(I42130),\"\",$F$12*#REF!+$G$12)","v":{"$error":"#REF!"}}]
[null,null,null,null,null,null,null,null,{"$f":"IF(ISBLANK(#REF!),\"\",$F$11*#REF!+$G$11)","v":{"$error":"#REF!"}},{"$f":"IF(ISBLANK(I42163),\"\",$F$12*#REF!+$G$12)","v":{"$error":"#REF!"}}]
[null,null,null,null,null,null,null,null,{"$f":"IF(ISBLANK(#REF!),\"\",$F$11*#REF!+$G$11)","v":{"$error":"#REF!"}},{"$f":"IF(ISBLANK(I42174),\"\",$F$12*#REF!+$G$12)","v":{"$error":"#REF!"}}]
[null,null,null,null,null,null,null,null,{"$f":"IF(ISBLANK(#REF!),\"\",$F$11*#REF!+$G$11)","v":{"$error":"#REF!"}},{"$f":"IF(ISBLANK(I42196),\"\",$F$12*#REF!+$G$12)","v":{"$error":"#REF!"}}]
[null,null,null,null,null,null,null,null,{"$f":"IF(ISBLANK(#REF!),\"\",$F$11*#REF!+$G$11)","v":{"$error":"#REF!"}},{"$f":"IF(ISBLANK(I42229),\"\",$F$12*#REF!+$G$12)","v":{"$error":"#REF!"}}]
[null,null,null,null,null,null,null,null,{"$f":"IF(ISBLANK(#REF!),\"\",$F$11*#REF!+$G$11)","v":{"$error":"#REF!"}},{"$f":"IF(ISBLANK(I42254),\"\",$F$12*#REF!+$G$12)","v":{"$error":"#REF!"}}]
[null,null,null,null,null,null,null,null,{"$f":"IF(ISBLANK(#REF!),\"\",$F$11*#REF!+$G$11)","v":{"$error":"#REF!"}},{"$f":"IF(ISBLANK(I42266),\"\",$F$12*#REF!+$G$12)","v":{"$error":"#REF!"}}]
[null,null,null,null,null,null,null,null,{"$f":"IF(ISBLANK(#REF!),\"\",$F$11*#REF!+$G$11)","v":{"$error":"#REF!"}},{"$f":"IF(ISBLANK(I42295),\"\",$F$12*#REF!+$G$12)","v":{"$error":"#REF!"}}]
[null,null,null,null,null,null,null,null,{"$f":"IF(ISBLANK(#REF!),\"\",$F$11*#REF!+$G$11)","v":{"$error":"#REF!"}},{"$f":"IF(ISBLANK(I42320),\"\",$F$12*#REF!+$G$12)","v":{"$error":"#REF!"}}]
[null,null,null,null,null,null,null,null,{"$f":"IF(ISBLANK(#REF!),\"\",$F$11*#REF!+$G$11)","v":{"$error":"#REF!"}},{"$f":"IF(ISBLANK(I42353),\"\",$F$12*#REF!+$G$12)","v":{"$error":"#REF!"}}]
[null,null,null,null,null,null,null,null,{"$f":"IF(ISBLANK(#REF!),\"\",$F$11*#REF!+$G$11)","v":{"$error":"#REF!"}},{"$f":"IF(ISBLANK(I42369),\"\",$F$12*#REF!+$G$12)","v":{"$error":"#REF!"}}]
[null,null,null,null,null,null,null,null,{"$f":"IF(ISBLANK(#REF!),\"\",$F$11*#REF!+$G$11)","v":{"$error":"#REF!"}},{"$f":"IF(ISBLANK(I42386),\"\",$F$12*#REF!+$G$12)","v":{"$error":"#REF!"}}]
[null,null,null,null,null,null,null,null,{"$f":"IF(ISBLANK(#REF!),\"\",$F$11*#REF!+$G$11)","v":{"$error":"#REF!"}},{"$f":"IF(ISBLANK(I42419),\"\",$F$12*#REF!+$G$12)","v":{"$error":"#REF!"}}]
[null,null,null,null,null,null,null,null,{"$f":"IF(ISBLANK(#REF!),\"\",$F$11*#REF!+$G$11)","v":{"$error":"#REF!"}},{"$f":"IF(ISBLANK(I42444),\"\",$F$12*#REF!+$G$12)","v":{"$error":"#REF!"}}]
[null,null,null,null,null,null,null,null,{"$f":"IF(ISBLANK(#REF!),\"\",$F$11*#REF!+$G$11)","v":{"$error":"#REF!"}},{"$f":"IF(ISBLANK(I42461),\"\",$F$12*#REF!+$G$12)","v":{"$error":"#REF!"}}]
[null,null,null,null,null,null,null,null,{"$f":"IF(ISBLANK(#REF!),\"\",$F$11*#REF!+$G$11)","v":{"$error":"#REF!"}},{"$f":"IF(ISBLANK(I42485),\"\",$F$12*#REF!+$G$12)","v":{"$error":"#REF!"}}]
[null,null,null,null,null,null,null,null,{"$f":"IF(ISBLANK(#REF!),\"\",$F$11*#REF!+$G$11)","v":{"$error":"#REF!"}},{"$f":"IF(ISBLANK(I42510),\"\",$F$12*#REF!+$G$12)","v":{"$error":"#REF!"}}]
[null,null,null,null,null,null,null,null,{"$f":"IF(ISBLANK(#REF!),\"\",$F$11*#REF!+$G$11)","v":{"$error":"#REF!"}},{"$f":"IF(ISBLANK(I42543),\"\",$F$12*#REF!+$G$12)","v":{"$error":"#REF!"}}]
[null,null,null,null,null,null,null,null,{"$f":"IF(ISBLANK(#REF!),\"\",$F$11*#REF!+$G$11)","v":{"$error":"#REF!"}},{"$f":"IF(ISBLANK(I42553),\"\",$F$12*#REF!+$G$12)","v":{"$error":"#REF!"}}]
[null,null,null,null,null,null,null,null,{"$f":"IF(ISBLANK(#REF!),\"\",$F$11*#REF!+$G$11)","v":{"$error":"#REF!"}},{"$f":"IF(ISBLANK(I42576),\"\",$F$12*#REF!+$G$12)","v":{"$error":"#REF!"}}]
[null,null,null,null,null,null,null,null,{"$f":"IF(ISBLANK(#REF!),\"\",$F$11*#REF!+$G$11)","v":{"$error":"#REF!"}},{"$f":"IF(ISBLANK(I42609),\"\",$F$12*#REF!+$G$12)","v":{"$error":"#REF!"}}]
[null,null,null,null,null,null,null,null,{"$f":"IF(ISBLANK(#REF!),\"\",$F$11*#REF!+$G$11)","v":{"$error":"#REF!"}},{"$f":"IF(ISBLANK(I42634),\"\",$F$12*#REF!+$G$12)","v":{"$error":"#REF!"}}]
[null,null,null,null,null,null,null,null,{"$f":"IF(ISBLANK(#REF!),\"\",$F$11*#REF!+$G$11)","v":{"$error":"#REF!"}},{"$f":"IF(ISBLANK(I42656),\"\",$F$12*#REF!+$G$12)","v":{"$error":"#REF!"}}]
[null,null,null,null,null,null,null,null,{"$f":"IF(ISBLANK(#REF!),\"\",$F$11*#REF!+$G$11)","v":{"$error":"#REF!"}},{"$f":"IF(ISBLANK(I42675),\"\",$F$12*#REF!+$G$12)","v":{"$error":"#REF!"}}]
[null,null,null,null,null,null,null,null,{"$f":"IF(ISBLANK(#REF!),\"\",$F$11*#REF!+$G$11)","v":{"$error":"#REF!"}},{"$f":"IF(ISBLANK(I42700),\"\",$F$12*#REF!+$G$12)","v":{"$error":"#REF!"}}]
[null,null,null,null,null,null,null,null,{"$f":"IF(ISBLANK(#REF!),\"\",$F$11*#REF!+$G$11)","v":{"$error":"#REF!"}},{"$f":"IF(ISBLANK(I42733),\"\",$F$12*#REF!+$G$12)","v":{"$error":"#REF!"}}]
[null,null,null,null,null,null,null,null,{"$f":"IF(ISBLANK(#REF!),\"\",$F$11*#REF!+$G$11)","v":{"$error":"#REF!"}},{"$f":"IF(ISBLANK(I42758),\"\",$F$12*#REF!+$G$12)","v":{"$error":"#REF!"}}]
[null,null,null,null,null,null,null,null,{"$f":"IF(ISBLANK(#REF!),\"\",$F$11*#REF!+$G$11)","v":{"$error":"#REF!"}},{"$f":"IF(ISBLANK(I42771),\"\",$F$12*#REF!+$G$12)","v":{"$error":"#REF!"}}]
[null,null,null,null,null,null,null,null,{"$f":"IF(ISBLANK(#REF!),\"\",$F$11*#REF!+$G$11)","v":{"$error":"#REF!"}},{"$f":"IF(ISBLANK(I42799),\"\",$F$12*#REF!+$G$12)","v":{"$error":"#REF!"}}]
[null,null,null,null,null,null,null,null,{"$f":"IF(ISBLANK(#REF!),\"\",$F$11*#REF!+$G$11)","v":{"$error":"#REF!"}},{"$f":"IF(ISBLANK(I42824),\"\",$F$12*#REF!+$G$12)","v":{"$error":"#REF!"}}]
[null,null,null,null,null,null,null,null,{"$f":"IF(ISBLANK(#REF!),\"\",$F$11*#REF!+$G$11)","v":{"$error":"#REF!"}},{"$f":"IF(ISBLANK(I42833),\"\",$F$12*#REF!+$G$12)","v":{"$error":"#REF!"}}]
[null,null,null,null,null,null,null,null,{"$f":"IF(ISBLANK(#REF!),\"\",$F$11*#REF!+$G$11)","v":{"$error":"#REF!"}},{"$f":"IF(ISBLANK(I42874),\"\",$F$12*#REF!+$G$12)","v":{"$error":"#REF!"}}]
[null,null,null,null,null,null,null,null,{"$f":"IF(ISBLANK(#REF!),\"\",$F$11*#REF!+$G$11)","v":{"$error":"#REF!"}},{"$f":"IF(ISBLANK(I42890),\"\",$F$12*#REF!+$G$12)","v":{"$error":"#REF!"}}]
[null,null,null,null,null,null,null,null,{"$f":"IF(ISBLANK(#REF!),\"\",$F$11*#REF!+$G$11)","v":{"$error":"#REF!"}},{"$f":"IF(ISBLANK(I42923),\"\",$F$12*#REF!+$G$12)","v":{"$error":"#REF!"}}]
[null,null,null,null,null,null,null,null,{"$f":"IF(ISBLANK(#REF!),\"\",$F$11*#REF!+$G$11)","v":{"$error":"#REF!"}},{"$f":"IF(ISBLANK(I42948),\"\",$F$12*#REF!+$G$12)","v":{"$error":"#REF!"}}]
[null,null,null,null,null,null,null,null,{"$f":"IF(ISBLANK(#REF!),\"\",$F$11*#REF!+$G$11)","v":{"$error":"#REF!"}},{"$f":"IF(ISBLANK(I42966),\"\",$F$12*#REF!+$G$12)","v":{"$error":"#REF!"}}]
[null,null,null,null,null,null,null,null,{"$f":"IF(ISBLANK(#REF!),\"\",$F$11*#REF!+$G$11)","v":{"$error":"#REF!"}},{"$f":"IF(ISBLANK(I42989),\"\",$F$12*#REF!+$G$12)","v":{"$error":"#REF!"}}]
[null,null,null,null,null,null,null,null,{"$f":"IF(ISBLANK(#REF!),\"\",$F$11*#REF!+$G$11)","v":{"$error":"#REF!"}},{"$f":"IF(ISBLANK(I43014),\"\",$F$12*#REF!+$G$12)","v":{"$error":"#REF!"}}]
[null,null,null,null,null,null,null,null,{"$f":"IF(ISBLANK(#REF!),\"\",$F$11*#REF!+$G$11)","v":{"$error":"#REF!"}},{"$f":"IF(ISBLANK(I43023),\"\",$F$12*#REF!+$G$12)","v":{"$error":"#REF!"}}]
[null,null,null,null,null,null,null,null,{"$f":"IF(ISBLANK(#REF!),\"\",$F$11*#REF!+$G$11)","v":{"$error":"#REF!"}},{"$f":"IF(ISBLANK(I43058),\"\",$F$12*#REF!+$G$12)","v":{"$error":"#REF!"}}]
[null,null,null,null,null,null,null,null,{"$f":"IF(ISBLANK(#REF!),\"\",$F$11*#REF!+$G$11)","v":{"$error":"#REF!"}},{"$f":"IF(ISBLANK(I43080),\"\",$F$12*#REF!+$G$12)","v":{"$error":"#REF!"}}]
[null,null,null,null,null,null,null,null,{"$f":"IF(ISBLANK(#REF!),\"\",$F$11*#REF!+$G$11)","v":{"$error":"#REF!"}},{"$f":"IF(ISBLANK(I43113),\"\",$F$12*#REF!+$G$12)","v":{"$error":"#REF!"}}]
[null,null,null,null,null,null,null,null,{"$f":"IF(ISBLANK(#REF!),\"\",$F$11*#REF!+$G$11)","v":{"$error":"#REF!"}},{"$f":"IF(ISBLANK(I43138),\"\",$F$12*#REF!+$G$12)","v":{"$error":"#REF!"}}]
[null,null,null,null,null,null,null,null,{"$f":"IF(ISBLANK(#REF!),\"\",$F$11*#REF!+$G$11)","v":{"$error":"#REF!"}},{"$f":"IF(ISBLANK(I43161),\"\",$F$12*#REF!+$G$12)","v":{"$error":"#REF!"}}]
[null,null,null,null,null,null,null,null,{"$f":"IF(ISBLANK(#REF!),\"\",$F$11*#REF!+$G$11)","v":{"$error":"#REF!"}},{"$f":"IF(ISBLANK(I43179),\"\",$F$12*#REF!+$G$12)","v":{"$error":"#REF!"}}]
[null,null,null,null,null,null,null,null,{"$f":"IF(ISBLANK(#REF!),\"\",$F$11*#REF!+$G$11)","v":{"$error":"#REF!"}},{"$f":"IF(ISBLANK(I43204),\"\",$F$12*#REF!+$G$12)","v":{"$error":"#REF!"}}]
[null,null,null,null,null,null,null,null,{"$f":"IF(ISBLANK(#REF!),\"\",$F$11*#REF!+$G$11)","v":{"$error":"#REF!"}},{"$f":"IF(ISBLANK(I43213),\"\",$F$12*#REF!+$G$12)","v":{"$error":"#REF!"}}]
[null,null,null,null,null,null,null,null,{"$f":"IF(ISBLANK(#REF!),\"\",$F$11*#REF!+$G$11)","v":{"$error":"#REF!"}},{"$f":"IF(ISBLANK(I43253),\"\",$F$12*#REF!+$G$12)","v":{"$error":"#REF!"}}]
[null,null,null,null,null,null,null,null,{"$f":"IF(ISBLANK(#REF!),\"\",$F$11*#REF!+$G$11)","v":{"$error":"#REF!"}},{"$f":"IF(ISBLANK(I43270),\"\",$F$12*#REF!+$G$12)","v":{"$error":"#REF!"}}]
[null,null,null,null,null,null,null,null,{"$f":"IF(ISBLANK(#REF!),\"\",$F$11*#REF!+$G$11)","v":{"$error":"#REF!"}},{"$f":"IF(ISBLANK(I43303),\"\",$F$12*#REF!+$G$12)","v":{"$error":"#REF!"}}]
[null,null,null,null,null,null,null,null,{"$f":"IF(ISBLANK(#REF!),\"\",$F$11*#REF!+$G$11)","v":{"$error":"#REF!"}},{"$f":"IF(ISBLANK(I43328),\"\",$F$12*#REF!+$G$12)","v":{"$error":"#REF!"}}]
[null,null,null,null,null,null,null,null,{"$f":"IF(ISBLANK(#REF!),\"\",$F$11*#REF!+$G$11)","v":{"$error":"#REF!"}},{"$f":"IF(ISBLANK(I43333),\"\",$F$12*#REF!+$G$12)","v":{"$error":"#REF!"}}]
[null,null,null,null,null,null,null,null,{"$f":"IF(ISBLANK(#REF!),\"\",$F$11*#REF!+$G$11)","v":{"$error":"#REF!"}},{"$f":"IF(ISBLANK(I43361),\"\",$F$12*#REF!+$G$12)","v":{"$error":"#REF!"}}]
[null,null,null,null,null,null,null,null,{"$f":"IF(ISBLANK(#REF!),\"\",$F$11*#REF!+$G$11)","v":{"$error":"#REF!"}},{"$f":"IF(ISBLANK(I43394),\"\",$F$12*#REF!+$G$12)","v":{"$error":"#REF!"}}]
[null,null,null,null,null,null,null,null,{"$f":"IF(ISBLANK(#REF!),\"\",$F$11*#REF!+$G$11)","v":{"$error":"#REF!"}},{"$f":"IF(ISBLANK(I43403),\"\",$F$12*#REF!+$G$12)","v":{"$error":"#REF!"}}]
[null,null,null,null,null,null,null,null,{"$f":"IF(ISBLANK(#REF!),\"\",$F$11*#REF!+$G$11)","v":{"$error":"#REF!"}},{"$f":"IF(ISBLANK(I43448),\"\",$F$12*#REF!+$G$12)","v":{"$error":"#REF!"}}]
[null,null,null,null,null,null,null,null,{"$f":"IF(ISBLANK(#REF!),\"\",$F$11*#REF!+$G$11)","v":{"$error":"#REF!"}},{"$f":"IF(ISBLANK(I43460),\"\",$F$12*#REF!+$G$12)","v":{"$error":"#REF!"}}]
[null,null,null,null,null,null,null,null,{"$f":"IF(ISBLANK(#REF!),\"\",$F$11*#REF!+$G$11)","v":{"$error":"#REF!"}},{"$f":"IF(ISBLANK(I43493),\"\",$F$12*#REF!+$G$12)","v":{"$error":"#REF!"}}]
[null,null,null,null,null,null,null,null,{"$f":"IF(ISBLANK(#REF!),\"\",$F$11*#REF!+$G$11)","v":{"$error":"#REF!"}},{"$f":"IF(ISBLANK(I43518),\"\",$F$12*#REF!+$G$12)","v":{"$error":"#REF!"}}]
[null,null,null,null,null,null,null,null,{"$f":"IF(ISBLANK(#REF!),\"\",$F$11*#REF!+$G$11)","v":{"$error":"#REF!"}},{"$f":"IF(ISBLANK(I43528),\"\",$F$12*#REF!+$G$12)","v":{"$error":"#REF!"}}]
[null,null,null,null,null,null,null,null,{"$f":"IF(ISBLANK(#REF!),\"\",$F$11*#REF!+$G$11)","v":{"$error":"#REF!"}},{"$f":"IF(ISBLANK(I43551),\"\",$F$12*#REF!+$G$12)","v":{"$error":"#REF!"}}]
[null,null,null,null,null,null,null,null,{"$f":"IF(ISBLANK(#REF!),\"\",$F$11*#REF!+$G$11)","v":{"$error":"#REF!"}},{"$f":"IF(ISBLANK(I43584),\"\",$F$12*#REF!+$G$12)","v":{"$error":"#REF!"}}]
[null,null,null,null,null,null,null,null,{"$f":"IF(ISBLANK(#REF!),\"\",$F$11*#REF!+$G$11)","v":{"$error":"#REF!"}},{"$f":"IF(ISBLANK(I43593),\"\",$F$12*#REF!+$G$12)","v":{"$error":"#REF!"}}]
[null,null,null,null,null,null,null,null,{"$f":"IF(ISBLANK(#REF!),\"\",$F$11*#REF!+$G$11)","v":{"$error":"#REF!"}},{"$f":"IF(ISBLANK(I43620),\"\",$F$12*#REF!+$G$12)","v":{"$error":"#REF!"}}]
[null,null,null,null,null,null,null,null,{"$f":"IF(ISBLANK(#REF!),\"\",$F$11*#REF!+$G$11)","v":{"$error":"#REF!"}},{"$f":"IF(ISBLANK(I43650),\"\",$F$12*#REF!+$G$12)","v":{"$error":"#REF!"}}]
[null,null,null,null,null,null,null,null,{"$f":"IF(ISBLANK(#REF!),\"\",$F$11*#REF!+$G$11)","v":{"$error":"#REF!"}},{"$f":"IF(ISBLANK(I43683),\"\",$F$12*#REF!+$G$12)","v":{"$error":"#REF!"}}]
[null,null,null,null,null,null,null,null,{"$f":"IF(ISBLANK(#REF!),\"\",$F$11*#REF!+$G$11)","v":{"$error":"#REF!"}},{"$f":"IF(ISBLANK(I43708),\"\",$F$12*#REF!+$G$12)","v":{"$error":"#REF!"}}]
[null,null,null,null,null,null,null,null,{"$f":"IF(ISBLANK(#REF!),\"\",$F$11*#REF!+$G$11)","v":{"$error":"#REF!"}},{"$f":"IF(ISBLANK(I43723),\"\",$F$12*#REF!+$G$12)","v":{"$error":"#REF!"}}]
[null,null,null,null,null,null,null,null,{"$f":"IF(ISBLANK(#REF!),\"\",$F$11*#REF!+$G$11)","v":{"$error":"#REF!"}},{"$f":"IF(ISBLANK(I43741),\"\",$F$12*#REF!+$G$12)","v":{"$error":"#REF!"}}]
[null,null,null,null,null,null,null,null,{"$f":"IF(ISBLANK(#REF!),\"\",$F$11*#REF!+$G$11)","v":{"$error":"#REF!"}},{"$f":"IF(ISBLANK(I43774),\"\",$F$12*#REF!+$G$12)","v":{"$error":"#REF!"}}]
[null,null,null,null,null,null,null,null,{"$f":"IF(ISBLANK(#REF!),\"\",$F$11*#REF!+$G$11)","v":{"$error":"#REF!"}},{"$f":"IF(ISBLANK(I43783),\"\",$F$12*#REF!+$G$12)","v":{"$error":"#REF!"}}]
[null,null,null,null,null,null,null,null,{"$f":"IF(ISBLANK(#REF!),\"\",$F$11*#REF!+$G$11)","v":{"$error":"#REF!"}},{"$f":"IF(ISBLANK(I43815),\"\",$F$12*#REF!+$G$12)","v":{"$error":"#REF!"}}]
[null,null,null,null,null,null,null,null,{"$f":"IF(ISBLANK(#REF!),\"\",$F$11*#REF!+$G$11)","v":{"$error":"#REF!"}},{"$f":"IF(ISBLANK(I43840),\"\",$F$12*#REF!+$G$12)","v":{"$error":"#REF!"}}]
[null,null,null,null,null,null,null,null,{"$f":"IF(ISBLANK(#REF!),\"\",$F$11*#REF!+$G$11)","v":{"$error":"#REF!"}},{"$f":"IF(ISBLANK(I43865),\"\",$F$12*#REF!+$G$12)","v":{"$error":"#REF!"}}]
[null,null,null,null,null,null,null,null,{"$f":"IF(ISBLANK(#REF!),\"\",$F$11*#REF!+$G$11)","v":{"$error":"#REF!"}},{"$f":"IF(ISBLANK(I43898),\"\",$F$12*#REF!+$G$12)","v":{"$error":"#REF!"}}]
[null,null,null,null,null,null,null,null,{"$f":"IF(ISBLANK(#REF!),\"\",$F$11*#REF!+$G$11)","v":{"$error":"#REF!"}},{"$f":"IF(ISBLANK(I43918),\"\",$F$12*#REF!+$G$12)","v":{"$error":"#REF!"}}]
[null,null,null,null,null,null,null,null,{"$f":"IF(ISBLANK(#REF!),\"\",$F$11*#REF!+$G$11)","v":{"$error":"#REF!"}},{"$f":"IF(ISBLANK(I43931),\"\",$F$12*#REF!+$G$12)","v":{"$error":"#REF!"}}]
[null,null,null,null,null,null,null,null,{"$f":"IF(ISBLANK(#REF!),\"\",$F$11*#REF!+$G$11)","v":{"$error":"#REF!"}},{"$f":"IF(ISBLANK(I43964),\"\",$F$12*#REF!+$G$12)","v":{"$error":"#REF!"}}]
[null,null,null,null,null,null,null,null,{"$f":"IF(ISBLANK(#REF!),\"\",$F$11*#REF!+$G$11)","v":{"$error":"#REF!"}},{"$f":"IF(ISBLANK(I43973),\"\",$F$12*#REF!+$G$12)","v":{"$error":"#REF!"}}]
[null,null,null,null,null,null,null,null,{"$f":"IF(ISBLANK(#REF!),\"\",$F$11*#REF!+$G$11)","v":{"$error":"#REF!"}},{"$f":"IF(ISBLANK(I44010),\"\",$F$12*#REF!+$G$12)","v":{"$error":"#REF!"}}]
[null,null,null,null,null,null,null,null,{"$f":"IF(ISBLANK(#REF!),\"\",$F$11*#REF!+$G$11)","v":{"$error":"#REF!"}},{"$f":"IF(ISBLANK(I44030),\"\",$F$12*#REF!+$G$12)","v":{"$error":"#REF!"}}]
[null,null,null,null,null,null,null,null,{"$f":"IF(ISBLANK(#REF!),\"\",$F$11*#REF!+$G$11)","v":{"$error":"#REF!"}},{"$f":"IF(ISBLANK(I44055),\"\",$F$12*#REF!+$G$12)","v":{"$error":"#REF!"}}]
[null,null,null,null,null,null,null,null,{"$f":"IF(ISBLANK(#REF!),\"\",$F$11*#REF!+$G$11)","v":{"$error":"#REF!"}},{"$f":"IF(ISBLANK(I44088),\"\",$F$12*#REF!+$G$12)","v":{"$error":"#REF!"}}]
[null,null,null,null,null,null,null,null,{"$f":"IF(ISBLANK(#REF!),\"\",$F$11*#REF!+$G$11)","v":{"$error":"#REF!"}},{"$f":"IF(ISBLANK(I44113),\"\",$F$12*#REF!+$G$12)","v":{"$error":"#REF!"}}]
[null,null,null,null,null,null,null,null,{"$f":"IF(ISBLANK(#REF!),\"\",$F$11*#REF!+$G$11)","v":{"$error":"#REF!"}},{"$f":"IF(ISBLANK(I44121),\"\",$F$12*#REF!+$G$12)","v":{"$error":"#REF!"}}]
[null,null,null,null,null,null,null,null,{"$f":"IF(ISBLANK(#REF!),\"\",$F$11*#REF!+$G$11)","v":{"$error":"#REF!"}},{"$f":"IF(ISBLANK(I44154),\"\",$F$12*#REF!+$G$12)","v":{"$error":"#REF!"}}]
[null,null,null,null,null,null,null,null,{"$f":"IF(ISBLANK(#REF!),\"\",$F$11*#REF!+$G$11)","v":{"$error":"#REF!"}},{"$f":"IF(ISBLANK(I44163),\"\",$F$12*#REF!+$G$12)","v":{"$error":"#REF!"}}]
[null,null,null,null,null,null,null,null,{"$f":"IF(ISBLANK(#REF!),\"\",$F$11*#REF!+$G$11)","v":{"$error":"#REF!"}},{"$f":"IF(ISBLANK(I44205),\"\",$F$12*#REF!+$G$12)","v":{"$error":"#REF!"}}]
[null,null,null,null,null,null,null,null,{"$f":"IF(ISBLANK(#REF!),\"\",$F$11*#REF!+$G$11)","v":{"$error":"#REF!"}},{"$f":"IF(ISBLANK(I44220),\"\",$F$12*#REF!+$G$12)","v":{"$error":"#REF!"}}]
[null,null,null,null,null,null,null,null,{"$f":"IF(ISBLANK(#REF!),\"\",$F$11*#REF!+$G$11)","v":{"$error":"#REF!"}},{"$f":"IF(ISBLANK(I44245),\"\",$F$12*#REF!+$G$12)","v":{"$error":"#REF!"}}]
[null,null,null,null,null,null,null,null,{"$f":"IF(ISBLANK(#REF!),\"\",$F$11*#REF!+$G$11)","v":{"$error":"#REF!"}},{"$f":"IF(ISBLANK(I44278),\"\",$F$12*#REF!+$G$12)","v":{"$error":"#REF!"}}]
[null,null,null,null,null,null,null,null,{"$f":"IF(ISBLANK(#REF!),\"\",$F$11*#REF!+$G$11)","v":{"$error":"#REF!"}},{"$f":"IF(ISBLANK(I44285),\"\",$F$12*#REF!+$G$12)","v":{"$error":"#REF!"}}]
[null,null,null,null,null,null,null,null,{"$f":"IF(ISBLANK(#REF!),\"\",$F$11*#REF!+$G$11)","v":{"$error":"#REF!"}},{"$f":"IF(ISBLANK(I44311),\"\",$F$12*#REF!+$G$12)","v":{"$error":"#REF!"}}]
[null,null,null,null,null,null,null,null,{"$f":"IF(ISBLANK(#REF!),\"\",$F$11*#REF!+$G$11)","v":{"$error":"#REF!"}},{"$f":"IF(ISBLANK(I44344),\"\",$F$12*#REF!+$G$12)","v":{"$error":"#REF!"}}]
[null,null,null,null,null,null,null,null,{"$f":"IF(ISBLANK(#REF!),\"\",$F$11*#REF!+$G$11)","v":{"$error":"#REF!"}},{"$f":"IF(ISBLANK(I44369),\"\",$F$12*#REF!+$G$12)","v":{"$error":"#REF!"}}]
[null,null,null,null,null,null,null,null,{"$f":"IF(ISBLANK(#REF!),\"\",$F$11*#REF!+$G$11)","v":{"$error":"#REF!"}},{"$f":"IF(ISBLANK(I44377),\"\",$F$12*#REF!+$G$12)","v":{"$error":"#REF!"}}]
[null,null,null,null,null,null,null,null,{"$f":"IF(ISBLANK(#REF!),\"\",$F$11*#REF!+$G$11)","v":{"$error":"#REF!"}},{"$f":"IF(ISBLANK(I44410),\"\",$F$12*#REF!+$G$12)","v":{"$error":"#REF!"}}]
[null,null,null,null,null,null,null,null,{"$f":"IF(ISBLANK(#REF!),\"\",$F$11*#REF!+$G$11)","v":{"$error":"#REF!"}},{"$f":"IF(ISBLANK(I44435),\"\",$F$12*#REF!+$G$12)","v":{"$error":"#REF!"}}]
[null,null,null,null,null,null,null,null,{"$f":"IF(ISBLANK(#REF!),\"\",$F$11*#REF!+$G$11)","v":{"$error":"#REF!"}},{"$f":"IF(ISBLANK(I44468),\"\",$F$12*#REF!+$G$12)","v":{"$error":"#REF!"}}]
[null,null,null,null,null,null,null,null,{"$f":"IF(ISBLANK(#REF!),\"\",$F$11*#REF!+$G$11)","v":{"$error":"#REF!"}},{"$f":"IF(ISBLANK(I44477),\"\",$F$12*#REF!+$G$12)","v":{"$error":"#REF!"}}]
[null,null,null,null,null,null,null,null,{"$f":"IF(ISBLANK(#REF!),\"\",$F$11*#REF!+$G$11)","v":{"$error":"#REF!"}},{"$f":"IF(ISBLANK(I44515),\"\",$F$12*#REF!+$G$12)","v":{"$error":"#REF!"}}]
[null,null,null,null,null,null,null,null,{"$f":"IF(ISBLANK(#REF!),\"\",$F$11*#REF!+$G$11)","v":{"$error":"#REF!"}},{"$f":"IF(ISBLANK(I44534),\"\",$F$12*#REF!+$G$12)","v":{"$error":"#REF!"}}]
[null,null,null,null,null,null,null,null,{"$f":"IF(ISBLANK(#REF!),\"\",$F$11*#REF!+$G$11)","v":{"$error":"#REF!"}},{"$f":"IF(ISBLANK(I44559),\"\",$F$12*#REF!+$G$12)","v":{"$error":"#REF!"}}]
[null,null,null,null,null,null,null,null,{"$f":"IF(ISBLANK(#REF!),\"\",$F$11*#REF!+$G$11)","v":{"$error":"#REF!"}},{"$f":"IF(ISBLANK(I44568),\"\",$F$12*#REF!+$G$12)","v":{"$error":"#REF!"}}]
[null,null,null,null,null,null,null,null,{"$f":"IF(ISBLANK(#REF!),\"\",$F$11*#REF!+$G$11)","v":{"$error":"#REF!"}},{"$f":"IF(ISBLANK(I44595),\"\",$F$12*#REF!+$G$12)","v":{"$error":"#REF!"}}]
[null,null,null,null,null,null,null,null,{"$f":"IF(ISBLANK(#REF!),\"\",$F$11*#REF!+$G$11)","v":{"$error":"#REF!"}},{"$f":"IF(ISBLANK(I44625),\"\",$F$12*#REF!+$G$12)","v":{"$error":"#REF!"}}]
[null,null,null,null,null,null,null,null,{"$f":"IF(ISBLANK(#REF!),\"\",$F$11*#REF!+$G$11)","v":{"$error":"#REF!"}},{"$f":"IF(ISBLANK(I44658),\"\",$F$12*#REF!+$G$12)","v":{"$error":"#REF!"}}]
[null,null,null,null,null,null,null,null,{"$f":"IF(ISBLANK(#REF!),\"\",$F$11*#REF!+$G$11)","v":{"$error":"#REF!"}},{"$f":"IF(ISBLANK(I44683),\"\",$F$12*#REF!+$G$12)","v":{"$error":"#REF!"}}]
[null,null,null,null,null,null,null,null,{"$f":"IF(ISBLANK(#REF!),\"\",$F$11*#REF!+$G$11)","v":{"$error":"#REF!"}},{"$f":"IF(ISBLANK(I44687),\"\",$F$12*#REF!+$G$12)","v":{"$error":"#REF!"}}]
[null,null,null,null,null,null,null,null,{"$f":"IF(ISBLANK(#REF!),\"\",$F$11*#REF!+$G$11)","v":{"$error":"#REF!"}},{"$f":"IF(ISBLANK(I44724),\"\",$F$12*#REF!+$G$12)","v":{"$error":"#REF!"}}]
[null,null,null,null,null,null,null,null,{"$f":"IF(ISBLANK(#REF!),\"\",$F$11*#REF!+$G$11)","v":{"$error":"#REF!"}},{"$f":"IF(ISBLANK(I44749),\"\",$F$12*#REF!+$G$12)","v":{"$error":"#REF!"}}]
[null,null,null,null,null,null,null,null,{"$f":"IF(ISBLANK(#REF!),\"\",$F$11*#REF!+$G$11)","v":{"$error":"#REF!"}},{"$f":"IF(ISBLANK(I44758),\"\",$F$12*#REF!+$G$12)","v":{"$error":"#REF!"}}]
[null,null,null,null,null,null,null,null,{"$f":"IF(ISBLANK(#REF!),\"\",$F$11*#REF!+$G$11)","v":{"$error":"#REF!"}},{"$f":"IF(ISBLANK(I44790),\"\",$F$12*#REF!+$G$12)","v":{"$error":"#REF!"}}]
[null,null,null,null,null,null,null,null,{"$f":"IF(ISBLANK(#REF!),\"\",$F$11*#REF!+$G$11)","v":{"$error":"#REF!"}},{"$f":"IF(ISBLANK(I44815),\"\",$F$12*#REF!+$G$12)","v":{"$error":"#REF!"}}]
[null,null,null,null,null,null,null,null,{"$f":"IF(ISBLANK(#REF!),\"\",$F$11*#REF!+$G$11)","v":{"$error":"#REF!"}},{"$f":"IF(ISBLANK(I44848),\"\",$F$12*#REF!+$G$12)","v":{"$error":"#REF!"}}]
[null,null,null,null,null,null,null,null,{"$f":"IF(ISBLANK(#REF!),\"\",$F$11*#REF!+$G$11)","v":{"$error":"#REF!"}},{"$f":"IF(ISBLANK(I44873),\"\",$F$12*#REF!+$G$12)","v":{"$error":"#REF!"}}]
[null,null,null,null,null,null,null,null,{"$f":"IF(ISBLANK(#REF!),\"\",$F$11*#REF!+$G$11)","v":{"$error":"#REF!"}},{"$f":"IF(ISBLANK(I44882),\"\",$F$12*#REF!+$G$12)","v":{"$error":"#REF!"}}]
[null,null,null,null,null,null,null,null,{"$f":"IF(ISBLANK(#REF!),\"\",$F$11*#REF!+$G$11)","v":{"$error":"#REF!"}},{"$f":"IF(ISBLANK(I44914),\"\",$F$12*#REF!+$G$12)","v":{"$error":"#REF!"}}]
[null,null,null,null,null,null,null,null,{"$f":"IF(ISBLANK(#REF!),\"\",$F$11*#REF!+$G$11)","v":{"$error":"#REF!"}},{"$f":"IF(ISBLANK(I44939),\"\",$F$12*#REF!+$G$12)","v":{"$error":"#REF!"}}]
[null,null,null,null,null,null,null,null,{"$f":"IF(ISBLANK(#REF!),\"\",$F$11*#REF!+$G$11)","v":{"$error":"#REF!"}},{"$f":"IF(ISBLANK(I44948),\"\",$F$12*#REF!+$G$12)","v":{"$error":"#REF!"}}]
[null,null,null,null,null,null,null,null,{"$f":"IF(ISBLANK(#REF!),\"\",$F$11*#REF!+$G$11)","v":{"$error":"#REF!"}},{"$f":"IF(ISBLANK(I44985),\"\",$F$12*#REF!+$G$12)","v":{"$error":"#REF!"}}]
[null,null,null,null,null,null,null,null,{"$f":"IF(ISBLANK(#REF!),\"\",$F$11*#REF!+$G$11)","v":{"$error":"#REF!"}},{"$f":"IF(ISBLANK(I45005),\"\",$F$12*#REF!+$G$12)","v":{"$error":"#REF!"}}]
[null,null,null,null,null,null,null,null,{"$f":"IF(ISBLANK(#REF!),\"\",$F$11*#REF!+$G$11)","v":{"$error":"#REF!"}},{"$f":"IF(ISBLANK(I45038),\"\",$F$12*#REF!+$G$12)","v":{"$error":"#REF!"}}]
[null,null,null,null,null,null,null,null,{"$f":"IF(ISBLANK(#REF!),\"\",$F$11*#REF!+$G$11)","v":{"$error":"#REF!"}},{"$f":"IF(ISBLANK(I45063),\"\",$F$12*#REF!+$G$12)","v":{"$error":"#REF!"}}]
[null,null,null,null,null,null,null,null,{"$f":"IF(ISBLANK(#REF!),\"\",$F$11*#REF!+$G$11)","v":{"$error":"#REF!"}},{"$f":"IF(ISBLANK(I45077),\"\",$F$12*#REF!+$G$12)","v":{"$error":"#REF!"}}]
[null,null,null,null,null,null,null,null,{"$f":"IF(ISBLANK(#REF!),\"\",$F$11*#REF!+$G$11)","v":{"$error":"#REF!"}},{"$f":"IF(ISBLANK(I45104),\"\",$F$12*#REF!+$G$12)","v":{"$error":"#REF!"}}]
[null,null,null,null,null,null,null,null,{"$f":"IF(ISBLANK(#REF!),\"\",$F$11*#REF!+$G$11)","v":{"$error":"#REF!"}},{"$f":"IF(ISBLANK(I45129),\"\",$F$12*#REF!+$G$12)","v":{"$error":"#REF!"}}]
[null,null,null,null,null,null,null,null,{"$f":"IF(ISBLANK(#REF!),\"\",$F$11*#REF!+$G$11)","v":{"$error":"#REF!"}},{"$f":"IF(ISBLANK(I45138),\"\",$F$12*#REF!+$G$12)","v":{"$error":"#REF!"}}]
[null,null,null,null,null,null,null,null,{"$f":"IF(ISBLANK(#REF!),\"\",$F$11*#REF!+$G$11)","v":{"$error":"#REF!"}},{"$f":"IF(ISBLANK(I45169),\"\",$F$12*#REF!+$G$12)","v":{"$error":"#REF!"}}]
[null,null,null,null,null,null,null,null,{"$f":"IF(ISBLANK(#REF!),\"\",$F$11*#REF!+$G$11)","v":{"$error":"#REF!"}},{"$f":"IF(ISBLANK(I45195),\"\",$F$12*#REF!+$G$12)","v":{"$error":"#REF!"}}]
[null,null,null,null,null,null,null,null,{"$f":"IF(ISBLANK(#REF!),\"\",$F$11*#REF!+$G$11)","v":{"$error":"#REF!"}},{"$f":"IF(ISBLANK(I45228),\"\",$F$12*#REF!+$G$12)","v":{"$error":"#REF!"}}]
[null,null,null,null,null,null,null,null,{"$f":"IF(ISBLANK(#REF!),\"\",$F$11*#REF!+$G$11)","v":{"$error":"#REF!"}},{"$f":"IF(ISBLANK(I45253),\"\",$F$12*#REF!+$G$12)","v":{"$error":"#REF!"}}]
[null,null,null,null,null,null,null,null,{"$f":"IF(ISBLANK(#REF!),\"\",$F$11*#REF!+$G$11)","v":{"$error":"#REF!"}},{"$f":"IF(ISBLANK(I45272),\"\",$F$12*#REF!+$G$12)","v":{"$error":"#REF!"}}]
[null,null,null,null,null,null,null,null,{"$f":"IF(ISBLANK(#REF!),\"\",$F$11*#REF!+$G$11)","v":{"$error":"#REF!"}},{"$f":"IF(ISBLANK(I45294),\"\",$F$12*#REF!+$G$12)","v":{"$error":"#REF!"}}]
[null,null,null,null,null,null,null,null,{"$f":"IF(ISBLANK(#REF!),\"\",$F$11*#REF!+$G$11)","v":{"$error":"#REF!"}},{"$f":"IF(ISBLANK(I45319),\"\",$F$12*#REF!+$G$12)","v":{"$error":"#REF!"}}]
[null,null,null,null,null,null,null,null,{"$f":"IF(ISBLANK(#REF!),\"\",$F$11*#REF!+$G$11)","v":{"$error":"#REF!"}},{"$f":"IF(ISBLANK(I45328),\"\",$F$12*#REF!+$G$12)","v":{"$error":"#REF!"}}]
[null,null,null,null,null,null,null,null,{"$f":"IF(ISBLANK(#REF!),\"\",$F$11*#REF!+$G$11)","v":{"$error":"#REF!"}},{"$f":"IF(ISBLANK(I45364),\"\",$F$12*#REF!+$G$12)","v":{"$error":"#REF!"}}]
[null,null,null,null,null,null,null,null,{"$f":"IF(ISBLANK(#REF!),\"\",$F$11*#REF!+$G$11)","v":{"$error":"#REF!"}},{"$f":"IF(ISBLANK(I45385),\"\",$F$12*#REF!+$G$12)","v":{"$error":"#REF!"}}]
[null,null,null,null,null,null,null,null,{"$f":"IF(ISBLANK(#REF!),\"\",$F$11*#REF!+$G$11)","v":{"$error":"#REF!"}},{"$f":"IF(ISBLANK(I45418),\"\",$F$12*#REF!+$G$12)","v":{"$error":"#REF!"}}]
[null,null,null,null,null,null,null,null,{"$f":"IF(ISBLANK(#REF!),\"\",$F$11*#REF!+$G$11)","v":{"$error":"#REF!"}},{"$f":"IF(ISBLANK(I45443),\"\",$F$12*#REF!+$G$12)","v":{"$error":"#REF!"}}]
[null,null,null,null,null,null,null,null,{"$f":"IF(ISBLANK(#REF!),\"\",$F$11*#REF!+$G$11)","v":{"$error":"#REF!"}},{"$f":"IF(ISBLANK(I45467),\"\",$F$12*#REF!+$G$12)","v":{"$error":"#REF!"}}]
[null,null,null,null,null,null,null,null,{"$f":"IF(ISBLANK(#REF!),\"\",$F$11*#REF!+$G$11)","v":{"$error":"#REF!"}},{"$f":"IF(ISBLANK(I45484),\"\",$F$12*#REF!+$G$12)","v":{"$error":"#REF!"}}]
[null,null,null,null,null,null,null,null,{"$f":"IF(ISBLANK(#REF!),\"\",$F$11*#REF!+$G$11)","v":{"$error":"#REF!"}},{"$f":"IF(ISBLANK(I45509),\"\",$F$12*#REF!+$G$12)","v":{"$error":"#REF!"}}]
[null,null,null,null,null,null,null,null,{"$f":"IF(ISBLANK(#REF!),\"\",$F$11*#REF!+$G$11)","v":{"$error":"#REF!"}},{"$f":"IF(ISBLANK(I45518),\"\",$F$12*#REF!+$G$12)","v":{"$error":"#REF!"}}]
[null,null,null,null,null,null,null,null,{"$f":"IF(ISBLANK(#REF!),\"\",$F$11*#REF!+$G$11)","v":{"$error":"#REF!"}},{"$f":"IF(ISBLANK(I45559),\"\",$F$12*#REF!+$G$12)","v":{"$error":"#REF!"}}]
[null,null,null,null,null,null,null,null,{"$f":"IF(ISBLANK(#REF!),\"\",$F$11*#REF!+$G$11)","v":{"$error":"#REF!"}},{"$f":"IF(ISBLANK(I45575),\"\",$F$12*#REF!+$G$12)","v":{"$error":"#REF!"}}]
[null,null,null,null,null,null,null,null,{"$f":"IF(ISBLANK(#REF!),\"\",$F$11*#REF!+$G$11)","v":{"$error":"#REF!"}},{"$f":"IF(ISBLANK(I45608),\"\",$F$12*#REF!+$G$12)","v":{"$error":"#REF!"}}]
[null,null,null,null,null,null,null,null,{"$f":"IF(ISBLANK(#REF!),\"\",$F$11*#REF!+$G$11)","v":{"$error":"#REF!"}},{"$f":"IF(ISBLANK(I45633),\"\",$F$12*#REF!+$G$12)","v":{"$error":"#REF!"}}]
[null,null,null,null,null,null,null,null,{"$f":"IF(ISBLANK(#REF!),\"\",$F$11*#REF!+$G$11)","v":{"$error":"#REF!"}},{"$f":"IF(ISBLANK(I45639),\"\",$F$12*#REF!+$G$12)","v":{"$error":"#REF!"}}]
[null,null,null,null,null,null,null,null,{"$f":"IF(ISBLANK(#REF!),\"\",$F$11*#REF!+$G$11)","v":{"$error":"#REF!"}},{"$f":"IF(ISBLANK(I45666),\"\",$F$12*#REF!+$G$12)","v":{"$error":"#REF!"}}]
[null,null,null,null,null,null,null,null,{"$f":"IF(ISBLANK(#REF!),\"\",$F$11*#REF!+$G$11)","v":{"$error":"#REF!"}},{"$f":"IF(ISBLANK(I45699),\"\",$F$12*#REF!+$G$12)","v":{"$error":"#REF!"}}]
[null,null,null,null,null,null,null,null,{"$f":"IF(ISBLANK(#REF!),\"\",$F$11*#REF!+$G$11)","v":{"$error":"#REF!"}},{"$f":"IF(ISBLANK(I45708),\"\",$F$12*#REF!+$G$12)","v":{"$error":"#REF!"}}]
[null,null,null,null,null,null,null,null,{"$f":"IF(ISBLANK(#REF!),\"\",$F$11*#REF!+$G$11)","v":{"$error":"#REF!"}},{"$f":"IF(ISBLANK(I45731),\"\",$F$12*#REF!+$G$12)","v":{"$error":"#REF!"}}]
[null,null,null,null,null,null,null,null,{"$f":"IF(ISBLANK(#REF!),\"\",$F$11*#REF!+$G$11)","v":{"$error":"#REF!"}},{"$f":"IF(ISBLANK(I45765),\"\",$F$12*#REF!+$G$12)","v":{"$error":"#REF!"}}]
[null,null,null,null,null,null,null,null,{"$f":"IF(ISBLANK(#REF!),\"\",$F$11*#REF!+$G$11)","v":{"$error":"#REF!"}},{"$f":"IF(ISBLANK(I45798),\"\",$F$12*#REF!+$G$12)","v":{"$error":"#REF!"}}]
[null,null,null,null,null,null,null,null,{"$f":"IF(ISBLANK(#REF!),\"\",$F$11*#REF!+$G$11)","v":{"$error":"#REF!"}},{"$f":"IF(ISBLANK(I45823),\"\",$F$12*#REF!+$G$12)","v":{"$error":"#REF!"}}]
[null,null,null,null,null,null,null,null,{"$f":"IF(ISBLANK(#REF!),\"\",$F$11*#REF!+$G$11)","v":{"$error":"#REF!"}},{"$f":"IF(ISBLANK(I45834),\"\",$F$12*#REF!+$G$12)","v":{"$error":"#REF!"}}]
[null,null,null,null,null,null,null,null,{"$f":"IF(ISBLANK(#REF!),\"\",$F$11*#REF!+$G$11)","v":{"$error":"#REF!"}},{"$f":"IF(ISBLANK(I45856),\"\",$F$12*#REF!+$G$12)","v":{"$error":"#REF!"}}]
[null,null,null,null,null,null,null,null,{"$f":"IF(ISBLANK(#REF!),\"\",$F$11*#REF!+$G$11)","v":{"$error":"#REF!"}},{"$f":"IF(ISBLANK(I45889),\"\",$F$12*#REF!+$G$12)","v":{"$error":"#REF!"}}]
[null,null,null,null,null,null,null,null,{"$f":"IF(ISBLANK(#REF!),\"\",$F$11*#REF!+$G$11)","v":{"$error":"#REF!"}},{"$f":"IF(ISBLANK(I45898),\"\",$F$12*#REF!+$G$12)","v":{"$error":"#REF!"}}]
[null,null,null,null,null,null,null,null,{"$f":"IF(ISBLANK(#REF!),\"\",$F$11*#REF!+$G$11)","v":{"$error":"#REF!"}},{"$f":"IF(ISBLANK(I45926),\"\",$F$12*#REF!+$G$12)","v":{"$error":"#REF!"}}]
[null,null,null,null,null,null,null,null,{"$f":"IF(ISBLANK(#REF!),\"\",$F$11*#REF!+$G$11)","v":{"$error":"#REF!"}},{"$f":"IF(ISBLANK(I45955),\"\",$F$12*#REF!+$G$12)","v":{"$error":"#REF!"}}]
[null,null,null,null,null,null,null,null,{"$f":"IF(ISBLANK(#REF!),\"\",$F$11*#REF!+$G$11)","v":{"$error":"#REF!"}},{"$f":"IF(ISBLANK(I45980),\"\",$F$12*#REF!+$G$12)","v":{"$error":"#REF!"}}]
[null,null,null,null,null,null,null,null,{"$f":"IF(ISBLANK(#REF!),\"\",$F$11*#REF!+$G$11)","v":{"$error":"#REF!"}},{"$f":"IF(ISBLANK(I46013),\"\",$F$12*#REF!+$G$12)","v":{"$error":"#REF!"}}]
[null,null,null,null,null,null,null,null,{"$f":"IF(ISBLANK(#REF!),\"\",$F$11*#REF!+$G$11)","v":{"$error":"#REF!"}},{"$f":"IF(ISBLANK(I46029),\"\",$F$12*#REF!+$G$12)","v":{"$error":"#REF!"}}]
[null,null,null,null,null,null,null,null,{"$f":"IF(ISBLANK(#REF!),\"\",$F$11*#REF!+$G$11)","v":{"$error":"#REF!"}},{"$f":"IF(ISBLANK(I46046),\"\",$F$12*#REF!+$G$12)","v":{"$error":"#REF!"}}]
[null,null,null,null,null,null,null,null,{"$f":"IF(ISBLANK(#REF!),\"\",$F$11*#REF!+$G$11)","v":{"$error":"#REF!"}},{"$f":"IF(ISBLANK(I46079),\"\",$F$12*#REF!+$G$12)","v":{"$error":"#REF!"}}]
[null,null,null,null,null,null,null,null,{"$f":"IF(ISBLANK(#REF!),\"\",$F$11*#REF!+$G$11)","v":{"$error":"#REF!"}},{"$f":"IF(ISBLANK(I46088),\"\",$F$12*#REF!+$G$12)","v":{"$error":"#REF!"}}]
[null,null,null,null,null,null,null,null,{"$f":"IF(ISBLANK(#REF!),\"\",$F$11*#REF!+$G$11)","v":{"$error":"#REF!"}},{"$f":"IF(ISBLANK(I46113),\"\",$F$12*#REF!+$G$12)","v":{"$error":"#REF!"}}]
[null,null,null,null,null,null,null,null,{"$f":"IF(ISBLANK(#REF!),\"\",$F$11*#REF!+$G$11)","v":{"$error":"#REF!"}},{"$f":"IF(ISBLANK(I46144),\"\",$F$12*#REF!+$G$12)","v":{"$error":"#REF!"}}]
[null,null,null,null,null,null,null,null,{"$f":"IF(ISBLANK(#REF!),\"\",$F$11*#REF!+$G$11)","v":{"$error":"#REF!"}},{"$f":"IF(ISBLANK(I46170),\"\",$F$12*#REF!+$G$12)","v":{"$error":"#REF!"}}]
[null,null,null,null,null,null,null,null,{"$f":"IF(ISBLANK(#REF!),\"\",$F$11*#REF!+$G$11)","v":{"$error":"#REF!"}},{"$f":"IF(ISBLANK(I46203),\"\",$F$12*#REF!+$G$12)","v":{"$error":"#REF!"}}]
[null,null,null,null,null,null,null,null,{"$f":"IF(ISBLANK(#REF!),\"\",$F$11*#REF!+$G$11)","v":{"$error":"#REF!"}},{"$f":"IF(ISBLANK(I46212),\"\",$F$12*#REF!+$G$12)","v":{"$error":"#REF!"}}]
[null,null,null,null,null,null,null,null,{"$f":"IF(ISBLANK(#REF!),\"\",$F$11*#REF!+$G$11)","v":{"$error":"#REF!"}},{"$f":"IF(ISBLANK(I46236),\"\",$F$12*#REF!+$G$12)","v":{"$error":"#REF!"}}]
[null,null,null,null,null,null,null,null,{"$f":"IF(ISBLANK(#REF!),\"\",$F$11*#REF!+$G$11)","v":{"$error":"#REF!"}},{"$f":"IF(ISBLANK(I46269),\"\",$F$12*#REF!+$G$12)","v":{"$error":"#REF!"}}]
[null,null,null,null,null,null,null,null,{"$f":"IF(ISBLANK(#REF!),\"\",$F$11*#REF!+$G$11)","v":{"$error":"#REF!"}},{"$f":"IF(ISBLANK(I46278),\"\",$F$12*#REF!+$G$12)","v":{"$error":"#REF!"}}]
[null,null,null,null,null,null,null,null,{"$f":"IF(ISBLANK(#REF!),\"\",$F$11*#REF!+$G$11)","v":{"$error":"#REF!"}},{"$f":"IF(ISBLANK(I46303),\"\",$F$12*#REF!+$G$12)","v":{"$error":"#REF!"}}]
[null,null,null,null,null,null,null,null,{"$f":"IF(ISBLANK(#REF!),\"\",$F$11*#REF!+$G$11)","v":{"$error":"#REF!"}},{"$f":"IF(ISBLANK(I46339),\"\",$F$12*#REF!+$G$12)","v":{"$error":"#REF!"}}]
[null,null,null,null,null,null,null,null,{"$f":"IF(ISBLANK(#REF!),\"\",$F$11*#REF!+$G$11)","v":{"$error":"#REF!"}},{"$f":"IF(ISBLANK(I46360),\"\",$F$12*#REF!+$G$12)","v":{"$error":"#REF!"}}]
[null,null,null,null,null,null,null,null,{"$f":"IF(ISBLANK(#REF!),\"\",$F$11*#REF!+$G$11)","v":{"$error":"#REF!"}},{"$f":"IF(ISBLANK(I46393),\"\",$F$12*#REF!+$G$12)","v":{"$error":"#REF!"}}]
[null,null,null,null,null,null,null,null,{"$f":"IF(ISBLANK(#REF!),\"\",$F$11*#REF!+$G$11)","v":{"$error":"#REF!"}},{"$f":"IF(ISBLANK(I46402),\"\",$F$12*#REF!+$G$12)","v":{"$error":"#REF!"}}]
[null,null,null,null,null,null,null,null,{"$f":"IF(ISBLANK(#REF!),\"\",$F$11*#REF!+$G$11)","v":{"$error":"#REF!"}},{"$f":"IF(ISBLANK(I46431),\"\",$F$12*#REF!+$G$12)","v":{"$error":"#REF!"}}]
[null,null,null,null,null,null,null,null,{"$f":"IF(ISBLANK(#REF!),\"\",$F$11*#REF!+$G$11)","v":{"$error":"#REF!"}},{"$f":"IF(ISBLANK(I46459),\"\",$F$12*#REF!+$G$12)","v":{"$error":"#REF!"}}]
[null,null,null,null,null,null,null,null,{"$f":"IF(ISBLANK(#REF!),\"\",$F$11*#REF!+$G$11)","v":{"$error":"#REF!"}},{"$f":"IF(ISBLANK(I46484),\"\",$F$12*#REF!+$G$12)","v":{"$error":"#REF!"}}]
[null,null,null,null,null,null,null,null,{"$f":"IF(ISBLANK(#REF!),\"\",$F$11*#REF!+$G$11)","v":{"$error":"#REF!"}},{"$f":"IF(ISBLANK(I46493),\"\",$F$12*#REF!+$G$12)","v":{"$error":"#REF!"}}]
[null,null,null,null,null,null,null,null,{"$f":"IF(ISBLANK(#REF!),\"\",$F$11*#REF!+$G$11)","v":{"$error":"#REF!"}},{"$f":"IF(ISBLANK(I46534),\"\",$F$12*#REF!+$G$12)","v":{"$error":"#REF!"}}]
[null,null,null,null,null,null,null,null,{"$f":"IF(ISBLANK(#REF!),\"\",$F$11*#REF!+$G$11)","v":{"$error":"#REF!"}},{"$f":"IF(ISBLANK(I46550),\"\",$F$12*#REF!+$G$12)","v":{"$error":"#REF!"}}]
[null,null,null,null,null,null,null,null,{"$f":"IF(ISBLANK(#REF!),\"\",$F$11*#REF!+$G$11)","v":{"$error":"#REF!"}},{"$f":"IF(ISBLANK(I46583),\"\",$F$12*#REF!+$G$12)","v":{"$error":"#REF!"}}]
[null,null,null,null,null,null,null,null,{"$f":"IF(ISBLANK(#REF!),\"\",$F$11*#REF!+$G$11)","v":{"$error":"#REF!"}},{"$f":"IF(ISBLANK(I46592),\"\",$F$12*#REF!+$G$12)","v":{"$error":"#REF!"}}]
[null,null,null,null,null,null,null,null,{"$f":"IF(ISBLANK(#REF!),\"\",$F$11*#REF!+$G$11)","v":{"$error":"#REF!"}},{"$f":"IF(ISBLANK(I46626),\"\",$F$12*#REF!+$G$12)","v":{"$error":"#REF!"}}]
[null,null,null,null,null,null,null,null,{"$f":"IF(ISBLANK(#REF!),\"\",$F$11*#REF!+$G$11)","v":{"$error":"#REF!"}},{"$f":"IF(ISBLANK(I46649),\"\",$F$12*#REF!+$G$12)","v":{"$error":"#REF!"}}]
[null,null,null,null,null,null,null,null,{"$f":"IF(ISBLANK(#REF!),\"\",$F$11*#REF!+$G$11)","v":{"$error":"#REF!"}},{"$f":"IF(ISBLANK(I46674),\"\",$F$12*#REF!+$G$12)","v":{"$error":"#REF!"}}]
[null,null,null,null,null,null,null,null,{"$f":"IF(ISBLANK(#REF!),\"\",$F$11*#REF!+$G$11)","v":{"$error":"#REF!"}},{"$f":"IF(ISBLANK(I46683),\"\",$F$12*#REF!+$G$12)","v":{"$error":"#REF!"}}]
[null,null,null,null,null,null,null,null,{"$f":"IF(ISBLANK(#REF!),\"\",$F$11*#REF!+$G$11)","v":{"$error":"#REF!"}},{"$f":"IF(ISBLANK(I46706),\"\",$F$12*#REF!+$G$12)","v":{"$error":"#REF!"}}]
[null,null,null,null,null,null,null,null,{"$f":"IF(ISBLANK(#REF!),\"\",$F$11*#REF!+$G$11)","v":{"$error":"#REF!"}},{"$f":"IF(ISBLANK(I46740),\"\",$F$12*#REF!+$G$12)","v":{"$error":"#REF!"}}]
[null,null,null,null,null,null,null,null,{"$f":"IF(ISBLANK(#REF!),\"\",$F$11*#REF!+$G$11)","v":{"$error":"#REF!"}},{"$f":"IF(ISBLANK(I46773),\"\",$F$12*#REF!+$G$12)","v":{"$error":"#REF!"}}]
[null,null,null,null,null,null,null,null,{"$f":"IF(ISBLANK(#REF!),\"\",$F$11*#REF!+$G$11)","v":{"$error":"#REF!"}},{"$f":"IF(ISBLANK(I46798),\"\",$F$12*#REF!+$G$12)","v":{"$error":"#REF!"}}]
[null,null,null,null,null,null,null,null,{"$f":"IF(ISBLANK(#REF!),\"\",$F$11*#REF!+$G$11)","v":{"$error":"#REF!"}},{"$f":"IF(ISBLANK(I46821),\"\",$F$12*#REF!+$G$12)","v":{"$error":"#REF!"}}]
[null,null,null,null,null,null,null,null,{"$f":"IF(ISBLANK(#REF!),\"\",$F$11*#REF!+$G$11)","v":{"$error":"#REF!"}},{"$f":"IF(ISBLANK(I46839),\"\",$F$12*#REF!+$G$12)","v":{"$error":"#REF!"}}]
[null,null,null,null,null,null,null,null,{"$f":"IF(ISBLANK(#REF!),\"\",$F$11*#REF!+$G$11)","v":{"$error":"#REF!"}},{"$f":"IF(ISBLANK(I46864),\"\",$F$12*#REF!+$G$12)","v":{"$error":"#REF!"}}]
[null,null,null,null,null,null,null,null,{"$f":"IF(ISBLANK(#REF!),\"\",$F$11*#REF!+$G$11)","v":{"$error":"#REF!"}},{"$f":"IF(ISBLANK(I46873),\"\",$F$12*#REF!+$G$12)","v":{"$error":"#REF!"}}]
[null,null,null,null,null,null,null,null,{"$f":"IF(ISBLANK(#REF!),\"\",$F$11*#REF!+$G$11)","v":{"$error":"#REF!"}},{"$f":"IF(ISBLANK(I46901),\"\",$F$12*#REF!+$G$12)","v":{"$error":"#REF!"}}]
[null,null,null,null,null,null,null,null,{"$f":"IF(ISBLANK(#REF!),\"\",$F$11*#REF!+$G$11)","v":{"$error":"#REF!"}},{"$f":"IF(ISBLANK(I46930),\"\",$F$12*#REF!+$G$12)","v":{"$error":"#REF!"}}]
[null,null,null,null,null,null,null,null,{"$f":"IF(ISBLANK(#REF!),\"\",$F$11*#REF!+$G$11)","v":{"$error":"#REF!"}},{"$f":"IF(ISBLANK(I46963),\"\",$F$12*#REF!+$G$12)","v":{"$error":"#REF!"}}]
[null,null,null,null,null,null,null,null,{"$f":"IF(ISBLANK(#REF!),\"\",$F$11*#REF!+$G$11)","v":{"$error":"#REF!"}},{"$f":"IF(ISBLANK(I46988),\"\",$F$12*#REF!+$G$12)","v":{"$error":"#REF!"}}]
[null,null,null,null,null,null,null,null,{"$f":"IF(ISBLANK(#REF!),\"\",$F$11*#REF!+$G$11)","v":{"$error":"#REF!"}},{"$f":"IF(ISBLANK(I46993),\"\",$F$12*#REF!+$G$12)","v":{"$error":"#REF!"}}]
[null,null,null,null,null,null,null,null,{"$f":"IF(ISBLANK(#REF!),\"\",$F$11*#REF!+$G$11)","v":{"$error":"#REF!"}},{"$f":"IF(ISBLANK(I47029),\"\",$F$12*#REF!+$G$12)","v":{"$error":"#REF!"}}]
[null,null,null,null,null,null,null,null,{"$f":"IF(ISBLANK(#REF!),\"\",$F$11*#REF!+$G$11)","v":{"$error":"#REF!"}},{"$f":"IF(ISBLANK(I47054),\"\",$F$12*#REF!+$G$12)","v":{"$error":"#REF!"}}]
[null,null,null,null,null,null,null,null,{"$f":"IF(ISBLANK(#REF!),\"\",$F$11*#REF!+$G$11)","v":{"$error":"#REF!"}},{"$f":"IF(ISBLANK(I47063),\"\",$F$12*#REF!+$G$12)","v":{"$error":"#REF!"}}]
[null,null,null,null,null,null,null,null,{"$f":"IF(ISBLANK(#REF!),\"\",$F$11*#REF!+$G$11)","v":{"$error":"#REF!"}},{"$f":"IF(ISBLANK(I47096),\"\",$F$12*#REF!+$G$12)","v":{"$error":"#REF!"}}]
[null,null,null,null,null,null,null,null,{"$f":"IF(ISBLANK(#REF!),\"\",$F$11*#REF!+$G$11)","v":{"$error":"#REF!"}},{"$f":"IF(ISBLANK(I47120),\"\",$F$12*#REF!+$G$12)","v":{"$error":"#REF!"}}]
[null,null,null,null,null,null,null,null,{"$f":"IF(ISBLANK(#REF!),\"\",$F$11*#REF!+$G$11)","v":{"$error":"#REF!"}},{"$f":"IF(ISBLANK(I47153),\"\",$F$12*#REF!+$G$12)","v":{"$error":"#REF!"}}]
[null,null,null,null,null,null,null,null,{"$f":"IF(ISBLANK(#REF!),\"\",$F$11*#REF!+$G$11)","v":{"$error":"#REF!"}},{"$f":"IF(ISBLANK(I47178),\"\",$F$12*#REF!+$G$12)","v":{"$error":"#REF!"}}]
[null,null,null,null,null,null,null,null,{"$f":"IF(ISBLANK(#REF!),\"\",$F$11*#REF!+$G$11)","v":{"$error":"#REF!"}},{"$f":"IF(ISBLANK(I47188),\"\",$F$12*#REF!+$G$12)","v":{"$error":"#REF!"}}]
[null,null,null,null,null,null,null,null,{"$f":"IF(ISBLANK(#REF!),\"\",$F$11*#REF!+$G$11)","v":{"$error":"#REF!"}},{"$f":"IF(ISBLANK(I47219),\"\",$F$12*#REF!+$G$12)","v":{"$error":"#REF!"}}]
[null,null,null,null,null,null,null,null,{"$f":"IF(ISBLANK(#REF!),\"\",$F$11*#REF!+$G$11)","v":{"$error":"#REF!"}},{"$f":"IF(ISBLANK(I47244),\"\",$F$12*#REF!+$G$12)","v":{"$error":"#REF!"}}]
[null,null,null,null,null,null,null,null,{"$f":"IF(ISBLANK(#REF!),\"\",$F$11*#REF!+$G$11)","v":{"$error":"#REF!"}},{"$f":"IF(ISBLANK(I47253),\"\",$F$12*#REF!+$G$12)","v":{"$error":"#REF!"}}]
[null,null,null,null,null,null,null,null,{"$f":"IF(ISBLANK(#REF!),\"\",$F$11*#REF!+$G$11)","v":{"$error":"#REF!"}},{"$f":"IF(ISBLANK(I47280),\"\",$F$12*#REF!+$G$12)","v":{"$error":"#REF!"}}]
[null,null,null,null,null,null,null,null,{"$f":"IF(ISBLANK(#REF!),\"\",$F$11*#REF!+$G$11)","v":{"$error":"#REF!"}},{"$f":"IF(ISBLANK(I47310),\"\",$F$12*#REF!+$G$12)","v":{"$error":"#REF!"}}]
[null,null,null,null,null,null,null,null,{"$f":"IF(ISBLANK(#REF!),\"\",$F$11*#REF!+$G$11)","v":{"$error":"#REF!"}},{"$f":"IF(ISBLANK(I47343),\"\",$F$12*#REF!+$G$12)","v":{"$error":"#REF!"}}]
[null,null,null,null,null,null,null,null,{"$f":"IF(ISBLANK(#REF!),\"\",$F$11*#REF!+$G$11)","v":{"$error":"#REF!"}},{"$f":"IF(ISBLANK(I47368),\"\",$F$12*#REF!+$G$12)","v":{"$error":"#REF!"}}]
[null,null,null,null,null,null,null,null,{"$f":"IF(ISBLANK(#REF!),\"\",$F$11*#REF!+$G$11)","v":{"$error":"#REF!"}},{"$f":"IF(ISBLANK(I47383),\"\",$F$12*#REF!+$G$12)","v":{"$error":"#REF!"}}]
[null,null,null,null,null,null,null,null,{"$f":"IF(ISBLANK(#REF!),\"\",$F$11*#REF!+$G$11)","v":{"$error":"#REF!"}},{"$f":"IF(ISBLANK(I47409),\"\",$F$12*#REF!+$G$12)","v":{"$error":"#REF!"}}]
[null,null,null,null,null,null,null,null,{"$f":"IF(ISBLANK(#REF!),\"\",$F$11*#REF!+$G$11)","v":{"$error":"#REF!"}},{"$f":"IF(ISBLANK(I47434),\"\",$F$12*#REF!+$G$12)","v":{"$error":"#REF!"}}]
[null,null,null,null,null,null,null,null,{"$f":"IF(ISBLANK(#REF!),\"\",$F$11*#REF!+$G$11)","v":{"$error":"#REF!"}},{"$f":"IF(ISBLANK(I47443),\"\",$F$12*#REF!+$G$12)","v":{"$error":"#REF!"}}]
[null,null,null,null,null,null,null,null,{"$f":"IF(ISBLANK(#REF!),\"\",$F$11*#REF!+$G$11)","v":{"$error":"#REF!"}},{"$f":"IF(ISBLANK(I47475),\"\",$F$12*#REF!+$G$12)","v":{"$error":"#REF!"}}]
[null,null,null,null,null,null,null,null,{"$f":"IF(ISBLANK(#REF!),\"\",$F$11*#REF!+$G$11)","v":{"$error":"#REF!"}},{"$f":"IF(ISBLANK(I47500),\"\",$F$12*#REF!+$G$12)","v":{"$error":"#REF!"}}]
[null,null,null,null,null,null,null,null,{"$f":"IF(ISBLANK(#REF!),\"\",$F$11*#REF!+$G$11)","v":{"$error":"#REF!"}},{"$f":"IF(ISBLANK(I47533),\"\",$F$12*#REF!+$G$12)","v":{"$error":"#REF!"}}]
[null,null,null,null,null,null,null,null,{"$f":"IF(ISBLANK(#REF!),\"\",$F$11*#REF!+$G$11)","v":{"$error":"#REF!"}},{"$f":"IF(ISBLANK(I47558),\"\",$F$12*#REF!+$G$12)","v":{"$error":"#REF!"}}]
[null,null,null,null,null,null,null,null,{"$f":"IF(ISBLANK(#REF!),\"\",$F$11*#REF!+$G$11)","v":{"$error":"#REF!"}},{"$f":"IF(ISBLANK(I47578),\"\",$F$12*#REF!+$G$12)","v":{"$error":"#REF!"}}]
[null,null,null,null,null,null,null,null,{"$f":"IF(ISBLANK(#REF!),\"\",$F$11*#REF!+$G$11)","v":{"$error":"#REF!"}},{"$f":"IF(ISBLANK(I47599),\"\",$F$12*#REF!+$G$12)","v":{"$error":"#REF!"}}]
[null,null,null,null,null,null,null,null,{"$f":"IF(ISBLANK(#REF!),\"\",$F$11*#REF!+$G$11)","v":{"$error":"#REF!"}},{"$f":"IF(ISBLANK(I47624),\"\",$F$12*#REF!+$G$12)","v":{"$error":"#REF!"}}]
[null,null,null,null,null,null,null,null,{"$f":"IF(ISBLANK(#REF!),\"\",$F$11*#REF!+$G$11)","v":{"$error":"#REF!"}},{"$f":"IF(ISBLANK(I47633),\"\",$F$12*#REF!+$G$12)","v":{"$error":"#REF!"}}]
[null,null,null,null,null,null,null,null,{"$f":"IF(ISBLANK(#REF!),\"\",$F$11*#REF!+$G$11)","v":{"$error":"#REF!"}},{"$f":"IF(ISBLANK(I47670),\"\",$F$12*#REF!+$G$12)","v":{"$error":"#REF!"}}]
[null,null,null,null,null,null,null,null,{"$f":"IF(ISBLANK(#REF!),\"\",$F$11*#REF!+$G$11)","v":{"$error":"#REF!"}},{"$f":"IF(ISBLANK(I47690),\"\",$F$12*#REF!+$G$12)","v":{"$error":"#REF!"}}]
[null,null,null,null,null,null,null,null,{"$f":"IF(ISBLANK(#REF!),\"\",$F$11*#REF!+$G$11)","v":{"$error":"#REF!"}},{"$f":"IF(ISBLANK(I47723),\"\",$F$12*#REF!+$G$12)","v":{"$error":"#REF!"}}]
[null,null,null,null,null,null,null,null,{"$f":"IF(ISBLANK(#REF!),\"\",$F$11*#REF!+$G$11)","v":{"$error":"#REF!"}},{"$f":"IF(ISBLANK(I47748),\"\",$F$12*#REF!+$G$12)","v":{"$error":"#REF!"}}]
[null,null,null,null,null,null,null,null,{"$f":"IF(ISBLANK(#REF!),\"\",$F$11*#REF!+$G$11)","v":{"$error":"#REF!"}},{"$f":"IF(ISBLANK(I47750),\"\",$F$12*#REF!+$G$12)","v":{"$error":"#REF!"}}]
[null,null,null,null,null,null,null,null,{"$f":"IF(ISBLANK(#REF!),\"\",$F$11*#REF!+$G$11)","v":{"$error":"#REF!"}},{"$f":"IF(ISBLANK(I47781),\"\",$F$12*#REF!+$G$12)","v":{"$error":"#REF!"}}]
[null,null,null,null,null,null,null,null,{"$f":"IF(ISBLANK(#REF!),\"\",$F$11*#REF!+$G$11)","v":{"$error":"#REF!"}},{"$f":"IF(ISBLANK(I47814),\"\",$F$12*#REF!+$G$12)","v":{"$error":"#REF!"}}]
[null,null,null,null,null,null,null,null,{"$f":"IF(ISBLANK(#REF!),\"\",$F$11*#REF!+$G$11)","v":{"$error":"#REF!"}},{"$f":"IF(ISBLANK(I47823),\"\",$F$12*#REF!+$G$12)","v":{"$error":"#REF!"}}]
[null,null,null,null,null,null,null,null,{"$f":"IF(ISBLANK(#REF!),\"\",$F$11*#REF!+$G$11)","v":{"$error":"#REF!"}},{"$f":"IF(ISBLANK(I47848),\"\",$F$12*#REF!+$G$12)","v":{"$error":"#REF!"}}]
[null,null,null,null,null,null,null,null,{"$f":"IF(ISBLANK(#REF!),\"\",$F$11*#REF!+$G$11)","v":{"$error":"#REF!"}},{"$f":"IF(ISBLANK(I47888),\"\",$F$12*#REF!+$G$12)","v":{"$error":"#REF!"}}]
[null,null,null,null,null,null,null,null,{"$f":"IF(ISBLANK(#REF!),\"\",$F$11*#REF!+$G$11)","v":{"$error":"#REF!"}},{"$f":"IF(ISBLANK(I47913),\"\",$F$12*#REF!+$G$12)","v":{"$error":"#REF!"}}]
[null,null,null,null,null,null,null,null,{"$f":"IF(ISBLANK(#REF!),\"\",$F$11*#REF!+$G$11)","v":{"$error":"#REF!"}},{"$f":"IF(ISBLANK(I47938),\"\",$F$12*#REF!+$G$12)","v":{"$error":"#REF!"}}]
[null,null,null,null,null,null,null,null,{"$f":"IF(ISBLANK(#REF!),\"\",$F$11*#REF!+$G$11)","v":{"$error":"#REF!"}},{"$f":"IF(ISBLANK(I47947),\"\",$F$12*#REF!+$G$12)","v":{"$error":"#REF!"}}]
[null,null,null,null,null,null,null,null,{"$f":"IF(ISBLANK(#REF!),\"\",$F$11*#REF!+$G$11)","v":{"$error":"#REF!"}},{"$f":"IF(ISBLANK(I47980),\"\",$F$12*#REF!+$G$12)","v":{"$error":"#REF!"}}]
[null,null,null,null,null,null,null,null,{"$f":"IF(ISBLANK(#REF!),\"\",$F$11*#REF!+$G$11)","v":{"$error":"#REF!"}},{"$f":"IF(ISBLANK(I48004),\"\",$F$12*#REF!+$G$12)","v":{"$error":"#REF!"}}]
[null,null,null,null,null,null,null,null,{"$f":"IF(ISBLANK(#REF!),\"\",$F$11*#REF!+$G$11)","v":{"$error":"#REF!"}},{"$f":"IF(ISBLANK(I48013),\"\",$F$12*#REF!+$G$12)","v":{"$error":"#REF!"}}]
[null,null,null,null,null,null,null,null,{"$f":"IF(ISBLANK(#REF!),\"\",$F$11*#REF!+$G$11)","v":{"$error":"#REF!"}},{"$f":"IF(ISBLANK(I48038),\"\",$F$12*#REF!+$G$12)","v":{"$error":"#REF!"}}]
[null,null,null,null,null,null,null,null,{"$f":"IF(ISBLANK(#REF!),\"\",$F$11*#REF!+$G$11)","v":{"$error":"#REF!"}},{"$f":"IF(ISBLANK(I48060),\"\",$F$12*#REF!+$G$12)","v":{"$error":"#REF!"}}]
[null,null,null,null,null,null,null,null,{"$f":"IF(ISBLANK(#REF!),\"\",$F$11*#REF!+$G$11)","v":{"$error":"#REF!"}},{"$f":"IF(ISBLANK(I48095),\"\",$F$12*#REF!+$G$12)","v":{"$error":"#REF!"}}]
[null,null,null,null,null,null,null,null,{"$f":"IF(ISBLANK(#REF!),\"\",$F$11*#REF!+$G$11)","v":{"$error":"#REF!"}},{"$f":"IF(ISBLANK(I48128),\"\",$F$12*#REF!+$G$12)","v":{"$error":"#REF!"}}]
[null,null,null,null,null,null,null,null,{"$f":"IF(ISBLANK(#REF!),\"\",$F$11*#REF!+$G$11)","v":{"$error":"#REF!"}},{"$f":"IF(ISBLANK(I48137),\"\",$F$12*#REF!+$G$12)","v":{"$error":"#REF!"}}]
[null,null,null,null,null,null,null,null,{"$f":"IF(ISBLANK(#REF!),\"\",$F$11*#REF!+$G$11)","v":{"$error":"#REF!"}},{"$f":"IF(ISBLANK(I48175),\"\",$F$12*#REF!+$G$12)","v":{"$error":"#REF!"}}]
[null,null,null,null,null,null,null,null,{"$f":"IF(ISBLANK(#REF!),\"\",$F$11*#REF!+$G$11)","v":{"$error":"#REF!"}},{"$f":"IF(ISBLANK(I48194),\"\",$F$12*#REF!+$G$12)","v":{"$error":"#REF!"}}]
[null,null,null,null,null,null,null,null,{"$f":"IF(ISBLANK(#REF!),\"\",$F$11*#REF!+$G$11)","v":{"$error":"#REF!"}},{"$f":"IF(ISBLANK(I48203),\"\",$F$12*#REF!+$G$12)","v":{"$error":"#REF!"}}]
[null,null,null,null,null,null,null,null,{"$f":"IF(ISBLANK(#REF!),\"\",$F$11*#REF!+$G$11)","v":{"$error":"#REF!"}},{"$f":"IF(ISBLANK(I48228),\"\",$F$12*#REF!+$G$12)","v":{"$error":"#REF!"}}]
[null,null,null,null,null,null,null,null,{"$f":"IF(ISBLANK(#REF!),\"\",$F$11*#REF!+$G$11)","v":{"$error":"#REF!"}},{"$f":"IF(ISBLANK(I48255),\"\",$F$12*#REF!+$G$12)","v":{"$error":"#REF!"}}]
[null,null,null,null,null,null,null,null,{"$f":"IF(ISBLANK(#REF!),\"\",$F$11*#REF!+$G$11)","v":{"$error":"#REF!"}},{"$f":"IF(ISBLANK(I48285),\"\",$F$12*#REF!+$G$12)","v":{"$error":"#REF!"}}]
[null,null,null,null,null,null,null,null,{"$f":"IF(ISBLANK(#REF!),\"\",$F$11*#REF!+$G$11)","v":{"$error":"#REF!"}},{"$f":"IF(ISBLANK(I48318),\"\",$F$12*#REF!+$G$12)","v":{"$error":"#REF!"}}]
[null,null,null,null,null,null,null,null,{"$f":"IF(ISBLANK(#REF!),\"\",$F$11*#REF!+$G$11)","v":{"$error":"#REF!"}},{"$f":"IF(ISBLANK(I48327),\"\",$F$12*#REF!+$G$12)","v":{"$error":"#REF!"}}]
[null,null,null,null,null,null,null,null,{"$f":"IF(ISBLANK(#REF!),\"\",$F$11*#REF!+$G$11)","v":{"$error":"#REF!"}},{"$f":"IF(ISBLANK(I48347),\"\",$F$12*#REF!+$G$12)","v":{"$error":"#REF!"}}]
[null,null,null,null,null,null,null,null,{"$f":"IF(ISBLANK(#REF!),\"\",$F$11*#REF!+$G$11)","v":{"$error":"#REF!"}},{"$f":"IF(ISBLANK(I48384),\"\",$F$12*#REF!+$G$12)","v":{"$error":"#REF!"}}]
[null,null,null,null,null,null,null,null,{"$f":"IF(ISBLANK(#REF!),\"\",$F$11*#REF!+$G$11)","v":{"$error":"#REF!"}},{"$f":"IF(ISBLANK(I48393),\"\",$F$12*#REF!+$G$12)","v":{"$error":"#REF!"}}]
[null,null,null,null,null,null,null,null,{"$f":"IF(ISBLANK(#REF!),\"\",$F$11*#REF!+$G$11)","v":{"$error":"#REF!"}},{"$f":"IF(ISBLANK(I48418),\"\",$F$12*#REF!+$G$12)","v":{"$error":"#REF!"}}]
[null,null,null,null,null,null,null,null,{"$f":"IF(ISBLANK(#REF!),\"\",$F$11*#REF!+$G$11)","v":{"$error":"#REF!"}},{"$f":"IF(ISBLANK(I48450),\"\",$F$12*#REF!+$G$12)","v":{"$error":"#REF!"}}]
[null,null,null,null,null,null,null,null,{"$f":"IF(ISBLANK(#REF!),\"\",$F$11*#REF!+$G$11)","v":{"$error":"#REF!"}},{"$f":"IF(ISBLANK(I48475),\"\",$F$12*#REF!+$G$12)","v":{"$error":"#REF!"}}]
[null,null,null,null,null,null,null,null,{"$f":"IF(ISBLANK(#REF!),\"\",$F$11*#REF!+$G$11)","v":{"$error":"#REF!"}},{"$f":"IF(ISBLANK(I48508),\"\",$F$12*#REF!+$G$12)","v":{"$error":"#REF!"}}]
[null,null,null,null,null,null,null,null,{"$f":"IF(ISBLANK(#REF!),\"\",$F$11*#REF!+$G$11)","v":{"$error":"#REF!"}},{"$f":"IF(ISBLANK(I48517),\"\",$F$12*#REF!+$G$12)","v":{"$error":"#REF!"}}]
[null,null,null,null,null,null,null,null,{"$f":"IF(ISBLANK(#REF!),\"\",$F$11*#REF!+$G$11)","v":{"$error":"#REF!"}},{"$f":"IF(ISBLANK(I48542),\"\",$F$12*#REF!+$G$12)","v":{"$error":"#REF!"}}]
[null,null,null,null,null,null,null,null,{"$f":"IF(ISBLANK(#REF!),\"\",$F$11*#REF!+$G$11)","v":{"$error":"#REF!"}},{"$f":"IF(ISBLANK(I48574),\"\",$F$12*#REF!+$G$12)","v":{"$error":"#REF!"}}]
[null,null,null,null,null,null,null,null,{"$f":"IF(ISBLANK(#REF!),\"\",$F$11*#REF!+$G$11)","v":{"$error":"#REF!"}},{"$f":"IF(ISBLANK(I48599),\"\",$F$12*#REF!+$G$12)","v":{"$error":"#REF!"}}]
[null,null,null,null,null,null,null,null,{"$f":"IF(ISBLANK(#REF!),\"\",$F$11*#REF!+$G$11)","v":{"$error":"#REF!"}},{"$f":"IF(ISBLANK(I48608),\"\",$F$12*#REF!+$G$12)","v":{"$error":"#REF!"}}]
[null,null,null,null,null,null,null,null,{"$f":"IF(ISBLANK(#REF!),\"\",$F$11*#REF!+$G$11)","v":{"$error":"#REF!"}},{"$f":"IF(ISBLANK(I48645),\"\",$F$12*#REF!+$G$12)","v":{"$error":"#REF!"}}]
[null,null,null,null,null,null,null,null,{"$f":"IF(ISBLANK(#REF!),\"\",$F$11*#REF!+$G$11)","v":{"$error":"#REF!"}},{"$f":"IF(ISBLANK(I48665),\"\",$F$12*#REF!+$G$12)","v":{"$error":"#REF!"}}]
[null,null,null,null,null,null,null,null,{"$f":"IF(ISBLANK(#REF!),\"\",$F$11*#REF!+$G$11)","v":{"$error":"#REF!"}},{"$f":"IF(ISBLANK(I48698),\"\",$F$12*#REF!+$G$12)","v":{"$error":"#REF!"}}]
[null,null,null,null,null,null,null,null,{"$f":"IF(ISBLANK(#REF!),\"\",$F$11*#REF!+$G$11)","v":{"$error":"#REF!"}},{"$f":"IF(ISBLANK(I48707),\"\",$F$12*#REF!+$G$12)","v":{"$error":"#REF!"}}]
[null,null,null,null,null,null,null,null,{"$f":"IF(ISBLANK(#REF!),\"\",$F$11*#REF!+$G$11)","v":{"$error":"#REF!"}},{"$f":"IF(ISBLANK(I48737),\"\",$F$12*#REF!+$G$12)","v":{"$error":"#REF!"}}]
[null,null,null,null,null,null,null,null,{"$f":"IF(ISBLANK(#REF!),\"\",$F$11*#REF!+$G$11)","v":{"$error":"#REF!"}},{"$f":"IF(ISBLANK(I48764),\"\",$F$12*#REF!+$G$12)","v":{"$error":"#REF!"}}]
[null,null,null,null,null,null,null,null,{"$f":"IF(ISBLANK(#REF!),\"\",$F$11*#REF!+$G$11)","v":{"$error":"#REF!"}},{"$f":"IF(ISBLANK(I48789),\"\",$F$12*#REF!+$G$12)","v":{"$error":"#REF!"}}]
[null,null,null,null,null,null,null,null,{"$f":"IF(ISBLANK(#REF!),\"\",$F$11*#REF!+$G$11)","v":{"$error":"#REF!"}},{"$f":"IF(ISBLANK(I48798),\"\",$F$12*#REF!+$G$12)","v":{"$error":"#REF!"}}]
[null,null,null,null,null,null,null,null,{"$f":"IF(ISBLANK(#REF!),\"\",$F$11*#REF!+$G$11)","v":{"$error":"#REF!"}},{"$f":"IF(ISBLANK(I48840),\"\",$F$12*#REF!+$G$12)","v":{"$error":"#REF!"}}]
[null,null,null,null,null,null,null,null,{"$f":"IF(ISBLANK(#REF!),\"\",$F$11*#REF!+$G$11)","v":{"$error":"#REF!"}},{"$f":"IF(ISBLANK(I48855),\"\",$F$12*#REF!+$G$12)","v":{"$error":"#REF!"}}]
[null,null,null,null,null,null,null,null,{"$f":"IF(ISBLANK(#REF!),\"\",$F$11*#REF!+$G$11)","v":{"$error":"#REF!"}},{"$f":"IF(ISBLANK(I48888),\"\",$F$12*#REF!+$G$12)","v":{"$error":"#REF!"}}]
[null,null,null,null,null,null,null,null,{"$f":"IF(ISBLANK(#REF!),\"\",$F$11*#REF!+$G$11)","v":{"$error":"#REF!"}},{"$f":"IF(ISBLANK(I48913),\"\",$F$12*#REF!+$G$12)","v":{"$error":"#REF!"}}]
[null,null,null,null,null,null,null,null,{"$f":"IF(ISBLANK(#REF!),\"\",$F$11*#REF!+$G$11)","v":{"$error":"#REF!"}},{"$f":"IF(ISBLANK(I48932),\"\",$F$12*#REF!+$G$12)","v":{"$error":"#REF!"}}]
[null,null,null,null,null,null,null,null,{"$f":"IF(ISBLANK(#REF!),\"\",$F$11*#REF!+$G$11)","v":{"$error":"#REF!"}},{"$f":"IF(ISBLANK(I48954),\"\",$F$12*#REF!+$G$12)","v":{"$error":"#REF!"}}]
[null,null,null,null,null,null,null,null,{"$f":"IF(ISBLANK(#REF!),\"\",$F$11*#REF!+$G$11)","v":{"$error":"#REF!"}},{"$f":"IF(ISBLANK(I48979),\"\",$F$12*#REF!+$G$12)","v":{"$error":"#REF!"}}]
[null,null,null,null,null,null,null,null,{"$f":"IF(ISBLANK(#REF!),\"\",$F$11*#REF!+$G$11)","v":{"$error":"#REF!"}},{"$f":"IF(ISBLANK(I48988),\"\",$F$12*#REF!+$G$12)","v":{"$error":"#REF!"}}]
[null,null,null,null,null,null,null,null,{"$f":"IF(ISBLANK(#REF!),\"\",$F$11*#REF!+$G$11)","v":{"$error":"#REF!"}},{"$f":"IF(ISBLANK(I49012),\"\",$F$12*#REF!+$G$12)","v":{"$error":"#REF!"}}]
[null,null,null,null,null,null,null,null,{"$f":"IF(ISBLANK(#REF!),\"\",$F$11*#REF!+$G$11)","v":{"$error":"#REF!"}},{"$f":"IF(ISBLANK(I49045),\"\",$F$12*#REF!+$G$12)","v":{"$error":"#REF!"}}]
[null,null,null,null,null,null,null,null,{"$f":"IF(ISBLANK(#REF!),\"\",$F$11*#REF!+$G$11)","v":{"$error":"#REF!"}},{"$f":"IF(ISBLANK(I49078),\"\",$F$12*#REF!+$G$12)","v":{"$error":"#REF!"}}]
[null,null,null,null,null,null,null,null,{"$f":"IF(ISBLANK(#REF!),\"\",$F$11*#REF!+$G$11)","v":{"$error":"#REF!"}},{"$f":"IF(ISBLANK(I49103),\"\",$F$12*#REF!+$G$12)","v":{"$error":"#REF!"}}]
[null,null,null,null,null,null,null,null,{"$f":"IF(ISBLANK(#REF!),\"\",$F$11*#REF!+$G$11)","v":{"$error":"#REF!"}},{"$f":"IF(ISBLANK(I49104),\"\",$F$12*#REF!+$G$12)","v":{"$error":"#REF!"}}]
[null,null,null,null,null,null,null,null,{"$f":"IF(ISBLANK(#REF!),\"\",$F$11*#REF!+$G$11)","v":{"$error":"#REF!"}},{"$f":"IF(ISBLANK(I49144),\"\",$F$12*#REF!+$G$12)","v":{"$error":"#REF!"}}]
[null,null,null,null,null,null,null,null,{"$f":"IF(ISBLANK(#REF!),\"\",$F$11*#REF!+$G$11)","v":{"$error":"#REF!"}},{"$f":"IF(ISBLANK(I49169),\"\",$F$12*#REF!+$G$12)","v":{"$error":"#REF!"}}]
[null,null,null,null,null,null,null,null,{"$f":"IF(ISBLANK(#REF!),\"\",$F$11*#REF!+$G$11)","v":{"$error":"#REF!"}},{"$f":"IF(ISBLANK(I49178),\"\",$F$12*#REF!+$G$12)","v":{"$error":"#REF!"}}]
[null,null,null,null,null,null,null,null,{"$f":"IF(ISBLANK(#REF!),\"\",$F$11*#REF!+$G$11)","v":{"$error":"#REF!"}},{"$f":"IF(ISBLANK(I49207),\"\",$F$12*#REF!+$G$12)","v":{"$error":"#REF!"}}]
[null,null,null,null,null,null,null,null,{"$f":"IF(ISBLANK(#REF!),\"\",$F$11*#REF!+$G$11)","v":{"$error":"#REF!"}},{"$f":"IF(ISBLANK(I49235),\"\",$F$12*#REF!+$G$12)","v":{"$error":"#REF!"}}]
[null,null,null,null,null,null,null,null,{"$f":"IF(ISBLANK(#REF!),\"\",$F$11*#REF!+$G$11)","v":{"$error":"#REF!"}},{"$f":"IF(ISBLANK(I49268),\"\",$F$12*#REF!+$G$12)","v":{"$error":"#REF!"}}]
[null,null,null,null,null,null,null,null,{"$f":"IF(ISBLANK(#REF!),\"\",$F$11*#REF!+$G$11)","v":{"$error":"#REF!"}},{"$f":"IF(ISBLANK(I49293),\"\",$F$12*#REF!+$G$12)","v":{"$error":"#REF!"}}]
[null,null,null,null,null,null,null,null,{"$f":"IF(ISBLANK(#REF!),\"\",$F$11*#REF!+$G$11)","v":{"$error":"#REF!"}},{"$f":"IF(ISBLANK(I49299),\"\",$F$12*#REF!+$G$12)","v":{"$error":"#REF!"}}]
[null,null,null,null,null,null,null,null,{"$f":"IF(ISBLANK(#REF!),\"\",$F$11*#REF!+$G$11)","v":{"$error":"#REF!"}},{"$f":"IF(ISBLANK(I49334),\"\",$F$12*#REF!+$G$12)","v":{"$error":"#REF!"}}]
[null,null,null,null,null,null,null,null,{"$f":"IF(ISBLANK(#REF!),\"\",$F$11*#REF!+$G$11)","v":{"$error":"#REF!"}},{"$f":"IF(ISBLANK(I49359),\"\",$F$12*#REF!+$G$12)","v":{"$error":"#REF!"}}]
[null,null,null,null,null,null,null,null,{"$f":"IF(ISBLANK(#REF!),\"\",$F$11*#REF!+$G$11)","v":{"$error":"#REF!"}},{"$f":"IF(ISBLANK(I49368),\"\",$F$12*#REF!+$G$12)","v":{"$error":"#REF!"}}]
[null,null,null,null,null,null,null,null,{"$f":"IF(ISBLANK(#REF!),\"\",$F$11*#REF!+$G$11)","v":{"$error":"#REF!"}},{"$f":"IF(ISBLANK(I49391),\"\",$F$12*#REF!+$G$12)","v":{"$error":"#REF!"}}]
[null,null,null,null,null,null,null,null,{"$f":"IF(ISBLANK(#REF!),\"\",$F$11*#REF!+$G$11)","v":{"$error":"#REF!"}},{"$f":"IF(ISBLANK(I49425),\"\",$F$12*#REF!+$G$12)","v":{"$error":"#REF!"}}]
[null,null,null,null,null,null,null,null,{"$f":"IF(ISBLANK(#REF!),\"\",$F$11*#REF!+$G$11)","v":{"$error":"#REF!"}},{"$f":"IF(ISBLANK(I49458),\"\",$F$12*#REF!+$G$12)","v":{"$error":"#REF!"}}]
[null,null,null,null,null,null,null,null,{"$f":"IF(ISBLANK(#REF!),\"\",$F$11*#REF!+$G$11)","v":{"$error":"#REF!"}},{"$f":"IF(ISBLANK(I49483),\"\",$F$12*#REF!+$G$12)","v":{"$error":"#REF!"}}]
[null,null,null,null,null,null,null,null,{"$f":"IF(ISBLANK(#REF!),\"\",$F$11*#REF!+$G$11)","v":{"$error":"#REF!"}},{"$f":"IF(ISBLANK(I49492),\"\",$F$12*#REF!+$G$12)","v":{"$error":"#REF!"}}]
[null,null,null,null,null,null,null,null,{"$f":"IF(ISBLANK(#REF!),\"\",$F$11*#REF!+$G$11)","v":{"$error":"#REF!"}},{"$f":"IF(ISBLANK(I49508),\"\",$F$12*#REF!+$G$12)","v":{"$error":"#REF!"}}]
[null,null,null,null,null,null,null,null,{"$f":"IF(ISBLANK(#REF!),\"\",$F$11*#REF!+$G$11)","v":{"$error":"#REF!"}},{"$f":"IF(ISBLANK(I49509),\"\",$F$12*#REF!+$G$12)","v":{"$error":"#REF!"}}]
[null,null,null,null,null,null,null,null,{"$f":"IF(ISBLANK(#REF!),\"\",$F$11*#REF!+$G$11)","v":{"$error":"#REF!"}},{"$f":"IF(ISBLANK(I49510),\"\",$F$12*#REF!+$G$12)","v":{"$error":"#REF!"}}]
[null,null,null,null,null,null,null,null,{"$f":"IF(ISBLANK(#REF!),\"\",$F$11*#REF!+$G$11)","v":{"$error":"#REF!"}},{"$f":"IF(ISBLANK(I49511),\"\",$F$12*#REF!+$G$12)","v":{"$error":"#REF!"}}]
[null,null,null,null,null,null,null,null,{"$f":"IF(ISBLANK(#REF!),\"\",$F$11*#REF!+$G$11)","v":{"$error":"#REF!"}},{"$f":"IF(ISBLANK(I49512),\"\",$F$12*#REF!+$G$12)","v":{"$error":"#REF!"}}]
[null,null,null,null,null,null,null,null,{"$f":"IF(ISBLANK(#REF!),\"\",$F$11*#REF!+$G$11)","v":{"$error":"#REF!"}},{"$f":"IF(ISBLANK(I49513),\"\",$F$12*#REF!+$G$12)","v":{"$error":"#REF!"}}]
[null,null,null,null,null,null,null,null,{"$f":"IF(ISBLANK(#REF!),\"\",$F$11*#REF!+$G$11)","v":{"$error":"#REF!"}},{"$f":"IF(ISBLANK(I49514),\"\",$F$12*#REF!+$G$12)","v":{"$error":"#REF!"}}]
[null,null,null,null,null,null,null,null,{"$f":"IF(ISBLANK(#REF!),\"\",$F$11*#REF!+$G$11)","v":{"$error":"#REF!"}},{"$f":"IF(ISBLANK(I49515),\"\",$F$12*#REF!+$G$12)","v":{"$error":"#REF!"}}]
[null,null,null,null,null,null,null,null,{"$f":"IF(ISBLANK(#REF!),\"\",$F$11*#REF!+$G$11)","v":{"$error":"#REF!"}},{"$f":"IF(ISBLANK(I49516),\"\",$F$12*#REF!+$G$12)","v":{"$error":"#REF!"}}]
[null,null,null,null,null,null,null,null,{"$f":"IF(ISBLANK(#REF!),\"\",$F$11*#REF!+$G$11)","v":{"$error":"#REF!"}},{"$f":"IF(ISBLANK(I49517),\"\",$F$12*#REF!+$G$12)","v":{"$error":"#REF!"}}]
[null,null,null,null,null,null,null,null,{"$f":"IF(ISBLANK(#REF!),\"\",$F$11*#REF!+$G$11)","v":{"$error":"#REF!"}},{"$f":"IF(ISBLANK(I49518),\"\",$F$12*#REF!+$G$12)","v":{"$error":"#REF!"}}]
[null,null,null,null,null,null,null,null,{"$f":"IF(ISBLANK(#REF!),\"\",$F$11*#REF!+$G$11)","v":{"$error":"#REF!"}},{"$f":"IF(ISBLANK(I49519),\"\",$F$12*#REF!+$G$12)","v":{"$error":"#REF!"}}]
[null,null,null,null,null,null,null,null,{"$f":"IF(ISBLANK(#REF!),\"\",$F$11*#REF!+$G$11)","v":{"$error":"#REF!"}},{"$f":"IF(ISBLANK(I49520),\"\",$F$12*#REF!+$G$12)","v":{"$error":"#REF!"}}]
[null,null,null,null,null,null,null,null,{"$f":"IF(ISBLANK(#REF!),\"\",$F$11*#REF!+$G$11)","v":{"$error":"#REF!"}},{"$f":"IF(ISBLANK(I49521),\"\",$F$12*#REF!+$G$12)","v":{"$error":"#REF!"}}]
[null,null,null,null,null,null,null,null,{"$f":"IF(ISBLANK(#REF!),\"\",$F$11*#REF!+$G$11)","v":{"$error":"#REF!"}},{"$f":"IF(ISBLANK(I49522),\"\",$F$12*#REF!+$G$12)","v":{"$error":"#REF!"}}]
[null,null,null,null,null,null,null,null,{"$f":"IF(ISBLANK(#REF!),\"\",$F$11*#REF!+$G$11)","v":{"$error":"#REF!"}},{"$f":"IF(ISBLANK(I49523),\"\",$F$12*#REF!+$G$12)","v":{"$error":"#REF!"}}]
[null,null,null,null,null,null,null,null,{"$f":"IF(ISBLANK(#REF!),\"\",$F$11*#REF!+$G$11)","v":{"$error":"#REF!"}},{"$f":"IF(ISBLANK(I49524),\"\",$F$12*#REF!+$G$12)","v":{"$error":"#REF!"}}]
[null,null,null,null,null,null,null,null,{"$f":"IF(ISBLANK(#REF!),\"\",$F$11*#REF!+$G$11)","v":{"$error":"#REF!"}},{"$f":"IF(ISBLANK(I49525),\"\",$F$12*#REF!+$G$12)","v":{"$error":"#REF!"}}]
[null,null,null,null,null,null,null,null,{"$f":"IF(ISBLANK(#REF!),\"\",$F$11*#REF!+$G$11)","v":{"$error":"#REF!"}},{"$f":"IF(ISBLANK(I49526),\"\",$F$12*#REF!+$G$12)","v":{"$error":"#REF!"}}]
[null,null,null,null,null,null,null,null,{"$f":"IF(ISBLANK(#REF!),\"\",$F$11*#REF!+$G$11)","v":{"$error":"#REF!"}},{"$f":"IF(ISBLANK(I49527),\"\",$F$12*#REF!+$G$12)","v":{"$error":"#REF!"}}]
[null,null,null,null,null,null,null,null,{"$f":"IF(ISBLANK(#REF!),\"\",$F$11*#REF!+$G$11)","v":{"$error":"#REF!"}},{"$f":"IF(ISBLANK(I49528),\"\",$F$12*#REF!+$G$12)","v":{"$error":"#REF!"}}]
[null,null,null,null,null,null,null,null,{"$f":"IF(ISBLANK(#REF!),\"\",$F$11*#REF!+$G$11)","v":{"$error":"#REF!"}},{"$f":"IF(ISBLANK(I49529),\"\",$F$12*#REF!+$G$12)","v":{"$error":"#REF!"}}]
[null,null,null,null,null,null,null,null,{"$f":"IF(ISBLANK(#REF!),\"\",$F$11*#REF!+$G$11)","v":{"$error":"#REF!"}},{"$f":"IF(ISBLANK(I49530),\"\",$F$12*#REF!+$G$12)","v":{"$error":"#REF!"}}]
[null,null,null,null,null,null,null,null,{"$f":"IF(ISBLANK(#REF!),\"\",$F$11*#REF!+$G$11)","v":{"$error":"#REF!"}},{"$f":"IF(ISBLANK(I49531),\"\",$F$12*#REF!+$G$12)","v":{"$error":"#REF!"}}]
[null,null,null,null,null,null,null,null,{"$f":"IF(ISBLANK(#REF!),\"\",$F$11*#REF!+$G$11)","v":{"$error":"#REF!"}},{"$f":"IF(ISBLANK(I49532),\"\",$F$12*#REF!+$G$12)","v":{"$error":"#REF!"}}]
[null,null,null,null,null,null,null,null,{"$f":"IF(ISBLANK(#REF!),\"\",$F$11*#REF!+$G$11)","v":{"$error":"#REF!"}},{"$f":"IF(ISBLANK(I49533),\"\",$F$12*#REF!+$G$12)","v":{"$error":"#REF!"}}]
[null,null,null,null,null,null,null,null,{"$f":"IF(ISBLANK(#REF!),\"\",$F$11*#REF!+$G$11)","v":{"$error":"#REF!"}},{"$f":"IF(ISBLANK(I49534),\"\",$F$12*#REF!+$G$12)","v":{"$error":"#REF!"}}]
[null,null,null,null,null,null,null,null,{"$f":"IF(ISBLANK(#REF!),\"\",$F$11*#REF!+$G$11)","v":{"$error":"#REF!"}},{"$f":"IF(ISBLANK(I49535),\"\",$F$12*#REF!+$G$12)","v":{"$error":"#REF!"}}]
[null,null,null,null,null,null,null,null,{"$f":"IF(ISBLANK(#REF!),\"\",$F$11*#REF!+$G$11)","v":{"$error":"#REF!"}},{"$f":"IF(ISBLANK(I49536),\"\",$F$12*#REF!+$G$12)","v":{"$error":"#REF!"}}]
[null,null,null,null,null,null,null,null,{"$f":"IF(ISBLANK(#REF!),\"\",$F$11*#REF!+$G$11)","v":{"$error":"#REF!"}},{"$f":"IF(ISBLANK(I49537),\"\",$F$12*#REF!+$G$12)","v":{"$error":"#REF!"}}]
[null,null,null,null,null,null,null,null,{"$f":"IF(ISBLANK(#REF!),\"\",$F$11*#REF!+$G$11)","v":{"$error":"#REF!"}},{"$f":"IF(ISBLANK(I49538),\"\",$F$12*#REF!+$G$12)","v":{"$error":"#REF!"}}]
[null,null,null,null,null,null,null,null,{"$f":"IF(ISBLANK(#REF!),\"\",$F$11*#REF!+$G$11)","v":{"$error":"#REF!"}},{"$f":"IF(ISBLANK(I49539),\"\",$F$12*#REF!+$G$12)","v":{"$error":"#REF!"}}]
[null,null,null,null,null,null,null,null,{"$f":"IF(ISBLANK(#REF!),\"\",$F$11*#REF!+$G$11)","v":{"$error":"#REF!"}},{"$f":"IF(ISBLANK(I49540),\"\",$F$12*#REF!+$G$12)","v":{"$error":"#REF!"}}]
[null,null,null,null,null,null,null,null,{"$f":"IF(ISBLANK(#REF!),\"\",$F$11*#REF!+$G$11)","v":{"$error":"#REF!"}},{"$f":"IF(ISBLANK(I49541),\"\",$F$12*#REF!+$G$12)","v":{"$error":"#REF!"}}]
[null,null,null,null,null,null,null,null,{"$f":"IF(ISBLANK(#REF!),\"\",$F$11*#REF!+$G$11)","v":{"$error":"#REF!"}},{"$f":"IF(ISBLANK(I49542),\"\",$F$12*#REF!+$G$12)","v":{"$error":"#REF!"}}]
[null,null,null,null,null,null,null,null,{"$f":"IF(ISBLANK(#REF!),\"\",$F$11*#REF!+$G$11)","v":{"$error":"#REF!"}},{"$f":"IF(ISBLANK(I49543),\"\",$F$12*#REF!+$G$12)","v":{"$error":"#REF!"}}]
[null,null,null,null,null,null,null,null,{"$f":"IF(ISBLANK(#REF!),\"\",$F$11*#REF!+$G$11)","v":{"$error":"#REF!"}},{"$f":"IF(ISBLANK(I49544),\"\",$F$12*#REF!+$G$12)","v":{"$error":"#REF!"}}]
[null,null,null,null,null,null,null,null,{"$f":"IF(ISBLANK(#REF!),\"\",$F$11*#REF!+$G$11)","v":{"$error":"#REF!"}},{"$f":"IF(ISBLANK(I49545),\"\",$F$12*#REF!+$G$12)","v":{"$error":"#REF!"}}]
[null,null,null,null,null,null,null,null,{"$f":"IF(ISBLANK(#REF!),\"\",$F$11*#REF!+$G$11)","v":{"$error":"#REF!"}},{"$f":"IF(ISBLANK(I49546),\"\",$F$12*#REF!+$G$12)","v":{"$error":"#REF!"}}]
[null,null,null,null,null,null,null,null,{"$f":"IF(ISBLANK(#REF!),\"\",$F$11*#REF!+$G$11)","v":{"$error":"#REF!"}},{"$f":"IF(ISBLANK(I49547),\"\",$F$12*#REF!+$G$12)","v":{"$error":"#REF!"}}]
[null,null,null,null,null,null,null,null,{"$f":"IF(ISBLANK(#REF!),\"\",$F$11*#REF!+$G$11)","v":{"$error":"#REF!"}},{"$f":"IF(ISBLANK(I49548),\"\",$F$12*#REF!+$G$12)","v":{"$error":"#REF!"}}]
[null,null,null,null,null,null,null,null,{"$f":"IF(ISBLANK(#REF!),\"\",$F$11*#REF!+$G$11)","v":{"$error":"#REF!"}},{"$f":"IF(ISBLANK(I49549),\"\",$F$12*#REF!+$G$12)","v":{"$error":"#REF!"}}]
[null,null,null,null,null,null,null,null,{"$f":"IF(ISBLANK(#REF!),\"\",$F$11*#REF!+$G$11)","v":{"$error":"#REF!"}},{"$f":"IF(ISBLANK(I49550),\"\",$F$12*#REF!+$G$12)","v":{"$error":"#REF!"}}]
[null,null,null,null,null,null,null,null,{"$f":"IF(ISBLANK(#REF!),\"\",$F$11*#REF!+$G$11)","v":{"$error":"#REF!"}},{"$f":"IF(ISBLANK(I49551),\"\",$F$12*#REF!+$G$12)","v":{"$error":"#REF!"}}]
[null,null,null,null,null,null,null,null,{"$f":"IF(ISBLANK(#REF!),\"\",$F$11*#REF!+$G$11)","v":{"$error":"#REF!"}},{"$f":"IF(ISBLANK(I49552),\"\",$F$12*#REF!+$G$12)","v":{"$error":"#REF!"}}]
[null,null,null,null,null,null,null,null,{"$f":"IF(ISBLANK(#REF!),\"\",$F$11*#REF!+$G$11)","v":{"$error":"#REF!"}},{"$f":"IF(ISBLANK(I49553),\"\",$F$12*#REF!+$G$12)","v":{"$error":"#REF!"}}]
[null,null,null,null,null,null,null,null,{"$f":"IF(ISBLANK(#REF!),\"\",$F$11*#REF!+$G$11)","v":{"$error":"#REF!"}},{"$f":"IF(ISBLANK(I49554),\"\",$F$12*#REF!+$G$12)","v":{"$error":"#REF!"}}]
[null,null,null,null,null,null,null,null,{"$f":"IF(ISBLANK(#REF!),\"\",$F$11*#REF!+$G$11)","v":{"$error":"#REF!"}},{"$f":"IF(ISBLANK(I49555),\"\",$F$12*#REF!+$G$12)","v":{"$error":"#REF!"}}]
[null,null,null,null,null,null,null,null,{"$f":"IF(ISBLANK(#REF!),\"\",$F$11*#REF!+$G$11)","v":{"$error":"#REF!"}},{"$f":"IF(ISBLANK(I49556),\"\",$F$12*#REF!+$G$12)","v":{"$error":"#REF!"}}]
[null,null,null,null,null,null,null,null,{"$f":"IF(ISBLANK(#REF!),\"\",$F$11*#REF!+$G$11)","v":{"$error":"#REF!"}},{"$f":"IF(ISBLANK(I49557),\"\",$F$12*#REF!+$G$12)","v":{"$error":"#REF!"}}]
[null,null,null,null,null,null,null,null,{"$f":"IF(ISBLANK(#REF!),\"\",$F$11*#REF!+$G$11)","v":{"$error":"#REF!"}},{"$f":"IF(ISBLANK(I49558),\"\",$F$12*#REF!+$G$12)","v":{"$error":"#REF!"}}]
[null,null,null,null,null,null,null,null,{"$f":"IF(ISBLANK(#REF!),\"\",$F$11*#REF!+$G$11)","v":{"$error":"#REF!"}},{"$f":"IF(ISBLANK(I49559),\"\",$F$12*#REF!+$G$12)","v":{"$error":"#REF!"}}]
[null,null,null,null,null,null,null,null,{"$f":"IF(ISBLANK(#REF!),\"\",$F$11*#REF!+$G$11)","v":{"$error":"#REF!"}},{"$f":"IF(ISBLANK(I49560),\"\",$F$12*#REF!+$G$12)","v":{"$error":"#REF!"}}]
[null,null,null,null,null,null,null,null,{"$f":"IF(ISBLANK(#REF!),\"\",$F$11*#REF!+$G$11)","v":{"$error":"#REF!"}},{"$f":"IF(ISBLANK(I49561),\"\",$F$12*#REF!+$G$12)","v":{"$error":"#REF!"}}]
[null,null,null,null,null,null,null,null,{"$f":"IF(ISBLANK(#REF!),\"\",$F$11*#REF!+$G$11)","v":{"$error":"#REF!"}},{"$f":"IF(ISBLANK(I49562),\"\",$F$12*#REF!+$G$12)","v":{"$error":"#REF!"}}]
[null,null,null,null,null,null,null,null,{"$f":"IF(ISBLANK(#REF!),\"\",$F$11*#REF!+$G$11)","v":{"$error":"#REF!"}},{"$f":"IF(ISBLANK(I49563),\"\",$F$12*#REF!+$G$12)","v":{"$error":"#REF!"}}]
[null,null,null,null,null,null,null,null,{"$f":"IF(ISBLANK(#REF!),\"\",$F$11*#REF!+$G$11)","v":{"$error":"#REF!"}},{"$f":"IF(ISBLANK(I49564),\"\",$F$12*#REF!+$G$12)","v":{"$error":"#REF!"}}]
[null,null,null,null,null,null,null,null,{"$f":"IF(ISBLANK(#REF!),\"\",$F$11*#REF!+$G$11)","v":{"$error":"#REF!"}},{"$f":"IF(ISBLANK(I49565),\"\",$F$12*#REF!+$G$12)","v":{"$error":"#REF!"}}]
[null,null,null,null,null,null,null,null,{"$f":"IF(ISBLANK(#REF!),\"\",$F$11*#REF!+$G$11)","v":{"$error":"#REF!"}},{"$f":"IF(ISBLANK(I49566),\"\",$F$12*#REF!+$G$12)","v":{"$error":"#REF!"}}]
[null,null,null,null,null,null,null,null,{"$f":"IF(ISBLANK(#REF!),\"\",$F$11*#REF!+$G$11)","v":{"$error":"#REF!"}},{"$f":"IF(ISBLANK(I49567),\"\",$F$12*#REF!+$G$12)","v":{"$error":"#REF!"}}]
[null,null,null,null,null,null,null,null,{"$f":"IF(ISBLANK(#REF!),\"\",$F$11*#REF!+$G$11)","v":{"$error":"#REF!"}},{"$f":"IF(ISBLANK(I49568),\"\",$F$12*#REF!+$G$12)","v":{"$error":"#REF!"}}]
[null,null,null,null,null,null,null,null,{"$f":"IF(ISBLANK(#REF!),\"\",$F$11*#REF!+$G$11)","v":{"$error":"#REF!"}},{"$f":"IF(ISBLANK(I49569),\"\",$F$12*#REF!+$G$12)","v":{"$error":"#REF!"}}]
[null,null,null,null,null,null,null,null,{"$f":"IF(ISBLANK(#REF!),\"\",$F$11*#REF!+$G$11)","v":{"$error":"#REF!"}},{"$f":"IF(ISBLANK(I49570),\"\",$F$12*#REF!+$G$12)","v":{"$error":"#REF!"}}]
[null,null,null,null,null,null,null,null,{"$f":"IF(ISBLANK(#REF!),\"\",$F$11*#REF!+$G$11)","v":{"$error":"#REF!"}},{"$f":"IF(ISBLANK(I49571),\"\",$F$12*#REF!+$G$12)","v":{"$error":"#REF!"}}]
[null,null,null,null,null,null,null,null,{"$f":"IF(ISBLANK(#REF!),\"\",$F$11*#REF!+$G$11)","v":{"$error":"#REF!"}},{"$f":"IF(ISBLANK(I49572),\"\",$F$12*#REF!+$G$12)","v":{"$error":"#REF!"}}]
[null,null,null,null,null,null,null,null,{"$f":"IF(ISBLANK(#REF!),\"\",$F$11*#REF!+$G$11)","v":{"$error":"#REF!"}},{"$f":"IF(ISBLANK(I49573),\"\",$F$12*#REF!+$G$12)","v":{"$error":"#REF!"}}]
[null,null,null,null,null,null,null,null,{"$f":"IF(ISBLANK(#REF!),\"\",$F$11*#REF!+$G$11)","v":{"$error":"#REF!"}},{"$f":"IF(ISBLANK(I49574),\"\",$F$12*#REF!+$G$12)","v":{"$error":"#REF!"}}]
[null,null,null,null,null,null,null,null,{"$f":"IF(ISBLANK(#REF!),\"\",$F$11*#REF!+$G$11)","v":{"$error":"#REF!"}},{"$f":"IF(ISBLANK(I49575),\"\",$F$12*#REF!+$G$12)","v":{"$error":"#REF!"}}]
[null,null,null,null,null,null,null,null,{"$f":"IF(ISBLANK(#REF!),\"\",$F$11*#REF!+$G$11)","v":{"$error":"#REF!"}},{"$f":"IF(ISBLANK(I49576),\"\",$F$12*#REF!+$G$12)","v":{"$error":"#REF!"}}]
[null,null,null,null,null,null,null,null,{"$f":"IF(ISBLANK(#REF!),\"\",$F$11*#REF!+$G$11)","v":{"$error":"#REF!"}},{"$f":"IF(ISBLANK(I49577),\"\",$F$12*#REF!+$G$12)","v":{"$error":"#REF!"}}]
[null,null,null,null,null,null,null,null,{"$f":"IF(ISBLANK(#REF!),\"\",$F$11*#REF!+$G$11)","v":{"$error":"#REF!"}},{"$f":"IF(ISBLANK(I49578),\"\",$F$12*#REF!+$G$12)","v":{"$error":"#REF!"}}]
[null,null,null,null,null,null,null,null,{"$f":"IF(ISBLANK(#REF!),\"\",$F$11*#REF!+$G$11)","v":{"$error":"#REF!"}},{"$f":"IF(ISBLANK(I49579),\"\",$F$12*#REF!+$G$12)","v":{"$error":"#REF!"}}]
[null,null,null,null,null,null,null,null,{"$f":"IF(ISBLANK(#REF!),\"\",$F$11*#REF!+$G$11)","v":{"$error":"#REF!"}},{"$f":"IF(ISBLANK(I49580),\"\",$F$12*#REF!+$G$12)","v":{"$error":"#REF!"}}]
[null,null,null,null,null,null,null,null,{"$f":"IF(ISBLANK(#REF!),\"\",$F$11*#REF!+$G$11)","v":{"$error":"#REF!"}},{"$f":"IF(ISBLANK(I49581),\"\",$F$12*#REF!+$G$12)","v":{"$error":"#REF!"}}]
[null,null,null,null,null,null,null,null,{"$f":"IF(ISBLANK(#REF!),\"\",$F$11*#REF!+$G$11)","v":{"$error":"#REF!"}},{"$f":"IF(ISBLANK(I49582),\"\",$F$12*#REF!+$G$12)","v":{"$error":"#REF!"}}]
[null,null,null,null,null,null,null,null,{"$f":"IF(ISBLANK(#REF!),\"\",$F$11*#REF!+$G$11)","v":{"$error":"#REF!"}},{"$f":"IF(ISBLANK(I49583),\"\",$F$12*#REF!+$G$12)","v":{"$error":"#REF!"}}]
[null,null,null,null,null,null,null,null,{"$f":"IF(ISBLANK(#REF!),\"\",$F$11*#REF!+$G$11)","v":{"$error":"#REF!"}},{"$f":"IF(ISBLANK(I49584),\"\",$F$12*#REF!+$G$12)","v":{"$error":"#REF!"}}]
[null,null,null,null,null,null,null,null,{"$f":"IF(ISBLANK(#REF!),\"\",$F$11*#REF!+$G$11)","v":{"$error":"#REF!"}},{"$f":"IF(ISBLANK(I49585),\"\",$F$12*#REF!+$G$12)","v":{"$error":"#REF!"}}]
[null,null,null,null,null,null,null,null,{"$f":"IF(ISBLANK(#REF!),\"\",$F$11*#REF!+$G$11)","v":{"$error":"#REF!"}},{"$f":"IF(ISBLANK(I49586),\"\",$F$12*#REF!+$G$12)","v":{"$error":"#REF!"}}]
[null,null,null,null,null,null,null,null,{"$f":"IF(ISBLANK(#REF!),\"\",$F$11*#REF!+$G$11)","v":{"$error":"#REF!"}},{"$f":"IF(ISBLANK(I49587),\"\",$F$12*#REF!+$G$12)","v":{"$error":"#REF!"}}]
[null,null,null,null,null,null,null,null,{"$f":"IF(ISBLANK(#REF!),\"\",$F$11*#REF!+$G$11)","v":{"$error":"#REF!"}},{"$f":"IF(ISBLANK(I49588),\"\",$F$12*#REF!+$G$12)","v":{"$error":"#REF!"}}]
[null,null,null,null,null,null,null,null,{"$f":"IF(ISBLANK(#REF!),\"\",$F$11*#REF!+$G$11)","v":{"$error":"#REF!"}},{"$f":"IF(ISBLANK(I49589),\"\",$F$12*#REF!+$G$12)","v":{"$error":"#REF!"}}]
[null,null,null,null,null,null,null,null,{"$f":"IF(ISBLANK(#REF!),\"\",$F$11*#REF!+$G$11)","v":{"$error":"#REF!"}},{"$f":"IF(ISBLANK(I49590),\"\",$F$12*#REF!+$G$12)","v":{"$error":"#REF!"}}]
[null,null,null,null,null,null,null,null,{"$f":"IF(ISBLANK(#REF!),\"\",$F$11*#REF!+$G$11)","v":{"$error":"#REF!"}},{"$f":"IF(ISBLANK(I49591),\"\",$F$12*#REF!+$G$12)","v":{"$error":"#REF!"}}]
[null,null,null,null,null,null,null,null,{"$f":"IF(ISBLANK(#REF!),\"\",$F$11*#REF!+$G$11)","v":{"$error":"#REF!"}},{"$f":"IF(ISBLANK(I49592),\"\",$F$12*#REF!+$G$12)","v":{"$error":"#REF!"}}]
[null,null,null,null,null,null,null,null,{"$f":"IF(ISBLANK(#REF!),\"\",$F$11*#REF!+$G$11)","v":{"$error":"#REF!"}},{"$f":"IF(ISBLANK(I49593),\"\",$F$12*#REF!+$G$12)","v":{"$error":"#REF!"}}]
[null,null,null,null,null,null,null,null,{"$f":"IF(ISBLANK(#REF!),\"\",$F$11*#REF!+$G$11)","v":{"$error":"#REF!"}},{"$f":"IF(ISBLANK(I49594),\"\",$F$12*#REF!+$G$12)","v":{"$error":"#REF!"}}]
[null,null,null,null,null,null,null,null,{"$f":"IF(ISBLANK(#REF!),\"\",$F$11*#REF!+$G$11)","v":{"$error":"#REF!"}},{"$f":"IF(ISBLANK(I49595),\"\",$F$12*#REF!+$G$12)","v":{"$error":"#REF!"}}]
[null,null,null,null,null,null,null,null,{"$f":"IF(ISBLANK(#REF!),\"\",$F$11*#REF!+$G$11)","v":{"$error":"#REF!"}},{"$f":"IF(ISBLANK(I49596),\"\",$F$12*#REF!+$G$12)","v":{"$error":"#REF!"}}]
[null,null,null,null,null,null,null,null,{"$f":"IF(ISBLANK(#REF!),\"\",$F$11*#REF!+$G$11)","v":{"$error":"#REF!"}},{"$f":"IF(ISBLANK(I49597),\"\",$F$12*#REF!+$G$12)","v":{"$error":"#REF!"}}]
[null,null,null,null,null,null,null,null,{"$f":"IF(ISBLANK(#REF!),\"\",$F$11*#REF!+$G$11)","v":{"$error":"#REF!"}},{"$f":"IF(ISBLANK(I49598),\"\",$F$12*#REF!+$G$12)","v":{"$error":"#REF!"}}]
[null,null,null,null,null,null,null,null,{"$f":"IF(ISBLANK(#REF!),\"\",$F$11*#REF!+$G$11)","v":{"$error":"#REF!"}},{"$f":"IF(ISBLANK(I49599),\"\",$F$12*#REF!+$G$12)","v":{"$error":"#REF!"}}]
[null,null,null,null,null,null,null,null,{"$f":"IF(ISBLANK(#REF!),\"\",$F$11*#REF!+$G$11)","v":{"$error":"#REF!"}},{"$f":"IF(ISBLANK(I49600),\"\",$F$12*#REF!+$G$12)","v":{"$error":"#REF!"}}]
[null,null,null,null,null,null,null,null,{"$f":"IF(ISBLANK(#REF!),\"\",$F$11*#REF!+$G$11)","v":{"$error":"#REF!"}},{"$f":"IF(ISBLANK(I49601),\"\",$F$12*#REF!+$G$12)","v":{"$error":"#REF!"}}]
[null,null,null,null,null,null,null,null,{"$f":"IF(ISBLANK(#REF!),\"\",$F$11*#REF!+$G$11)","v":{"$error":"#REF!"}},{"$f":"IF(ISBLANK(I49602),\"\",$F$12*#REF!+$G$12)","v":{"$error":"#REF!"}}]
[null,null,null,null,null,null,null,null,{"$f":"IF(ISBLANK(#REF!),\"\",$F$11*#REF!+$G$11)","v":{"$error":"#REF!"}},{"$f":"IF(ISBLANK(I49603),\"\",$F$12*#REF!+$G$12)","v":{"$error":"#REF!"}}]
[null,null,null,null,null,null,null,null,{"$f":"IF(ISBLANK(#REF!),\"\",$F$11*#REF!+$G$11)","v":{"$error":"#REF!"}},{"$f":"IF(ISBLANK(I49604),\"\",$F$12*#REF!+$G$12)","v":{"$error":"#REF!"}}]
[null,null,null,null,null,null,null,null,{"$f":"IF(ISBLANK(#REF!),\"\",$F$11*#REF!+$G$11)","v":{"$error":"#REF!"}},{"$f":"IF(ISBLANK(I49605),\"\",$F$12*#REF!+$G$12)","v":{"$error":"#REF!"}}]
[null,null,null,null,null,null,null,null,{"$f":"IF(ISBLANK(#REF!),\"\",$F$11*#REF!+$G$11)","v":{"$error":"#REF!"}},{"$f":"IF(ISBLANK(I49606),\"\",$F$12*#REF!+$G$12)","v":{"$error":"#REF!"}}]
[null,null,null,null,null,null,null,null,{"$f":"IF(ISBLANK(#REF!),\"\",$F$11*#REF!+$G$11)","v":{"$error":"#REF!"}},{"$f":"IF(ISBLANK(I49607),\"\",$F$12*#REF!+$G$12)","v":{"$error":"#REF!"}}]
[null,null,null,null,null,null,null,null,{"$f":"IF(ISBLANK(#REF!),\"\",$F$11*#REF!+$G$11)","v":{"$error":"#REF!"}},{"$f":"IF(ISBLANK(I49608),\"\",$F$12*#REF!+$G$12)","v":{"$error":"#REF!"}}]
[null,null,null,null,null,null,null,null,{"$f":"IF(ISBLANK(#REF!),\"\",$F$11*#REF!+$G$11)","v":{"$error":"#REF!"}},{"$f":"IF(ISBLANK(I49609),\"\",$F$12*#REF!+$G$12)","v":{"$error":"#REF!"}}]
[null,null,null,null,null,null,null,null,{"$f":"IF(ISBLANK(#REF!),\"\",$F$11*#REF!+$G$11)","v":{"$error":"#REF!"}},{"$f":"IF(ISBLANK(I49610),\"\",$F$12*#REF!+$G$12)","v":{"$error":"#REF!"}}]
[null,null,null,null,null,null,null,null,{"$f":"IF(ISBLANK(#REF!),\"\",$F$11*#REF!+$G$11)","v":{"$error":"#REF!"}},{"$f":"IF(ISBLANK(I49611),\"\",$F$12*#REF!+$G$12)","v":{"$error":"#REF!"}}]
[null,null,null,null,null,null,null,null,{"$f":"IF(ISBLANK(#REF!),\"\",$F$11*#REF!+$G$11)","v":{"$error":"#REF!"}},{"$f":"IF(ISBLANK(I49612),\"\",$F$12*#REF!+$G$12)","v":{"$error":"#REF!"}}]
[null,null,null,null,null,null,null,null,{"$f":"IF(ISBLANK(#REF!),\"\",$F$11*#REF!+$G$11)","v":{"$error":"#REF!"}},{"$f":"IF(ISBLANK(I49613),\"\",$F$12*#REF!+$G$12)","v":{"$error":"#REF!"}}]
[null,null,null,null,null,null,null,null,{"$f":"IF(ISBLANK(#REF!),\"\",$F$11*#REF!+$G$11)","v":{"$error":"#REF!"}},{"$f":"IF(ISBLANK(I49614),\"\",$F$12*#REF!+$G$12)","v":{"$error":"#REF!"}}]
[null,null,null,null,null,null,null,null,{"$f":"IF(ISBLANK(#REF!),\"\",$F$11*#REF!+$G$11)","v":{"$error":"#REF!"}},{"$f":"IF(ISBLANK(I49615),\"\",$F$12*#REF!+$G$12)","v":{"$error":"#REF!"}}]
[null,null,null,null,null,null,null,null,{"$f":"IF(ISBLANK(#REF!),\"\",$F$11*#REF!+$G$11)","v":{"$error":"#REF!"}},{"$f":"IF(ISBLANK(I49616),\"\",$F$12*#REF!+$G$12)","v":{"$error":"#REF!"}}]
[null,null,null,null,null,null,null,null,{"$f":"IF(ISBLANK(#REF!),\"\",$F$11*#REF!+$G$11)","v":{"$error":"#REF!"}},{"$f":"IF(ISBLANK(I49617),\"\",$F$12*#REF!+$G$12)","v":{"$error":"#REF!"}}]
[null,null,null,null,null,null,null,null,{"$f":"IF(ISBLANK(#REF!),\"\",$F$11*#REF!+$G$11)","v":{"$error":"#REF!"}},{"$f":"IF(ISBLANK(I49618),\"\",$F$12*#REF!+$G$12)","v":{"$error":"#REF!"}}]
[null,null,null,null,null,null,null,null,{"$f":"IF(ISBLANK(#REF!),\"\",$F$11*#REF!+$G$11)","v":{"$error":"#REF!"}},{"$f":"IF(ISBLANK(I49619),\"\",$F$12*#REF!+$G$12)","v":{"$error":"#REF!"}}]
[null,null,null,null,null,null,null,null,{"$f":"IF(ISBLANK(#REF!),\"\",$F$11*#REF!+$G$11)","v":{"$error":"#REF!"}},{"$f":"IF(ISBLANK(I49620),\"\",$F$12*#REF!+$G$12)","v":{"$error":"#REF!"}}]
[null,null,null,null,null,null,null,null,{"$f":"IF(ISBLANK(#REF!),\"\",$F$11*#REF!+$G$11)","v":{"$error":"#REF!"}},{"$f":"IF(ISBLANK(I49621),\"\",$F$12*#REF!+$G$12)","v":{"$error":"#REF!"}}]
[null,null,null,null,null,null,null,null,{"$f":"IF(ISBLANK(#REF!),\"\",$F$11*#REF!+$G$11)","v":{"$error":"#REF!"}},{"$f":"IF(ISBLANK(I49622),\"\",$F$12*#REF!+$G$12)","v":{"$error":"#REF!"}}]
[null,null,null,null,null,null,null,null,{"$f":"IF(ISBLANK(#REF!),\"\",$F$11*#REF!+$G$11)","v":{"$error":"#REF!"}},{"$f":"IF(ISBLANK(I49623),\"\",$F$12*#REF!+$G$12)","v":{"$error":"#REF!"}}]
[null,null,null,null,null,null,null,null,{"$f":"IF(ISBLANK(#REF!),\"\",$F$11*#REF!+$G$11)","v":{"$error":"#REF!"}},{"$f":"IF(ISBLANK(I49624),\"\",$F$12*#REF!+$G$12)","v":{"$error":"#REF!"}}]
[null,null,null,null,null,null,null,null,{"$f":"IF(ISBLANK(#REF!),\"\",$F$11*#REF!+$G$11)","v":{"$error":"#REF!"}},{"$f":"IF(ISBLANK(I49625),\"\",$F$12*#REF!+$G$12)","v":{"$error":"#REF!"}}]
[null,null,null,null,null,null,null,null,{"$f":"IF(ISBLANK(#REF!),\"\",$F$11*#REF!+$G$11)","v":{"$error":"#REF!"}},{"$f":"IF(ISBLANK(I49626),\"\",$F$12*#REF!+$G$12)","v":{"$error":"#REF!"}}]
[null,null,null,null,null,null,null,null,{"$f":"IF(ISBLANK(#REF!),\"\",$F$11*#REF!+$G$11)","v":{"$error":"#REF!"}},{"$f":"IF(ISBLANK(I49627),\"\",$F$12*#REF!+$G$12)","v":{"$error":"#REF!"}}]
[null,null,null,null,null,null,null,null,{"$f":"IF(ISBLANK(#REF!),\"\",$F$11*#REF!+$G$11)","v":{"$error":"#REF!"}},{"$f":"IF(ISBLANK(I49628),\"\",$F$12*#REF!+$G$12)","v":{"$error":"#REF!"}}]
[null,null,null,null,null,null,null,null,{"$f":"IF(ISBLANK(#REF!),\"\",$F$11*#REF!+$G$11)","v":{"$error":"#REF!"}},{"$f":"IF(ISBLANK(I49629),\"\",$F$12*#REF!+$G$12)","v":{"$error":"#REF!"}}]
[null,null,null,null,null,null,null,null,{"$f":"IF(ISBLANK(#REF!),\"\",$F$11*#REF!+$G$11)","v":{"$error":"#REF!"}},{"$f":"IF(ISBLANK(I49630),\"\",$F$12*#REF!+$G$12)","v":{"$error":"#REF!"}}]
[null,null,null,null,null,null,null,null,{"$f":"IF(ISBLANK(#REF!),\"\",$F$11*#REF!+$G$11)","v":{"$error":"#REF!"}},{"$f":"IF(ISBLANK(I49631),\"\",$F$12*#REF!+$G$12)","v":{"$error":"#REF!"}}]
[null,null,null,null,null,null,null,null,{"$f":"IF(ISBLANK(#REF!),\"\",$F$11*#REF!+$G$11)","v":{"$error":"#REF!"}},{"$f":"IF(ISBLANK(I49632),\"\",$F$12*#REF!+$G$12)","v":{"$error":"#REF!"}}]
[null,null,null,null,null,null,null,null,{"$f":"IF(ISBLANK(#REF!),\"\",$F$11*#REF!+$G$11)","v":{"$error":"#REF!"}},{"$f":"IF(ISBLANK(I49633),\"\",$F$12*#REF!+$G$12)","v":{"$error":"#REF!"}}]
[null,null,null,null,null,null,null,null,{"$f":"IF(ISBLANK(#REF!),\"\",$F$11*#REF!+$G$11)","v":{"$error":"#REF!"}},{"$f":"IF(ISBLANK(I49634),\"\",$F$12*#REF!+$G$12)","v":{"$error":"#REF!"}}]
[null,null,null,null,null,null,null,null,{"$f":"IF(ISBLANK(#REF!),\"\",$F$11*#REF!+$G$11)","v":{"$error":"#REF!"}},{"$f":"IF(ISBLANK(I49635),\"\",$F$12*#REF!+$G$12)","v":{"$error":"#REF!"}}]
[null,null,null,null,null,null,null,null,{"$f":"IF(ISBLANK(#REF!),\"\",$F$11*#REF!+$G$11)","v":{"$error":"#REF!"}},{"$f":"IF(ISBLANK(I49636),\"\",$F$12*#REF!+$G$12)","v":{"$error":"#REF!"}}]
[null,null,null,null,null,null,null,null,{"$f":"IF(ISBLANK(#REF!),\"\",$F$11*#REF!+$G$11)","v":{"$error":"#REF!"}},{"$f":"IF(ISBLANK(I49637),\"\",$F$12*#REF!+$G$12)","v":{"$error":"#REF!"}}]
[null,null,null,null,null,null,null,null,{"$f":"IF(ISBLANK(#REF!),\"\",$F$11*#REF!+$G$11)","v":{"$error":"#REF!"}},{"$f":"IF(ISBLANK(I49638),\"\",$F$12*#REF!+$G$12)","v":{"$error":"#REF!"}}]
[null,null,null,null,null,null,null,null,{"$f":"IF(ISBLANK(#REF!),\"\",$F$11*#REF!+$G$11)","v":{"$error":"#REF!"}},{"$f":"IF(ISBLANK(I49639),\"\",$F$12*#REF!+$G$12)","v":{"$error":"#REF!"}}]
[null,null,null,null,null,null,null,null,{"$f":"IF(ISBLANK(#REF!),\"\",$F$11*#REF!+$G$11)","v":{"$error":"#REF!"}},{"$f":"IF(ISBLANK(I49640),\"\",$F$12*#REF!+$G$12)","v":{"$error":"#REF!"}}]
[null,null,null,null,null,null,null,null,{"$f":"IF(ISBLANK(#REF!),\"\",$F$11*#REF!+$G$11)","v":{"$error":"#REF!"}},{"$f":"IF(ISBLANK(I49641),\"\",$F$12*#REF!+$G$12)","v":{"$error":"#REF!"}}]
[null,null,null,null,null,null,null,null,{"$f":"IF(ISBLANK(#REF!),\"\",$F$11*#REF!+$G$11)","v":{"$error":"#REF!"}},{"$f":"IF(ISBLANK(I49642),\"\",$F$12*#REF!+$G$12)","v":{"$error":"#REF!"}}]
[null,null,null,null,null,null,null,null,{"$f":"IF(ISBLANK(#REF!),\"\",$F$11*#REF!+$G$11)","v":{"$error":"#REF!"}},{"$f":"IF(ISBLANK(I49643),\"\",$F$12*#REF!+$G$12)","v":{"$error":"#REF!"}}]
[null,null,null,null,null,null,null,null,{"$f":"IF(ISBLANK(#REF!),\"\",$F$11*#REF!+$G$11)","v":{"$error":"#REF!"}},{"$f":"IF(ISBLANK(I49644),\"\",$F$12*#REF!+$G$12)","v":{"$error":"#REF!"}}]
[null,null,null,null,null,null,null,null,{"$f":"IF(ISBLANK(#REF!),\"\",$F$11*#REF!+$G$11)","v":{"$error":"#REF!"}},{"$f":"IF(ISBLANK(I49645),\"\",$F$12*#REF!+$G$12)","v":{"$error":"#REF!"}}]
[null,null,null,null,null,null,null,null,{"$f":"IF(ISBLANK(#REF!),\"\",$F$11*#REF!+$G$11)","v":{"$error":"#REF!"}},{"$f":"IF(ISBLANK(I49646),\"\",$F$12*#REF!+$G$12)","v":{"$error":"#REF!"}}]
[null,null,null,null,null,null,null,null,{"$f":"IF(ISBLANK(#REF!),\"\",$F$11*#REF!+$G$11)","v":{"$error":"#REF!"}},{"$f":"IF(ISBLANK(I49647),\"\",$F$12*#REF!+$G$12)","v":{"$error":"#REF!"}}]
[null,null,null,null,null,null,null,null,{"$f":"IF(ISBLANK(#REF!),\"\",$F$11*#REF!+$G$11)","v":{"$error":"#REF!"}},{"$f":"IF(ISBLANK(I49648),\"\",$F$12*#REF!+$G$12)","v":{"$error":"#REF!"}}]
[null,null,null,null,null,null,null,null,{"$f":"IF(ISBLANK(#REF!),\"\",$F$11*#REF!+$G$11)","v":{"$error":"#REF!"}},{"$f":"IF(ISBLANK(I49649),\"\",$F$12*#REF!+$G$12)","v":{"$error":"#REF!"}}]
[null,null,null,null,null,null,null,null,{"$f":"IF(ISBLANK(#REF!),\"\",$F$11*#REF!+$G$11)","v":{"$error":"#REF!"}},{"$f":"IF(ISBLANK(I49650),\"\",$F$12*#REF!+$G$12)","v":{"$error":"#REF!"}}]
[null,null,null,null,null,null,null,null,{"$f":"IF(ISBLANK(#REF!),\"\",$F$11*#REF!+$G$11)","v":{"$error":"#REF!"}},{"$f":"IF(ISBLANK(I49651),\"\",$F$12*#REF!+$G$12)","v":{"$error":"#REF!"}}]
[null,null,null,null,null,null,null,null,{"$f":"IF(ISBLANK(#REF!),\"\",$F$11*#REF!+$G$11)","v":{"$error":"#REF!"}},{"$f":"IF(ISBLANK(I49652),\"\",$F$12*#REF!+$G$12)","v":{"$error":"#REF!"}}]
[null,null,null,null,null,null,null,null,{"$f":"IF(ISBLANK(#REF!),\"\",$F$11*#REF!+$G$11)","v":{"$error":"#REF!"}},{"$f":"IF(ISBLANK(I49653),\"\",$F$12*#REF!+$G$12)","v":{"$error":"#REF!"}}]
[null,null,null,null,null,null,null,null,{"$f":"IF(ISBLANK(#REF!),\"\",$F$11*#REF!+$G$11)","v":{"$error":"#REF!"}},{"$f":"IF(ISBLANK(I49654),\"\",$F$12*#REF!+$G$12)","v":{"$error":"#REF!"}}]
[null,null,null,null,null,null,null,null,{"$f":"IF(ISBLANK(#REF!),\"\",$F$11*#REF!+$G$11)","v":{"$error":"#REF!"}},{"$f":"IF(ISBLANK(I49655),\"\",$F$12*#REF!+$G$12)","v":{"$error":"#REF!"}}]
[null,null,null,null,null,null,null,null,{"$f":"IF(ISBLANK(#REF!),\"\",$F$11*#REF!+$G$11)","v":{"$error":"#REF!"}},{"$f":"IF(ISBLANK(I49656),\"\",$F$12*#REF!+$G$12)","v":{"$error":"#REF!"}}]
[null,null,null,null,null,null,null,null,{"$f":"IF(ISBLANK(#REF!),\"\",$F$11*#REF!+$G$11)","v":{"$error":"#REF!"}},{"$f":"IF(ISBLANK(I49657),\"\",$F$12*#REF!+$G$12)","v":{"$error":"#REF!"}}]
[null,null,null,null,null,null,null,null,{"$f":"IF(ISBLANK(#REF!),\"\",$F$11*#REF!+$G$11)","v":{"$error":"#REF!"}},{"$f":"IF(ISBLANK(I49658),\"\",$F$12*#REF!+$G$12)","v":{"$error":"#REF!"}}]
[null,null,null,null,null,null,null,null,{"$f":"IF(ISBLANK(#REF!),\"\",$F$11*#REF!+$G$11)","v":{"$error":"#REF!"}},{"$f":"IF(ISBLANK(I49659),\"\",$F$12*#REF!+$G$12)","v":{"$error":"#REF!"}}]
[null,null,null,null,null,null,null,null,{"$f":"IF(ISBLANK(#REF!),\"\",$F$11*#REF!+$G$11)","v":{"$error":"#REF!"}},{"$f":"IF(ISBLANK(I49660),\"\",$F$12*#REF!+$G$12)","v":{"$error":"#REF!"}}]
[null,null,null,null,null,null,null,null,{"$f":"IF(ISBLANK(#REF!),\"\",$F$11*#REF!+$G$11)","v":{"$error":"#REF!"}},{"$f":"IF(ISBLANK(I49661),\"\",$F$12*#REF!+$G$12)","v":{"$error":"#REF!"}}]
[null,null,null,null,null,null,null,null,{"$f":"IF(ISBLANK(#REF!),\"\",$F$11*#REF!+$G$11)","v":{"$error":"#REF!"}},{"$f":"IF(ISBLANK(I49662),\"\",$F$12*#REF!+$G$12)","v":{"$error":"#REF!"}}]
[null,null,null,null,null,null,null,null,{"$f":"IF(ISBLANK(#REF!),\"\",$F$11*#REF!+$G$11)","v":{"$error":"#REF!"}},{"$f":"IF(ISBLANK(I49663),\"\",$F$12*#REF!+$G$12)","v":{"$error":"#REF!"}}]
[null,null,null,null,null,null,null,null,{"$f":"IF(ISBLANK(#REF!),\"\",$F$11*#REF!+$G$11)","v":{"$error":"#REF!"}},{"$f":"IF(ISBLANK(I49664),\"\",$F$12*#REF!+$G$12)","v":{"$error":"#REF!"}}]
[null,null,null,null,null,null,null,null,{"$f":"IF(ISBLANK(#REF!),\"\",$F$11*#REF!+$G$11)","v":{"$error":"#REF!"}},{"$f":"IF(ISBLANK(I49665),\"\",$F$12*#REF!+$G$12)","v":{"$error":"#REF!"}}]
[null,null,null,null,null,null,null,null,{"$f":"IF(ISBLANK(#REF!),\"\",$F$11*#REF!+$G$11)","v":{"$error":"#REF!"}},{"$f":"IF(ISBLANK(I49666),\"\",$F$12*#REF!+$G$12)","v":{"$error":"#REF!"}}]
[null,null,null,null,null,null,null,null,{"$f":"IF(ISBLANK(#REF!),\"\",$F$11*#REF!+$G$11)","v":{"$error":"#REF!"}},{"$f":"IF(ISBLANK(I49667),\"\",$F$12*#REF!+$G$12)","v":{"$error":"#REF!"}}]
[null,null,null,null,null,null,null,null,{"$f":"IF(ISBLANK(#REF!),\"\",$F$11*#REF!+$G$11)","v":{"$error":"#REF!"}},{"$f":"IF(ISBLANK(I49668),\"\",$F$12*#REF!+$G$12)","v":{"$error":"#REF!"}}]
[null,null,null,null,null,null,null,null,{"$f":"IF(ISBLANK(#REF!),\"\",$F$11*#REF!+$G$11)","v":{"$error":"#REF!"}},{"$f":"IF(ISBLANK(I49669),\"\",$F$12*#REF!+$G$12)","v":{"$error":"#REF!"}}]
[null,null,null,null,null,null,null,null,{"$f":"IF(ISBLANK(#REF!),\"\",$F$11*#REF!+$G$11)","v":{"$error":"#REF!"}},{"$f":"IF(ISBLANK(I49670),\"\",$F$12*#REF!+$G$12)","v":{"$error":"#REF!"}}]
[null,null,null,null,null,null,null,null,{"$f":"IF(ISBLANK(#REF!),\"\",$F$11*#REF!+$G$11)","v":{"$error":"#REF!"}},{"$f":"IF(ISBLANK(I49671),\"\",$F$12*#REF!+$G$12)","v":{"$error":"#REF!"}}]
[null,null,null,null,null,null,null,null,{"$f":"IF(ISBLANK(#REF!),\"\",$F$11*#REF!+$G$11)","v":{"$error":"#REF!"}},{"$f":"IF(ISBLANK(I49672),\"\",$F$12*#REF!+$G$12)","v":{"$error":"#REF!"}}]
[null,null,null,null,null,null,null,null,{"$f":"IF(ISBLANK(#REF!),\"\",$F$11*#REF!+$G$11)","v":{"$error":"#REF!"}},{"$f":"IF(ISBLANK(I49673),\"\",$F$12*#REF!+$G$12)","v":{"$error":"#REF!"}}]
[null,null,null,null,null,null,null,null,{"$f":"IF(ISBLANK(#REF!),\"\",$F$11*#REF!+$G$11)","v":{"$error":"#REF!"}},{"$f":"IF(ISBLANK(I49674),\"\",$F$12*#REF!+$G$12)","v":{"$error":"#REF!"}}]
[null,null,null,null,null,null,null,null,{"$f":"IF(ISBLANK(#REF!),\"\",$F$11*#REF!+$G$11)","v":{"$error":"#REF!"}},{"$f":"IF(ISBLANK(I49675),\"\",$F$12*#REF!+$G$12)","v":{"$error":"#REF!"}}]
[null,null,null,null,null,null,null,null,{"$f":"IF(ISBLANK(#REF!),\"\",$F$11*#REF!+$G$11)","v":{"$error":"#REF!"}},{"$f":"IF(ISBLANK(I49676),\"\",$F$12*#REF!+$G$12)","v":{"$error":"#REF!"}}]
[null,null,null,null,null,null,null,null,{"$f":"IF(ISBLANK(#REF!),\"\",$F$11*#REF!+$G$11)","v":{"$error":"#REF!"}},{"$f":"IF(ISBLANK(I49677),\"\",$F$12*#REF!+$G$12)","v":{"$error":"#REF!"}}]
[null,null,null,null,null,null,null,null,{"$f":"IF(ISBLANK(#REF!),\"\",$F$11*#REF!+$G$11)","v":{"$error":"#REF!"}},{"$f":"IF(ISBLANK(I49678),\"\",$F$12*#REF!+$G$12)","v":{"$error":"#REF!"}}]
[null,null,null,null,null,null,null,null,{"$f":"IF(ISBLANK(#REF!),\"\",$F$11*#REF!+$G$11)","v":{"$error":"#REF!"}},{"$f":"IF(ISBLANK(I49679),\"\",$F$12*#REF!+$G$12)","v":{"$error":"#REF!"}}]
[null,null,null,null,null,null,null,null,{"$f":"IF(ISBLANK(#REF!),\"\",$F$11*#REF!+$G$11)","v":{"$error":"#REF!"}},{"$f":"IF(ISBLANK(I49680),\"\",$F$12*#REF!+$G$12)","v":{"$error":"#REF!"}}]
[null,null,null,null,null,null,null,null,{"$f":"IF(ISBLANK(#REF!),\"\",$F$11*#REF!+$G$11)","v":{"$error":"#REF!"}},{"$f":"IF(ISBLANK(I49681),\"\",$F$12*#REF!+$G$12)","v":{"$error":"#REF!"}}]
[null,null,null,null,null,null,null,null,{"$f":"IF(ISBLANK(#REF!),\"\",$F$11*#REF!+$G$11)","v":{"$error":"#REF!"}},{"$f":"IF(ISBLANK(I49682),\"\",$F$12*#REF!+$G$12)","v":{"$error":"#REF!"}}]
[null,null,null,null,null,null,null,null,{"$f":"IF(ISBLANK(#REF!),\"\",$F$11*#REF!+$G$11)","v":{"$error":"#REF!"}},{"$f":"IF(ISBLANK(I49683),\"\",$F$12*#REF!+$G$12)","v":{"$error":"#REF!"}}]
[null,null,null,null,null,null,null,null,{"$f":"IF(ISBLANK(#REF!),\"\",$F$11*#REF!+$G$11)","v":{"$error":"#REF!"}},{"$f":"IF(ISBLANK(I49684),\"\",$F$12*#REF!+$G$12)","v":{"$error":"#REF!"}}]
[null,null,null,null,null,null,null,null,{"$f":"IF(ISBLANK(#REF!),\"\",$F$11*#REF!+$G$11)","v":{"$error":"#REF!"}},{"$f":"IF(ISBLANK(I49685),\"\",$F$12*#REF!+$G$12)","v":{"$error":"#REF!"}}]
[null,null,null,null,null,null,null,null,{"$f":"IF(ISBLANK(#REF!),\"\",$F$11*#REF!+$G$11)","v":{"$error":"#REF!"}},{"$f":"IF(ISBLANK(I49686),\"\",$F$12*#REF!+$G$12)","v":{"$error":"#REF!"}}]
[null,null,null,null,null,null,null,null,{"$f":"IF(ISBLANK(#REF!),\"\",$F$11*#REF!+$G$11)","v":{"$error":"#REF!"}},{"$f":"IF(ISBLANK(I49687),\"\",$F$12*#REF!+$G$12)","v":{"$error":"#REF!"}}]
[null,null,null,null,null,null,null,null,{"$f":"IF(ISBLANK(#REF!),\"\",$F$11*#REF!+$G$11)","v":{"$error":"#REF!"}},{"$f":"IF(ISBLANK(I49688),\"\",$F$12*#REF!+$G$12)","v":{"$error":"#REF!"}}]
[null,null,null,null,null,null,null,null,{"$f":"IF(ISBLANK(#REF!),\"\",$F$11*#REF!+$G$11)","v":{"$error":"#REF!"}},{"$f":"IF(ISBLANK(I49689),\"\",$F$12*#REF!+$G$12)","v":{"$error":"#REF!"}}]
[null,null,null,null,null,null,null,null,{"$f":"IF(ISBLANK(#REF!),\"\",$F$11*#REF!+$G$11)","v":{"$error":"#REF!"}},{"$f":"IF(ISBLANK(I49690),\"\",$F$12*#REF!+$G$12)","v":{"$error":"#REF!"}}]
[null,null,null,null,null,null,null,null,{"$f":"IF(ISBLANK(#REF!),\"\",$F$11*#REF!+$G$11)","v":{"$error":"#REF!"}},{"$f":"IF(ISBLANK(I49691),\"\",$F$12*#REF!+$G$12)","v":{"$error":"#REF!"}}]
[null,null,null,null,null,null,null,null,{"$f":"IF(ISBLANK(#REF!),\"\",$F$11*#REF!+$G$11)","v":{"$error":"#REF!"}},{"$f":"IF(ISBLANK(I49692),\"\",$F$12*#REF!+$G$12)","v":{"$error":"#REF!"}}]
[null,null,null,null,null,null,null,null,{"$f":"IF(ISBLANK(#REF!),\"\",$F$11*#REF!+$G$11)","v":{"$error":"#REF!"}},{"$f":"IF(ISBLANK(I49693),\"\",$F$12*#REF!+$G$12)","v":{"$error":"#REF!"}}]
[null,null,null,null,null,null,null,null,{"$f":"IF(ISBLANK(#REF!),\"\",$F$11*#REF!+$G$11)","v":{"$error":"#REF!"}},{"$f":"IF(ISBLANK(I49694),\"\",$F$12*#REF!+$G$12)","v":{"$error":"#REF!"}}]
[null,null,null,null,null,null,null,null,{"$f":"IF(ISBLANK(#REF!),\"\",$F$11*#REF!+$G$11)","v":{"$error":"#REF!"}},{"$f":"IF(ISBLANK(I49695),\"\",$F$12*#REF!+$G$12)","v":{"$error":"#REF!"}}]
[null,null,null,null,null,null,null,null,{"$f":"IF(ISBLANK(#REF!),\"\",$F$11*#REF!+$G$11)","v":{"$error":"#REF!"}},{"$f":"IF(ISBLANK(I49696),\"\",$F$12*#REF!+$G$12)","v":{"$error":"#REF!"}}]
[null,null,null,null,null,null,null,null,{"$f":"IF(ISBLANK(#REF!),\"\",$F$11*#REF!+$G$11)","v":{"$error":"#REF!"}},{"$f":"IF(ISBLANK(I49697),\"\",$F$12*#REF!+$G$12)","v":{"$error":"#REF!"}}]
[null,null,null,null,null,null,null,null,{"$f":"IF(ISBLANK(#REF!),\"\",$F$11*#REF!+$G$11)","v":{"$error":"#REF!"}},{"$f":"IF(ISBLANK(I49698),\"\",$F$12*#REF!+$G$12)","v":{"$error":"#REF!"}}]
[null,null,null,null,null,null,null,null,{"$f":"IF(ISBLANK(#REF!),\"\",$F$11*#REF!+$G$11)","v":{"$error":"#REF!"}},{"$f":"IF(ISBLANK(I49699),\"\",$F$12*#REF!+$G$12)","v":{"$error":"#REF!"}}]
[null,null,null,null,null,null,null,null,{"$f":"IF(ISBLANK(#REF!),\"\",$F$11*#REF!+$G$11)","v":{"$error":"#REF!"}},{"$f":"IF(ISBLANK(I49700),\"\",$F$12*#REF!+$G$12)","v":{"$error":"#REF!"}}]
[null,null,null,null,null,null,null,null,{"$f":"IF(ISBLANK(#REF!),\"\",$F$11*#REF!+$G$11)","v":{"$error":"#REF!"}},{"$f":"IF(ISBLANK(I49701),\"\",$F$12*#REF!+$G$12)","v":{"$error":"#REF!"}}]
[null,null,null,null,null,null,null,null,{"$f":"IF(ISBLANK(#REF!),\"\",$F$11*#REF!+$G$11)","v":{"$error":"#REF!"}},{"$f":"IF(ISBLANK(I49702),\"\",$F$12*#REF!+$G$12)","v":{"$error":"#REF!"}}]
[null,null,null,null,null,null,null,null,{"$f":"IF(ISBLANK(#REF!),\"\",$F$11*#REF!+$G$11)","v":{"$error":"#REF!"}},{"$f":"IF(ISBLANK(I49703),\"\",$F$12*#REF!+$G$12)","v":{"$error":"#REF!"}}]
[null,null,null,null,null,null,null,null,{"$f":"IF(ISBLANK(#REF!),\"\",$F$11*#REF!+$G$11)","v":{"$error":"#REF!"}},{"$f":"IF(ISBLANK(I49704),\"\",$F$12*#REF!+$G$12)","v":{"$error":"#REF!"}}]
[null,null,null,null,null,null,null,null,{"$f":"IF(ISBLANK(#REF!),\"\",$F$11*#REF!+$G$11)","v":{"$error":"#REF!"}},{"$f":"IF(ISBLANK(I49705),\"\",$F$12*#REF!+$G$12)","v":{"$error":"#REF!"}}]
[null,null,null,null,null,null,null,null,{"$f":"IF(ISBLANK(#REF!),\"\",$F$11*#REF!+$G$11)","v":{"$error":"#REF!"}},{"$f":"IF(ISBLANK(I49706),\"\",$F$12*#REF!+$G$12)","v":{"$error":"#REF!"}}]
[null,null,null,null,null,null,null,null,{"$f":"IF(ISBLANK(#REF!),\"\",$F$11*#REF!+$G$11)","v":{"$error":"#REF!"}},{"$f":"IF(ISBLANK(I49707),\"\",$F$12*#REF!+$G$12)","v":{"$error":"#REF!"}}]
[null,null,null,null,null,null,null,null,{"$f":"IF(ISBLANK(#REF!),\"\",$F$11*#REF!+$G$11)","v":{"$error":"#REF!"}},{"$f":"IF(ISBLANK(I49708),\"\",$F$12*#REF!+$G$12)","v":{"$error":"#REF!"}}]
[null,null,null,null,null,null,null,null,{"$f":"IF(ISBLANK(#REF!),\"\",$F$11*#REF!+$G$11)","v":{"$error":"#REF!"}},{"$f":"IF(ISBLANK(I49709),\"\",$F$12*#REF!+$G$12)","v":{"$error":"#REF!"}}]
[null,null,null,null,null,null,null,null,{"$f":"IF(ISBLANK(#REF!),\"\",$F$11*#REF!+$G$11)","v":{"$error":"#REF!"}},{"$f":"IF(ISBLANK(I49710),\"\",$F$12*#REF!+$G$12)","v":{"$error":"#REF!"}}]
[null,null,null,null,null,null,null,null,{"$f":"IF(ISBLANK(#REF!),\"\",$F$11*#REF!+$G$11)","v":{"$error":"#REF!"}},{"$f":"IF(ISBLANK(I49711),\"\",$F$12*#REF!+$G$12)","v":{"$error":"#REF!"}}]
[null,null,null,null,null,null,null,null,{"$f":"IF(ISBLANK(#REF!),\"\",$F$11*#REF!+$G$11)","v":{"$error":"#REF!"}},{"$f":"IF(ISBLANK(I49712),\"\",$F$12*#REF!+$G$12)","v":{"$error":"#REF!"}}]
[null,null,null,null,null,null,null,null,{"$f":"IF(ISBLANK(#REF!),\"\",$F$11*#REF!+$G$11)","v":{"$error":"#REF!"}},{"$f":"IF(ISBLANK(I49713),\"\",$F$12*#REF!+$G$12)","v":{"$error":"#REF!"}}]
[null,null,null,null,null,null,null,null,{"$f":"IF(ISBLANK(#REF!),\"\",$F$11*#REF!+$G$11)","v":{"$error":"#REF!"}},{"$f":"IF(ISBLANK(I49714),\"\",$F$12*#REF!+$G$12)","v":{"$error":"#REF!"}}]
[null,null,null,null,null,null,null,null,{"$f":"IF(ISBLANK(#REF!),\"\",$F$11*#REF!+$G$11)","v":{"$error":"#REF!"}},{"$f":"IF(ISBLANK(I49715),\"\",$F$12*#REF!+$G$12)","v":{"$error":"#REF!"}}]
[null,null,null,null,null,null,null,null,{"$f":"IF(ISBLANK(#REF!),\"\",$F$11*#REF!+$G$11)","v":{"$error":"#REF!"}},{"$f":"IF(ISBLANK(I49716),\"\",$F$12*#REF!+$G$12)","v":{"$error":"#REF!"}}]
[null,null,null,null,null,null,null,null,{"$f":"IF(ISBLANK(#REF!),\"\",$F$11*#REF!+$G$11)","v":{"$error":"#REF!"}},{"$f":"IF(ISBLANK(I49717),\"\",$F$12*#REF!+$G$12)","v":{"$error":"#REF!"}}]
[null,null,null,null,null,null,null,null,{"$f":"IF(ISBLANK(#REF!),\"\",$F$11*#REF!+$G$11)","v":{"$error":"#REF!"}},{"$f":"IF(ISBLANK(I49718),\"\",$F$12*#REF!+$G$12)","v":{"$error":"#REF!"}}]
[null,null,null,null,null,null,null,null,{"$f":"IF(ISBLANK(#REF!),\"\",$F$11*#REF!+$G$11)","v":{"$error":"#REF!"}},{"$f":"IF(ISBLANK(I49719),\"\",$F$12*#REF!+$G$12)","v":{"$error":"#REF!"}}]
[null,null,null,null,null,null,null,null,{"$f":"IF(ISBLANK(#REF!),\"\",$F$11*#REF!+$G$11)","v":{"$error":"#REF!"}},{"$f":"IF(ISBLANK(I49720),\"\",$F$12*#REF!+$G$12)","v":{"$error":"#REF!"}}]
[null,null,null,null,null,null,null,null,{"$f":"IF(ISBLANK(#REF!),\"\",$F$11*#REF!+$G$11)","v":{"$error":"#REF!"}},{"$f":"IF(ISBLANK(I49721),\"\",$F$12*#REF!+$G$12)","v":{"$error":"#REF!"}}]
[null,null,null,null,null,null,null,null,{"$f":"IF(ISBLANK(#REF!),\"\",$F$11*#REF!+$G$11)","v":{"$error":"#REF!"}},{"$f":"IF(ISBLANK(I49722),\"\",$F$12*#REF!+$G$12)","v":{"$error":"#REF!"}}]
[null,null,null,null,null,null,null,null,{"$f":"IF(ISBLANK(#REF!),\"\",$F$11*#REF!+$G$11)","v":{"$error":"#REF!"}},{"$f":"IF(ISBLANK(I49723),\"\",$F$12*#REF!+$G$12)","v":{"$error":"#REF!"}}]
[null,null,null,null,null,null,null,null,{"$f":"IF(ISBLANK(#REF!),\"\",$F$11*#REF!+$G$11)","v":{"$error":"#REF!"}},{"$f":"IF(ISBLANK(I49724),\"\",$F$12*#REF!+$G$12)","v":{"$error":"#REF!"}}]
[null,null,null,null,null,null,null,null,{"$f":"IF(ISBLANK(#REF!),\"\",$F$11*#REF!+$G$11)","v":{"$error":"#REF!"}},{"$f":"IF(ISBLANK(I49725),\"\",$F$12*#REF!+$G$12)","v":{"$error":"#REF!"}}]
[null,null,null,null,null,null,null,null,{"$f":"IF(ISBLANK(#REF!),\"\",$F$11*#REF!+$G$11)","v":{"$error":"#REF!"}},{"$f":"IF(ISBLANK(I49726),\"\",$F$12*#REF!+$G$12)","v":{"$error":"#REF!"}}]
[null,null,null,null,null,null,null,null,{"$f":"IF(ISBLANK(#REF!),\"\",$F$11*#REF!+$G$11)","v":{"$error":"#REF!"}},{"$f":"IF(ISBLANK(I49727),\"\",$F$12*#REF!+$G$12)","v":{"$error":"#REF!"}}]
[null,null,null,null,null,null,null,null,{"$f":"IF(ISBLANK(#REF!),\"\",$F$11*#REF!+$G$11)","v":{"$error":"#REF!"}},{"$f":"IF(ISBLANK(I49728),\"\",$F$12*#REF!+$G$12)","v":{"$error":"#REF!"}}]
[null,null,null,null,null,null,null,null,{"$f":"IF(ISBLANK(#REF!),\"\",$F$11*#REF!+$G$11)","v":{"$error":"#REF!"}},{"$f":"IF(ISBLANK(I49729),\"\",$F$12*#REF!+$G$12)","v":{"$error":"#REF!"}}]
[null,null,null,null,null,null,null,null,{"$f":"IF(ISBLANK(#REF!),\"\",$F$11*#REF!+$G$11)","v":{"$error":"#REF!"}},{"$f":"IF(ISBLANK(I49730),\"\",$F$12*#REF!+$G$12)","v":{"$error":"#REF!"}}]
[null,null,null,null,null,null,null,null,{"$f":"IF(ISBLANK(#REF!),\"\",$F$11*#REF!+$G$11)","v":{"$error":"#REF!"}},{"$f":"IF(ISBLANK(I49731),\"\",$F$12*#REF!+$G$12)","v":{"$error":"#REF!"}}]
[null,null,null,null,null,null,null,null,{"$f":"IF(ISBLANK(#REF!),\"\",$F$11*#REF!+$G$11)","v":{"$error":"#REF!"}},{"$f":"IF(ISBLANK(I49732),\"\",$F$12*#REF!+$G$12)","v":{"$error":"#REF!"}}]
[null,null,null,null,null,null,null,null,{"$f":"IF(ISBLANK(#REF!),\"\",$F$11*#REF!+$G$11)","v":{"$error":"#REF!"}},{"$f":"IF(ISBLANK(I49733),\"\",$F$12*#REF!+$G$12)","v":{"$error":"#REF!"}}]
[null,null,null,null,null,null,null,null,{"$f":"IF(ISBLANK(#REF!),\"\",$F$11*#REF!+$G$11)","v":{"$error":"#REF!"}},{"$f":"IF(ISBLANK(I49734),\"\",$F$12*#REF!+$G$12)","v":{"$error":"#REF!"}}]
[null,null,null,null,null,null,null,null,{"$f":"IF(ISBLANK(#REF!),\"\",$F$11*#REF!+$G$11)","v":{"$error":"#REF!"}},{"$f":"IF(ISBLANK(I49735),\"\",$F$12*#REF!+$G$12)","v":{"$error":"#REF!"}}]
[null,null,null,null,null,null,null,null,{"$f":"IF(ISBLANK(#REF!),\"\",$F$11*#REF!+$G$11)","v":{"$error":"#REF!"}},{"$f":"IF(ISBLANK(I49736),\"\",$F$12*#REF!+$G$12)","v":{"$error":"#REF!"}}]
[null,null,null,null,null,null,null,null,{"$f":"IF(ISBLANK(#REF!),\"\",$F$11*#REF!+$G$11)","v":{"$error":"#REF!"}},{"$f":"IF(ISBLANK(I49737),\"\",$F$12*#REF!+$G$12)","v":{"$error":"#REF!"}}]
[null,null,null,null,null,null,null,null,{"$f":"IF(ISBLANK(#REF!),\"\",$F$11*#REF!+$G$11)","v":{"$error":"#REF!"}},{"$f":"IF(ISBLANK(I49738),\"\",$F$12*#REF!+$G$12)","v":{"$error":"#REF!"}}]
[null,null,null,null,null,null,null,null,{"$f":"IF(ISBLANK(#REF!),\"\",$F$11*#REF!+$G$11)","v":{"$error":"#REF!"}},{"$f":"IF(ISBLANK(I49739),\"\",$F$12*#REF!+$G$12)","v":{"$error":"#REF!"}}]
[null,null,null,null,null,null,null,null,{"$f":"IF(ISBLANK(#REF!),\"\",$F$11*#REF!+$G$11)","v":{"$error":"#REF!"}},{"$f":"IF(ISBLANK(I49740),\"\",$F$12*#REF!+$G$12)","v":{"$error":"#REF!"}}]
[null,null,null,null,null,null,null,null,{"$f":"IF(ISBLANK(#REF!),\"\",$F$11*#REF!+$G$11)","v":{"$error":"#REF!"}},{"$f":"IF(ISBLANK(I49741),\"\",$F$12*#REF!+$G$12)","v":{"$error":"#REF!"}}]
[null,null,null,null,null,null,null,null,{"$f":"IF(ISBLANK(#REF!),\"\",$F$11*#REF!+$G$11)","v":{"$error":"#REF!"}},{"$f":"IF(ISBLANK(I49742),\"\",$F$12*#REF!+$G$12)","v":{"$error":"#REF!"}}]
[null,null,null,null,null,null,null,null,{"$f":"IF(ISBLANK(#REF!),\"\",$F$11*#REF!+$G$11)","v":{"$error":"#REF!"}},{"$f":"IF(ISBLANK(I49743),\"\",$F$12*#REF!+$G$12)","v":{"$error":"#REF!"}}]
[null,null,null,null,null,null,null,null,{"$f":"IF(ISBLANK(#REF!),\"\",$F$11*#REF!+$G$11)","v":{"$error":"#REF!"}},{"$f":"IF(ISBLANK(I49744),\"\",$F$12*#REF!+$G$12)","v":{"$error":"#REF!"}}]
[null,null,null,null,null,null,null,null,{"$f":"IF(ISBLANK(#REF!),\"\",$F$11*#REF!+$G$11)","v":{"$error":"#REF!"}},{"$f":"IF(ISBLANK(I49745),\"\",$F$12*#REF!+$G$12)","v":{"$error":"#REF!"}}]
[null,null,null,null,null,null,null,null,{"$f":"IF(ISBLANK(#REF!),\"\",$F$11*#REF!+$G$11)","v":{"$error":"#REF!"}},{"$f":"IF(ISBLANK(I49746),\"\",$F$12*#REF!+$G$12)","v":{"$error":"#REF!"}}]
[null,null,null,null,null,null,null,null,{"$f":"IF(ISBLANK(#REF!),\"\",$F$11*#REF!+$G$11)","v":{"$error":"#REF!"}},{"$f":"IF(ISBLANK(I49747),\"\",$F$12*#REF!+$G$12)","v":{"$error":"#REF!"}}]
[null,null,null,null,null,null,null,null,{"$f":"IF(ISBLANK(#REF!),\"\",$F$11*#REF!+$G$11)","v":{"$error":"#REF!"}},{"$f":"IF(ISBLANK(I49748),\"\",$F$12*#REF!+$G$12)","v":{"$error":"#REF!"}}]
[null,null,null,null,null,null,null,null,{"$f":"IF(ISBLANK(#REF!),\"\",$F$11*#REF!+$G$11)","v":{"$error":"#REF!"}},{"$f":"IF(ISBLANK(I49749),\"\",$F$12*#REF!+$G$12)","v":{"$error":"#REF!"}}]
[null,null,null,null,null,null,null,null,{"$f":"IF(ISBLANK(#REF!),\"\",$F$11*#REF!+$G$11)","v":{"$error":"#REF!"}},{"$f":"IF(ISBLANK(I49750),\"\",$F$12*#REF!+$G$12)","v":{"$error":"#REF!"}}]
[null,null,null,null,null,null,null,null,{"$f":"IF(ISBLANK(#REF!),\"\",$F$11*#REF!+$G$11)","v":{"$error":"#REF!"}},{"$f":"IF(ISBLANK(I49751),\"\",$F$12*#REF!+$G$12)","v":{"$error":"#REF!"}}]
[null,null,null,null,null,null,null,null,{"$f":"IF(ISBLANK(#REF!),\"\",$F$11*#REF!+$G$11)","v":{"$error":"#REF!"}},{"$f":"IF(ISBLANK(I49752),\"\",$F$12*#REF!+$G$12)","v":{"$error":"#REF!"}}]
[null,null,null,null,null,null,null,null,{"$f":"IF(ISBLANK(#REF!),\"\",$F$11*#REF!+$G$11)","v":{"$error":"#REF!"}},{"$f":"IF(ISBLANK(I49753),\"\",$F$12*#REF!+$G$12)","v":{"$error":"#REF!"}}]
[null,null,null,null,null,null,null,null,{"$f":"IF(ISBLANK(#REF!),\"\",$F$11*#REF!+$G$11)","v":{"$error":"#REF!"}},{"$f":"IF(ISBLANK(I49754),\"\",$F$12*#REF!+$G$12)","v":{"$error":"#REF!"}}]
[null,null,null,null,null,null,null,null,{"$f":"IF(ISBLANK(#REF!),\"\",$F$11*#REF!+$G$11)","v":{"$error":"#REF!"}},{"$f":"IF(ISBLANK(I49755),\"\",$F$12*#REF!+$G$12)","v":{"$error":"#REF!"}}]
[null,null,null,null,null,null,null,null,{"$f":"IF(ISBLANK(#REF!),\"\",$F$11*#REF!+$G$11)","v":{"$error":"#REF!"}},{"$f":"IF(ISBLANK(I49756),\"\",$F$12*#REF!+$G$12)","v":{"$error":"#REF!"}}]
[null,null,null,null,null,null,null,null,{"$f":"IF(ISBLANK(#REF!),\"\",$F$11*#REF!+$G$11)","v":{"$error":"#REF!"}},{"$f":"IF(ISBLANK(I49757),\"\",$F$12*#REF!+$G$12)","v":{"$error":"#REF!"}}]
[null,null,null,null,null,null,null,null,{"$f":"IF(ISBLANK(#REF!),\"\",$F$11*#REF!+$G$11)","v":{"$error":"#REF!"}},{"$f":"IF(ISBLANK(I49758),\"\",$F$12*#REF!+$G$12)","v":{"$error":"#REF!"}}]
[null,null,null,null,null,null,null,null,{"$f":"IF(ISBLANK(#REF!),\"\",$F$11*#REF!+$G$11)","v":{"$error":"#REF!"}},{"$f":"IF(ISBLANK(I49759),\"\",$F$12*#REF!+$G$12)","v":{"$error":"#REF!"}}]
[null,null,null,null,null,null,null,null,{"$f":"IF(ISBLANK(#REF!),\"\",$F$11*#REF!+$G$11)","v":{"$error":"#REF!"}},{"$f":"IF(ISBLANK(I49760),\"\",$F$12*#REF!+$G$12)","v":{"$error":"#REF!"}}]
[null,null,null,null,null,null,null,null,{"$f":"IF(ISBLANK(#REF!),\"\",$F$11*#REF!+$G$11)","v":{"$error":"#REF!"}},{"$f":"IF(ISBLANK(I49761),\"\",$F$12*#REF!+$G$12)","v":{"$error":"#REF!"}}]
[null,null,null,null,null,null,null,null,{"$f":"IF(ISBLANK(#REF!),\"\",$F$11*#REF!+$G$11)","v":{"$error":"#REF!"}},{"$f":"IF(ISBLANK(I49762),\"\",$F$12*#REF!+$G$12)","v":{"$error":"#REF!"}}]
[null,null,null,null,null,null,null,null,{"$f":"IF(ISBLANK(#REF!),\"\",$F$11*#REF!+$G$11)","v":{"$error":"#REF!"}},{"$f":"IF(ISBLANK(I49763),\"\",$F$12*#REF!+$G$12)","v":{"$error":"#REF!"}}]
[null,null,null,null,null,null,null,null,{"$f":"IF(ISBLANK(#REF!),\"\",$F$11*#REF!+$G$11)","v":{"$error":"#REF!"}},{"$f":"IF(ISBLANK(I49764),\"\",$F$12*#REF!+$G$12)","v":{"$error":"#REF!"}}]
[null,null,null,null,null,null,null,null,{"$f":"IF(ISBLANK(#REF!),\"\",$F$11*#REF!+$G$11)","v":{"$error":"#REF!"}},{"$f":"IF(ISBLANK(I49765),\"\",$F$12*#REF!+$G$12)","v":{"$error":"#REF!"}}]
[null,null,null,null,null,null,null,null,{"$f":"IF(ISBLANK(#REF!),\"\",$F$11*#REF!+$G$11)","v":{"$error":"#REF!"}},{"$f":"IF(ISBLANK(I49766),\"\",$F$12*#REF!+$G$12)","v":{"$error":"#REF!"}}]
[null,null,null,null,null,null,null,null,{"$f":"IF(ISBLANK(#REF!),\"\",$F$11*#REF!+$G$11)","v":{"$error":"#REF!"}},{"$f":"IF(ISBLANK(I49767),\"\",$F$12*#REF!+$G$12)","v":{"$error":"#REF!"}}]
[null,null,null,null,null,null,null,null,{"$f":"IF(ISBLANK(#REF!),\"\",$F$11*#REF!+$G$11)","v":{"$error":"#REF!"}},{"$f":"IF(ISBLANK(I49768),\"\",$F$12*#REF!+$G$12)","v":{"$error":"#REF!"}}]
[null,null,null,null,null,null,null,null,{"$f":"IF(ISBLANK(#REF!),\"\",$F$11*#REF!+$G$11)","v":{"$error":"#REF!"}},{"$f":"IF(ISBLANK(I49769),\"\",$F$12*#REF!+$G$12)","v":{"$error":"#REF!"}}]
[null,null,null,null,null,null,null,null,{"$f":"IF(ISBLANK(#REF!),\"\",$F$11*#REF!+$G$11)","v":{"$error":"#REF!"}},{"$f":"IF(ISBLANK(I49770),\"\",$F$12*#REF!+$G$12)","v":{"$error":"#REF!"}}]
[null,null,null,null,null,null,null,null,{"$f":"IF(ISBLANK(#REF!),\"\",$F$11*#REF!+$G$11)","v":{"$error":"#REF!"}},{"$f":"IF(ISBLANK(I49771),\"\",$F$12*#REF!+$G$12)","v":{"$error":"#REF!"}}]
[null,null,null,null,null,null,null,null,{"$f":"IF(ISBLANK(#REF!),\"\",$F$11*#REF!+$G$11)","v":{"$error":"#REF!"}},{"$f":"IF(ISBLANK(I49772),\"\",$F$12*#REF!+$G$12)","v":{"$error":"#REF!"}}]
[null,null,null,null,null,null,null,null,{"$f":"IF(ISBLANK(#REF!),\"\",$F$11*#REF!+$G$11)","v":{"$error":"#REF!"}},{"$f":"IF(ISBLANK(I49773),\"\",$F$12*#REF!+$G$12)","v":{"$error":"#REF!"}}]
[null,null,null,null,null,null,null,null,{"$f":"IF(ISBLANK(#REF!),\"\",$F$11*#REF!+$G$11)","v":{"$error":"#REF!"}},{"$f":"IF(ISBLANK(I49774),\"\",$F$12*#REF!+$G$12)","v":{"$error":"#REF!"}}]
[null,null,null,null,null,null,null,null,{"$f":"IF(ISBLANK(#REF!),\"\",$F$11*#REF!+$G$11)","v":{"$error":"#REF!"}},{"$f":"IF(ISBLANK(I49775),\"\",$F$12*#REF!+$G$12)","v":{"$error":"#REF!"}}]
[null,null,null,null,null,null,null,null,{"$f":"IF(ISBLANK(#REF!),\"\",$F$11*#REF!+$G$11)","v":{"$error":"#REF!"}},{"$f":"IF(ISBLANK(I49776),\"\",$F$12*#REF!+$G$12)","v":{"$error":"#REF!"}}]
[null,null,null,null,null,null,null,null,{"$f":"IF(ISBLANK(#REF!),\"\",$F$11*#REF!+$G$11)","v":{"$error":"#REF!"}},{"$f":"IF(ISBLANK(I49777),\"\",$F$12*#REF!+$G$12)","v":{"$error":"#REF!"}}]
[null,null,null,null,null,null,null,null,{"$f":"IF(ISBLANK(#REF!),\"\",$F$11*#REF!+$G$11)","v":{"$error":"#REF!"}},{"$f":"IF(ISBLANK(I49778),\"\",$F$12*#REF!+$G$12)","v":{"$error":"#REF!"}}]
[null,null,null,null,null,null,null,null,{"$f":"IF(ISBLANK(#REF!),\"\",$F$11*#REF!+$G$11)","v":{"$error":"#REF!"}},{"$f":"IF(ISBLANK(I49779),\"\",$F$12*#REF!+$G$12)","v":{"$error":"#REF!"}}]
[null,null,null,null,null,null,null,null,{"$f":"IF(ISBLANK(#REF!),\"\",$F$11*#REF!+$G$11)","v":{"$error":"#REF!"}},{"$f":"IF(ISBLANK(I49780),\"\",$F$12*#REF!+$G$12)","v":{"$error":"#REF!"}}]
[null,null,null,null,null,null,null,null,{"$f":"IF(ISBLANK(#REF!),\"\",$F$11*#REF!+$G$11)","v":{"$error":"#REF!"}},{"$f":"IF(ISBLANK(I49781),\"\",$F$12*#REF!+$G$12)","v":{"$error":"#REF!"}}]
[null,null,null,null,null,null,null,null,{"$f":"IF(ISBLANK(#REF!),\"\",$F$11*#REF!+$G$11)","v":{"$error":"#REF!"}},{"$f":"IF(ISBLANK(I49782),\"\",$F$12*#REF!+$G$12)","v":{"$error":"#REF!"}}]
[null,null,null,null,null,null,null,null,{"$f":"IF(ISBLANK(#REF!),\"\",$F$11*#REF!+$G$11)","v":{"$error":"#REF!"}},{"$f":"IF(ISBLANK(I49783),\"\",$F$12*#REF!+$G$12)","v":{"$error":"#REF!"}}]
[null,null,null,null,null,null,null,null,{"$f":"IF(ISBLANK(#REF!),\"\",$F$11*#REF!+$G$11)","v":{"$error":"#REF!"}},{"$f":"IF(ISBLANK(I49784),\"\",$F$12*#REF!+$G$12)","v":{"$error":"#REF!"}}]
[null,null,null,null,null,null,null,null,{"$f":"IF(ISBLANK(#REF!),\"\",$F$11*#REF!+$G$11)","v":{"$error":"#REF!"}},{"$f":"IF(ISBLANK(I49785),\"\",$F$12*#REF!+$G$12)","v":{"$error":"#REF!"}}]
[null,null,null,null,null,null,null,null,{"$f":"IF(ISBLANK(#REF!),\"\",$F$11*#REF!+$G$11)","v":{"$error":"#REF!"}},{"$f":"IF(ISBLANK(I49786),\"\",$F$12*#REF!+$G$12)","v":{"$error":"#REF!"}}]
[null,null,null,null,null,null,null,null,{"$f":"IF(ISBLANK(#REF!),\"\",$F$11*#REF!+$G$11)","v":{"$error":"#REF!"}},{"$f":"IF(ISBLANK(I49787),\"\",$F$12*#REF!+$G$12)","v":{"$error":"#REF!"}}]
[null,null,null,null,null,null,null,null,{"$f":"IF(ISBLANK(#REF!),\"\",$F$11*#REF!+$G$11)","v":{"$error":"#REF!"}},{"$f":"IF(ISBLANK(I49788),\"\",$F$12*#REF!+$G$12)","v":{"$error":"#REF!"}}]
[null,null,null,null,null,null,null,null,{"$f":"IF(ISBLANK(#REF!),\"\",$F$11*#REF!+$G$11)","v":{"$error":"#REF!"}},{"$f":"IF(ISBLANK(I49789),\"\",$F$12*#REF!+$G$12)","v":{"$error":"#REF!"}}]
[null,null,null,null,null,null,null,null,{"$f":"IF(ISBLANK(#REF!),\"\",$F$11*#REF!+$G$11)","v":{"$error":"#REF!"}},{"$f":"IF(ISBLANK(I49790),\"\",$F$12*#REF!+$G$12)","v":{"$error":"#REF!"}}]
[null,null,null,null,null,null,null,null,{"$f":"IF(ISBLANK(#REF!),\"\",$F$11*#REF!+$G$11)","v":{"$error":"#REF!"}},{"$f":"IF(ISBLANK(I49791),\"\",$F$12*#REF!+$G$12)","v":{"$error":"#REF!"}}]
[null,null,null,null,null,null,null,null,{"$f":"IF(ISBLANK(#REF!),\"\",$F$11*#REF!+$G$11)","v":{"$error":"#REF!"}},{"$f":"IF(ISBLANK(I49792),\"\",$F$12*#REF!+$G$12)","v":{"$error":"#REF!"}}]
[null,null,null,null,null,null,null,null,{"$f":"IF(ISBLANK(#REF!),\"\",$F$11*#REF!+$G$11)","v":{"$error":"#REF!"}},{"$f":"IF(ISBLANK(I49793),\"\",$F$12*#REF!+$G$12)","v":{"$error":"#REF!"}}]
[null,null,null,null,null,null,null,null,{"$f":"IF(ISBLANK(#REF!),\"\",$F$11*#REF!+$G$11)","v":{"$error":"#REF!"}},{"$f":"IF(ISBLANK(I49794),\"\",$F$12*#REF!+$G$12)","v":{"$error":"#REF!"}}]
[null,null,null,null,null,null,null,null,{"$f":"IF(ISBLANK(#REF!),\"\",$F$11*#REF!+$G$11)","v":{"$error":"#REF!"}},{"$f":"IF(ISBLANK(I49795),\"\",$F$12*#REF!+$G$12)","v":{"$error":"#REF!"}}]
[null,null,null,null,null,null,null,null,{"$f":"IF(ISBLANK(#REF!),\"\",$F$11*#REF!+$G$11)","v":{"$error":"#REF!"}},{"$f":"IF(ISBLANK(I49796),\"\",$F$12*#REF!+$G$12)","v":{"$error":"#REF!"}}]
[null,null,null,null,null,null,null,null,{"$f":"IF(ISBLANK(#REF!),\"\",$F$11*#REF!+$G$11)","v":{"$error":"#REF!"}},{"$f":"IF(ISBLANK(I49797),\"\",$F$12*#REF!+$G$12)","v":{"$error":"#REF!"}}]
[null,null,null,null,null,null,null,null,{"$f":"IF(ISBLANK(#REF!),\"\",$F$11*#REF!+$G$11)","v":{"$error":"#REF!"}},{"$f":"IF(ISBLANK(I49798),\"\",$F$12*#REF!+$G$12)","v":{"$error":"#REF!"}}]
[null,null,null,null,null,null,null,null,{"$f":"IF(ISBLANK(#REF!),\"\",$F$11*#REF!+$G$11)","v":{"$error":"#REF!"}},{"$f":"IF(ISBLANK(I49799),\"\",$F$12*#REF!+$G$12)","v":{"$error":"#REF!"}}]
[null,null,null,null,null,null,null,null,{"$f":"IF(ISBLANK(#REF!),\"\",$F$11*#REF!+$G$11)","v":{"$error":"#REF!"}},{"$f":"IF(ISBLANK(I49800),\"\",$F$12*#REF!+$G$12)","v":{"$error":"#REF!"}}]
[null,null,null,null,null,null,null,null,{"$f":"IF(ISBLANK(#REF!),\"\",$F$11*#REF!+$G$11)","v":{"$error":"#REF!"}},{"$f":"IF(ISBLANK(I49801),\"\",$F$12*#REF!+$G$12)","v":{"$error":"#REF!"}}]
[null,null,null,null,null,null,null,null,{"$f":"IF(ISBLANK(#REF!),\"\",$F$11*#REF!+$G$11)","v":{"$error":"#REF!"}},{"$f":"IF(ISBLANK(I49802),\"\",$F$12*#REF!+$G$12)","v":{"$error":"#REF!"}}]
[null,null,null,null,null,null,null,null,{"$f":"IF(ISBLANK(#REF!),\"\",$F$11*#REF!+$G$11)","v":{"$error":"#REF!"}},{"$f":"IF(ISBLANK(I49803),\"\",$F$12*#REF!+$G$12)","v":{"$error":"#REF!"}}]
[null,null,null,null,null,null,null,null,{"$f":"IF(ISBLANK(#REF!),\"\",$F$11*#REF!+$G$11)","v":{"$error":"#REF!"}},{"$f":"IF(ISBLANK(I49804),\"\",$F$12*#REF!+$G$12)","v":{"$error":"#REF!"}}]
[null,null,null,null,null,null,null,null,{"$f":"IF(ISBLANK(#REF!),\"\",$F$11*#REF!+$G$11)","v":{"$error":"#REF!"}},{"$f":"IF(ISBLANK(I49805),\"\",$F$12*#REF!+$G$12)","v":{"$error":"#REF!"}}]
[null,null,null,null,null,null,null,null,{"$f":"IF(ISBLANK(#REF!),\"\",$F$11*#REF!+$G$11)","v":{"$error":"#REF!"}},{"$f":"IF(ISBLANK(I49806),\"\",$F$12*#REF!+$G$12)","v":{"$error":"#REF!"}}]
[null,null,null,null,null,null,null,null,{"$f":"IF(ISBLANK(#REF!),\"\",$F$11*#REF!+$G$11)","v":{"$error":"#REF!"}},{"$f":"IF(ISBLANK(I49807),\"\",$F$12*#REF!+$G$12)","v":{"$error":"#REF!"}}]
[null,null,null,null,null,null,null,null,{"$f":"IF(ISBLANK(#REF!),\"\",$F$11*#REF!+$G$11)","v":{"$error":"#REF!"}},{"$f":"IF(ISBLANK(I49808),\"\",$F$12*#REF!+$G$12)","v":{"$error":"#REF!"}}]
[null,null,null,null,null,null,null,null,{"$f":"IF(ISBLANK(#REF!),\"\",$F$11*#REF!+$G$11)","v":{"$error":"#REF!"}},{"$f":"IF(ISBLANK(I49809),\"\",$F$12*#REF!+$G$12)","v":{"$error":"#REF!"}}]
[null,null,null,null,null,null,null,null,{"$f":"IF(ISBLANK(#REF!),\"\",$F$11*#REF!+$G$11)","v":{"$error":"#REF!"}},{"$f":"IF(ISBLANK(I49810),\"\",$F$12*#REF!+$G$12)","v":{"$error":"#REF!"}}]
[null,null,null,null,null,null,null,null,{"$f":"IF(ISBLANK(#REF!),\"\",$F$11*#REF!+$G$11)","v":{"$error":"#REF!"}},{"$f":"IF(ISBLANK(I49811),\"\",$F$12*#REF!+$G$12)","v":{"$error":"#REF!"}}]
[null,null,null,null,null,null,null,null,{"$f":"IF(ISBLANK(#REF!),\"\",$F$11*#REF!+$G$11)","v":{"$error":"#REF!"}},{"$f":"IF(ISBLANK(I49812),\"\",$F$12*#REF!+$G$12)","v":{"$error":"#REF!"}}]
[null,null,null,null,null,null,null,null,{"$f":"IF(ISBLANK(#REF!),\"\",$F$11*#REF!+$G$11)","v":{"$error":"#REF!"}},{"$f":"IF(ISBLANK(I49813),\"\",$F$12*#REF!+$G$12)","v":{"$error":"#REF!"}}]
[null,null,null,null,null,null,null,null,{"$f":"IF(ISBLANK(#REF!),\"\",$F$11*#REF!+$G$11)","v":{"$error":"#REF!"}},{"$f":"IF(ISBLANK(I49814),\"\",$F$12*#REF!+$G$12)","v":{"$error":"#REF!"}}]
[null,null,null,null,null,null,null,null,{"$f":"IF(ISBLANK(#REF!),\"\",$F$11*#REF!+$G$11)","v":{"$error":"#REF!"}},{"$f":"IF(ISBLANK(I49815),\"\",$F$12*#REF!+$G$12)","v":{"$error":"#REF!"}}]
[null,null,null,null,null,null,null,null,{"$f":"IF(ISBLANK(#REF!),\"\",$F$11*#REF!+$G$11)","v":{"$error":"#REF!"}},{"$f":"IF(ISBLANK(I49816),\"\",$F$12*#REF!+$G$12)","v":{"$error":"#REF!"}}]
[null,null,null,null,null,null,null,null,{"$f":"IF(ISBLANK(#REF!),\"\",$F$11*#REF!+$G$11)","v":{"$error":"#REF!"}},{"$f":"IF(ISBLANK(I49817),\"\",$F$12*#REF!+$G$12)","v":{"$error":"#REF!"}}]
[null,null,null,null,null,null,null,null,{"$f":"IF(ISBLANK(#REF!),\"\",$F$11*#REF!+$G$11)","v":{"$error":"#REF!"}},{"$f":"IF(ISBLANK(I49818),\"\",$F$12*#REF!+$G$12)","v":{"$error":"#REF!"}}]
[null,null,null,null,null,null,null,null,{"$f":"IF(ISBLANK(#REF!),\"\",$F$11*#REF!+$G$11)","v":{"$error":"#REF!"}},{"$f":"IF(ISBLANK(I49819),\"\",$F$12*#REF!+$G$12)","v":{"$error":"#REF!"}}]
[null,null,null,null,null,null,null,null,{"$f":"IF(ISBLANK(#REF!),\"\",$F$11*#REF!+$G$11)","v":{"$error":"#REF!"}},{"$f":"IF(ISBLANK(I49820),\"\",$F$12*#REF!+$G$12)","v":{"$error":"#REF!"}}]
[null,null,null,null,null,null,null,null,{"$f":"IF(ISBLANK(#REF!),\"\",$F$11*#REF!+$G$11)","v":{"$error":"#REF!"}},{"$f":"IF(ISBLANK(I49821),\"\",$F$12*#REF!+$G$12)","v":{"$error":"#REF!"}}]
[null,null,null,null,null,null,null,null,{"$f":"IF(ISBLANK(#REF!),\"\",$F$11*#REF!+$G$11)","v":{"$error":"#REF!"}},{"$f":"IF(ISBLANK(I49822),\"\",$F$12*#REF!+$G$12)","v":{"$error":"#REF!"}}]
[null,null,null,null,null,null,null,null,{"$f":"IF(ISBLANK(#REF!),\"\",$F$11*#REF!+$G$11)","v":{"$error":"#REF!"}},{"$f":"IF(ISBLANK(I49823),\"\",$F$12*#REF!+$G$12)","v":{"$error":"#REF!"}}]
[null,null,null,null,null,null,null,null,{"$f":"IF(ISBLANK(#REF!),\"\",$F$11*#REF!+$G$11)","v":{"$error":"#REF!"}},{"$f":"IF(ISBLANK(I49824),\"\",$F$12*#REF!+$G$12)","v":{"$error":"#REF!"}}]
[null,null,null,null,null,null,null,null,{"$f":"IF(ISBLANK(#REF!),\"\",$F$11*#REF!+$G$11)","v":{"$error":"#REF!"}},{"$f":"IF(ISBLANK(I49825),\"\",$F$12*#REF!+$G$12)","v":{"$error":"#REF!"}}]
[null,null,null,null,null,null,null,null,{"$f":"IF(ISBLANK(#REF!),\"\",$F$11*#REF!+$G$11)","v":{"$error":"#REF!"}},{"$f":"IF(ISBLANK(I49826),\"\",$F$12*#REF!+$G$12)","v":{"$error":"#REF!"}}]
[null,null,null,null,null,null,null,null,{"$f":"IF(ISBLANK(#REF!),\"\",$F$11*#REF!+$G$11)","v":{"$error":"#REF!"}},{"$f":"IF(ISBLANK(I49827),\"\",$F$12*#REF!+$G$12)","v":{"$error":"#REF!"}}]
[null,null,null,null,null,null,null,null,{"$f":"IF(ISBLANK(#REF!),\"\",$F$11*#REF!+$G$11)","v":{"$error":"#REF!"}},{"$f":"IF(ISBLANK(I49828),\"\",$F$12*#REF!+$G$12)","v":{"$error":"#REF!"}}]
[null,null,null,null,null,null,null,null,{"$f":"IF(ISBLANK(#REF!),\"\",$F$11*#REF!+$G$11)","v":{"$error":"#REF!"}},{"$f":"IF(ISBLANK(I49829),\"\",$F$12*#REF!+$G$12)","v":{"$error":"#REF!"}}]
[null,null,null,null,null,null,null,null,{"$f":"IF(ISBLANK(#REF!),\"\",$F$11*#REF!+$G$11)","v":{"$error":"#REF!"}},{"$f":"IF(ISBLANK(I49830),\"\",$F$12*#REF!+$G$12)","v":{"$error":"#REF!"}}]
[null,null,null,null,null,null,null,null,{"$f":"IF(ISBLANK(#REF!),\"\",$F$11*#REF!+$G$11)","v":{"$error":"#REF!"}},{"$f":"IF(ISBLANK(I49831),\"\",$F$12*#REF!+$G$12)","v":{"$error":"#REF!"}}]
[null,null,null,null,null,null,null,null,{"$f":"IF(ISBLANK(#REF!),\"\",$F$11*#REF!+$G$11)","v":{"$error":"#REF!"}},{"$f":"IF(ISBLANK(I49832),\"\",$F$12*#REF!+$G$12)","v":{"$error":"#REF!"}}]
[null,null,null,null,null,null,null,null,{"$f":"IF(ISBLANK(#REF!),\"\",$F$11*#REF!+$G$11)","v":{"$error":"#REF!"}},{"$f":"IF(ISBLANK(I49833),\"\",$F$12*#REF!+$G$12)","v":{"$error":"#REF!"}}]
[null,null,null,null,null,null,null,null,{"$f":"IF(ISBLANK(#REF!),\"\",$F$11*#REF!+$G$11)","v":{"$error":"#REF!"}},{"$f":"IF(ISBLANK(I49834),\"\",$F$12*#REF!+$G$12)","v":{"$error":"#REF!"}}]
[null,null,null,null,null,null,null,null,{"$f":"IF(ISBLANK(#REF!),\"\",$F$11*#REF!+$G$11)","v":{"$error":"#REF!"}},{"$f":"IF(ISBLANK(I49835),\"\",$F$12*#REF!+$G$12)","v":{"$error":"#REF!"}}]
[null,null,null,null,null,null,null,null,{"$f":"IF(ISBLANK(#REF!),\"\",$F$11*#REF!+$G$11)","v":{"$error":"#REF!"}},{"$f":"IF(ISBLANK(I49836),\"\",$F$12*#REF!+$G$12)","v":{"$error":"#REF!"}}]
[null,null,null,null,null,null,null,null,{"$f":"IF(ISBLANK(#REF!),\"\",$F$11*#REF!+$G$11)","v":{"$error":"#REF!"}},{"$f":"IF(ISBLANK(I49837),\"\",$F$12*#REF!+$G$12)","v":{"$error":"#REF!"}}]
[null,null,null,null,null,null,null,null,{"$f":"IF(ISBLANK(#REF!),\"\",$F$11*#REF!+$G$11)","v":{"$error":"#REF!"}},{"$f":"IF(ISBLANK(I49838),\"\",$F$12*#REF!+$G$12)","v":{"$error":"#REF!"}}]
[null,null,null,null,null,null,null,null,{"$f":"IF(ISBLANK(#REF!),\"\",$F$11*#REF!+$G$11)","v":{"$error":"#REF!"}},{"$f":"IF(ISBLANK(I49839),\"\",$F$12*#REF!+$G$12)","v":{"$error":"#REF!"}}]
[null,null,null,null,null,null,null,null,{"$f":"IF(ISBLANK(#REF!),\"\",$F$11*#REF!+$G$11)","v":{"$error":"#REF!"}},{"$f":"IF(ISBLANK(I49840),\"\",$F$12*#REF!+$G$12)","v":{"$error":"#REF!"}}]
[null,null,null,null,null,null,null,null,{"$f":"IF(ISBLANK(#REF!),\"\",$F$11*#REF!+$G$11)","v":{"$error":"#REF!"}},{"$f":"IF(ISBLANK(I49841),\"\",$F$12*#REF!+$G$12)","v":{"$error":"#REF!"}}]
[null,null,null,null,null,null,null,null,{"$f":"IF(ISBLANK(#REF!),\"\",$F$11*#REF!+$G$11)","v":{"$error":"#REF!"}},{"$f":"IF(ISBLANK(I49842),\"\",$F$12*#REF!+$G$12)","v":{"$error":"#REF!"}}]
[null,null,null,null,null,null,null,null,{"$f":"IF(ISBLANK(#REF!),\"\",$F$11*#REF!+$G$11)","v":{"$error":"#REF!"}},{"$f":"IF(ISBLANK(I49843),\"\",$F$12*#REF!+$G$12)","v":{"$error":"#REF!"}}]
[null,null,null,null,null,null,null,null,{"$f":"IF(ISBLANK(#REF!),\"\",$F$11*#REF!+$G$11)","v":{"$error":"#REF!"}},{"$f":"IF(ISBLANK(I49844),\"\",$F$12*#REF!+$G$12)","v":{"$error":"#REF!"}}]
[null,null,null,null,null,null,null,null,{"$f":"IF(ISBLANK(#REF!),\"\",$F$11*#REF!+$G$11)","v":{"$error":"#REF!"}},{"$f":"IF(ISBLANK(I49845),\"\",$F$12*#REF!+$G$12)","v":{"$error":"#REF!"}}]
[null,null,null,null,null,null,null,null,{"$f":"IF(ISBLANK(#REF!),\"\",$F$11*#REF!+$G$11)","v":{"$error":"#REF!"}},{"$f":"IF(ISBLANK(I49846),\"\",$F$12*#REF!+$G$12)","v":{"$error":"#REF!"}}]
[null,null,null,null,null,null,null,null,{"$f":"IF(ISBLANK(#REF!),\"\",$F$11*#REF!+$G$11)","v":{"$error":"#REF!"}},{"$f":"IF(ISBLANK(I49847),\"\",$F$12*#REF!+$G$12)","v":{"$error":"#REF!"}}]
[null,null,null,null,null,null,null,null,{"$f":"IF(ISBLANK(#REF!),\"\",$F$11*#REF!+$G$11)","v":{"$error":"#REF!"}},{"$f":"IF(ISBLANK(I49848),\"\",$F$12*#REF!+$G$12)","v":{"$error":"#REF!"}}]
[null,null,null,null,null,null,null,null,{"$f":"IF(ISBLANK(#REF!),\"\",$F$11*#REF!+$G$11)","v":{"$error":"#REF!"}},{"$f":"IF(ISBLANK(I49849),\"\",$F$12*#REF!+$G$12)","v":{"$error":"#REF!"}}]
[null,null,null,null,null,null,null,null,{"$f":"IF(ISBLANK(#REF!),\"\",$F$11*#REF!+$G$11)","v":{"$error":"#REF!"}},{"$f":"IF(ISBLANK(I49850),\"\",$F$12*#REF!+$G$12)","v":{"$error":"#REF!"}}]
[null,null,null,null,null,null,null,null,{"$f":"IF(ISBLANK(#REF!),\"\",$F$11*#REF!+$G$11)","v":{"$error":"#REF!"}},{"$f":"IF(ISBLANK(I49851),\"\",$F$12*#REF!+$G$12)","v":{"$error":"#REF!"}}]
[null,null,null,null,null,null,null,null,{"$f":"IF(ISBLANK(#REF!),\"\",$F$11*#REF!+$G$11)","v":{"$error":"#REF!"}},{"$f":"IF(ISBLANK(I49852),\"\",$F$12*#REF!+$G$12)","v":{"$error":"#REF!"}}]
[null,null,null,null,null,null,null,null,{"$f":"IF(ISBLANK(#REF!),\"\",$F$11*#REF!+$G$11)","v":{"$error":"#REF!"}},{"$f":"IF(ISBLANK(I49853),\"\",$F$12*#REF!+$G$12)","v":{"$error":"#REF!"}}]
[null,null,null,null,null,null,null,null,{"$f":"IF(ISBLANK(#REF!),\"\",$F$11*#REF!+$G$11)","v":{"$error":"#REF!"}},{"$f":"IF(ISBLANK(I49854),\"\",$F$12*#REF!+$G$12)","v":{"$error":"#REF!"}}]
[null,null,null,null,null,null,null,null,{"$f":"IF(ISBLANK(#REF!),\"\",$F$11*#REF!+$G$11)","v":{"$error":"#REF!"}},{"$f":"IF(ISBLANK(I49855),\"\",$F$12*#REF!+$G$12)","v":{"$error":"#REF!"}}]
[null,null,null,null,null,null,null,null,{"$f":"IF(ISBLANK(#REF!),\"\",$F$11*#REF!+$G$11)","v":{"$error":"#REF!"}},{"$f":"IF(ISBLANK(I49856),\"\",$F$12*#REF!+$G$12)","v":{"$error":"#REF!"}}]
[null,null,null,null,null,null,null,null,{"$f":"IF(ISBLANK(#REF!),\"\",$F$11*#REF!+$G$11)","v":{"$error":"#REF!"}},{"$f":"IF(ISBLANK(I49857),\"\",$F$12*#REF!+$G$12)","v":{"$error":"#REF!"}}]
[null,null,null,null,null,null,null,null,{"$f":"IF(ISBLANK(#REF!),\"\",$F$11*#REF!+$G$11)","v":{"$error":"#REF!"}},{"$f":"IF(ISBLANK(I49858),\"\",$F$12*#REF!+$G$12)","v":{"$error":"#REF!"}}]
[null,null,null,null,null,null,null,null,{"$f":"IF(ISBLANK(#REF!),\"\",$F$11*#REF!+$G$11)","v":{"$error":"#REF!"}},{"$f":"IF(ISBLANK(I49859),\"\",$F$12*#REF!+$G$12)","v":{"$error":"#REF!"}}]
[null,null,null,null,null,null,null,null,{"$f":"IF(ISBLANK(#REF!),\"\",$F$11*#REF!+$G$11)","v":{"$error":"#REF!"}},{"$f":"IF(ISBLANK(I49860),\"\",$F$12*#REF!+$G$12)","v":{"$error":"#REF!"}}]
[null,null,null,null,null,null,null,null,{"$f":"IF(ISBLANK(#REF!),\"\",$F$11*#REF!+$G$11)","v":{"$error":"#REF!"}},{"$f":"IF(ISBLANK(I49861),\"\",$F$12*#REF!+$G$12)","v":{"$error":"#REF!"}}]
[null,null,null,null,null,null,null,null,{"$f":"IF(ISBLANK(#REF!),\"\",$F$11*#REF!+$G$11)","v":{"$error":"#REF!"}},{"$f":"IF(ISBLANK(I49862),\"\",$F$12*#REF!+$G$12)","v":{"$error":"#REF!"}}]
[null,null,null,null,null,null,null,null,{"$f":"IF(ISBLANK(#REF!),\"\",$F$11*#REF!+$G$11)","v":{"$error":"#REF!"}},{"$f":"IF(ISBLANK(I49863),\"\",$F$12*#REF!+$G$12)","v":{"$error":"#REF!"}}]
[null,null,null,null,null,null,null,null,{"$f":"IF(ISBLANK(#REF!),\"\",$F$11*#REF!+$G$11)","v":{"$error":"#REF!"}},{"$f":"IF(ISBLANK(I49864),\"\",$F$12*#REF!+$G$12)","v":{"$error":"#REF!"}}]
[null,null,null,null,null,null,null,null,{"$f":"IF(ISBLANK(#REF!),\"\",$F$11*#REF!+$G$11)","v":{"$error":"#REF!"}},{"$f":"IF(ISBLANK(I49865),\"\",$F$12*#REF!+$G$12)","v":{"$error":"#REF!"}}]
[null,null,null,null,null,null,null,null,{"$f":"IF(ISBLANK(#REF!),\"\",$F$11*#REF!+$G$11)","v":{"$error":"#REF!"}},{"$f":"IF(ISBLANK(I49866),\"\",$F$12*#REF!+$G$12)","v":{"$error":"#REF!"}}]
[null,null,null,null,null,null,null,null,{"$f":"IF(ISBLANK(#REF!),\"\",$F$11*#REF!+$G$11)","v":{"$error":"#REF!"}},{"$f":"IF(ISBLANK(I49867),\"\",$F$12*#REF!+$G$12)","v":{"$error":"#REF!"}}]
[null,null,null,null,null,null,null,null,{"$f":"IF(ISBLANK(#REF!),\"\",$F$11*#REF!+$G$11)","v":{"$error":"#REF!"}},{"$f":"IF(ISBLANK(I49868),\"\",$F$12*#REF!+$G$12)","v":{"$error":"#REF!"}}]
[null,null,null,null,null,null,null,null,{"$f":"IF(ISBLANK(#REF!),\"\",$F$11*#REF!+$G$11)","v":{"$error":"#REF!"}},{"$f":"IF(ISBLANK(I49869),\"\",$F$12*#REF!+$G$12)","v":{"$error":"#REF!"}}]
[null,null,null,null,null,null,null,null,{"$f":"IF(ISBLANK(#REF!),\"\",$F$11*#REF!+$G$11)","v":{"$error":"#REF!"}},{"$f":"IF(ISBLANK(I49870),\"\",$F$12*#REF!+$G$12)","v":{"$error":"#REF!"}}]
[null,null,null,null,null,null,null,null,{"$f":"IF(ISBLANK(#REF!),\"\",$F$11*#REF!+$G$11)","v":{"$error":"#REF!"}},{"$f":"IF(ISBLANK(I49871),\"\",$F$12*#REF!+$G$12)","v":{"$error":"#REF!"}}]
[null,null,null,null,null,null,null,null,{"$f":"IF(ISBLANK(#REF!),\"\",$F$11*#REF!+$G$11)","v":{"$error":"#REF!"}},{"$f":"IF(ISBLANK(I49872),\"\",$F$12*#REF!+$G$12)","v":{"$error":"#REF!"}}]
[null,null,null,null,null,null,null,null,{"$f":"IF(ISBLANK(#REF!),\"\",$F$11*#REF!+$G$11)","v":{"$error":"#REF!"}},{"$f":"IF(ISBLANK(I49873),\"\",$F$12*#REF!+$G$12)","v":{"$error":"#REF!"}}]
[null,null,null,null,null,null,null,null,{"$f":"IF(ISBLANK(#REF!),\"\",$F$11*#REF!+$G$11)","v":{"$error":"#REF!"}},{"$f":"IF(ISBLANK(I49874),\"\",$F$12*#REF!+$G$12)","v":{"$error":"#REF!"}}]
[null,null,null,null,null,null,null,null,{"$f":"IF(ISBLANK(#REF!),\"\",$F$11*#REF!+$G$11)","v":{"$error":"#REF!"}},{"$f":"IF(ISBLANK(I49875),\"\",$F$12*#REF!+$G$12)","v":{"$error":"#REF!"}}]
[null,null,null,null,null,null,null,null,{"$f":"IF(ISBLANK(#REF!),\"\",$F$11*#REF!+$G$11)","v":{"$error":"#REF!"}},{"$f":"IF(ISBLANK(I49876),\"\",$F$12*#REF!+$G$12)","v":{"$error":"#REF!"}}]
[null,null,null,null,null,null,null,null,{"$f":"IF(ISBLANK(#REF!),\"\",$F$11*#REF!+$G$11)","v":{"$error":"#REF!"}},{"$f":"IF(ISBLANK(I49877),\"\",$F$12*#REF!+$G$12)","v":{"$error":"#REF!"}}]
[null,null,null,null,null,null,null,null,{"$f":"IF(ISBLANK(#REF!),\"\",$F$11*#REF!+$G$11)","v":{"$error":"#REF!"}},{"$f":"IF(ISBLANK(I49878),\"\",$F$12*#REF!+$G$12)","v":{"$error":"#REF!"}}]
[null,null,null,null,null,null,null,null,{"$f":"IF(ISBLANK(#REF!),\"\",$F$11*#REF!+$G$11)","v":{"$error":"#REF!"}},{"$f":"IF(ISBLANK(I49879),\"\",$F$12*#REF!+$G$12)","v":{"$error":"#REF!"}}]
[null,null,null,null,null,null,null,null,{"$f":"IF(ISBLANK(#REF!),\"\",$F$11*#REF!+$G$11)","v":{"$error":"#REF!"}},{"$f":"IF(ISBLANK(I49880),\"\",$F$12*#REF!+$G$12)","v":{"$error":"#REF!"}}]
[null,null,null,null,null,null,null,null,{"$f":"IF(ISBLANK(#REF!),\"\",$F$11*#REF!+$G$11)","v":{"$error":"#REF!"}},{"$f":"IF(ISBLANK(I49881),\"\",$F$12*#REF!+$G$12)","v":{"$error":"#REF!"}}]
[null,null,null,null,null,null,null,null,{"$f":"IF(ISBLANK(#REF!),\"\",$F$11*#REF!+$G$11)","v":{"$error":"#REF!"}},{"$f":"IF(ISBLANK(I49882),\"\",$F$12*#REF!+$G$12)","v":{"$error":"#REF!"}}]
[null,null,null,null,null,null,null,null,{"$f":"IF(ISBLANK(#REF!),\"\",$F$11*#REF!+$G$11)","v":{"$error":"#REF!"}},{"$f":"IF(ISBLANK(I49883),\"\",$F$12*#REF!+$G$12)","v":{"$error":"#REF!"}}]
[null,null,null,null,null,null,null,null,{"$f":"IF(ISBLANK(#REF!),\"\",$F$11*#REF!+$G$11)","v":{"$error":"#REF!"}},{"$f":"IF(ISBLANK(I49884),\"\",$F$12*#REF!+$G$12)","v":{"$error":"#REF!"}}]
[null,null,null,null,null,null,null,null,{"$f":"IF(ISBLANK(#REF!),\"\",$F$11*#REF!+$G$11)","v":{"$error":"#REF!"}},{"$f":"IF(ISBLANK(I49885),\"\",$F$12*#REF!+$G$12)","v":{"$error":"#REF!"}}]
[null,null,null,null,null,null,null,null,{"$f":"IF(ISBLANK(#REF!),\"\",$F$11*#REF!+$G$11)","v":{"$error":"#REF!"}},{"$f":"IF(ISBLANK(I49886),\"\",$F$12*#REF!+$G$12)","v":{"$error":"#REF!"}}]
[null,null,null,null,null,null,null,null,{"$f":"IF(ISBLANK(#REF!),\"\",$F$11*#REF!+$G$11)","v":{"$error":"#REF!"}},{"$f":"IF(ISBLANK(I49887),\"\",$F$12*#REF!+$G$12)","v":{"$error":"#REF!"}}]
[null,null,null,null,null,null,null,null,{"$f":"IF(ISBLANK(#REF!),\"\",$F$11*#REF!+$G$11)","v":{"$error":"#REF!"}},{"$f":"IF(ISBLANK(I49888),\"\",$F$12*#REF!+$G$12)","v":{"$error":"#REF!"}}]
[null,null,null,null,null,null,null,null,{"$f":"IF(ISBLANK(#REF!),\"\",$F$11*#REF!+$G$11)","v":{"$error":"#REF!"}},{"$f":"IF(ISBLANK(I49889),\"\",$F$12*#REF!+$G$12)","v":{"$error":"#REF!"}}]
[null,null,null,null,null,null,null,null,{"$f":"IF(ISBLANK(#REF!),\"\",$F$11*#REF!+$G$11)","v":{"$error":"#REF!"}},{"$f":"IF(ISBLANK(I49890),\"\",$F$12*#REF!+$G$12)","v":{"$error":"#REF!"}}]
[null,null,null,null,null,null,null,null,{"$f":"IF(ISBLANK(#REF!),\"\",$F$11*#REF!+$G$11)","v":{"$error":"#REF!"}},{"$f":"IF(ISBLANK(I49891),\"\",$F$12*#REF!+$G$12)","v":{"$error":"#REF!"}}]
[null,null,null,null,null,null,null,null,{"$f":"IF(ISBLANK(#REF!),\"\",$F$11*#REF!+$G$11)","v":{"$error":"#REF!"}},{"$f":"IF(ISBLANK(I49892),\"\",$F$12*#REF!+$G$12)","v":{"$error":"#REF!"}}]
[null,null,null,null,null,null,null,null,{"$f":"IF(ISBLANK(#REF!),\"\",$F$11*#REF!+$G$11)","v":{"$error":"#REF!"}},{"$f":"IF(ISBLANK(I49893),\"\",$F$12*#REF!+$G$12)","v":{"$error":"#REF!"}}]
[null,null,null,null,null,null,null,null,{"$f":"IF(ISBLANK(#REF!),\"\",$F$11*#REF!+$G$11)","v":{"$error":"#REF!"}},{"$f":"IF(ISBLANK(I49894),\"\",$F$12*#REF!+$G$12)","v":{"$error":"#REF!"}}]
[null,null,null,null,null,null,null,null,{"$f":"IF(ISBLANK(#REF!),\"\",$F$11*#REF!+$G$11)","v":{"$error":"#REF!"}},{"$f":"IF(ISBLANK(I49895),\"\",$F$12*#REF!+$G$12)","v":{"$error":"#REF!"}}]
[null,null,null,null,null,null,null,null,{"$f":"IF(ISBLANK(#REF!),\"\",$F$11*#REF!+$G$11)","v":{"$error":"#REF!"}},{"$f":"IF(ISBLANK(I49896),\"\",$F$12*#REF!+$G$12)","v":{"$error":"#REF!"}}]
[null,null,null,null,null,null,null,null,{"$f":"IF(ISBLANK(#REF!),\"\",$F$11*#REF!+$G$11)","v":{"$error":"#REF!"}},{"$f":"IF(ISBLANK(I49897),\"\",$F$12*#REF!+$G$12)","v":{"$error":"#REF!"}}]
[null,null,null,null,null,null,null,null,{"$f":"IF(ISBLANK(#REF!),\"\",$F$11*#REF!+$G$11)","v":{"$error":"#REF!"}},{"$f":"IF(ISBLANK(I49898),\"\",$F$12*#REF!+$G$12)","v":{"$error":"#REF!"}}]
[null,null,null,null,null,null,null,null,{"$f":"IF(ISBLANK(#REF!),\"\",$F$11*#REF!+$G$11)","v":{"$error":"#REF!"}},{"$f":"IF(ISBLANK(I49899),\"\",$F$12*#REF!+$G$12)","v":{"$error":"#REF!"}}]
[null,null,null,null,null,null,null,null,{"$f":"IF(ISBLANK(#REF!),\"\",$F$11*#REF!+$G$11)","v":{"$error":"#REF!"}},{"$f":"IF(ISBLANK(I49900),\"\",$F$12*#REF!+$G$12)","v":{"$error":"#REF!"}}]
[null,null,null,null,null,null,null,null,{"$f":"IF(ISBLANK(#REF!),\"\",$F$11*#REF!+$G$11)","v":{"$error":"#REF!"}},{"$f":"IF(ISBLANK(I49901),\"\",$F$12*#REF!+$G$12)","v":{"$error":"#REF!"}}]
[null,null,null,null,null,null,null,null,{"$f":"IF(ISBLANK(#REF!),\"\",$F$11*#REF!+$G$11)","v":{"$error":"#REF!"}},{"$f":"IF(ISBLANK(I49902),\"\",$F$12*#REF!+$G$12)","v":{"$error":"#REF!"}}]
[null,null,null,null,null,null,null,null,{"$f":"IF(ISBLANK(#REF!),\"\",$F$11*#REF!+$G$11)","v":{"$error":"#REF!"}},{"$f":"IF(ISBLANK(I49903),\"\",$F$12*#REF!+$G$12)","v":{"$error":"#REF!"}}]
[null,null,null,null,null,null,null,null,{"$f":"IF(ISBLANK(#REF!),\"\",$F$11*#REF!+$G$11)","v":{"$error":"#REF!"}},{"$f":"IF(ISBLANK(I49904),\"\",$F$12*#REF!+$G$12)","v":{"$error":"#REF!"}}]
[null,null,null,null,null,null,null,null,{"$f":"IF(ISBLANK(#REF!),\"\",$F$11*#REF!+$G$11)","v":{"$error":"#REF!"}},{"$f":"IF(ISBLANK(I49905),\"\",$F$12*#REF!+$G$12)","v":{"$error":"#REF!"}}]
[null,null,null,null,null,null,null,null,{"$f":"IF(ISBLANK(#REF!),\"\",$F$11*#REF!+$G$11)","v":{"$error":"#REF!"}},{"$f":"IF(ISBLANK(I49906),\"\",$F$12*#REF!+$G$12)","v":{"$error":"#REF!"}}]
[null,null,null,null,null,null,null,null,{"$f":"IF(ISBLANK(#REF!),\"\",$F$11*#REF!+$G$11)","v":{"$error":"#REF!"}},{"$f":"IF(ISBLANK(I49907),\"\",$F$12*#REF!+$G$12)","v":{"$error":"#REF!"}}]
[null,null,null,null,null,null,null,null,{"$f":"IF(ISBLANK(#REF!),\"\",$F$11*#REF!+$G$11)","v":{"$error":"#REF!"}},{"$f":"IF(ISBLANK(I49908),\"\",$F$12*#REF!+$G$12)","v":{"$error":"#REF!"}}]
[null,null,null,null,null,null,null,null,{"$f":"IF(ISBLANK(#REF!),\"\",$F$11*#REF!+$G$11)","v":{"$error":"#REF!"}},{"$f":"IF(ISBLANK(I49909),\"\",$F$12*#REF!+$G$12)","v":{"$error":"#REF!"}}]
[null,null,null,null,null,null,null,null,{"$f":"IF(ISBLANK(#REF!),\"\",$F$11*#REF!+$G$11)","v":{"$error":"#REF!"}},{"$f":"IF(ISBLANK(I49910),\"\",$F$12*#REF!+$G$12)","v":{"$error":"#REF!"}}]
[null,null,null,null,null,null,null,null,{"$f":"IF(ISBLANK(#REF!),\"\",$F$11*#REF!+$G$11)","v":{"$error":"#REF!"}},{"$f":"IF(ISBLANK(I49911),\"\",$F$12*#REF!+$G$12)","v":{"$error":"#REF!"}}]
[null,null,null,null,null,null,null,null,{"$f":"IF(ISBLANK(#REF!),\"\",$F$11*#REF!+$G$11)","v":{"$error":"#REF!"}},{"$f":"IF(ISBLANK(I49912),\"\",$F$12*#REF!+$G$12)","v":{"$error":"#REF!"}}]
[null,null,null,null,null,null,null,null,{"$f":"IF(ISBLANK(#REF!),\"\",$F$11*#REF!+$G$11)","v":{"$error":"#REF!"}},{"$f":"IF(ISBLANK(I49913),\"\",$F$12*#REF!+$G$12)","v":{"$error":"#REF!"}}]
[null,null,null,null,null,null,null,null,{"$f":"IF(ISBLANK(#REF!),\"\",$F$11*#REF!+$G$11)","v":{"$error":"#REF!"}},{"$f":"IF(ISBLANK(I49914),\"\",$F$12*#REF!+$G$12)","v":{"$error":"#REF!"}}]
[null,null,null,null,null,null,null,null,{"$f":"IF(ISBLANK(#REF!),\"\",$F$11*#REF!+$G$11)","v":{"$error":"#REF!"}},{"$f":"IF(ISBLANK(I49915),\"\",$F$12*#REF!+$G$12)","v":{"$error":"#REF!"}}]
[null,null,null,null,null,null,null,null,{"$f":"IF(ISBLANK(#REF!),\"\",$F$11*#REF!+$G$11)","v":{"$error":"#REF!"}},{"$f":"IF(ISBLANK(I49916),\"\",$F$12*#REF!+$G$12)","v":{"$error":"#REF!"}}]
[null,null,null,null,null,null,null,null,{"$f":"IF(ISBLANK(#REF!),\"\",$F$11*#REF!+$G$11)","v":{"$error":"#REF!"}},{"$f":"IF(ISBLANK(I49917),\"\",$F$12*#REF!+$G$12)","v":{"$error":"#REF!"}}]
[null,null,null,null,null,null,null,null,{"$f":"IF(ISBLANK(#REF!),\"\",$F$11*#REF!+$G$11)","v":{"$error":"#REF!"}},{"$f":"IF(ISBLANK(I49918),\"\",$F$12*#REF!+$G$12)","v":{"$error":"#REF!"}}]
[null,null,null,null,null,null,null,null,{"$f":"IF(ISBLANK(#REF!),\"\",$F$11*#REF!+$G$11)","v":{"$error":"#REF!"}},{"$f":"IF(ISBLANK(I49919),\"\",$F$12*#REF!+$G$12)","v":{"$error":"#REF!"}}]
[null,null,null,null,null,null,null,null,{"$f":"IF(ISBLANK(#REF!),\"\",$F$11*#REF!+$G$11)","v":{"$error":"#REF!"}},{"$f":"IF(ISBLANK(I49920),\"\",$F$12*#REF!+$G$12)","v":{"$error":"#REF!"}}]
[null,null,null,null,null,null,null,null,{"$f":"IF(ISBLANK(#REF!),\"\",$F$11*#REF!+$G$11)","v":{"$error":"#REF!"}},{"$f":"IF(ISBLANK(I49921),\"\",$F$12*#REF!+$G$12)","v":{"$error":"#REF!"}}]
[null,null,null,null,null,null,null,null,{"$f":"IF(ISBLANK(#REF!),\"\",$F$11*#REF!+$G$11)","v":{"$error":"#REF!"}},{"$f":"IF(ISBLANK(I49922),\"\",$F$12*#REF!+$G$12)","v":{"$error":"#REF!"}}]
[null,null,null,null,null,null,null,null,{"$f":"IF(ISBLANK(#REF!),\"\",$F$11*#REF!+$G$11)","v":{"$error":"#REF!"}},{"$f":"IF(ISBLANK(I49923),\"\",$F$12*#REF!+$G$12)","v":{"$error":"#REF!"}}]
[null,null,null,null,null,null,null,null,{"$f":"IF(ISBLANK(#REF!),\"\",$F$11*#REF!+$G$11)","v":{"$error":"#REF!"}},{"$f":"IF(ISBLANK(I49924),\"\",$F$12*#REF!+$G$12)","v":{"$error":"#REF!"}}]
[null,null,null,null,null,null,null,null,{"$f":"IF(ISBLANK(#REF!),\"\",$F$11*#REF!+$G$11)","v":{"$error":"#REF!"}},{"$f":"IF(ISBLANK(I49925),\"\",$F$12*#REF!+$G$12)","v":{"$error":"#REF!"}}]
[null,null,null,null,null,null,null,null,{"$f":"IF(ISBLANK(#REF!),\"\",$F$11*#REF!+$G$11)","v":{"$error":"#REF!"}},{"$f":"IF(ISBLANK(I49926),\"\",$F$12*#REF!+$G$12)","v":{"$error":"#REF!"}}]
[null,null,null,null,null,null,null,null,{"$f":"IF(ISBLANK(#REF!),\"\",$F$11*#REF!+$G$11)","v":{"$error":"#REF!"}},{"$f":"IF(ISBLANK(I49927),\"\",$F$12*#REF!+$G$12)","v":{"$error":"#REF!"}}]
[null,null,null,null,null,null,null,null,{"$f":"IF(ISBLANK(#REF!),\"\",$F$11*#REF!+$G$11)","v":{"$error":"#REF!"}},{"$f":"IF(ISBLANK(I49928),\"\",$F$12*#REF!+$G$12)","v":{"$error":"#REF!"}}]
[null,null,null,null,null,null,null,null,{"$f":"IF(ISBLANK(#REF!),\"\",$F$11*#REF!+$G$11)","v":{"$error":"#REF!"}},{"$f":"IF(ISBLANK(I49929),\"\",$F$12*#REF!+$G$12)","v":{"$error":"#REF!"}}]
[null,null,null,null,null,null,null,null,{"$f":"IF(ISBLANK(#REF!),\"\",$F$11*#REF!+$G$11)","v":{"$error":"#REF!"}},{"$f":"IF(ISBLANK(I49930),\"\",$F$12*#REF!+$G$12)","v":{"$error":"#REF!"}}]
[null,null,null,null,null,null,null,null,{"$f":"IF(ISBLANK(#REF!),\"\",$F$11*#REF!+$G$11)","v":{"$error":"#REF!"}},{"$f":"IF(ISBLANK(I49931),\"\",$F$12*#REF!+$G$12)","v":{"$error":"#REF!"}}]
[null,null,null,null,null,null,null,null,{"$f":"IF(ISBLANK(#REF!),\"\",$F$11*#REF!+$G$11)","v":{"$error":"#REF!"}},{"$f":"IF(ISBLANK(I49932),\"\",$F$12*#REF!+$G$12)","v":{"$error":"#REF!"}}]
[null,null,null,null,null,null,null,null,{"$f":"IF(ISBLANK(#REF!),\"\",$F$11*#REF!+$G$11)","v":{"$error":"#REF!"}},{"$f":"IF(ISBLANK(I49933),\"\",$F$12*#REF!+$G$12)","v":{"$error":"#REF!"}}]
[null,null,null,null,null,null,null,null,{"$f":"IF(ISBLANK(#REF!),\"\",$F$11*#REF!+$G$11)","v":{"$error":"#REF!"}},{"$f":"IF(ISBLANK(I49934),\"\",$F$12*#REF!+$G$12)","v":{"$error":"#REF!"}}]
[null,null,null,null,null,null,null,null,{"$f":"IF(ISBLANK(#REF!),\"\",$F$11*#REF!+$G$11)","v":{"$error":"#REF!"}},{"$f":"IF(ISBLANK(I49935),\"\",$F$12*#REF!+$G$12)","v":{"$error":"#REF!"}}]
[null,null,null,null,null,null,null,null,{"$f":"IF(ISBLANK(#REF!),\"\",$F$11*#REF!+$G$11)","v":{"$error":"#REF!"}},{"$f":"IF(ISBLANK(I49936),\"\",$F$12*#REF!+$G$12)","v":{"$error":"#REF!"}}]
[null,null,null,null,null,null,null,null,{"$f":"IF(ISBLANK(#REF!),\"\",$F$11*#REF!+$G$11)","v":{"$error":"#REF!"}},{"$f":"IF(ISBLANK(I49937),\"\",$F$12*#REF!+$G$12)","v":{"$error":"#REF!"}}]
[null,null,null,null,null,null,null,null,{"$f":"IF(ISBLANK(#REF!),\"\",$F$11*#REF!+$G$11)","v":{"$error":"#REF!"}},{"$f":"IF(ISBLANK(I49938),\"\",$F$12*#REF!+$G$12)","v":{"$error":"#REF!"}}]
[null,null,null,null,null,null,null,null,{"$f":"IF(ISBLANK(#REF!),\"\",$F$11*#REF!+$G$11)","v":{"$error":"#REF!"}},{"$f":"IF(ISBLANK(I49939),\"\",$F$12*#REF!+$G$12)","v":{"$error":"#REF!"}}]
[null,null,null,null,null,null,null,null,{"$f":"IF(ISBLANK(#REF!),\"\",$F$11*#REF!+$G$11)","v":{"$error":"#REF!"}},{"$f":"IF(ISBLANK(I49940),\"\",$F$12*#REF!+$G$12)","v":{"$error":"#REF!"}}]
[null,null,null,null,null,null,null,null,{"$f":"IF(ISBLANK(#REF!),\"\",$F$11*#REF!+$G$11)","v":{"$error":"#REF!"}},{"$f":"IF(ISBLANK(I49941),\"\",$F$12*#REF!+$G$12)","v":{"$error":"#REF!"}}]
[null,null,null,null,null,null,null,null,{"$f":"IF(ISBLANK(#REF!),\"\",$F$11*#REF!+$G$11)","v":{"$error":"#REF!"}},{"$f":"IF(ISBLANK(I49942),\"\",$F$12*#REF!+$G$12)","v":{"$error":"#REF!"}}]
[null,null,null,null,null,null,null,null,{"$f":"IF(ISBLANK(#REF!),\"\",$F$11*#REF!+$G$11)","v":{"$error":"#REF!"}},{"$f":"IF(ISBLANK(I49943),\"\",$F$12*#REF!+$G$12)","v":{"$error":"#REF!"}}]
[null,null,null,null,null,null,null,null,{"$f":"IF(ISBLANK(#REF!),\"\",$F$11*#REF!+$G$11)","v":{"$error":"#REF!"}},{"$f":"IF(ISBLANK(I49944),\"\",$F$12*#REF!+$G$12)","v":{"$error":"#REF!"}}]
[null,null,null,null,null,null,null,null,{"$f":"IF(ISBLANK(#REF!),\"\",$F$11*#REF!+$G$11)","v":{"$error":"#REF!"}},{"$f":"IF(ISBLANK(I49945),\"\",$F$12*#REF!+$G$12)","v":{"$error":"#REF!"}}]
[null,null,null,null,null,null,null,null,{"$f":"IF(ISBLANK(#REF!),\"\",$F$11*#REF!+$G$11)","v":{"$error":"#REF!"}},{"$f":"IF(ISBLANK(I49946),\"\",$F$12*#REF!+$G$12)","v":{"$error":"#REF!"}}]
[null,null,null,null,null,null,null,null,{"$f":"IF(ISBLANK(#REF!),\"\",$F$11*#REF!+$G$11)","v":{"$error":"#REF!"}},{"$f":"IF(ISBLANK(I49947),\"\",$F$12*#REF!+$G$12)","v":{"$error":"#REF!"}}]
[null,null,null,null,null,null,null,null,{"$f":"IF(ISBLANK(#REF!),\"\",$F$11*#REF!+$G$11)","v":{"$error":"#REF!"}},{"$f":"IF(ISBLANK(I49948),\"\",$F$12*#REF!+$G$12)","v":{"$error":"#REF!"}}]
[null,null,null,null,null,null,null,null,{"$f":"IF(ISBLANK(#REF!),\"\",$F$11*#REF!+$G$11)","v":{"$error":"#REF!"}},{"$f":"IF(ISBLANK(I49949),\"\",$F$12*#REF!+$G$12)","v":{"$error":"#REF!"}}]
[null,null,null,null,null,null,null,null,{"$f":"IF(ISBLANK(#REF!),\"\",$F$11*#REF!+$G$11)","v":{"$error":"#REF!"}},{"$f":"IF(ISBLANK(I49950),\"\",$F$12*#REF!+$G$12)","v":{"$error":"#REF!"}}]
[null,null,null,null,null,null,null,null,{"$f":"IF(ISBLANK(#REF!),\"\",$F$11*#REF!+$G$11)","v":{"$error":"#REF!"}},{"$f":"IF(ISBLANK(I49951),\"\",$F$12*#REF!+$G$12)","v":{"$error":"#REF!"}}]
[null,null,null,null,null,null,null,null,{"$f":"IF(ISBLANK(#REF!),\"\",$F$11*#REF!+$G$11)","v":{"$error":"#REF!"}},{"$f":"IF(ISBLANK(I49952),\"\",$F$12*#REF!+$G$12)","v":{"$error":"#REF!"}}]
[null,null,null,null,null,null,null,null,{"$f":"IF(ISBLANK(#REF!),\"\",$F$11*#REF!+$G$11)","v":{"$error":"#REF!"}},{"$f":"IF(ISBLANK(I49953),\"\",$F$12*#REF!+$G$12)","v":{"$error":"#REF!"}}]
[null,null,null,null,null,null,null,null,{"$f":"IF(ISBLANK(#REF!),\"\",$F$11*#REF!+$G$11)","v":{"$error":"#REF!"}},{"$f":"IF(ISBLANK(I49954),\"\",$F$12*#REF!+$G$12)","v":{"$error":"#REF!"}}]
[null,null,null,null,null,null,null,null,{"$f":"IF(ISBLANK(#REF!),\"\",$F$11*#REF!+$G$11)","v":{"$error":"#REF!"}},{"$f":"IF(ISBLANK(I49955),\"\",$F$12*#REF!+$G$12)","v":{"$error":"#REF!"}}]
[null,null,null,null,null,null,null,null,{"$f":"IF(ISBLANK(#REF!),\"\",$F$11*#REF!+$G$11)","v":{"$error":"#REF!"}},{"$f":"IF(ISBLANK(I49956),\"\",$F$12*#REF!+$G$12)","v":{"$error":"#REF!"}}]
[null,null,null,null,null,null,null,null,{"$f":"IF(ISBLANK(#REF!),\"\",$F$11*#REF!+$G$11)","v":{"$error":"#REF!"}},{"$f":"IF(ISBLANK(I49957),\"\",$F$12*#REF!+$G$12)","v":{"$error":"#REF!"}}]
[null,null,null,null,null,null,null,null,{"$f":"IF(ISBLANK(#REF!),\"\",$F$11*#REF!+$G$11)","v":{"$error":"#REF!"}},{"$f":"IF(ISBLANK(I49958),\"\",$F$12*#REF!+$G$12)","v":{"$error":"#REF!"}}]
[null,null,null,null,null,null,null,null,{"$f":"IF(ISBLANK(#REF!),\"\",$F$11*#REF!+$G$11)","v":{"$error":"#REF!"}},{"$f":"IF(ISBLANK(I49959),\"\",$F$12*#REF!+$G$12)","v":{"$error":"#REF!"}}]
[null,null,null,null,null,null,null,null,{"$f":"IF(ISBLANK(#REF!),\"\",$F$11*#REF!+$G$11)","v":{"$error":"#REF!"}},{"$f":"IF(ISBLANK(I49960),\"\",$F$12*#REF!+$G$12)","v":{"$error":"#REF!"}}]
[null,null,null,null,null,null,null,null,{"$f":"IF(ISBLANK(#REF!),\"\",$F$11*#REF!+$G$11)","v":{"$error":"#REF!"}},{"$f":"IF(ISBLANK(I49961),\"\",$F$12*#REF!+$G$12)","v":{"$error":"#REF!"}}]
[null,null,null,null,null,null,null,null,{"$f":"IF(ISBLANK(#REF!),\"\",$F$11*#REF!+$G$11)","v":{"$error":"#REF!"}},{"$f":"IF(ISBLANK(I49962),\"\",$F$12*#REF!+$G$12)","v":{"$error":"#REF!"}}]
[null,null,null,null,null,null,null,null,{"$f":"IF(ISBLANK(#REF!),\"\",$F$11*#REF!+$G$11)","v":{"$error":"#REF!"}},{"$f":"IF(ISBLANK(I49963),\"\",$F$12*#REF!+$G$12)","v":{"$error":"#REF!"}}]
[null,null,null,null,null,null,null,null,{"$f":"IF(ISBLANK(#REF!),\"\",$F$11*#REF!+$G$11)","v":{"$error":"#REF!"}},{"$f":"IF(ISBLANK(I49964),\"\",$F$12*#REF!+$G$12)","v":{"$error":"#REF!"}}]
[null,null,null,null,null,null,null,null,{"$f":"IF(ISBLANK(#REF!),\"\",$F$11*#REF!+$G$11)","v":{"$error":"#REF!"}},{"$f":"IF(ISBLANK(I49965),\"\",$F$12*#REF!+$G$12)","v":{"$error":"#REF!"}}]
[null,null,null,null,null,null,null,null,{"$f":"IF(ISBLANK(#REF!),\"\",$F$11*#REF!+$G$11)","v":{"$error":"#REF!"}},{"$f":"IF(ISBLANK(I49966),\"\",$F$12*#REF!+$G$12)","v":{"$error":"#REF!"}}]
[null,null,null,null,null,null,null,null,{"$f":"IF(ISBLANK(#REF!),\"\",$F$11*#REF!+$G$11)","v":{"$error":"#REF!"}},{"$f":"IF(ISBLANK(I49967),\"\",$F$12*#REF!+$G$12)","v":{"$error":"#REF!"}}]
[null,null,null,null,null,null,null,null,{"$f":"IF(ISBLANK(#REF!),\"\",$F$11*#REF!+$G$11)","v":{"$error":"#REF!"}},{"$f":"IF(ISBLANK(I49968),\"\",$F$12*#REF!+$G$12)","v":{"$error":"#REF!"}}]
[null,null,null,null,null,null,null,null,{"$f":"IF(ISBLANK(#REF!),\"\",$F$11*#REF!+$G$11)","v":{"$error":"#REF!"}},{"$f":"IF(ISBLANK(I49969),\"\",$F$12*#REF!+$G$12)","v":{"$error":"#REF!"}}]
[null,null,null,null,null,null,null,null,{"$f":"IF(ISBLANK(#REF!),\"\",$F$11*#REF!+$G$11)","v":{"$error":"#REF!"}},{"$f":"IF(ISBLANK(I49970),\"\",$F$12*#REF!+$G$12)","v":{"$error":"#REF!"}}]
[null,null,null,null,null,null,null,null,{"$f":"IF(ISBLANK(#REF!),\"\",$F$11*#REF!+$G$11)","v":{"$error":"#REF!"}},{"$f":"IF(ISBLANK(I49971),\"\",$F$12*#REF!+$G$12)","v":{"$error":"#REF!"}}]
[null,null,null,null,null,null,null,null,{"$f":"IF(ISBLANK(#REF!),\"\",$F$11*#REF!+$G$11)","v":{"$error":"#REF!"}},{"$f":"IF(ISBLANK(I49972),\"\",$F$12*#REF!+$G$12)","v":{"$error":"#REF!"}}]
[null,null,null,null,null,null,null,null,{"$f":"IF(ISBLANK(#REF!),\"\",$F$11*#REF!+$G$11)","v":{"$error":"#REF!"}},{"$f":"IF(ISBLANK(I49973),\"\",$F$12*#REF!+$G$12)","v":{"$error":"#REF!"}}]
[null,null,null,null,null,null,null,null,{"$f":"IF(ISBLANK(#REF!),\"\",$F$11*#REF!+$G$11)","v":{"$error":"#REF!"}},{"$f":"IF(ISBLANK(I49974),\"\",$F$12*#REF!+$G$12)","v":{"$error":"#REF!"}}]
[null,null,null,null,null,null,null,null,{"$f":"IF(ISBLANK(#REF!),\"\",$F$11*#REF!+$G$11)","v":{"$error":"#REF!"}},{"$f":"IF(ISBLANK(I49975),\"\",$F$12*#REF!+$G$12)","v":{"$error":"#REF!"}}]
[null,null,null,null,null,null,null,null,{"$f":"IF(ISBLANK(#REF!),\"\",$F$11*#REF!+$G$11)","v":{"$error":"#REF!"}},{"$f":"IF(ISBLANK(I49976),\"\",$F$12*#REF!+$G$12)","v":{"$error":"#REF!"}}]
[null,null,null,null,null,null,null,null,{"$f":"IF(ISBLANK(#REF!),\"\",$F$11*#REF!+$G$11)","v":{"$error":"#REF!"}},{"$f":"IF(ISBLANK(I49977),\"\",$F$12*#REF!+$G$12)","v":{"$error":"#REF!"}}]
[null,null,null,null,null,null,null,null,{"$f":"IF(ISBLANK(#REF!),\"\",$F$11*#REF!+$G$11)","v":{"$error":"#REF!"}},{"$f":"IF(ISBLANK(I49978),\"\",$F$12*#REF!+$G$12)","v":{"$error":"#REF!"}}]
[null,null,null,null,null,null,null,null,{"$f":"IF(ISBLANK(#REF!),\"\",$F$11*#REF!+$G$11)","v":{"$error":"#REF!"}},{"$f":"IF(ISBLANK(I49979),\"\",$F$12*#REF!+$G$12)","v":{"$error":"#REF!"}}]
[null,null,null,null,null,null,null,null,{"$f":"IF(ISBLANK(#REF!),\"\",$F$11*#REF!+$G$11)","v":{"$error":"#REF!"}},{"$f":"IF(ISBLANK(I49980),\"\",$F$12*#REF!+$G$12)","v":{"$error":"#REF!"}}]
[null,null,null,null,null,null,null,null,{"$f":"IF(ISBLANK(#REF!),\"\",$F$11*#REF!+$G$11)","v":{"$error":"#REF!"}},{"$f":"IF(ISBLANK(I49981),\"\",$F$12*#REF!+$G$12)","v":{"$error":"#REF!"}}]
[null,null,null,null,null,null,null,null,{"$f":"IF(ISBLANK(#REF!),\"\",$F$11*#REF!+$G$11)","v":{"$error":"#REF!"}},{"$f":"IF(ISBLANK(I49982),\"\",$F$12*#REF!+$G$12)","v":{"$error":"#REF!"}}]
[null,null,null,null,null,null,null,null,{"$f":"IF(ISBLANK(#REF!),\"\",$F$11*#REF!+$G$11)","v":{"$error":"#REF!"}},{"$f":"IF(ISBLANK(I49983),\"\",$F$12*#REF!+$G$12)","v":{"$error":"#REF!"}}]
[null,null,null,null,null,null,null,null,{"$f":"IF(ISBLANK(#REF!),\"\",$F$11*#REF!+$G$11)","v":{"$error":"#REF!"}},{"$f":"IF(ISBLANK(I49984),\"\",$F$12*#REF!+$G$12)","v":{"$error":"#REF!"}}]
[null,null,null,null,null,null,null,null,{"$f":"IF(ISBLANK(#REF!),\"\",$F$11*#REF!+$G$11)","v":{"$error":"#REF!"}},{"$f":"IF(ISBLANK(I49985),\"\",$F$12*#REF!+$G$12)","v":{"$error":"#REF!"}}]
[null,null,null,null,null,null,null,null,{"$f":"IF(ISBLANK(#REF!),\"\",$F$11*#REF!+$G$11)","v":{"$error":"#REF!"}},{"$f":"IF(ISBLANK(I49986),\"\",$F$12*#REF!+$G$12)","v":{"$error":"#REF!"}}]
[null,null,null,null,null,null,null,null,{"$f":"IF(ISBLANK(#REF!),\"\",$F$11*#REF!+$G$11)","v":{"$error":"#REF!"}},{"$f":"IF(ISBLANK(I49987),\"\",$F$12*#REF!+$G$12)","v":{"$error":"#REF!"}}]
[null,null,null,null,null,null,null,null,{"$f":"IF(ISBLANK(#REF!),\"\",$F$11*#REF!+$G$11)","v":{"$error":"#REF!"}},{"$f":"IF(ISBLANK(I49988),\"\",$F$12*#REF!+$G$12)","v":{"$error":"#REF!"}}]
[null,null,null,null,null,null,null,null,{"$f":"IF(ISBLANK(#REF!),\"\",$F$11*#REF!+$G$11)","v":{"$error":"#REF!"}},{"$f":"IF(ISBLANK(I49989),\"\",$F$12*#REF!+$G$12)","v":{"$error":"#REF!"}}]
[null,null,null,null,null,null,null,null,{"$f":"IF(ISBLANK(#REF!),\"\",$F$11*#REF!+$G$11)","v":{"$error":"#REF!"}},{"$f":"IF(ISBLANK(I49990),\"\",$F$12*#REF!+$G$12)","v":{"$error":"#REF!"}}]
[null,null,null,null,null,null,null,null,{"$f":"IF(ISBLANK(#REF!),\"\",$F$11*#REF!+$G$11)","v":{"$error":"#REF!"}},{"$f":"IF(ISBLANK(I49991),\"\",$F$12*#REF!+$G$12)","v":{"$error":"#REF!"}}]
[null,null,null,null,null,null,null,null,{"$f":"IF(ISBLANK(#REF!),\"\",$F$11*#REF!+$G$11)","v":{"$error":"#REF!"}},{"$f":"IF(ISBLANK(I49992),\"\",$F$12*#REF!+$G$12)","v":{"$error":"#REF!"}}]
[null,null,null,null,null,null,null,null,{"$f":"IF(ISBLANK(#REF!),\"\",$F$11*#REF!+$G$11)","v":{"$error":"#REF!"}},{"$f":"IF(ISBLANK(I49993),\"\",$F$12*#REF!+$G$12)","v":{"$error":"#REF!"}}]
[null,null,null,null,null,null,null,null,{"$f":"IF(ISBLANK(#REF!),\"\",$F$11*#REF!+$G$11)","v":{"$error":"#REF!"}},{"$f":"IF(ISBLANK(I49994),\"\",$F$12*#REF!+$G$12)","v":{"$error":"#REF!"}}]
[null,null,null,null,null,null,null,null,{"$f":"IF(ISBLANK(#REF!),\"\",$F$11*#REF!+$G$11)","v":{"$error":"#REF!"}},{"$f":"IF(ISBLANK(I49995),\"\",$F$12*#REF!+$G$12)","v":{"$error":"#REF!"}}]
[null,null,null,null,null,null,null,null,{"$f":"IF(ISBLANK(#REF!),\"\",$F$11*#REF!+$G$11)","v":{"$error":"#REF!"}},{"$f":"IF(ISBLANK(I49996),\"\",$F$12*#REF!+$G$12)","v":{"$error":"#REF!"}}]
[null,null,null,null,null,null,null,null,{"$f":"IF(ISBLANK(#REF!),\"\",$F$11*#REF!+$G$11)","v":{"$error":"#REF!"}},{"$f":"IF(ISBLANK(I49997),\"\",$F$12*#REF!+$G$12)","v":{"$error":"#REF!"}}]
[null,null,null,null,null,null,null,null,{"$f":"IF(ISBLANK(#REF!),\"\",$F$11*#REF!+$G$11)","v":{"$error":"#REF!"}},{"$f":"IF(ISBLANK(I49998),\"\",$F$12*#REF!+$G$12)","v":{"$error":"#REF!"}}]
[null,null,null,null,null,null,null,null,{"$f":"IF(ISBLANK(#REF!),\"\",$F$11*#REF!+$G$11)","v":{"$error":"#REF!"}},{"$f":"IF(ISBLANK(I49999),\"\",$F$12*#REF!+$G$12)","v":{"$error":"#REF!"}}]
[null,null,null,null,null,null,null,null,{"$f":"IF(ISBLANK(#REF!),\"\",$F$11*#REF!+$G$11)","v":{"$error":"#REF!"}},{"$f":"IF(ISBLANK(I50000),\"\",$F$12*#REF!+$G$12)","v":{"$error":"#REF!"}}]
[null,null,null,null,null,null,null,null,{"$f":"IF(ISBLANK(#REF!),\"\",$F$11*#REF!+$G$11)","v":{"$error":"#REF!"}},{"$f":"IF(ISBLANK(I50001),\"\",$F$12*#REF!+$G$12)","v":{"$error":"#REF!"}}]
[null,null,null,null,null,null,null,null,{"$f":"IF(ISBLANK(#REF!),\"\",$F$11*#REF!+$G$11)","v":{"$error":"#REF!"}},{"$f":"IF(ISBLANK(I50002),\"\",$F$12*#REF!+$G$12)","v":{"$error":"#REF!"}}]
[null,null,null,null,null,null,null,null,{"$f":"IF(ISBLANK(#REF!),\"\",$F$11*#REF!+$G$11)","v":{"$error":"#REF!"}},{"$f":"IF(ISBLANK(I50003),\"\",$F$12*#REF!+$G$12)","v":{"$error":"#REF!"}}]
[null,null,null,null,null,null,null,null,{"$f":"IF(ISBLANK(#REF!),\"\",$F$11*#REF!+$G$11)","v":{"$error":"#REF!"}},{"$f":"IF(ISBLANK(I50004),\"\",$F$12*#REF!+$G$12)","v":{"$error":"#REF!"}}]
[null,null,null,null,null,null,null,null,{"$f":"IF(ISBLANK(#REF!),\"\",$F$11*#REF!+$G$11)","v":{"$error":"#REF!"}},{"$f":"IF(ISBLANK(I50005),\"\",$F$12*#REF!+$G$12)","v":{"$error":"#REF!"}}]
[null,null,null,null,null,null,null,null,{"$f":"IF(ISBLANK(#REF!),\"\",$F$11*#REF!+$G$11)","v":{"$error":"#REF!"}},{"$f":"IF(ISBLANK(I50006),\"\",$F$12*#REF!+$G$12)","v":{"$error":"#REF!"}}]
[null,null,null,null,null,null,null,null,{"$f":"IF(ISBLANK(#REF!),\"\",$F$11*#REF!+$G$11)","v":{"$error":"#REF!"}},{"$f":"IF(ISBLANK(I50007),\"\",$F$12*#REF!+$G$12)","v":{"$error":"#REF!"}}]

{"sheet":"Linear Modeling","index":1,"n_rows":50010,"n_cols":15,"rows_kept":4500,"cut":true,"hidden":false,"merged":[[3,5,3,8],[7,5,7,6],[7,7,7,8]],"bounds":{"rows_first":2000,"rows_last":500,"rows_between":2000,"halvings":0}}
[]
[]
[]
[null,null,null,null,null,"Plot Title"]
[]
[]
[]
[null,null,null,null,null,"\"Run\"",null,"\"Rise\""]
[null,null,null,null,null,null,null,null,null,null,null,{"$f":"IF(ISBLANK(F11),\"\",F11)","v":"line 1"},{"$f":"IF(ISBLANK(F12),\"\",F12)","v":"line 2"},"line 3",{"$f":"IF(ISBLANK(F14),\"\",F14)","v":"line 4"}]
[null,null,null,null,null,null,"Variable Cost","Fixed Cost",null,null,{"$f":"G17","v":0},{"$f":"IF(ISBLANK(K10),\"\",$G$11*K10+$H$11)","v":0},{"$f":"IF(ISBLANK(K10),\"\",$G$12*K10+$H$12)","v":0},{"$f":"IF(ISBLANK(K10),\"\",$G$13*K10+$H$13)","v":0},{"$f":"IF(ISBLANK(K10),\"\",$G$14*K10+$H$14)","v":0}]
[null,null,null,null,null,"line 1",null,null,null,null,{"$f":"IF(K10+$G$19<=$G$18,K10+$G$19,NA())","v":0.2},{"$f":"IF(ISBLANK(K11),\"\",$G$11*K11+$H$11)","v":0},{"$f":"IF(ISBLANK(L11),\"\",$G$12*K11+$H$12)","v":0},{"$f":"IF(ISBLANK(K11),\"\",$G$13*K11+$H$13)","v":0},{"$f":"IF(ISBLANK(M11),\"\",$G$14*K11+$H$14)","v":0}]
[null,null,null,null,null,"line 2",null,null,null,null,{"$f":"IF(K11+$G$19<=$G$18,K11+$G$19,NA())","v":0.4},{"$f":"IF(ISBLANK(K12),\"\",$G$11*K12+$H$11)","v":0},{"$f":"IF(ISBLANK(L12),\"\",$G$12*K12+$H$12)","v":0},0,{"$f":"IF(ISBLANK(M12),\"\",$G$14*K12+$H$14)","v":0}]
[null,null,null,null,null,"line 3",null,null,null,null,0.60000000000000009,{"$f":"IF(ISBLANK(K13),\"\",$G$11*K13+$H$11)","v":0},{"$f":"IF(ISBLANK(L13),\"\",$G$12*K13+$H$12)","v":0},0,{"$f":"IF(ISBLANK(M13),\"\",$G$14*K13+$H$14)","v":0}]
[null,null,null,null,null,"line 4",null,null,null,null,0.8,0,0,0,0]
[null,null,null,null,null,null,null,null,null,null,1,0,0,0,0]
[null,null,null,null,null,null,null,null,null,null,1.2,0,0,0,0]
[null,null,null,null,null,"Run Min",0,null,null,null,1.4,0,0,0,0]
[null,null,null,null,null,"Run Max",200,null,null,null,1.5999999999999999,0,0,0,0]
[null,null,null,null,null,"Run Scale",{"$f":"G18/1000","v":0.2},null,null,null,1.7999999999999998,0,0,0,0]
[null,null,null,null,null,null,null,null,null,null,1.9999999999999998,0,0,0,0]
[null,null,null,null,null,null,null,null,null,null,2.1999999999999997,0,0,0,0]
[null,null,null,null,null,null,null,null,null,null,2.4,0,0,0,0]
[null,null,null,null,null,null,null,null,null,null,2.6,0,0,0,0]
[null,null,null,null,null,null,null,null,null,null,2.8000000000000003,0,0,0,0]
[null,null,null,null,null,null,null,null,null,null,3.0000000000000004,0,0,0,0]
[null,null,null,null,null,null,null,null,null,null,3.2000000000000006,0,0,0,0]
[null,null,null,null,null,null,null,null,null,null,3.4000000000000008,0,0,0,0]
[null,null,null,null,null,null,null,null,null,null,3.600000000000001,0,0,0,0]
[null,null,null,null,null,null,null,null,null,null,3.8000000000000012,0,0,0,0]
[null,null,null,null,null,null,null,null,null,null,4.0000000000000009,0,0,0,0]
[null,null,null,null,null,null,null,null,null,null,4.2000000000000011,0,0,0,0]
[null,null,null,null,null,null,null,null,null,null,4.4000000000000012,0,0,0,0]
[null,null,null,null,null,null,null,null,null,null,4.6000000000000014,0,0,0,0]
[null,null,null,null,null,null,null,null,null,null,4.8000000000000016,0,0,0,0]
[null,null,null,null,null,null,null,null,null,null,5.0000000000000018,0,0,0,0]
[null,null,null,null,null,null,null,null,null,null,5.200000000000002,0,0,0,0]
[null,null,null,null,null,null,null,null,null,null,5.4000000000000021,0,0,0,0]
[null,null,null,null,null,null,null,null,null,null,5.6000000000000023,0,0,0,0]
[null,null,null,null,null,null,null,null,null,null,5.8000000000000025,0,0,0,0]
[null,null,null,null,null,null,null,null,null,null,6.0000000000000027,0,0,0,0]
[null,null,null,null,null,null,null,null,null,null,6.2000000000000028,0,0,0,0]
[null,null,null,null,null,null,null,null,null,null,6.400000000000003,0,0,0,0]
[null,null,null,null,null,null,null,null,null,null,6.6000000000000032,0,0,0,0]
[null,null,null,null,null,null,null,null,null,null,6.8000000000000034,0,0,0,0]
[null,null,null,null,null,null,null,null,null,null,7.0000000000000036,0,0,0,0]
[null,null,null,null,null,null,null,null,null,null,7.2000000000000037,0,0,0,0]
[null,null,null,null,null,null,null,null,null,null,7.4000000000000039,0,0,0,0]
[null,null,null,null,null,null,null,null,null,null,7.6000000000000041,0,0,0,0]
[null,null,null,null,null,null,null,null,null,null,7.8000000000000043,0,0,0,0]
[null,null,null,null,null,null,null,null,null,null,8.0000000000000036,0,0,0,0]
[null,null,null,null,null,null,null,null,null,null,8.2000000000000028,0,0,0,0]
[null,null,null,null,null,null,null,null,null,null,8.4000000000000021,0,0,0,0]
[null,null,null,null,null,null,null,null,null,null,8.6000000000000014,0,0,0,0]
[null,null,null,null,null,null,null,null,null,null,8.8000000000000007,0,0,0,0]
[null,null,null,null,null,null,null,null,null,null,9,0,0,0,0]
[null,null,null,null,null,null,null,null,null,null,9.1999999999999993,0,0,0,0]
[null,null,null,null,null,null,null,null,null,null,9.3999999999999986,0,0,0,0]
[null,null,null,null,null,null,null,null,null,null,9.5999999999999979,0,0,0,0]
[null,null,null,null,null,null,null,null,null,null,9.7999999999999972,0,0,0,0]
[null,null,null,null,null,null,null,null,null,null,9.9999999999999964,0,0,0,0]
[null,null,null,null,null,null,null,null,null,null,10.199999999999996,0,0,0,0]
[null,null,null,null,null,null,null,null,null,null,10.399999999999995,0,0,0,0]
[null,null,null,null,null,null,null,null,null,null,10.599999999999994,0,0,0,0]
[null,null,null,null,null,null,null,null,null,null,10.799999999999994,0,0,0,0]
[null,null,null,null,null,null,null,null,null,null,10.999999999999993,0,0,0,0]
[null,null,null,null,null,null,null,null,null,null,11.199999999999992,0,0,0,0]
[null,null,null,null,null,null,null,null,null,null,11.399999999999991,0,0,0,0]
[null,null,null,null,null,null,null,null,null,null,11.599999999999991,0,0,0,0]
[null,null,null,null,null,null,null,null,null,null,11.79999999999999,0,0,0,0]
[null,null,null,null,null,null,null,null,null,null,11.999999999999989,0,0,0,0]
[null,null,null,null,null,null,null,null,null,null,12.199999999999989,0,0,0,0]
[null,null,null,null,null,null,null,null,null,null,12.399999999999988,0,0,0,0]
[null,null,null,null,null,null,null,null,null,null,12.599999999999987,0,0,0,0]
[null,null,null,null,null,null,null,null,null,null,12.799999999999986,0,0,0,0]
[null,null,null,null,null,null,null,null,null,null,12.999999999999986,0,0,{"$f":"IF(ISBLANK(K75),\"\",$G$13*K75+$H$13)","v":0},0]
[null,null,null,null,null,null,null,null,null,null,{"$f":"IF(K75+$G$19<=$G$18,K75+$G$19,NA())","v":13.199999999999985},0,0,0,0]
[null,null,null,null,null,null,null,null,null,null,13.399999999999984,{"$f":"IF(ISBLANK(K77),\"\",$G$11*K77+$H$11)","v":0},{"$f":"IF(ISBLANK(L77),\"\",$G$12*K77+$H$12)","v":0},0,{"$f":"IF(ISBLANK(M77),\"\",$G$14*K77+$H$14)","v":0}]
[null,null,null,null,null,null,null,null,null,null,13.599999999999984,0,0,0,0]
[null,null,null,null,null,null,null,null,null,null,13.799999999999983,0,0,0,0]
[null,null,null,null,null,null,null,null,null,null,13.999999999999982,0,0,0,0]
[null,null,null,null,null,null,null,null,null,null,14.199999999999982,0,0,0,0]
[null,null,null,null,null,null,null,null,null,null,14.399999999999981,0,0,0,0]
[null,null,null,null,null,null,null,null,null,null,14.59999999999998,0,0,0,0]
[null,null,null,null,null,null,null,null,null,null,14.799999999999979,0,0,0,0]
[null,null,null,null,null,null,null,null,null,null,14.999999999999979,0,0,0,0]
[null,null,null,null,null,null,null,null,null,null,15.199999999999978,0,0,0,0]
[null,null,null,null,null,null,null,null,null,null,15.399999999999977,0,0,0,0]
[null,null,null,null,null,null,null,null,null,null,15.599999999999977,0,0,0,0]
[null,null,null,null,null,null,null,null,null,null,15.799999999999976,0,0,0,0]
[null,null,null,null,null,null,null,null,null,null,15.999999999999975,0,0,0,0]
[null,null,null,null,null,null,null,null,null,null,16.199999999999974,0,0,0,0]
[null,null,null,null,null,null,null,null,null,null,16.399999999999974,0,0,0,0]
[null,null,null,null,null,null,null,null,null,null,16.599999999999973,0,0,0,0]
[null,null,null,null,null,null,null,null,null,null,16.799999999999972,0,0,0,0]
[null,null,null,null,null,null,null,null,null,null,16.999999999999972,0,0,0,0]
[null,null,null,null,null,null,null,null,null,null,17.199999999999971,0,0,0,0]
[null,null,null,null,null,null,null,null,null,null,17.39999999999997,0,0,0,0]
[null,null,null,null,null,null,null,null,null,null,17.599999999999969,0,0,0,0]
[null,null,null,null,null,null,null,null,null,null,17.799999999999969,0,0,0,0]
[null,null,null,null,null,null,null,null,null,null,17.999999999999968,0,0,0,0]
[null,null,null,null,null,null,null,null,null,null,18.199999999999967,0,0,0,0]
[null,null,null,null,null,null,null,null,null,null,18.399999999999967,0,0,0,0]
[null,null,null,null,null,null,null,null,null,null,18.599999999999966,0,0,0,0]
[null,null,null,null,null,null,null,null,null,null,18.799999999999965,0,0,0,0]
[null,null,null,null,null,null,null,null,null,null,18.999999999999964,0,0,0,0]
[null,null,null,null,null,null,null,null,null,null,19.199999999999964,0,0,0,0]
[null,null,null,null,null,null,null,null,null,null,19.399999999999963,0,0,0,0]
[null,null,null,null,null,null,null,null,null,null,19.599999999999962,0,0,0,0]
[null,null,null,null,null,null,null,null,null,null,19.799999999999962,0,0,0,0]
[null,null,null,null,null,null,null,null,null,null,19.999999999999961,0,0,0,0]
[null,null,null,null,null,null,null,null,null,null,20.19999999999996,0,0,0,0]
[null,null,null,null,null,null,null,null,null,null,20.399999999999959,0,0,0,0]
[null,null,null,null,null,null,null,null,null,null,20.599999999999959,0,0,0,0]
[null,null,null,null,null,null,null,null,null,null,20.799999999999958,0,0,0,0]
[null,null,null,null,null,null,null,null,null,null,20.999999999999957,0,0,0,0]
[null,null,null,null,null,null,null,null,null,null,21.199999999999957,0,0,0,0]
[null,null,null,null,null,null,null,null,null,null,21.399999999999956,0,0,0,0]
[null,null,null,null,null,null,null,null,null,null,21.599999999999955,0,0,0,0]
[null,null,null,null,null,null,null,null,null,null,21.799999999999955,0,0,0,0]
[null,null,null,null,null,null,null,null,null,null,21.999999999999954,0,0,0,0]
[null,null,null,null,null,null,null,null,null,null,22.199999999999953,0,0,0,0]
[null,null,null,null,null,null,null,null,null,null,22.399999999999952,0,0,0,0]
[null,null,null,null,null,null,null,null,null,null,22.599999999999952,0,0,0,0]
[null,null,null,null,null,null,null,null,null,null,22.799999999999951,0,0,0,0]
[null,null,null,null,null,null,null,null,null,null,22.99999999999995,0,0,0,0]
[null,null,null,null,null,null,null,null,null,null,23.19999999999995,0,0,0,0]
[null,null,null,null,null,null,null,null,null,null,23.399999999999949,0,0,0,0]
[null,null,null,null,null,null,null,null,null,null,23.599999999999948,0,0,0,0]
[null,null,null,null,null,null,null,null,null,null,23.799999999999947,0,0,0,0]
[null,null,null,null,null,null,null,null,null,null,23.999999999999947,0,0,0,0]
[null,null,null,null,null,null,null,null,null,null,24.199999999999946,0,0,0,0]
[null,null,null,null,null,null,null,null,null,null,24.399999999999945,0,0,0,0]
[null,null,null,null,null,null,null,null,null,null,24.599999999999945,0,0,0,0]
[null,null,null,null,null,null,null,null,null,null,24.799999999999944,0,0,0,0]
[null,null,null,null,null,null,null,null,null,null,24.999999999999943,0,0,0,0]
[null,null,null,null,null,null,null,null,null,null,25.199999999999942,0,0,0,0]
[null,null,null,null,null,null,null,null,null,null,25.399999999999942,0,0,0,0]
[null,null,null,null,null,null,null,null,null,null,25.599999999999941,0,0,0,0]
[null,null,null,null,null,null,null,null,null,null,25.79999999999994,0,0,{"$f":"IF(ISBLANK(K139),\"\",$G$13*K139+$H$13)","v":0},0]
[null,null,null,null,null,null,null,null,null,null,{"$f":"IF(K139+$G$19<=$G$18,K139+$G$19,NA())","v":25.99999999999994},0,0,0,0]
[null,null,null,null,null,null,null,null,null,null,26.199999999999939,{"$f":"IF(ISBLANK(K141),\"\",$G$11*K141+$H$11)","v":0},{"$f":"IF(ISBLANK(L141),\"\",$G$12*K141+$H$12)","v":0},0,{"$f":"IF(ISBLANK(M141),\"\",$G$14*K141+$H$14)","v":0}]
[null,null,null,null,null,null,null,null,null,null,26.399999999999938,0,0,0,0]
[null,null,null,null,null,null,null,null,null,null,26.599999999999937,0,0,0,0]
[null,null,null,null,null,null,null,null,null,null,26.799999999999937,0,0,0,0]
[null,null,null,null,null,null,null,null,null,null,26.999999999999936,0,0,0,0]
[null,null,null,null,null,null,null,null,null,null,27.199999999999935,0,0,0,0]
[null,null,null,null,null,null,null,null,null,null,27.399999999999935,0,0,0,0]
[null,null,null,null,null,null,null,null,null,null,27.599999999999934,0,0,0,0]
[null,null,null,null,null,null,null,null,null,null,27.799999999999933,0,0,0,0]
[null,null,null,null,null,null,null,null,null,null,27.999999999999932,0,0,0,0]
[null,null,null,null,null,null,null,null,null,null,28.199999999999932,0,0,0,0]
[null,null,null,null,null,null,null,null,null,null,28.399999999999931,0,0,0,0]
[null,null,null,null,null,null,null,null,null,null,28.59999999999993,0,0,0,0]
[null,null,null,null,null,null,null,null,null,null,28.79999999999993,0,0,0,0]
[null,null,null,null,null,null,null,null,null,null,28.999999999999929,0,0,0,0]
[null,null,null,null,null,null,null,null,null,null,29.199999999999928,0,0,0,0]
[null,null,null,null,null,null,null,null,null,null,29.399999999999928,0,0,0,0]
[null,null,null,null,null,null,null,null,null,null,29.599999999999927,0,0,0,0]
[null,null,null,null,null,null,null,null,null,null,29.799999999999926,0,0,0,0]
[null,null,null,null,null,null,null,null,null,null,29.999999999999925,0,0,0,0]
[null,null,null,null,null,null,null,null,null,null,30.199999999999925,0,0,0,0]
[null,null,null,null,null,null,null,null,null,null,30.399999999999924,0,0,0,0]
[null,null,null,null,null,null,null,null,null,null,30.599999999999923,0,0,0,0]
[null,null,null,null,null,null,null,null,null,null,30.799999999999923,0,0,0,0]
[null,null,null,null,null,null,null,null,null,null,30.999999999999922,0,0,0,0]
[null,null,null,null,null,null,null,null,null,null,31.199999999999921,0,0,0,0]
[null,null,null,null,null,null,null,null,null,null,31.39999999999992,0,0,0,0]
[null,null,null,null,null,null,null,null,null,null,31.59999999999992,0,0,0,0]
[null,null,null,null,null,null,null,null,null,null,31.799999999999919,0,0,0,0]
[null,null,null,null,null,null,null,null,null,null,31.999999999999918,0,0,0,0]
[null,null,null,null,null,null,null,null,null,null,32.199999999999918,0,0,0,0]
[null,null,null,null,null,null,null,null,null,null,32.39999999999992,0,0,0,0]
[null,null,null,null,null,null,null,null,null,null,32.599999999999923,0,0,0,0]
[null,null,null,null,null,null,null,null,null,null,32.799999999999926,0,0,0,0]
[null,null,null,null,null,null,null,null,null,null,32.999999999999929,0,0,0,0]
[null,null,null,null,null,null,null,null,null,null,33.199999999999932,0,0,0,0]
[null,null,null,null,null,null,null,null,null,null,33.399999999999935,0,0,0,0]
[null,null,null,null,null,null,null,null,null,null,33.599999999999937,0,0,0,0]
[null,null,null,null,null,null,null,null,null,null,33.79999999999994,0,0,0,0]
[null,null,null,null,null,null,null,null,null,null,33.999999999999943,0,0,0,0]
[null,null,null,null,null,null,null,null,null,null,34.199999999999946,0,0,0,0]
[null,null,null,null,null,null,null,null,null,null,34.399999999999949,0,0,0,0]
[null,null,null,null,null,null,null,null,null,null,34.599999999999952,0,0,0,0]
[null,null,null,null,null,null,null,null,null,null,34.799999999999955,0,0,0,0]
[null,null,null,null,null,null,null,null,null,null,34.999999999999957,0,0,0,0]
[null,null,null,null,null,null,null,null,null,null,35.19999999999996,0,0,0,0]
[null,null,null,null,null,null,null,null,null,null,35.399999999999963,0,0,0,0]
[null,null,null,null,null,null,null,null,null,null,35.599999999999966,0,0,0,0]
[null,null,null,null,null,null,null,null,null,null,35.799999999999969,0,0,0,0]
[null,null,null,null,null,null,null,null,null,null,35.999999999999972,0,0,0,0]
[null,null,null,null,null,null,null,null,null,null,36.199999999999974,0,0,0,0]
[null,null,null,null,null,null,null,null,null,null,36.399999999999977,0,0,0,0]
[null,null,null,null,null,null,null,null,null,null,36.59999999999998,0,0,0,0]
[null,null,null,null,null,null,null,null,null,null,36.799999999999983,0,0,0,0]
[null,null,null,null,null,null,null,null,null,null,36.999999999999986,0,0,0,0]
[null,null,null,null,null,null,null,null,null,null,37.199999999999989,0,0,0,0]
[null,null,null,null,null,null,null,null,null,null,37.399999999999991,0,0,0,0]
[null,null,null,null,null,null,null,null,null,null,37.599999999999994,0,0,0,0]
[null,null,null,null,null,null,null,null,null,null,37.799999999999997,0,0,0,0]
[null,null,null,null,null,null,null,null,null,null,38,0,0,0,0]
[null,null,null,null,null,null,null,null,null,null,38.200000000000003,0,0,0,0]
[null,null,null,null,null,null,null,null,null,null,38.400000000000006,0,0,0,0]
[null,null,null,null,null,null,null,null,null,null,38.600000000000009,0,0,{"$f":"IF(ISBLANK(K203),\"\",$G$13*K203+$H$13)","v":0},0]
[null,null,null,null,null,null,null,null,null,null,{"$f":"IF(K203+$G$19<=$G$18,K203+$G$19,NA())","v":38.800000000000011},0,0,0,0]
[null,null,null,null,null,null,null,null,null,null,39.000000000000014,{"$f":"IF(ISBLANK(K205),\"\",$G$11*K205+$H$11)","v":0},{"$f":"IF(ISBLANK(L205),\"\",$G$12*K205+$H$12)","v":0},0,{"$f":"IF(ISBLANK(M205),\"\",$G$14*K205+$H$14)","v":0}]
[null,null,null,null,null,null,null,null,null,null,39.200000000000017,0,0,0,0]
[null,null,null,null,null,null,null,null,null,null,39.40000000000002,0,0,0,0]
[null,null,null,null,null,null,null,null,null,null,39.600000000000023,0,0,0,0]
[null,null,null,null,null,null,null,null,null,null,39.800000000000026,0,0,0,0]
[null,null,null,null,null,null,null,null,null,null,40.000000000000028,0,0,0,0]
[null,null,null,null,null,null,null,null,null,null,40.200000000000031,0,0,0,0]
[null,null,null,null,null,null,null,null,null,null,40.400000000000034,0,0,0,0]
[null,null,null,null,null,null,null,null,null,null,40.600000000000037,0,0,0,0]
[null,null,null,null,null,null,null,null,null,null,40.80000000000004,0,0,0,0]
[null,null,null,null,null,null,null,null,null,null,41.000000000000043,0,0,0,0]
[null,null,null,null,null,null,null,null,null,null,41.200000000000045,0,0,0,0]
[null,null,null,null,null,null,null,null,null,null,41.400000000000048,0,0,0,0]
[null,null,null,null,null,null,null,null,null,null,41.600000000000051,0,0,0,0]
[null,null,null,null,null,null,null,null,null,null,41.800000000000054,0,0,0,0]
[null,null,null,null,null,null,null,null,null,null,42.000000000000057,0,0,0,0]
[null,null,null,null,null,null,null,null,null,null,42.20000000000006,0,0,0,0]
[null,null,null,null,null,null,null,null,null,null,42.400000000000063,0,0,0,0]
[null,null,null,null,null,null,null,null,null,null,42.600000000000065,0,0,0,0]
[null,null,null,null,null,null,null,null,null,null,42.800000000000068,0,0,0,0]
[null,null,null,null,null,null,null,null,null,null,43.000000000000071,0,0,0,0]
[null,null,null,null,null,null,null,null,null,null,43.200000000000074,0,0,0,0]
[null,null,null,null,null,null,null,null,null,null,43.400000000000077,0,0,0,0]
[null,null,null,null,null,null,null,null,null,null,43.60000000000008,0,0,0,0]
[null,null,null,null,null,null,null,null,null,null,43.800000000000082,0,0,0,0]
[null,null,null,null,null,null,null,null,null,null,44.000000000000085,0,0,0,0]
[null,null,null,null,null,null,null,null,null,null,44.200000000000088,0,0,0,0]
[null,null,null,null,null,null,null,null,null,null,44.400000000000091,0,0,0,0]
[null,null,null,null,null,null,null,null,null,null,44.600000000000094,0,0,0,0]
[null,null,null,null,null,null,null,null,null,null,44.800000000000097,0,0,0,0]
[null,null,null,null,null,null,null,null,null,null,45.000000000000099,0,0,0,0]
[null,null,null,null,null,null,null,null,null,null,45.200000000000102,0,0,0,0]
[null,null,null,null,null,null,null,null,null,null,45.400000000000105,0,0,0,0]
[null,null,null,null,null,null,null,null,null,null,45.600000000000108,0,0,0,0]
[null,null,null,null,null,null,null,null,null,null,45.800000000000111,0,0,0,0]
[null,null,null,null,null,null,null,null,null,null,46.000000000000114,0,0,0,0]
[null,null,null,null,null,null,null,null,null,null,46.200000000000117,0,0,0,0]
[null,null,null,null,null,null,null,null,null,null,46.400000000000119,0,0,0,0]
[null,null,null,null,null,null,null,null,null,null,46.600000000000122,0,0,0,0]
[null,null,null,null,null,null,null,null,null,null,46.800000000000125,0,0,0,0]
[null,null,null,null,null,null,null,null,null,null,47.000000000000128,0,0,0,0]
[null,null,null,null,null,null,null,null,null,null,47.200000000000131,0,0,0,0]
[null,null,null,null,null,null,null,null,null,null,47.400000000000134,0,0,0,0]
[null,null,null,null,null,null,null,null,null,null,47.600000000000136,0,0,0,0]
[null,null,null,null,null,null,null,null,null,null,47.800000000000139,0,0,0,0]
[null,null,null,null,null,null,null,null,null,null,48.000000000000142,0,0,0,0]
[null,null,null,null,null,null,null,null,null,null,48.200000000000145,0,0,0,0]
[null,null,null,null,null,null,null,null,null,null,48.400000000000148,0,0,0,0]
[null,null,null,null,null,null,null,null,null,null,48.600000000000151,0,0,0,0]
[null,null,null,null,null,null,null,null,null,null,48.800000000000153,0,0,0,0]
[null,null,null,null,null,null,null,null,null,null,49.000000000000156,0,0,0,0]
[null,null,null,null,null,null,null,null,null,null,49.200000000000159,0,0,0,0]
[null,null,null,null,null,null,null,null,null,null,49.400000000000162,0,0,0,0]
[null,null,null,null,null,null,null,null,null,null,49.600000000000165,0,0,0,0]
[null,null,null,null,null,null,null,null,null,null,49.800000000000168,0,0,0,0]
[null,null,null,null,null,null,null,null,null,null,50.000000000000171,0,0,0,0]
[null,null,null,null,null,null,null,null,null,null,50.200000000000173,0,0,0,0]
[null,null,null,null,null,null,null,null,null,null,50.400000000000176,0,0,0,0]
[null,null,null,null,null,null,null,null,null,null,50.600000000000179,0,0,0,0]
[null,null,null,null,null,null,null,null,null,null,50.800000000000182,0,0,0,0]
[null,null,null,null,null,null,null,null,null,null,51.000000000000185,0,0,0,0]
[null,null,null,null,null,null,null,null,null,null,51.200000000000188,0,0,0,0]
[null,null,null,null,null,null,null,null,null,null,51.40000000000019,0,0,{"$f":"IF(ISBLANK(K267),\"\",$G$13*K267+$H$13)","v":0},0]
[null,null,null,null,null,null,null,null,null,null,{"$f":"IF(K267+$G$19<=$G$18,K267+$G$19,NA())","v":51.600000000000193},0,0,0,0]
[null,null,null,null,null,null,null,null,null,null,51.800000000000196,{"$f":"IF(ISBLANK(K269),\"\",$G$11*K269+$H$11)","v":0},{"$f":"IF(ISBLANK(L269),\"\",$G$12*K269+$H$12)","v":0},0,{"$f":"IF(ISBLANK(M269),\"\",$G$14*K269+$H$14)","v":0}]
[null,null,null,null,null,null,null,null,null,null,52.000000000000199,0,0,0,0]
[null,null,null,null,null,null,null,null,null,null,52.200000000000202,0,0,0,0]
[null,null,null,null,null,null,null,null,null,null,52.400000000000205,0,0,0,0]
[null,null,null,null,null,null,null,null,null,null,52.600000000000207,0,0,0,0]
[null,null,null,null,null,null,null,null,null,null,52.80000000000021,0,0,0,0]
[null,null,null,null,null,null,null,null,null,null,53.000000000000213,0,0,0,0]
[null,null,null,null,null,null,null,null,null,null,53.200000000000216,0,0,0,0]
[null,null,null,null,null,null,null,null,null,null,53.400000000000219,0,0,0,0]
[null,null,null,null,null,null,null,null,null,null,53.600000000000222,0,0,0,0]
[null,null,null,null,null,null,null,null,null,null,53.800000000000225,0,0,0,0]
[null,null,null,null,null,null,null,null,null,null,54.000000000000227,0,0,0,0]
[null,null,null,null,null,null,null,null,null,null,54.20000000000023,0,0,0,0]
[null,null,null,null,null,null,null,null,null,null,54.400000000000233,0,0,0,0]
[null,null,null,null,null,null,null,null,null,null,54.600000000000236,0,0,0,0]
[null,null,null,null,null,null,null,null,null,null,54.800000000000239,0,0,0,0]
[null,null,null,null,null,null,null,null,null,null,55.000000000000242,0,0,0,0]
[null,null,null,null,null,null,null,null,null,null,55.200000000000244,0,0,0,0]
[null,null,null,null,null,null,null,null,null,null,55.400000000000247,0,0,0,0]
[null,null,null,null,null,null,null,null,null,null,55.60000000000025,0,0,0,0]
[null,null,null,null,null,null,null,null,null,null,55.800000000000253,0,0,0,0]
[null,null,null,null,null,null,null,null,null,null,56.000000000000256,0,0,0,0]
[null,null,null,null,null,null,null,null,null,null,56.200000000000259,0,0,0,0]
[null,null,null,null,null,null,null,null,null,null,56.400000000000261,0,0,0,0]
[null,null,null,null,null,null,null,null,null,null,56.600000000000264,0,0,0,0]
[null,null,null,null,null,null,null,null,null,null,56.800000000000267,0,0,0,0]
[null,null,null,null,null,null,null,null,null,null,57.00000000000027,0,0,0,0]
[null,null,null,null,null,null,null,null,null,null,57.200000000000273,0,0,0,0]
[null,null,null,null,null,null,null,null,null,null,57.400000000000276,0,0,0,0]
[null,null,null,null,null,null,null,null,null,null,57.600000000000279,0,0,0,0]
[null,null,null,null,null,null,null,null,null,null,57.800000000000281,0,0,0,0]
[null,null,null,null,null,null,null,null,null,null,58.000000000000284,0,0,0,0]
[null,null,null,null,null,null,null,null,null,null,58.200000000000287,0,0,0,0]
[null,null,null,null,null,null,null,null,null,null,58.40000000000029,0,0,0,0]
[null,null,null,null,null,null,null,null,null,null,58.600000000000293,0,0,0,0]
[null,null,null,null,null,null,null,null,null,null,58.800000000000296,0,0,0,0]
[null,null,null,null,null,null,null,null,null,null,59.000000000000298,0,0,0,0]
[null,null,null,null,null,null,null,null,null,null,59.200000000000301,0,0,0,0]
[null,null,null,null,null,null,null,null,null,null,59.400000000000304,0,0,0,0]
[null,null,null,null,null,null,null,null,null,null,59.600000000000307,0,0,0,0]
[null,null,null,null,null,null,null,null,null,null,59.80000000000031,0,0,0,0]
[null,null,null,null,null,null,null,null,null,null,60.000000000000313,0,0,0,0]
[null,null,null,null,null,null,null,null,null,null,60.200000000000315,0,0,0,0]
[null,null,null,null,null,null,null,null,null,null,60.400000000000318,0,0,0,0]
[null,null,null,null,null,null,null,null,null,null,60.600000000000321,0,0,0,0]
[null,null,null,null,null,null,null,null,null,null,60.800000000000324,0,0,0,0]
[null,null,null,null,null,null,null,null,null,null,61.000000000000327,0,0,0,0]
[null,null,null,null,null,null,null,null,null,null,61.20000000000033,0,0,0,0]
[null,null,null,null,null,null,null,null,null,null,61.400000000000333,0,0,0,0]
[null,null,null,null,null,null,null,null,null,null,61.600000000000335,0,0,0,0]
[null,null,null,null,null,null,null,null,null,null,61.800000000000338,0,0,0,0]
[null,null,null,null,null,null,null,null,null,null,62.000000000000341,0,0,0,0]
[null,null,null,null,null,null,null,null,null,null,62.200000000000344,0,0,0,0]
[null,null,null,null,null,null,null,null,null,null,62.400000000000347,0,0,0,0]
[null,null,null,null,null,null,null,null,null,null,62.60000000000035,0,0,0,0]
[null,null,null,null,null,null,null,null,null,null,62.800000000000352,0,0,0,0]
[null,null,null,null,null,null,null,null,null,null,63.000000000000355,0,0,0,0]
[null,null,null,null,null,null,null,null,null,null,63.200000000000358,0,0,0,0]
[null,null,null,null,null,null,null,null,null,null,63.400000000000361,0,0,0,0]
[null,null,null,null,null,null,null,null,null,null,63.600000000000364,0,0,0,0]
[null,null,null,null,null,null,null,null,null,null,63.800000000000367,0,0,0,0]
[null,null,null,null,null,null,null,null,null,null,64.000000000000369,0,0,0,0]
[null,null,null,null,null,null,null,null,null,null,64.200000000000372,0,0,{"$f":"IF(ISBLANK(K331),\"\",$G$13*K331+$H$13)","v":0},0]
[null,null,null,null,null,null,null,null,null,null,{"$f":"IF(K331+$G$19<=$G$18,K331+$G$19,NA())","v":64.400000000000375},0,0,0,0]
[null,null,null,null,null,null,null,null,null,null,64.600000000000378,{"$f":"IF(ISBLANK(K333),\"\",$G$11*K333+$H$11)","v":0},{"$f":"IF(ISBLANK(L333),\"\",$G$12*K333+$H$12)","v":0},0,{"$f":"IF(ISBLANK(M333),\"\",$G$14*K333+$H$14)","v":0}]
[null,null,null,null,null,null,null,null,null,null,64.800000000000381,0,0,0,0]
[null,null,null,null,null,null,null,null,null,null,65.000000000000384,0,0,0,0]
[null,null,null,null,null,null,null,null,null,null,65.200000000000387,0,0,0,0]
[null,null,null,null,null,null,null,null,null,null,65.400000000000389,0,0,0,0]
[null,null,null,null,null,null,null,null,null,null,65.600000000000392,0,0,0,0]
[null,null,null,null,null,null,null,null,null,null,65.800000000000395,0,0,0,0]
[null,null,null,null,null,null,null,null,null,null,66.000000000000398,0,0,0,0]
[null,null,null,null,null,null,null,null,null,null,66.200000000000401,0,0,0,0]
[null,null,null,null,null,null,null,null,null,null,66.400000000000404,0,0,0,0]
[null,null,null,null,null,null,null,null,null,null,66.600000000000406,0,0,0,0]
[null,null,null,null,null,null,null,null,null,null,66.800000000000409,0,0,0,0]
[null,null,null,null,null,null,null,null,null,null,67.000000000000412,0,0,0,0]
[null,null,null,null,null,null,null,null,null,null,67.200000000000415,0,0,0,0]
[null,null,null,null,null,null,null,null,null,null,67.400000000000418,0,0,0,0]
[null,null,null,null,null,null,null,null,null,null,67.600000000000421,0,0,0,0]
[null,null,null,null,null,null,null,null,null,null,67.800000000000423,0,0,0,0]
[null,null,null,null,null,null,null,null,null,null,68.000000000000426,0,0,0,0]
[null,null,null,null,null,null,null,null,null,null,68.200000000000429,0,0,0,0]
[null,null,null,null,null,null,null,null,null,null,68.400000000000432,0,0,0,0]
[null,null,null,null,null,null,null,null,null,null,68.600000000000435,0,0,0,0]
[null,null,null,null,null,null,null,null,null,null,68.800000000000438,0,0,0,0]
[null,null,null,null,null,null,null,null,null,null,69.000000000000441,0,0,0,0]
[null,null,null,null,null,null,null,null,null,null,69.200000000000443,0,0,0,0]
[null,null,null,null,null,null,null,null,null,null,69.400000000000446,0,0,0,0]
[null,null,null,null,null,null,null,null,null,null,69.600000000000449,0,0,0,0]
[null,null,null,null,null,null,null,null,null,null,69.800000000000452,0,0,0,0]
[null,null,null,null,null,null,null,null,null,null,70.000000000000455,0,0,0,0]
[null,null,null,null,null,null,null,null,null,null,70.200000000000458,0,0,0,0]
[null,null,null,null,null,null,null,null,null,null,70.40000000000046,0,0,0,0]
[null,null,null,null,null,null,null,null,null,null,70.600000000000463,0,0,0,0]
[null,null,null,null,null,null,null,null,null,null,70.800000000000466,0,0,0,0]
[null,null,null,null,null,null,null,null,null,null,71.000000000000469,0,0,0,0]
[null,null,null,null,null,null,null,null,null,null,71.200000000000472,0,0,0,0]
[null,null,null,null,null,null,null,null,null,null,71.400000000000475,0,0,0,0]
[null,null,null,null,null,null,null,null,null,null,71.600000000000477,0,0,0,0]
[null,null,null,null,null,null,null,null,null,null,71.80000000000048,0,0,0,0]
[null,null,null,null,null,null,null,null,null,null,72.000000000000483,0,0,0,0]
[null,null,null,null,null,null,null,null,null,null,72.200000000000486,0,0,0,0]
[null,null,null,null,null,null,null,null,null,null,72.400000000000489,0,0,0,0]
[null,null,null,null,null,null,null,null,null,null,72.600000000000492,0,0,0,0]
[null,null,null,null,null,null,null,null,null,null,72.800000000000495,0,0,0,0]
[null,null,null,null,null,null,null,null,null,null,73.000000000000497,0,0,0,0]
[null,null,null,null,null,null,null,null,null,null,73.2000000000005,0,0,0,0]
[null,null,null,null,null,null,null,null,null,null,73.400000000000503,0,0,0,0]
[null,null,null,null,null,null,null,null,null,null,73.600000000000506,0,0,0,0]
[null,null,null,null,null,null,null,null,null,null,73.800000000000509,0,0,0,0]
[null,null,null,null,null,null,null,null,null,null,74.000000000000512,0,0,0,0]
[null,null,null,null,null,null,null,null,null,null,74.200000000000514,0,0,0,0]
[null,null,null,null,null,null,null,null,null,null,74.400000000000517,0,0,0,0]
[null,null,null,null,null,null,null,null,null,null,74.60000000000052,0,0,0,0]
[null,null,null,null,null,null,null,null,null,null,74.800000000000523,0,0,0,0]
[null,null,null,null,null,null,null,null,null,null,75.000000000000526,0,0,0,0]
[null,null,null,null,null,null,null,null,null,null,75.200000000000529,0,0,0,0]
[null,null,null,null,null,null,null,null,null,null,75.400000000000531,0,0,0,0]
[null,null,null,null,null,null,null,null,null,null,75.600000000000534,0,0,0,0]
[null,null,null,null,null,null,null,null,null,null,75.800000000000537,0,0,0,0]
[null,null,null,null,null,null,null,null,null,null,76.00000000000054,0,0,0,0]
[null,null,null,null,null,null,null,null,null,null,76.200000000000543,0,0,0,0]
[null,null,null,null,null,null,null,null,null,null,76.400000000000546,0,0,0,0]
[null,null,null,null,null,null,null,null,null,null,76.600000000000549,0,0,0,0]
[null,null,null,null,null,null,null,null,null,null,76.800000000000551,0,0,0,0]
[null,null,null,null,null,null,null,null,null,null,77.000000000000554,0,0,{"$f":"IF(ISBLANK(K395),\"\",$G$13*K395+$H$13)","v":0},0]
[null,null,null,null,null,null,null,null,null,null,{"$f":"IF(K395+$G$19<=$G$18,K395+$G$19,NA())","v":77.200000000000557},0,0,0,0]
[null,null,null,null,null,null,null,null,null,null,77.40000000000056,{"$f":"IF(ISBLANK(K397),\"\",$G$11*K397+$H$11)","v":0},{"$f":"IF(ISBLANK(L397),\"\",$G$12*K397+$H$12)","v":0},0,{"$f":"IF(ISBLANK(M397),\"\",$G$14*K397+$H$14)","v":0}]
[null,null,null,null,null,null,null,null,null,null,77.600000000000563,0,0,0,0]
[null,null,null,null,null,null,null,null,null,null,77.800000000000566,0,0,0,0]
[null,null,null,null,null,null,null,null,null,null,78.000000000000568,0,0,0,0]
[null,null,null,null,null,null,null,null,null,null,78.200000000000571,0,0,0,0]
[null,null,null,null,null,null,null,null,null,null,78.400000000000574,0,0,0,0]
[null,null,null,null,null,null,null,null,null,null,78.600000000000577,0,0,0,0]
[null,null,null,null,null,null,null,null,null,null,78.80000000000058,0,0,0,0]
[null,null,null,null,null,null,null,null,null,null,79.000000000000583,0,0,0,0]
[null,null,null,null,null,null,null,null,null,null,79.200000000000585,0,0,0,0]
[null,null,null,null,null,null,null,null,null,null,79.400000000000588,0,0,0,0]
[null,null,null,null,null,null,null,null,null,null,79.600000000000591,0,0,0,0]
[null,null,null,null,null,null,null,null,null,null,79.800000000000594,0,0,0,0]
[null,null,null,null,null,null,null,null,null,null,80.000000000000597,0,0,0,0]
[null,null,null,null,null,null,null,null,null,null,80.2000000000006,0,0,0,0]
[null,null,null,null,null,null,null,null,null,null,80.400000000000603,0,0,0,0]
[null,null,null,null,null,null,null,null,null,null,80.600000000000605,0,0,0,0]
[null,null,null,null,null,null,null,null,null,null,80.800000000000608,0,0,0,0]
[null,null,null,null,null,null,null,null,null,null,81.000000000000611,0,0,0,0]
[null,null,null,null,null,null,null,null,null,null,81.200000000000614,0,0,0,0]
[null,null,null,null,null,null,null,null,null,null,81.400000000000617,0,0,0,0]
[null,null,null,null,null,null,null,null,null,null,81.60000000000062,0,0,0,0]
[null,null,null,null,null,null,null,null,null,null,81.800000000000622,0,0,0,0]
[null,null,null,null,null,null,null,null,null,null,82.000000000000625,0,0,0,0]
[null,null,null,null,null,null,null,null,null,null,82.200000000000628,0,0,0,0]
[null,null,null,null,null,null,null,null,null,null,82.400000000000631,0,0,0,0]
[null,null,null,null,null,null,null,null,null,null,82.600000000000634,0,0,0,0]
[null,null,null,null,null,null,null,null,null,null,82.800000000000637,0,0,0,0]
[null,null,null,null,null,null,null,null,null,null,83.000000000000639,0,0,0,0]
[null,null,null,null,null,null,null,null,null,null,83.200000000000642,0,0,0,0]
[null,null,null,null,null,null,null,null,null,null,83.400000000000645,0,0,0,0]
[null,null,null,null,null,null,null,null,null,null,83.600000000000648,0,0,0,0]
[null,null,null,null,null,null,null,null,null,null,83.800000000000651,0,0,0,0]
[null,null,null,null,null,null,null,null,null,null,84.000000000000654,0,0,0,0]
[null,null,null,null,null,null,null,null,null,null,84.200000000000657,0,0,0,0]
[null,null,null,null,null,null,null,null,null,null,84.400000000000659,0,0,0,0]
[null,null,null,null,null,null,null,null,null,null,84.600000000000662,0,0,0,0]
[null,null,null,null,null,null,null,null,null,null,84.800000000000665,0,0,0,0]
[null,null,null,null,null,null,null,null,null,null,85.000000000000668,0,0,0,0]
[null,null,null,null,null,null,null,null,null,null,85.200000000000671,0,0,0,0]
[null,null,null,null,null,null,null,null,null,null,85.400000000000674,0,0,0,0]
[null,null,null,null,null,null,null,null,null,null,85.600000000000676,0,0,0,0]
[null,null,null,null,null,null,null,null,null,null,85.800000000000679,0,0,0,0]
[null,null,null,null,null,null,null,null,null,null,86.000000000000682,0,0,0,0]
[null,null,null,null,null,null,null,null,null,null,86.200000000000685,0,0,0,0]
[null,null,null,null,null,null,null,null,null,null,86.400000000000688,0,0,0,0]
[null,null,null,null,null,null,null,null,null,null,86.600000000000691,0,0,0,0]
[null,null,null,null,null,null,null,null,null,null,86.800000000000693,0,0,0,0]
[null,null,null,null,null,null,null,null,null,null,87.000000000000696,0,0,0,0]
[null,null,null,null,null,null,null,null,null,null,87.200000000000699,0,0,0,0]
[null,null,null,null,null,null,null,null,null,null,87.400000000000702,0,0,0,0]
[null,null,null,null,null,null,null,null,null,null,87.600000000000705,0,0,0,0]
[null,null,null,null,null,null,null,null,null,null,87.800000000000708,0,0,0,0]
[null,null,null,null,null,null,null,null,null,null,88.000000000000711,0,0,0,0]
[null,null,null,null,null,null,null,null,null,null,88.200000000000713,0,0,0,0]
[null,null,null,null,null,null,null,null,null,null,88.400000000000716,0,0,0,0]
[null,null,null,null,null,null,null,null,null,null,88.600000000000719,0,0,0,0]
[null,null,null,null,null,null,null,null,null,null,88.800000000000722,0,0,0,0]
[null,null,null,null,null,null,null,null,null,null,89.000000000000725,0,0,0,0]
[null,null,null,null,null,null,null,null,null,null,89.200000000000728,0,0,0,0]
[null,null,null,null,null,null,null,null,null,null,89.40000000000073,0,0,0,0]
[null,null,null,null,null,null,null,null,null,null,89.600000000000733,0,0,0,0]
[null,null,null,null,null,null,null,null,null,null,89.800000000000736,0,0,{"$f":"IF(ISBLANK(K459),\"\",$G$13*K459+$H$13)","v":0},0]
[null,null,null,null,null,null,null,null,null,null,{"$f":"IF(K459+$G$19<=$G$18,K459+$G$19,NA())","v":90.000000000000739},0,0,0,0]
[null,null,null,null,null,null,null,null,null,null,90.200000000000742,{"$f":"IF(ISBLANK(K461),\"\",$G$11*K461+$H$11)","v":0},{"$f":"IF(ISBLANK(L461),\"\",$G$12*K461+$H$12)","v":0},0,{"$f":"IF(ISBLANK(M461),\"\",$G$14*K461+$H$14)","v":0}]
[null,null,null,null,null,null,null,null,null,null,90.400000000000745,0,0,0,0]
[null,null,null,null,null,null,null,null,null,null,90.600000000000747,0,0,0,0]
[null,null,null,null,null,null,null,null,null,null,90.80000000000075,0,0,0,0]
[null,null,null,null,null,null,null,null,null,null,91.000000000000753,0,0,0,0]
[null,null,null,null,null,null,null,null,null,null,91.200000000000756,0,0,0,0]
[null,null,null,null,null,null,null,null,null,null,91.400000000000759,0,0,0,0]
[null,null,null,null,null,null,null,null,null,null,91.600000000000762,0,0,0,0]
[null,null,null,null,null,null,null,null,null,null,91.800000000000765,0,0,0,0]
[null,null,null,null,null,null,null,null,null,null,92.000000000000767,0,0,0,0]
[null,null,null,null,null,null,null,null,null,null,92.20000000000077,0,0,0,0]
[null,null,null,null,null,null,null,null,null,null,92.400000000000773,0,0,0,0]
[null,null,null,null,null,null,null,null,null,null,92.600000000000776,0,0,0,0]
[null,null,null,null,null,null,null,null,null,null,92.800000000000779,0,0,0,0]
[null,null,null,null,null,null,null,null,null,null,93.000000000000782,0,0,0,0]
[null,null,null,null,null,null,null,null,null,null,93.200000000000784,0,0,0,0]
[null,null,null,null,null,null,null,null,null,null,93.400000000000787,0,0,0,0]
[null,null,null,null,null,null,null,null,null,null,93.60000000000079,0,0,0,0]
[null,null,null,null,null,null,null,null,null,null,93.800000000000793,0,0,0,0]
[null,null,null,null,null,null,null,null,null,null,94.000000000000796,0,0,0,0]
[null,null,null,null,null,null,null,null,null,null,94.200000000000799,0,0,0,0]
[null,null,null,null,null,null,null,null,null,null,94.400000000000801,0,0,0,0]
[null,null,null,null,null,null,null,null,null,null,94.600000000000804,0,0,0,0]
[null,null,null,null,null,null,null,null,null,null,94.800000000000807,0,0,0,0]
[null,null,null,null,null,null,null,null,null,null,95.00000000000081,0,0,0,0]
[null,null,null,null,null,null,null,null,null,null,95.200000000000813,0,0,0,0]
[null,null,null,null,null,null,null,null,null,null,95.400000000000816,0,0,0,0]
[null,null,null,null,null,null,null,null,null,null,95.600000000000819,0,0,0,0]
[null,null,null,null,null,null,null,null,null,null,95.800000000000821,0,0,0,0]
[null,null,null,null,null,null,null,null,null,null,96.000000000000824,0,0,0,0]
[null,null,null,null,null,null,null,null,null,null,96.200000000000827,0,0,0,0]
[null,null,null,null,null,null,null,null,null,null,96.40000000000083,0,0,0,0]
[null,null,null,null,null,null,null,null,null,null,96.600000000000833,0,0,0,0]
[null,null,null,null,null,null,null,null,null,null,96.800000000000836,0,0,0,0]
[null,null,null,null,null,null,null,null,null,null,97.000000000000838,0,0,0,0]
[null,null,null,null,null,null,null,null,null,null,97.200000000000841,0,0,0,0]
[null,null,null,null,null,null,null,null,null,null,97.400000000000844,0,0,0,0]
[null,null,null,null,null,null,null,null,null,null,97.600000000000847,0,0,0,0]
[null,null,null,null,null,null,null,null,null,null,97.80000000000085,0,0,0,0]
[null,null,null,null,null,null,null,null,null,null,98.000000000000853,0,0,0,0]
[null,null,null,null,null,null,null,null,null,null,98.200000000000855,0,0,0,0]
[null,null,null,null,null,null,null,null,null,null,98.400000000000858,0,0,0,0]
[null,null,null,null,null,null,null,null,null,null,98.600000000000861,0,0,0,0]
[null,null,null,null,null,null,null,null,null,null,98.800000000000864,0,0,0,0]
[null,null,null,null,null,null,null,null,null,null,99.000000000000867,0,0,0,0]
[null,null,null,null,null,null,null,null,null,null,99.20000000000087,0,0,0,0]
[null,null,null,null,null,null,null,null,null,null,99.400000000000873,0,0,0,0]
[null,null,null,null,null,null,null,null,null,null,99.600000000000875,0,0,0,0]
[null,null,null,null,null,null,null,null,null,null,99.800000000000878,0,0,0,0]
[null,null,null,null,null,null,null,null,null,null,100.00000000000088,0,0,0,0]
[null,null,null,null,null,null,null,null,null,null,100.20000000000088,0,0,0,0]
[null,null,null,null,null,null,null,null,null,null,100.40000000000089,0,0,0,0]
[null,null,null,null,null,null,null,null,null,null,100.60000000000089,0,0,0,0]
[null,null,null,null,null,null,null,null,null,null,100.80000000000089,0,0,0,0]
[null,null,null,null,null,null,null,null,null,null,101.0000000000009,0,0,0,0]
[null,null,null,null,null,null,null,null,null,null,101.2000000000009,0,0,0,0]
[null,null,null,null,null,null,null,null,null,null,101.4000000000009,0,0,0,0]
[null,null,null,null,null,null,null,null,null,null,101.6000000000009,0,0,0,0]
[null,null,null,null,null,null,null,null,null,null,101.80000000000091,0,0,0,0]
[null,null,null,null,null,null,null,null,null,null,102.00000000000091,0,0,0,0]
[null,null,null,null,null,null,null,null,null,null,102.20000000000091,0,0,0,0]
[null,null,null,null,null,null,null,null,null,null,102.40000000000092,0,0,0,0]
[null,null,null,null,null,null,null,null,null,null,102.60000000000092,0,0,{"$f":"IF(ISBLANK(K523),\"\",$G$13*K523+$H$13)","v":0},0]
[null,null,null,null,null,null,null,null,null,null,{"$f":"IF(K523+$G$19<=$G$18,K523+$G$19,NA())","v":102.80000000000092},0,0,0,0]
[null,null,null,null,null,null,null,null,null,null,103.00000000000092,{"$f":"IF(ISBLANK(K525),\"\",$G$11*K525+$H$11)","v":0},{"$f":"IF(ISBLANK(L525),\"\",$G$12*K525+$H$12)","v":0},0,{"$f":"IF(ISBLANK(M525),\"\",$G$14*K525+$H$14)","v":0}]
[null,null,null,null,null,null,null,null,null,null,103.20000000000093,0,0,0,0]
[null,null,null,null,null,null,null,null,null,null,103.40000000000093,0,0,0,0]
[null,null,null,null,null,null,null,null,null,null,103.60000000000093,0,0,0,0]
[null,null,null,null,null,null,null,null,null,null,103.80000000000094,0,0,0,0]
[null,null,null,null,null,null,null,null,null,null,104.00000000000094,0,0,0,0]
[null,null,null,null,null,null,null,null,null,null,104.20000000000094,0,0,0,0]
[null,null,null,null,null,null,null,null,null,null,104.40000000000094,0,0,0,0]
[null,null,null,null,null,null,null,null,null,null,104.60000000000095,0,0,0,0]
[null,null,null,null,null,null,null,null,null,null,104.80000000000095,0,0,0,0]
[null,null,null,null,null,null,null,null,null,null,105.00000000000095,0,0,0,0]
[null,null,null,null,null,null,null,null,null,null,105.20000000000095,0,0,0,0]
[null,null,null,null,null,null,null,null,null,null,105.40000000000096,0,0,0,0]
[null,null,null,null,null,null,null,null,null,null,105.60000000000096,0,0,0,0]
[null,null,null,null,null,null,null,null,null,null,105.80000000000096,0,0,0,0]
[null,null,null,null,null,null,null,null,null,null,106.00000000000097,0,0,0,0]
[null,null,null,null,null,null,null,null,null,null,106.20000000000097,0,0,0,0]
[null,null,null,null,null,null,null,null,null,null,106.40000000000097,0,0,0,0]
[null,null,null,null,null,null,null,null,null,null,106.60000000000097,0,0,0,0]
[null,null,null,null,null,null,null,null,null,null,106.80000000000098,0,0,0,0]
[null,null,null,null,null,null,null,null,null,null,107.00000000000098,0,0,0,0]
[null,null,null,null,null,null,null,null,null,null,107.20000000000098,0,0,0,0]
[null,null,null,null,null,null,null,null,null,null,107.40000000000099,0,0,0,0]
[null,null,null,null,null,null,null,null,null,null,107.60000000000099,0,0,0,0]
[null,null,null,null,null,null,null,null,null,null,107.80000000000099,0,0,0,0]
[null,null,null,null,null,null,null,null,null,null,108.00000000000099,0,0,0,0]
[null,null,null,null,null,null,null,null,null,null,108.200000000001,0,0,0,0]
[null,null,null,null,null,null,null,null,null,null,108.400000000001,0,0,0,0]
[null,null,null,null,null,null,null,null,null,null,108.600000000001,0,0,0,0]
[null,null,null,null,null,null,null,null,null,null,108.80000000000101,0,0,0,0]
[null,null,null,null,null,null,null,null,null,null,109.00000000000101,0,0,0,0]
[null,null,null,null,null,null,null,null,null,null,109.20000000000101,0,0,0,0]
[null,null,null,null,null,null,null,null,null,null,109.40000000000101,0,0,0,0]
[null,null,null,null,null,null,null,null,null,null,109.60000000000102,0,0,0,0]
[null,null,null,null,null,null,null,null,null,null,109.80000000000102,0,0,0,0]
[null,null,null,null,null,null,null,null,null,null,110.00000000000102,0,0,0,0]
[null,null,null,null,null,null,null,null,null,null,110.20000000000103,0,0,0,0]
[null,null,null,null,null,null,null,null,null,null,110.40000000000103,0,0,0,0]
[null,null,null,null,null,null,null,null,null,null,110.60000000000103,0,0,0,0]
[null,null,null,null,null,null,null,null,null,null,110.80000000000103,0,0,0,0]
[null,null,null,null,null,null,null,null,null,null,111.00000000000104,0,0,0,0]
[null,null,null,null,null,null,null,null,null,null,111.20000000000104,0,0,0,0]
[null,null,null,null,null,null,null,null,null,null,111.40000000000104,0,0,0,0]
[null,null,null,null,null,null,null,null,null,null,111.60000000000105,0,0,0,0]
[null,null,null,null,null,null,null,null,null,null,111.80000000000105,0,0,0,0]
[null,null,null,null,null,null,null,null,null,null,112.00000000000105,0,0,0,0]
[null,null,null,null,null,null,null,null,null,null,112.20000000000105,0,0,0,0]
[null,null,null,null,null,null,null,null,null,null,112.40000000000106,0,0,0,0]
[null,null,null,null,null,null,null,null,null,null,112.60000000000106,0,0,0,0]
[null,null,null,null,null,null,null,null,null,null,112.80000000000106,0,0,0,0]
[null,null,null,null,null,null,null,null,null,null,113.00000000000107,0,0,0,0]
[null,null,null,null,null,null,null,null,null,null,113.20000000000107,0,0,0,0]
[null,null,null,null,null,null,null,null,null,null,113.40000000000107,0,0,0,0]
[null,null,null,null,null,null,null,null,null,null,113.60000000000107,0,0,0,0]
[null,null,null,null,null,null,null,null,null,null,113.80000000000108,0,0,0,0]
[null,null,null,null,null,null,null,null,null,null,114.00000000000108,0,0,0,0]
[null,null,null,null,null,null,null,null,null,null,114.20000000000108,0,0,0,0]
[null,null,null,null,null,null,null,null,null,null,114.40000000000109,0,0,0,0]
[null,null,null,null,null,null,null,null,null,null,114.60000000000109,0,0,0,0]
[null,null,null,null,null,null,null,null,null,null,114.80000000000109,0,0,0,0]
[null,null,null,null,null,null,null,null,null,null,115.00000000000109,0,0,0,0]
[null,null,null,null,null,null,null,null,null,null,115.2000000000011,0,0,0,0]
[null,null,null,null,null,null,null,null,null,null,115.4000000000011,0,0,{"$f":"IF(ISBLANK(K587),\"\",$G$13*K587+$H$13)","v":0},0]
[null,null,null,null,null,null,null,null,null,null,{"$f":"IF(K587+$G$19<=$G$18,K587+$G$19,NA())","v":115.6000000000011},0,0,0,0]
[null,null,null,null,null,null,null,null,null,null,115.80000000000111,{"$f":"IF(ISBLANK(K589),\"\",$G$11*K589+$H$11)","v":0},{"$f":"IF(ISBLANK(L589),\"\",$G$12*K589+$H$12)","v":0},0,{"$f":"IF(ISBLANK(M589),\"\",$G$14*K589+$H$14)","v":0}]
[null,null,null,null,null,null,null,null,null,null,116.00000000000111,0,0,0,0]
[null,null,null,null,null,null,null,null,null,null,116.20000000000111,0,0,0,0]
[null,null,null,null,null,null,null,null,null,null,116.40000000000111,0,0,0,0]
[null,null,null,null,null,null,null,null,null,null,116.60000000000112,0,0,0,0]
[null,null,null,null,null,null,null,null,null,null,116.80000000000112,0,0,0,0]
[null,null,null,null,null,null,null,null,null,null,117.00000000000112,0,0,0,0]
[null,null,null,null,null,null,null,null,null,null,117.20000000000113,0,0,0,0]
[null,null,null,null,null,null,null,null,null,null,117.40000000000113,0,0,0,0]
[null,null,null,null,null,null,null,null,null,null,117.60000000000113,0,0,0,0]
[null,null,null,null,null,null,null,null,null,null,117.80000000000113,0,0,0,0]
[null,null,null,null,null,null,null,null,null,null,118.00000000000114,0,0,0,0]
[null,null,null,null,null,null,null,null,null,null,118.20000000000114,0,0,0,0]
[null,null,null,null,null,null,null,null,null,null,118.40000000000114,0,0,0,0]
[null,null,null,null,null,null,null,null,null,null,118.60000000000115,0,0,0,0]
[null,null,null,null,null,null,null,null,null,null,118.80000000000115,0,0,0,0]
[null,null,null,null,null,null,null,null,null,null,119.00000000000115,0,0,0,0]
[null,null,null,null,null,null,null,null,null,null,119.20000000000115,0,0,0,0]
[null,null,null,null,null,null,null,null,null,null,119.40000000000116,0,0,0,0]
[null,null,null,null,null,null,null,null,null,null,119.60000000000116,0,0,0,0]
[null,null,null,null,null,null,null,null,null,null,119.80000000000116,0,0,0,0]
[null,null,null,null,null,null,null,null,null,null,120.00000000000117,0,0,0,0]
[null,null,null,null,null,null,null,null,null,null,120.20000000000117,0,0,0,0]
[null,null,null,null,null,null,null,null,null,null,120.40000000000117,0,0,0,0]
[null,null,null,null,null,null,null,null,null,null,120.60000000000117,0,0,0,0]
[null,null,null,null,null,null,null,null,null,null,120.80000000000118,0,0,0,0]
[null,null,null,null,null,null,null,null,null,null,121.00000000000118,0,0,0,0]
[null,null,null,null,null,null,null,null,null,null,121.20000000000118,0,0,0,0]
[null,null,null,null,null,null,null,null,null,null,121.40000000000119,0,0,0,0]
[null,null,null,null,null,null,null,null,null,null,121.60000000000119,0,0,0,0]
[null,null,null,null,null,null,null,null,null,null,121.80000000000119,0,0,0,0]
[null,null,null,null,null,null,null,null,null,null,122.00000000000119,0,0,0,0]
[null,null,null,null,null,null,null,null,null,null,122.2000000000012,0,0,0,0]
[null,null,null,null,null,null,null,null,null,null,122.4000000000012,0,0,0,0]
[null,null,null,null,null,null,null,null,null,null,122.6000000000012,0,0,0,0]
[null,null,null,null,null,null,null,null,null,null,122.80000000000121,0,0,0,0]
[null,null,null,null,null,null,null,null,null,null,123.00000000000121,0,0,0,0]
[null,null,null,null,null,null,null,null,null,null,123.20000000000121,0,0,0,0]
[null,null,null,null,null,null,null,null,null,null,123.40000000000121,0,0,0,0]
[null,null,null,null,null,null,null,null,null,null,123.60000000000122,0,0,0,0]
[null,null,null,null,null,null,null,null,null,null,123.80000000000122,0,0,0,0]
[null,null,null,null,null,null,null,null,null,null,124.00000000000122,0,0,0,0]
[null,null,null,null,null,null,null,null,null,null,124.20000000000122,0,0,0,0]
[null,null,null,null,null,null,null,null,null,null,124.40000000000123,0,0,0,0]
[null,null,null,null,null,null,null,null,null,null,124.60000000000123,0,0,0,0]
[null,null,null,null,null,null,null,null,null,null,124.80000000000123,0,0,0,0]
[null,null,null,null,null,null,null,null,null,null,125.00000000000124,0,0,0,0]
[null,null,null,null,null,null,null,null,null,null,125.20000000000124,0,0,0,0]
[null,null,null,null,null,null,null,null,null,null,125.40000000000124,0,0,0,0]
[null,null,null,null,null,null,null,null,null,null,125.60000000000124,0,0,0,0]
[null,null,null,null,null,null,null,null,null,null,125.80000000000125,0,0,0,0]
[null,null,null,null,null,null,null,null,null,null,126.00000000000125,0,0,0,0]
[null,null,null,null,null,null,null,null,null,null,126.20000000000125,0,0,0,0]
[null,null,null,null,null,null,null,null,null,null,126.40000000000126,0,0,0,0]
[null,null,null,null,null,null,null,null,null,null,126.60000000000126,0,0,0,0]
[null,null,null,null,null,null,null,null,null,null,126.80000000000126,0,0,0,0]
[null,null,null,null,null,null,null,null,null,null,127.00000000000126,0,0,0,0]
[null,null,null,null,null,null,null,null,null,null,127.20000000000127,0,0,0,0]
[null,null,null,null,null,null,null,null,null,null,127.40000000000127,0,0,0,0]
[null,null,null,null,null,null,null,null,null,null,127.60000000000127,0,0,0,0]
[null,null,null,null,null,null,null,null,null,null,127.80000000000128,0,0,0,0]
[null,null,null,null,null,null,null,null,null,null,128.00000000000128,0,0,0,0]
[null,null,null,null,null,null,null,null,null,null,128.20000000000127,0,0,{"$f":"IF(ISBLANK(K651),\"\",$G$13*K651+$H$13)","v":0},0]
[null,null,null,null,null,null,null,null,null,null,{"$f":"IF(K651+$G$19<=$G$18,K651+$G$19,NA())","v":128.40000000000126},0,0,0,0]
[null,null,null,null,null,null,null,null,null,null,128.60000000000124,{"$f":"IF(ISBLANK(K653),\"\",$G$11*K653+$H$11)","v":0},{"$f":"IF(ISBLANK(L653),\"\",$G$12*K653+$H$12)","v":0},0,{"$f":"IF(ISBLANK(M653),\"\",$G$14*K653+$H$14)","v":0}]
[null,null,null,null,null,null,null,null,null,null,128.80000000000123,0,0,0,0]
[null,null,null,null,null,null,null,null,null,null,129.00000000000122,0,0,0,0]
[null,null,null,null,null,null,null,null,null,null,129.20000000000121,0,0,0,0]
[null,null,null,null,null,null,null,null,null,null,129.4000000000012,0,0,0,0]
[null,null,null,null,null,null,null,null,null,null,129.60000000000119,0,0,0,0]
[null,null,null,null,null,null,null,null,null,null,129.80000000000118,0,0,0,0]
[null,null,null,null,null,null,null,null,null,null,130.00000000000117,0,0,0,0]
[null,null,null,null,null,null,null,null,null,null,130.20000000000115,0,0,0,0]
[null,null,null,null,null,null,null,null,null,null,130.40000000000114,0,0,0,0]
[null,null,null,null,null,null,null,null,null,null,130.60000000000113,0,0,0,0]
[null,null,null,null,null,null,null,null,null,null,130.80000000000112,0,0,0,0]
[null,null,null,null,null,null,null,null,null,null,131.00000000000111,0,0,0,0]
[null,null,null,null,null,null,null,null,null,null,131.2000000000011,0,0,0,0]
[null,null,null,null,null,null,null,null,null,null,131.40000000000109,0,0,0,0]
[null,null,null,null,null,null,null,null,null,null,131.60000000000107,0,0,0,0]
[null,null,null,null,null,null,null,null,null,null,131.80000000000106,0,0,0,0]
[null,null,null,null,null,null,null,null,null,null,132.00000000000105,0,0,0,0]
[null,null,null,null,null,null,null,null,null,null,132.20000000000104,0,0,0,0]
[null,null,null,null,null,null,null,null,null,null,132.40000000000103,0,0,0,0]
[null,null,null,null,null,null,null,null,null,null,132.60000000000102,0,0,0,0]
[null,null,null,null,null,null,null,null,null,null,132.80000000000101,0,0,0,0]
[null,null,null,null,null,null,null,null,null,null,133.00000000000099,0,0,0,0]
[null,null,null,null,null,null,null,null,null,null,133.20000000000098,0,0,0,0]
[null,null,null,null,null,null,null,null,null,null,133.40000000000097,0,0,0,0]
[null,null,null,null,null,null,null,null,null,null,133.60000000000096,0,0,0,0]
[null,null,null,null,null,null,null,null,null,null,133.80000000000095,0,0,0,0]
[null,null,null,null,null,null,null,null,null,null,134.00000000000094,0,0,0,0]
[null,null,null,null,null,null,null,null,null,null,134.20000000000093,0,0,0,0]
[null,null,null,null,null,null,null,null,null,null,134.40000000000092,0,0,0,0]
[null,null,null,null,null,null,null,null,null,null,134.6000000000009,0,0,0,0]
[null,null,null,null,null,null,null,null,null,null,134.80000000000089,0,0,0,0]
[null,null,null,null,null,null,null,null,null,null,135.00000000000088,0,0,0,0]
[null,null,null,null,null,null,null,null,null,null,135.20000000000087,0,0,0,0]
[null,null,null,null,null,null,null,null,null,null,135.40000000000086,0,0,0,0]
[null,null,null,null,null,null,null,null,null,null,135.60000000000085,0,0,0,0]
[null,null,null,null,null,null,null,null,null,null,135.80000000000084,0,0,0,0]
[null,null,null,null,null,null,null,null,null,null,136.00000000000082,0,0,0,0]
[null,null,null,null,null,null,null,null,null,null,136.20000000000081,0,0,0,0]
[null,null,null,null,null,null,null,null,null,null,136.4000000000008,0,0,0,0]
[null,null,null,null,null,null,null,null,null,null,136.60000000000079,0,0,0,0]
[null,null,null,null,null,null,null,null,null,null,136.80000000000078,0,0,0,0]
[null,null,null,null,null,null,null,null,null,null,137.00000000000077,0,0,0,0]
[null,null,null,null,null,null,null,null,null,null,137.20000000000076,0,0,0,0]
[null,null,null,null,null,null,null,null,null,null,137.40000000000074,0,0,0,0]
[null,null,null,null,null,null,null,null,null,null,137.60000000000073,0,0,0,0]
[null,null,null,null,null,null,null,null,null,null,137.80000000000072,0,0,0,0]
[null,null,null,null,null,null,null,null,null,null,138.00000000000071,0,0,0,0]
[null,null,null,null,null,null,null,null,null,null,138.2000000000007,0,0,0,0]
[null,null,null,null,null,null,null,null,null,null,138.40000000000069,0,0,0,0]
[null,null,null,null,null,null,null,null,null,null,138.60000000000068,0,0,0,0]
[null,null,null,null,null,null,null,null,null,null,138.80000000000067,0,0,0,0]
[null,null,null,null,null,null,null,null,null,null,139.00000000000065,0,0,0,0]
[null,null,null,null,null,null,null,null,null,null,139.20000000000064,0,0,0,0]
[null,null,null,null,null,null,null,null,null,null,139.40000000000063,0,0,0,0]
[null,null,null,null,null,null,null,null,null,null,139.60000000000062,0,0,0,0]
[null,null,null,null,null,null,null,null,null,null,139.80000000000061,0,0,0,0]
[null,null,null,null,null,null,null,null,null,null,140.0000000000006,0,0,0,0]
[null,null,null,null,null,null,null,null,null,null,140.20000000000059,0,0,0,0]
[null,null,null,null,null,null,null,null,null,null,140.40000000000057,0,0,0,0]
[null,null,null,null,null,null,null,null,null,null,140.60000000000056,0,0,0,0]
[null,null,null,null,null,null,null,null,null,null,140.80000000000055,0,0,0,0]
[null,null,null,null,null,null,null,null,null,null,141.00000000000054,0,0,{"$f":"IF(ISBLANK(K715),\"\",$G$13*K715+$H$13)","v":0},0]
[null,null,null,null,null,null,null,null,null,null,{"$f":"IF(K715+$G$19<=$G$18,K715+$G$19,NA())","v":141.20000000000053},0,0,0,0]
[null,null,null,null,null,null,null,null,null,null,141.40000000000052,{"$f":"IF(ISBLANK(K717),\"\",$G$11*K717+$H$11)","v":0},{"$f":"IF(ISBLANK(L717),\"\",$G$12*K717+$H$12)","v":0},0,{"$f":"IF(ISBLANK(M717),\"\",$G$14*K717+$H$14)","v":0}]
[null,null,null,null,null,null,null,null,null,null,141.60000000000051,0,0,0,0]
[null,null,null,null,null,null,null,null,null,null,141.80000000000049,0,0,0,0]
[null,null,null,null,null,null,null,null,null,null,142.00000000000048,0,0,0,0]
[null,null,null,null,null,null,null,null,null,null,142.20000000000047,0,0,0,0]
[null,null,null,null,null,null,null,null,null,null,142.40000000000046,0,0,0,0]
[null,null,null,null,null,null,null,null,null,null,142.60000000000045,0,0,0,0]
[null,null,null,null,null,null,null,null,null,null,142.80000000000044,0,0,0,0]
[null,null,null,null,null,null,null,null,null,null,143.00000000000043,0,0,0,0]
[null,null,null,null,null,null,null,null,null,null,143.20000000000041,0,0,0,0]
[null,null,null,null,null,null,null,null,null,null,143.4000000000004,0,0,0,0]
[null,null,null,null,null,null,null,null,null,null,143.60000000000039,0,0,0,0]
[null,null,null,null,null,null,null,null,null,null,143.80000000000038,0,0,0,0]
[null,null,null,null,null,null,null,null,null,null,144.00000000000037,0,0,0,0]
[null,null,null,null,null,null,null,null,null,null,144.20000000000036,0,0,0,0]
[null,null,null,null,null,null,null,null,null,null,144.40000000000035,0,0,0,0]
[null,null,null,null,null,null,null,null,null,null,144.60000000000034,0,0,0,0]
[null,null,null,null,null,null,null,null,null,null,144.80000000000032,0,0,0,0]
[null,null,null,null,null,null,null,null,null,null,145.00000000000031,0,0,0,0]
[null,null,null,null,null,null,null,null,null,null,145.2000000000003,0,0,0,0]
[null,null,null,null,null,null,null,null,null,null,145.40000000000029,0,0,0,0]
[null,null,null,null,null,null,null,null,null,null,145.60000000000028,0,0,0,0]
[null,null,null,null,null,null,null,null,null,null,145.80000000000027,0,0,0,0]
[null,null,null,null,null,null,null,null,null,null,146.00000000000026,0,0,0,0]
[null,null,null,null,null,null,null,null,null,null,146.20000000000024,0,0,0,0]
[null,null,null,null,null,null,null,null,null,null,146.40000000000023,0,0,0,0]
[null,null,null,null,null,null,null,null,null,null,146.60000000000022,0,0,0,0]
[null,null,null,null,null,null,null,null,null,null,146.80000000000021,0,0,0,0]
[null,null,null,null,null,null,null,null,null,null,147.0000000000002,0,0,0,0]
[null,null,null,null,null,null,null,null,null,null,147.20000000000019,0,0,0,0]
[null,null,null,null,null,null,null,null,null,null,147.40000000000018,0,0,0,0]
[null,null,null,null,null,null,null,null,null,null,147.60000000000016,0,0,0,0]
[null,null,null,null,null,null,null,null,null,null,147.80000000000015,0,0,0,0]
[null,null,null,null,null,null,null,null,null,null,148.00000000000014,0,0,0,0]
[null,null,null,null,null,null,null,null,null,null,148.20000000000013,0,0,0,0]
[null,null,null,null,null,null,null,null,null,null,148.40000000000012,0,0,0,0]
[null,null,null,null,null,null,null,null,null,null,148.60000000000011,0,0,0,0]
[null,null,null,null,null,null,null,null,null,null,148.8000000000001,0,0,0,0]
[null,null,null,null,null,null,null,null,null,null,149.00000000000009,0,0,0,0]
[null,null,null,null,null,null,null,null,null,null,149.20000000000007,0,0,0,0]
[null,null,null,null,null,null,null,null,null,null,149.40000000000006,0,0,0,0]
[null,null,null,null,null,null,null,null,null,null,149.60000000000005,0,0,0,0]
[null,null,null,null,null,null,null,null,null,null,149.80000000000004,0,0,0,0]
[null,null,null,null,null,null,null,null,null,null,150.00000000000003,0,0,0,0]
[null,null,null,null,null,null,null,null,null,null,150.20000000000002,0,0,0,0]
[null,null,null,null,null,null,null,null,null,null,150.4,0,0,0,0]
[null,null,null,null,null,null,null,null,null,null,150.6,0,0,0,0]
[null,null,null,null,null,null,null,null,null,null,150.79999999999998,0,0,0,0]
[null,null,null,null,null,null,null,null,null,null,150.99999999999997,0,0,0,0]
[null,null,null,null,null,null,null,null,null,null,151.19999999999996,0,0,0,0]
[null,null,null,null,null,null,null,null,null,null,151.39999999999995,0,0,0,0]
[null,null,null,null,null,null,null,null,null,null,151.59999999999994,0,0,0,0]
[null,null,null,null,null,null,null,null,null,null,151.79999999999993,0,0,0,0]
[null,null,null,null,null,null,null,null,null,null,151.99999999999991,0,0,0,0]
[null,null,null,null,null,null,null,null,null,null,152.1999999999999,0,0,0,0]
[null,null,null,null,null,null,null,null,null,null,152.39999999999989,0,0,0,0]
[null,null,null,null,null,null,null,null,null,null,152.59999999999988,0,0,0,0]
[null,null,null,null,null,null,null,null,null,null,152.79999999999987,0,0,0,0]
[null,null,null,null,null,null,null,null,null,null,152.99999999999986,0,0,0,0]
[null,null,null,null,null,null,null,null,null,null,153.19999999999985,0,0,0,0]
[null,null,null,null,null,null,null,null,null,null,153.39999999999984,0,0,0,0]
[null,null,null,null,null,null,null,null,null,null,153.59999999999982,0,0,0,0]
[null,null,null,null,null,null,null,null,null,null,153.79999999999981,0,0,{"$f":"IF(ISBLANK(K779),\"\",$G$13*K779+$H$13)","v":0},0]
[null,null,null,null,null,null,null,null,null,null,{"$f":"IF(K779+$G$19<=$G$18,K779+$G$19,NA())","v":153.9999999999998},0,0,0,0]
[null,null,null,null,null,null,null,null,null,null,154.19999999999979,{"$f":"IF(ISBLANK(K781),\"\",$G$11*K781+$H$11)","v":0},{"$f":"IF(ISBLANK(L781),\"\",$G$12*K781+$H$12)","v":0},0,{"$f":"IF(ISBLANK(M781),\"\",$G$14*K781+$H$14)","v":0}]
[null,null,null,null,null,null,null,null,null,null,154.39999999999978,0,0,0,0]
[null,null,null,null,null,null,null,null,null,null,154.59999999999977,0,0,0,0]
[null,null,null,null,null,null,null,null,null,null,154.79999999999976,0,0,0,0]
[null,null,null,null,null,null,null,null,null,null,154.99999999999974,0,0,0,0]
[null,null,null,null,null,null,null,null,null,null,155.19999999999973,0,0,0,0]
[null,null,null,null,null,null,null,null,null,null,155.39999999999972,0,0,0,0]
[null,null,null,null,null,null,null,null,null,null,155.59999999999971,0,0,0,0]
[null,null,null,null,null,null,null,null,null,null,155.7999999999997,0,0,0,0]
[null,null,null,null,null,null,null,null,null,null,155.99999999999969,0,0,0,0]
[null,null,null,null,null,null,null,null,null,null,156.19999999999968,0,0,0,0]
[null,null,null,null,null,null,null,null,null,null,156.39999999999966,0,0,0,0]
[null,null,null,null,null,null,null,null,null,null,156.59999999999965,0,0,0,0]
[null,null,null,null,null,null,null,null,null,null,156.79999999999964,0,0,0,0]
[null,null,null,null,null,null,null,null,null,null,156.99999999999963,0,0,0,0]
[null,null,null,null,null,null,null,null,null,null,157.19999999999962,0,0,0,0]
[null,null,null,null,null,null,null,null,null,null,157.39999999999961,0,0,0,0]
[null,null,null,null,null,null,null,null,null,null,157.5999999999996,0,0,0,0]
[null,null,null,null,null,null,null,null,null,null,157.79999999999959,0,0,0,0]
[null,null,null,null,null,null,null,null,null,null,157.99999999999957,0,0,0,0]
[null,null,null,null,null,null,null,null,null,null,158.19999999999956,0,0,0,0]
[null,null,null,null,null,null,null,null,null,null,158.39999999999955,0,0,0,0]
[null,null,null,null,null,null,null,null,null,null,158.59999999999954,0,0,0,0]
[null,null,null,null,null,null,null,null,null,null,158.79999999999953,0,0,0,0]
[null,null,null,null,null,null,null,null,null,null,158.99999999999952,0,0,0,0]
[null,null,null,null,null,null,null,null,null,null,159.19999999999951,0,0,0,0]
[null,null,null,null,null,null,null,null,null,null,159.39999999999949,0,0,0,0]
[null,null,null,null,null,null,null,null,null,null,159.59999999999948,0,0,0,0]
[null,null,null,null,null,null,null,null,null,null,159.79999999999947,0,0,0,0]
[null,null,null,null,null,null,null,null,null,null,159.99999999999946,0,0,0,0]
[null,null,null,null,null,null,null,null,null,null,160.19999999999945,0,0,0,0]
[null,null,null,null,null,null,null,null,null,null,160.39999999999944,0,0,0,0]
[null,null,null,null,null,null,null,null,null,null,160.59999999999943,0,0,0,0]
[null,null,null,null,null,null,null,null,null,null,160.79999999999941,0,0,0,0]
[null,null,null,null,null,null,null,null,null,null,160.9999999999994,0,0,0,0]
[null,null,null,null,null,null,null,null,null,null,161.19999999999939,0,0,0,0]
[null,null,null,null,null,null,null,null,null,null,161.39999999999938,0,0,0,0]
[null,null,null,null,null,null,null,null,null,null,161.59999999999937,0,0,0,0]
[null,null,null,null,null,null,null,null,null,null,161.79999999999936,0,0,0,0]
[null,null,null,null,null,null,null,null,null,null,161.99999999999935,0,0,0,0]
[null,null,null,null,null,null,null,null,null,null,162.19999999999933,0,0,0,0]
[null,null,null,null,null,null,null,null,null,null,162.39999999999932,0,0,0,0]
[null,null,null,null,null,null,null,null,null,null,162.59999999999931,0,0,0,0]
[null,null,null,null,null,null,null,null,null,null,162.7999999999993,0,0,0,0]
[null,null,null,null,null,null,null,null,null,null,162.99999999999929,0,0,0,0]
[null,null,null,null,null,null,null,null,null,null,163.19999999999928,0,0,0,0]
[null,null,null,null,null,null,null,null,null,null,163.39999999999927,0,0,0,0]
[null,null,null,null,null,null,null,null,null,null,163.59999999999926,0,0,0,0]
[null,null,null,null,null,null,null,null,null,null,163.79999999999924,0,0,0,0]
[null,null,null,null,null,null,null,null,null,null,163.99999999999923,0,0,0,0]
[null,null,null,null,null,null,null,null,null,null,164.19999999999922,0,0,0,0]
[null,null,null,null,null,null,null,null,null,null,164.39999999999921,0,0,0,0]
[null,null,null,null,null,null,null,null,null,null,164.5999999999992,0,0,0,0]
[null,null,null,null,null,null,null,null,null,null,164.79999999999919,0,0,0,0]
[null,null,null,null,null,null,null,null,null,null,164.99999999999918,0,0,0,0]
[null,null,null,null,null,null,null,null,null,null,165.19999999999916,0,0,0,0]
[null,null,null,null,null,null,null,null,null,null,165.39999999999915,0,0,0,0]
[null,null,null,null,null,null,null,null,null,null,165.59999999999914,0,0,0,0]
[null,null,null,null,null,null,null,null,null,null,165.79999999999913,0,0,0,0]
[null,null,null,null,null,null,null,null,null,null,165.99999999999912,0,0,0,0]
[null,null,null,null,null,null,null,null,null,null,166.19999999999911,0,0,0,0]
[null,null,null,null,null,null,null,null,null,null,166.3999999999991,0,0,0,0]
[null,null,null,null,null,null,null,null,null,null,166.59999999999908,0,0,{"$f":"IF(ISBLANK(K843),\"\",$G$13*K843+$H$13)","v":0},0]
[null,null,null,null,null,null,null,null,null,null,{"$f":"IF(K843+$G$19<=$G$18,K843+$G$19,NA())","v":166.79999999999907},0,0,0,0]
[null,null,null,null,null,null,null,null,null,null,166.99999999999906,{"$f":"IF(ISBLANK(K845),\"\",$G$11*K845+$H$11)","v":0},{"$f":"IF(ISBLANK(L845),\"\",$G$12*K845+$H$12)","v":0},0,{"$f":"IF(ISBLANK(M845),\"\",$G$14*K845+$H$14)","v":0}]
[null,null,null,null,null,null,null,null,null,null,167.19999999999905,0,0,0,0]
[null,null,null,null,null,null,null,null,null,null,167.39999999999904,0,0,0,0]
[null,null,null,null,null,null,null,null,null,null,167.59999999999903,0,0,0,0]
[null,null,null,null,null,null,null,null,null,null,167.79999999999902,0,0,0,0]
[null,null,null,null,null,null,null,null,null,null,167.99999999999901,0,0,0,0]
[null,null,null,null,null,null,null,null,null,null,168.19999999999899,0,0,0,0]
[null,null,null,null,null,null,null,null,null,null,168.39999999999898,0,0,0,0]
[null,null,null,null,null,null,null,null,null,null,168.59999999999897,0,0,0,0]
[null,null,null,null,null,null,null,null,null,null,168.79999999999896,0,0,0,0]
[null,null,null,null,null,null,null,null,null,null,168.99999999999895,0,0,0,0]
[null,null,null,null,null,null,null,null,null,null,169.19999999999894,0,0,0,0]
[null,null,null,null,null,null,null,null,null,null,169.39999999999893,0,0,0,0]
[null,null,null,null,null,null,null,null,null,null,169.59999999999891,0,0,0,0]
[null,null,null,null,null,null,null,null,null,null,169.7999999999989,0,0,0,0]
[null,null,null,null,null,null,null,null,null,null,169.99999999999889,0,0,0,0]
[null,null,null,null,null,null,null,null,null,null,170.19999999999888,0,0,0,0]
[null,null,null,null,null,null,null,null,null,null,170.39999999999887,0,0,0,0]
[null,null,null,null,null,null,null,null,null,null,170.59999999999886,0,0,0,0]
[null,null,null,null,null,null,null,null,null,null,170.79999999999885,0,0,0,0]
[null,null,null,null,null,null,null,null,null,null,170.99999999999883,0,0,0,0]
[null,null,null,null,null,null,null,null,null,null,171.19999999999882,0,0,0,0]
[null,null,null,null,null,null,null,null,null,null,171.39999999999881,0,0,0,0]
[null,null,null,null,null,null,null,null,null,null,171.5999999999988,0,0,0,0]
[null,null,null,null,null,null,null,null,null,null,171.79999999999879,0,0,0,0]
[null,null,null,null,null,null,null,null,null,null,171.99999999999878,0,0,0,0]
[null,null,null,null,null,null,null,null,null,null,172.19999999999877,0,0,0,0]
[null,null,null,null,null,null,null,null,null,null,172.39999999999876,0,0,0,0]
[null,null,null,null,null,null,null,null,null,null,172.59999999999874,0,0,0,0]
[null,null,null,null,null,null,null,null,null,null,172.79999999999873,0,0,0,0]
[null,null,null,null,null,null,null,null,null,null,172.99999999999872,0,0,0,0]
[null,null,null,null,null,null,null,null,null,null,173.19999999999871,0,0,0,0]
[null,null,null,null,null,null,null,null,null,null,173.3999999999987,0,0,0,0]
[null,null,null,null,null,null,null,null,null,null,173.59999999999869,0,0,0,0]
[null,null,null,null,null,null,null,null,null,null,173.79999999999868,0,0,0,0]
[null,null,null,null,null,null,null,null,null,null,173.99999999999866,0,0,0,0]
[null,null,null,null,null,null,null,null,null,null,174.19999999999865,0,0,0,0]
[null,null,null,null,null,null,null,null,null,null,174.39999999999864,0,0,0,0]
[null,null,null,null,null,null,null,null,null,null,174.59999999999863,0,0,0,0]
[null,null,null,null,null,null,null,null,null,null,174.79999999999862,0,0,0,0]
[null,null,null,null,null,null,null,null,null,null,174.99999999999861,0,0,0,0]
[null,null,null,null,null,null,null,null,null,null,175.1999999999986,0,0,0,0]
[null,null,null,null,null,null,null,null,null,null,175.39999999999858,0,0,0,0]
[null,null,null,null,null,null,null,null,null,null,175.59999999999857,0,0,0,0]
[null,null,null,null,null,null,null,null,null,null,175.79999999999856,0,0,0,0]
[null,null,null,null,null,null,null,null,null,null,175.99999999999855,0,0,0,0]
[null,null,null,null,null,null,null,null,null,null,176.19999999999854,0,0,0,0]
[null,null,null,null,null,null,null,null,null,null,176.39999999999853,0,0,0,0]
[null,null,null,null,null,null,null,null,null,null,176.59999999999852,0,0,0,0]
[null,null,null,null,null,null,null,null,null,null,176.79999999999851,0,0,0,0]
[null,null,null,null,null,null,null,null,null,null,176.99999999999849,0,0,0,0]
[null,null,null,null,null,null,null,null,null,null,177.19999999999848,0,0,0,0]
[null,null,null,null,null,null,null,null,null,null,177.39999999999847,0,0,0,0]
[null,null,null,null,null,null,null,null,null,null,177.59999999999846,0,0,0,0]
[null,null,null,null,null,null,null,null,null,null,177.79999999999845,0,0,0,0]
[null,null,null,null,null,null,null,null,null,null,177.99999999999844,0,0,0,0]
[null,null,null,null,null,null,null,null,null,null,178.19999999999843,0,0,0,0]
[null,null,null,null,null,null,null,null,null,null,178.39999999999841,0,0,0,0]
[null,null,null,null,null,null,null,null,null,null,178.5999999999984,0,0,0,0]
[null,null,null,null,null,null,null,null,null,null,178.79999999999839,0,0,0,0]
[null,null,null,null,null,null,null,null,null,null,178.99999999999838,0,0,0,0]
[null,null,null,null,null,null,null,null,null,null,179.19999999999837,0,0,0,0]
[null,null,null,null,null,null,null,null,null,null,179.39999999999836,0,0,{"$f":"IF(ISBLANK(K907),\"\",$G$13*K907+$H$13)","v":0},0]
[null,null,null,null,null,null,null,null,null,null,{"$f":"IF(K907+$G$19<=$G$18,K907+$G$19,NA())","v":179.59999999999835},0,0,0,0]
[null,null,null,null,null,null,null,null,null,null,179.79999999999833,{"$f":"IF(ISBLANK(K909),\"\",$G$11*K909+$H$11)","v":0},{"$f":"IF(ISBLANK(L909),\"\",$G$12*K909+$H$12)","v":0},0,{"$f":"IF(ISBLANK(M909),\"\",$G$14*K909+$H$14)","v":0}]
[null,null,null,null,null,null,null,null,null,null,179.99999999999832,0,0,0,0]
[null,null,null,null,null,null,null,null,null,null,180.19999999999831,0,0,0,0]
[null,null,null,null,null,null,null,null,null,null,180.3999999999983,0,0,0,0]
[null,null,null,null,null,null,null,null,null,null,180.59999999999829,0,0,0,0]
[null,null,null,null,null,null,null,null,null,null,180.79999999999828,0,0,0,0]
[null,null,null,null,null,null,null,null,null,null,180.99999999999827,0,0,0,0]
[null,null,null,null,null,null,null,null,null,null,181.19999999999825,0,0,0,0]
[null,null,null,null,null,null,null,null,null,null,181.39999999999824,0,0,0,0]
[null,null,null,null,null,null,null,null,null,null,181.59999999999823,0,0,0,0]
[null,null,null,null,null,null,null,null,null,null,181.79999999999822,0,0,0,0]
[null,null,null,null,null,null,null,null,null,null,181.99999999999821,0,0,0,0]
[null,null,null,null,null,null,null,null,null,null,182.1999999999982,0,0,0,0]
[null,null,null,null,null,null,null,null,null,null,182.39999999999819,0,0,0,0]
[null,null,null,null,null,null,null,null,null,null,182.59999999999818,0,0,0,0]
[null,null,null,null,null,null,null,null,null,null,182.79999999999816,0,0,0,0]
[null,null,null,null,null,null,null,null,null,null,182.99999999999815,0,0,0,0]
[null,null,null,null,null,null,null,null,null,null,183.19999999999814,0,0,0,0]
[null,null,null,null,null,null,null,null,null,null,183.39999999999813,0,0,0,0]
[null,null,null,null,null,null,null,null,null,null,183.59999999999812,0,0,0,0]
[null,null,null,null,null,null,null,null,null,null,183.79999999999811,0,0,0,0]
[null,null,null,null,null,null,null,null,null,null,183.9999999999981,0,0,0,0]
[null,null,null,null,null,null,null,null,null,null,184.19999999999808,0,0,0,0]
[null,null,null,null,null,null,null,null,null,null,184.39999999999807,0,0,0,0]
[null,null,null,null,null,null,null,null,null,null,184.59999999999806,0,0,0,0]
[null,null,null,null,null,null,null,null,null,null,184.79999999999805,0,0,0,0]
[null,null,null,null,null,null,null,null,null,null,184.99999999999804,0,0,0,0]
[null,null,null,null,null,null,null,null,null,null,185.19999999999803,0,0,0,0]
[null,null,null,null,null,null,null,null,null,null,185.39999999999802,0,0,0,0]
[null,null,null,null,null,null,null,null,null,null,185.599999999998,0,0,0,0]
[null,null,null,null,null,null,null,null,null,null,185.79999999999799,0,0,0,0]
[null,null,null,null,null,null,null,null,null,null,185.99999999999798,0,0,0,0]
[null,null,null,null,null,null,null,null,null,null,186.19999999999797,0,0,0,0]
[null,null,null,null,null,null,null,null,null,null,186.39999999999796,0,0,0,0]
[null,null,null,null,null,null,null,null,null,null,186.59999999999795,0,0,0,0]
[null,null,null,null,null,null,null,null,null,null,186.79999999999794,0,0,0,0]
[null,null,null,null,null,null,null,null,null,null,186.99999999999793,0,0,0,0]
[null,null,null,null,null,null,null,null,null,null,187.19999999999791,0,0,0,0]
[null,null,null,null,null,null,null,null,null,null,187.3999999999979,0,0,0,0]
[null,null,null,null,null,null,null,null,null,null,187.59999999999789,0,0,0,0]
[null,null,null,null,null,null,null,null,null,null,187.79999999999788,0,0,0,0]
[null,null,null,null,null,null,null,null,null,null,187.99999999999787,0,0,0,0]
[null,null,null,null,null,null,null,null,null,null,188.19999999999786,0,0,0,0]
[null,null,null,null,null,null,null,null,null,null,188.39999999999785,0,0,0,0]
[null,null,null,null,null,null,null,null,null,null,188.59999999999783,0,0,0,0]
[null,null,null,null,null,null,null,null,null,null,188.79999999999782,0,0,0,0]
[null,null,null,null,null,null,null,null,null,null,188.99999999999781,0,0,0,0]
[null,null,null,null,null,null,null,null,null,null,189.1999999999978,0,0,0,0]
[null,null,null,null,null,null,null,null,null,null,189.39999999999779,0,0,0,0]
[null,null,null,null,null,null,null,null,null,null,189.59999999999778,0,0,0,0]
[null,null,null,null,null,null,null,null,null,null,189.79999999999777,0,0,0,0]
[null,null,null,null,null,null,null,null,null,null,189.99999999999775,0,0,0,0]
[null,null,null,null,null,null,null,null,null,null,190.19999999999774,0,0,0,0]
[null,null,null,null,null,null,null,null,null,null,190.39999999999773,0,0,0,0]
[null,null,null,null,null,null,null,null,null,null,190.59999999999772,0,0,0,0]
[null,null,null,null,null,null,null,null,null,null,190.79999999999771,0,0,0,0]
[null,null,null,null,null,null,null,null,null,null,190.9999999999977,0,0,0,0]
[null,null,null,null,null,null,null,null,null,null,191.19999999999769,0,0,0,0]
[null,null,null,null,null,null,null,null,null,null,191.39999999999768,0,0,0,0]
[null,null,null,null,null,null,null,null,null,null,191.59999999999766,0,0,0,0]
[null,null,null,null,null,null,null,null,null,null,191.79999999999765,0,0,0,0]
[null,null,null,null,null,null,null,null,null,null,191.99999999999764,0,0,0,0]
[null,null,null,null,null,null,null,null,null,null,192.19999999999763,0,0,{"$f":"IF(ISBLANK(K971),\"\",$G$13*K971+$H$13)","v":0},0]
[null,null,null,null,null,null,null,null,null,null,{"$f":"IF(K971+$G$19<=$G$18,K971+$G$19,NA())","v":192.39999999999762},0,0,0,0]
[null,null,null,null,null,null,null,null,null,null,192.59999999999761,{"$f":"IF(ISBLANK(K973),\"\",$G$11*K973+$H$11)","v":0},{"$f":"IF(ISBLANK(L973),\"\",$G$12*K973+$H$12)","v":0},0,{"$f":"IF(ISBLANK(M973),\"\",$G$14*K973+$H$14)","v":0}]
[null,null,null,null,null,null,null,null,null,null,192.7999999999976,0,0,0,0]
[null,null,null,null,null,null,null,null,null,null,192.99999999999758,0,0,0,0]
[null,null,null,null,null,null,null,null,null,null,193.19999999999757,0,0,0,0]
[null,null,null,null,null,null,null,null,null,null,193.39999999999756,0,0,0,0]
[null,null,null,null,null,null,null,null,null,null,193.59999999999755,0,0,0,0]
[null,null,null,null,null,null,null,null,null,null,193.79999999999754,0,0,0,0]
[null,null,null,null,null,null,null,null,null,null,193.99999999999753,0,0,0,0]
[null,null,null,null,null,null,null,null,null,null,194.19999999999752,0,0,0,0]
[null,null,null,null,null,null,null,null,null,null,194.3999999999975,0,0,0,0]
[null,null,null,null,null,null,null,null,null,null,194.59999999999749,0,0,0,0]
[null,null,null,null,null,null,null,null,null,null,194.79999999999748,0,0,0,0]
[null,null,null,null,null,null,null,null,null,null,194.99999999999747,0,0,0,0]
[null,null,null,null,null,null,null,null,null,null,195.19999999999746,0,0,0,0]
[null,null,null,null,null,null,null,null,null,null,195.39999999999745,0,0,0,0]
[null,null,null,null,null,null,null,null,null,null,195.59999999999744,0,0,0,0]
[null,null,null,null,null,null,null,null,null,null,195.79999999999742,0,0,0,0]
[null,null,null,null,null,null,null,null,null,null,195.99999999999741,0,0,0,0]
[null,null,null,null,null,null,null,null,null,null,196.1999999999974,0,0,0,0]
[null,null,null,null,null,null,null,null,null,null,196.39999999999739,0,0,0,0]
[null,null,null,null,null,null,null,null,null,null,196.59999999999738,0,0,0,0]
[null,null,null,null,null,null,null,null,null,null,196.79999999999737,0,0,0,0]
[null,null,null,null,null,null,null,null,null,null,196.99999999999736,0,0,0,0]
[null,null,null,null,null,null,null,null,null,null,197.19999999999735,0,0,0,0]
[null,null,null,null,null,null,null,null,null,null,197.39999999999733,0,0,0,0]
[null,null,null,null,null,null,null,null,null,null,197.59999999999732,0,0,0,0]
[null,null,null,null,null,null,null,null,null,null,197.79999999999731,0,0,0,0]
[null,null,null,null,null,null,null,null,null,null,197.9999999999973,0,0,0,0]
[null,null,null,null,null,null,null,null,null,null,198.19999999999729,0,0,0,0]
[null,null,null,null,null,null,null,null,null,null,198.39999999999728,0,0,0,0]
[null,null,null,null,null,null,null,null,null,null,198.59999999999727,0,0,0,0]
[null,null,null,null,null,null,null,null,null,null,198.79999999999725,0,0,0,0]
[null,null,null,null,null,null,null,null,null,null,198.99999999999724,0,0,0,0]
[null,null,null,null,null,null,null,null,null,null,199.19999999999723,0,0,0,0]
[null,null,null,null,null,null,null,null,null,null,199.39999999999722,0,0,0,0]
[null,null,null,null,null,null,null,null,null,null,199.59999999999721,0,0,0,0]
[null,null,null,null,null,null,null,null,null,null,199.7999999999972,0,0,0,0]
[null,null,null,null,null,null,null,null,null,null,199.99999999999719,0,0,0,0]
[null,null,null,null,null,null,null,null,null,null,{"$error":"#N/A"},{"$error":"#N/A"},{"$error":"#N/A"},{"$error":"#N/A"},{"$error":"#N/A"}]
[null,null,null,null,null,null,null,null,null,null,{"$error":"#N/A"},{"$error":"#N/A"},{"$error":"#N/A"},{"$error":"#N/A"},{"$error":"#N/A"}]
[null,null,null,null,null,null,null,null,null,null,{"$error":"#N/A"},{"$error":"#N/A"},{"$error":"#N/A"},{"$error":"#N/A"},{"$error":"#N/A"}]
[null,null,null,null,null,null,null,null,null,null,{"$error":"#N/A"},{"$error":"#N/A"},{"$error":"#N/A"},{"$error":"#N/A"},{"$error":"#N/A"}]
[null,null,null,null,null,null,null,null,null,null,{"$error":"#N/A"},{"$error":"#N/A"},{"$error":"#N/A"},{"$error":"#N/A"},{"$error":"#N/A"}]
[null,null,null,null,null,null,null,null,null,null,{"$error":"#N/A"},{"$error":"#N/A"},{"$error":"#N/A"},{"$error":"#N/A"},{"$error":"#N/A"}]
[null,null,null,null,null,null,null,null,null,null,{"$error":"#N/A"},{"$error":"#N/A"},{"$error":"#N/A"},{"$error":"#N/A"},{"$error":"#N/A"}]
[null,null,null,null,null,null,null,null,null,null,{"$error":"#N/A"},{"$error":"#N/A"},{"$error":"#N/A"},{"$error":"#N/A"},{"$error":"#N/A"}]
[null,null,null,null,null,null,null,null,null,null,{"$error":"#N/A"},{"$error":"#N/A"},{"$error":"#N/A"},{"$error":"#N/A"},{"$error":"#N/A"}]
[null,null,null,null,null,null,null,null,null,null,{"$error":"#N/A"},{"$error":"#N/A"},{"$error":"#N/A"},{"$error":"#N/A"},{"$error":"#N/A"}]
[null,null,null,null,null,null,null,null,null,null,{"$error":"#N/A"},{"$error":"#N/A"},{"$error":"#N/A"},{"$error":"#N/A"},{"$error":"#N/A"}]
[null,null,null,null,null,null,null,null,null,null,{"$error":"#N/A"},{"$error":"#N/A"},{"$error":"#N/A"},{"$error":"#N/A"},{"$error":"#N/A"}]
[null,null,null,null,null,null,null,null,null,null,{"$error":"#N/A"},{"$error":"#N/A"},{"$error":"#N/A"},{"$error":"#N/A"},{"$error":"#N/A"}]
[null,null,null,null,null,null,null,null,null,null,{"$error":"#N/A"},{"$error":"#N/A"},{"$error":"#N/A"},{"$error":"#N/A"},{"$error":"#N/A"}]
[null,null,null,null,null,null,null,null,null,null,{"$error":"#N/A"},{"$error":"#N/A"},{"$error":"#N/A"},{"$error":"#N/A"},{"$error":"#N/A"}]
[null,null,null,null,null,null,null,null,null,null,{"$error":"#N/A"},{"$error":"#N/A"},{"$error":"#N/A"},{"$error":"#N/A"},{"$error":"#N/A"}]
[null,null,null,null,null,null,null,null,null,null,{"$error":"#N/A"},{"$error":"#N/A"},{"$error":"#N/A"},{"$error":"#N/A"},{"$error":"#N/A"}]
[null,null,null,null,null,null,null,null,null,null,{"$error":"#N/A"},{"$error":"#N/A"},{"$error":"#N/A"},{"$error":"#N/A"},{"$error":"#N/A"}]
[null,null,null,null,null,null,null,null,null,null,{"$error":"#N/A"},{"$error":"#N/A"},{"$error":"#N/A"},{"$error":"#N/A"},{"$error":"#N/A"}]
[null,null,null,null,null,null,null,null,null,null,{"$error":"#N/A"},{"$error":"#N/A"},{"$error":"#N/A"},{"$error":"#N/A"},{"$error":"#N/A"}]
[null,null,null,null,null,null,null,null,null,null,{"$error":"#N/A"},{"$error":"#N/A"},{"$error":"#N/A"},{"$error":"#N/A"},{"$error":"#N/A"}]
[null,null,null,null,null,null,null,null,null,null,{"$error":"#N/A"},{"$error":"#N/A"},{"$error":"#N/A"},{"$error":"#N/A"},{"$error":"#N/A"}]
[null,null,null,null,null,null,null,null,null,null,{"$error":"#N/A"},{"$error":"#N/A"},{"$error":"#N/A"},{"$error":"#N/A"},{"$error":"#N/A"}]
[null,null,null,null,null,null,null,null,null,null,{"$error":"#N/A"},{"$error":"#N/A"},{"$error":"#N/A"},{"$error":"#N/A"},{"$error":"#N/A"}]
[null,null,null,null,null,null,null,null,null,null,{"$error":"#N/A"},{"$error":"#N/A"},{"$error":"#N/A"},{"$f":"IF(ISBLANK(K1035),\"\",$G$13*K1035+$H$13)","v":{"$error":"#N/A"}},{"$error":"#N/A"}]
[null,null,null,null,null,null,null,null,null,null,{"$f":"IF(K1035+$G$19<=$G$18,K1035+$G$19,NA())","v":{"$error":"#N/A"}},{"$error":"#N/A"},{"$error":"#N/A"},{"$error":"#N/A"},{"$error":"#N/A"}]
[null,null,null,null,null,null,null,null,null,null,{"$error":"#N/A"},{"$f":"IF(ISBLANK(K1037),\"\",$G$11*K1037+$H$11)","v":{"$error":"#N/A"}},{"$f":"IF(ISBLANK(L1037),\"\",$G$12*K1037+$H$12)","v":{"$error":"#N/A"}},{"$error":"#N/A"},{"$f":"IF(ISBLANK(M1037),\"\",$G$14*K1037+$H$14)","v":{"$error":"#N/A"}}]
[null,null,null,null,null,null,null,null,null,null,{"$error":"#N/A"},{"$error":"#N/A"},{"$error":"#N/A"},{"$error":"#N/A"},{"$error":"#N/A"}]
[null,null,null,null,null,null,null,null,null,null,{"$error":"#N/A"},{"$error":"#N/A"},{"$error":"#N/A"},{"$error":"#N/A"},{"$error":"#N/A"}]
[null,null,null,null,null,null,null,null,null,null,{"$error":"#N/A"},{"$error":"#N/A"},{"$error":"#N/A"},{"$error":"#N/A"},{"$error":"#N/A"}]
[null,null,null,null,null,null,null,null,null,null,{"$error":"#N/A"},{"$error":"#N/A"},{"$error":"#N/A"},{"$error":"#N/A"},{"$error":"#N/A"}]
[null,null,null,null,null,null,null,null,null,null,{"$error":"#N/A"},{"$error":"#N/A"},{"$error":"#N/A"},{"$error":"#N/A"},{"$error":"#N/A"}]
[null,null,null,null,null,null,null,null,null,null,{"$error":"#N/A"},{"$error":"#N/A"},{"$error":"#N/A"},{"$error":"#N/A"},{"$error":"#N/A"}]
[null,null,null,null,null,null,null,null,null,null,{"$error":"#N/A"},{"$error":"#N/A"},{"$error":"#N/A"},{"$error":"#N/A"},{"$error":"#N/A"}]
[null,null,null,null,null,null,null,null,null,null,{"$error":"#N/A"},{"$error":"#N/A"},{"$error":"#N/A"},{"$error":"#N/A"},{"$error":"#N/A"}]
[null,null,null,null,null,null,null,null,null,null,{"$error":"#N/A"},{"$error":"#N/A"},{"$error":"#N/A"},{"$error":"#N/A"},{"$error":"#N/A"}]
[null,null,null,null,null,null,null,null,null,null,{"$error":"#N/A"},{"$error":"#N/A"},{"$error":"#N/A"},{"$error":"#N/A"},{"$error":"#N/A"}]
[null,null,null,null,null,null,null,null,null,null,{"$error":"#N/A"},{"$error":"#N/A"},{"$error":"#N/A"},{"$error":"#N/A"},{"$error":"#N/A"}]
[null,null,null,null,null,null,null,null,null,null,{"$error":"#N/A"},{"$error":"#N/A"},{"$error":"#N/A"},{"$error":"#N/A"},{"$error":"#N/A"}]
[null,null,null,null,null,null,null,null,null,null,{"$error":"#N/A"},{"$error":"#N/A"},{"$error":"#N/A"},{"$error":"#N/A"},{"$error":"#N/A"}]
[null,null,null,null,null,null,null,null,null,null,{"$error":"#N/A"},{"$error":"#N/A"},{"$error":"#N/A"},{"$error":"#N/A"},{"$error":"#N/A"}]
[null,null,null,null,null,null,null,null,null,null,{"$error":"#N/A"},{"$error":"#N/A"},{"$error":"#N/A"},{"$error":"#N/A"},{"$error":"#N/A"}]
[null,null,null,null,null,null,null,null,null,null,{"$error":"#N/A"},{"$error":"#N/A"},{"$error":"#N/A"},{"$error":"#N/A"},{"$error":"#N/A"}]
[null,null,null,null,null,null,null,null,null,null,{"$error":"#N/A"},{"$error":"#N/A"},{"$error":"#N/A"},{"$error":"#N/A"},{"$error":"#N/A"}]
[null,null,null,null,null,null,null,null,null,null,{"$error":"#N/A"},{"$error":"#N/A"},{"$error":"#N/A"},{"$error":"#N/A"},{"$error":"#N/A"}]
[null,null,null,null,null,null,null,null,null,null,{"$error":"#N/A"},{"$error":"#N/A"},{"$error":"#N/A"},{"$error":"#N/A"},{"$error":"#N/A"}]
[null,null,null,null,null,null,null,null,null,null,{"$error":"#N/A"},{"$error":"#N/A"},{"$error":"#N/A"},{"$error":"#N/A"},{"$error":"#N/A"}]
[null,null,null,null,null,null,null,null,null,null,{"$error":"#N/A"},{"$error":"#N/A"},{"$error":"#N/A"},{"$error":"#N/A"},{"$error":"#N/A"}]
[null,null,null,null,null,null,null,null,null,null,{"$error":"#N/A"},{"$error":"#N/A"},{"$error":"#N/A"},{"$error":"#N/A"},{"$error":"#N/A"}]
[null,null,null,null,null,null,null,null,null,null,{"$error":"#N/A"},{"$error":"#N/A"},{"$error":"#N/A"},{"$error":"#N/A"},{"$error":"#N/A"}]
[null,null,null,null,null,null,null,null,null,null,{"$error":"#N/A"},{"$error":"#N/A"},{"$error":"#N/A"},{"$error":"#N/A"},{"$error":"#N/A"}]
[null,null,null,null,null,null,null,null,null,null,{"$error":"#N/A"},{"$error":"#N/A"},{"$error":"#N/A"},{"$error":"#N/A"},{"$error":"#N/A"}]
[null,null,null,null,null,null,null,null,null,null,{"$error":"#N/A"},{"$error":"#N/A"},{"$error":"#N/A"},{"$error":"#N/A"},{"$error":"#N/A"}]
[null,null,null,null,null,null,null,null,null,null,{"$error":"#N/A"},{"$error":"#N/A"},{"$error":"#N/A"},{"$error":"#N/A"},{"$error":"#N/A"}]
[null,null,null,null,null,null,null,null,null,null,{"$error":"#N/A"},{"$error":"#N/A"},{"$error":"#N/A"},{"$error":"#N/A"},{"$error":"#N/A"}]
[null,null,null,null,null,null,null,null,null,null,{"$error":"#N/A"},{"$error":"#N/A"},{"$error":"#N/A"},{"$error":"#N/A"},{"$error":"#N/A"}]
[null,null,null,null,null,null,null,null,null,null,{"$error":"#N/A"},{"$error":"#N/A"},{"$error":"#N/A"},{"$error":"#N/A"},{"$error":"#N/A"}]
[null,null,null,null,null,null,null,null,null,null,{"$error":"#N/A"},{"$error":"#N/A"},{"$error":"#N/A"},{"$error":"#N/A"},{"$error":"#N/A"}]
[null,null,null,null,null,null,null,null,null,null,{"$error":"#N/A"},{"$error":"#N/A"},{"$error":"#N/A"},{"$error":"#N/A"},{"$error":"#N/A"}]
[null,null,null,null,null,null,null,null,null,null,{"$error":"#N/A"},{"$error":"#N/A"},{"$error":"#N/A"},{"$error":"#N/A"},{"$error":"#N/A"}]
[null,null,null,null,null,null,null,null,null,null,{"$error":"#N/A"},{"$error":"#N/A"},{"$error":"#N/A"},{"$error":"#N/A"},{"$error":"#N/A"}]
[null,null,null,null,null,null,null,null,null,null,{"$error":"#N/A"},{"$error":"#N/A"},{"$error":"#N/A"},{"$error":"#N/A"},{"$error":"#N/A"}]
[null,null,null,null,null,null,null,null,null,null,{"$error":"#N/A"},{"$error":"#N/A"},{"$error":"#N/A"},{"$error":"#N/A"},{"$error":"#N/A"}]
[null,null,null,null,null,null,null,null,null,null,{"$error":"#N/A"},{"$error":"#N/A"},{"$error":"#N/A"},{"$error":"#N/A"},{"$error":"#N/A"}]
[null,null,null,null,null,null,null,null,null,null,{"$error":"#N/A"},{"$error":"#N/A"},{"$error":"#N/A"},{"$error":"#N/A"},{"$error":"#N/A"}]
[null,null,null,null,null,null,null,null,null,null,{"$error":"#N/A"},{"$error":"#N/A"},{"$error":"#N/A"},{"$error":"#N/A"},{"$error":"#N/A"}]
[null,null,null,null,null,null,null,null,null,null,{"$error":"#N/A"},{"$error":"#N/A"},{"$error":"#N/A"},{"$error":"#N/A"},{"$error":"#N/A"}]
[null,null,null,null,null,null,null,null,null,null,{"$error":"#N/A"},{"$error":"#N/A"},{"$error":"#N/A"},{"$error":"#N/A"},{"$error":"#N/A"}]
[null,null,null,null,null,null,null,null,null,null,{"$error":"#N/A"},{"$error":"#N/A"},{"$error":"#N/A"},{"$error":"#N/A"},{"$error":"#N/A"}]
[null,null,null,null,null,null,null,null,null,null,{"$error":"#N/A"},{"$error":"#N/A"},{"$error":"#N/A"},{"$error":"#N/A"},{"$error":"#N/A"}]
[null,null,null,null,null,null,null,null,null,null,{"$error":"#N/A"},{"$error":"#N/A"},{"$error":"#N/A"},{"$error":"#N/A"},{"$error":"#N/A"}]
[null,null,null,null,null,null,null,null,null,null,{"$error":"#N/A"},{"$error":"#N/A"},{"$error":"#N/A"},{"$error":"#N/A"},{"$error":"#N/A"}]
[null,null,null,null,null,null,null,null,null,null,{"$error":"#N/A"},{"$error":"#N/A"},{"$error":"#N/A"},{"$error":"#N/A"},{"$error":"#N/A"}]
[null,null,null,null,null,null,null,null,null,null,{"$error":"#N/A"},{"$error":"#N/A"},{"$error":"#N/A"},{"$error":"#N/A"},{"$error":"#N/A"}]
[null,null,null,null,null,null,null,null,null,null,{"$error":"#N/A"},{"$error":"#N/A"},{"$error":"#N/A"},{"$error":"#N/A"},{"$error":"#N/A"}]
[null,null,null,null,null,null,null,null,null,null,{"$error":"#N/A"},{"$error":"#N/A"},{"$error":"#N/A"},{"$error":"#N/A"},{"$error":"#N/A"}]
[null,null,null,null,null,null,null,null,null,null,{"$error":"#N/A"},{"$error":"#N/A"},{"$error":"#N/A"},{"$error":"#N/A"},{"$error":"#N/A"}]
[null,null,null,null,null,null,null,null,null,null,{"$error":"#N/A"},{"$error":"#N/A"},{"$error":"#N/A"},{"$error":"#N/A"},{"$error":"#N/A"}]
[null,null,null,null,null,null,null,null,null,null,{"$error":"#N/A"},{"$error":"#N/A"},{"$error":"#N/A"},{"$error":"#N/A"},{"$error":"#N/A"}]
[null,null,null,null,null,null,null,null,null,null,{"$error":"#N/A"},{"$error":"#N/A"},{"$error":"#N/A"},{"$error":"#N/A"},{"$error":"#N/A"}]
[null,null,null,null,null,null,null,null,null,null,{"$error":"#N/A"},{"$error":"#N/A"},{"$error":"#N/A"},{"$error":"#N/A"},{"$error":"#N/A"}]
[null,null,null,null,null,null,null,null,null,null,{"$error":"#N/A"},{"$error":"#N/A"},{"$error":"#N/A"},{"$error":"#N/A"},{"$error":"#N/A"}]
[null,null,null,null,null,null,null,null,null,null,{"$error":"#N/A"},{"$error":"#N/A"},{"$error":"#N/A"},{"$error":"#N/A"},{"$error":"#N/A"}]
[null,null,null,null,null,null,null,null,null,null,{"$error":"#N/A"},{"$error":"#N/A"},{"$error":"#N/A"},{"$error":"#N/A"},{"$error":"#N/A"}]
[null,null,null,null,null,null,null,null,null,null,{"$error":"#N/A"},{"$error":"#N/A"},{"$error":"#N/A"},{"$error":"#N/A"},{"$error":"#N/A"}]
[null,null,null,null,null,null,null,null,null,null,{"$error":"#N/A"},{"$error":"#N/A"},{"$error":"#N/A"},{"$error":"#N/A"},{"$error":"#N/A"}]
[null,null,null,null,null,null,null,null,null,null,{"$error":"#N/A"},{"$error":"#N/A"},{"$error":"#N/A"},{"$error":"#N/A"},{"$error":"#N/A"}]
[null,null,null,null,null,null,null,null,null,null,{"$error":"#N/A"},{"$error":"#N/A"},{"$error":"#N/A"},{"$error":"#N/A"},{"$error":"#N/A"}]
[null,null,null,null,null,null,null,null,null,null,{"$error":"#N/A"},{"$error":"#N/A"},{"$error":"#N/A"},{"$f":"IF(ISBLANK(K1099),\"\",$G$13*K1099+$H$13)","v":{"$error":"#N/A"}},{"$error":"#N/A"}]
[null,null,null,null,null,null,null,null,null,null,{"$f":"IF(K1099+$G$19<=$G$18,K1099+$G$19,NA())","v":{"$error":"#N/A"}},{"$error":"#N/A"},{"$error":"#N/A"},{"$error":"#N/A"},{"$error":"#N/A"}]
[null,null,null,null,null,null,null,null,null,null,{"$error":"#N/A"},{"$f":"IF(ISBLANK(K1101),\"\",$G$11*K1101+$H$11)","v":{"$error":"#N/A"}},{"$f":"IF(ISBLANK(L1101),\"\",$G$12*K1101+$H$12)","v":{"$error":"#N/A"}},{"$error":"#N/A"},{"$f":"IF(ISBLANK(M1101),\"\",$G$14*K1101+$H$14)","v":{"$error":"#N/A"}}]
[null,null,null,null,null,null,null,null,null,null,{"$error":"#N/A"},{"$error":"#N/A"},{"$error":"#N/A"},{"$error":"#N/A"},{"$error":"#N/A"}]
[null,null,null,null,null,null,null,null,null,null,{"$error":"#N/A"},{"$error":"#N/A"},{"$error":"#N/A"},{"$error":"#N/A"},{"$error":"#N/A"}]
[null,null,null,null,null,null,null,null,null,null,{"$error":"#N/A"},{"$error":"#N/A"},{"$error":"#N/A"},{"$error":"#N/A"},{"$error":"#N/A"}]
[null,null,null,null,null,null,null,null,null,null,{"$error":"#N/A"},{"$error":"#N/A"},{"$error":"#N/A"},{"$error":"#N/A"},{"$error":"#N/A"}]
[null,null,null,null,null,null,null,null,null,null,{"$error":"#N/A"},{"$error":"#N/A"},{"$error":"#N/A"},{"$error":"#N/A"},{"$error":"#N/A"}]
[null,null,null,null,null,null,null,null,null,null,{"$error":"#N/A"},{"$error":"#N/A"},{"$error":"#N/A"},{"$error":"#N/A"},{"$error":"#N/A"}]
[null,null,null,null,null,null,null,null,null,null,{"$error":"#N/A"},{"$error":"#N/A"},{"$error":"#N/A"},{"$error":"#N/A"},{"$error":"#N/A"}]
[null,null,null,null,null,null,null,null,null,null,{"$error":"#N/A"},{"$error":"#N/A"},{"$error":"#N/A"},{"$error":"#N/A"},{"$error":"#N/A"}]
[null,null,null,null,null,null,null,null,null,null,{"$error":"#N/A"},{"$error":"#N/A"},{"$error":"#N/A"},{"$error":"#N/A"},{"$error":"#N/A"}]
[null,null,null,null,null,null,null,null,null,null,{"$error":"#N/A"},{"$error":"#N/A"},{"$error":"#N/A"},{"$error":"#N/A"},{"$error":"#N/A"}]
[null,null,null,null,null,null,null,null,null,null,{"$error":"#N/A"},{"$error":"#N/A"},{"$error":"#N/A"},{"$error":"#N/A"},{"$error":"#N/A"}]
[null,null,null,null,null,null,null,null,null,null,{"$error":"#N/A"},{"$error":"#N/A"},{"$error":"#N/A"},{"$error":"#N/A"},{"$error":"#N/A"}]
[null,null,null,null,null,null,null,null,null,null,{"$error":"#N/A"},{"$error":"#N/A"},{"$error":"#N/A"},{"$error":"#N/A"},{"$error":"#N/A"}]
[null,null,null,null,null,null,null,null,null,null,{"$error":"#N/A"},{"$error":"#N/A"},{"$error":"#N/A"},{"$error":"#N/A"},{"$error":"#N/A"}]
[null,null,null,null,null,null,null,null,null,null,{"$error":"#N/A"},{"$error":"#N/A"},{"$error":"#N/A"},{"$error":"#N/A"},{"$error":"#N/A"}]
[null,null,null,null,null,null,null,null,null,null,{"$error":"#N/A"},{"$error":"#N/A"},{"$error":"#N/A"},{"$error":"#N/A"},{"$error":"#N/A"}]
[null,null,null,null,null,null,null,null,null,null,{"$error":"#N/A"},{"$error":"#N/A"},{"$error":"#N/A"},{"$error":"#N/A"},{"$error":"#N/A"}]
[null,null,null,null,null,null,null,null,null,null,{"$error":"#N/A"},{"$error":"#N/A"},{"$error":"#N/A"},{"$error":"#N/A"},{"$error":"#N/A"}]
[null,null,null,null,null,null,null,null,null,null,{"$error":"#N/A"},{"$error":"#N/A"},{"$error":"#N/A"},{"$error":"#N/A"},{"$error":"#N/A"}]
[null,null,null,null,null,null,null,null,null,null,{"$error":"#N/A"},{"$error":"#N/A"},{"$error":"#N/A"},{"$error":"#N/A"},{"$error":"#N/A"}]
[null,null,null,null,null,null,null,null,null,null,{"$error":"#N/A"},{"$error":"#N/A"},{"$error":"#N/A"},{"$error":"#N/A"},{"$error":"#N/A"}]
[null,null,null,null,null,null,null,null,null,null,{"$error":"#N/A"},{"$error":"#N/A"},{"$error":"#N/A"},{"$error":"#N/A"},{"$error":"#N/A"}]
[null,null,null,null,null,null,null,null,null,null,{"$error":"#N/A"},{"$error":"#N/A"},{"$error":"#N/A"},{"$error":"#N/A"},{"$error":"#N/A"}]
[null,null,null,null,null,null,null,null,null,null,{"$error":"#N/A"},{"$error":"#N/A"},{"$error":"#N/A"},{"$error":"#N/A"},{"$error":"#N/A"}]
[null,null,null,null,null,null,null,null,null,null,{"$error":"#N/A"},{"$error":"#N/A"},{"$error":"#N/A"},{"$error":"#N/A"},{"$error":"#N/A"}]
[null,null,null,null,null,null,null,null,null,null,{"$error":"#N/A"},{"$error":"#N/A"},{"$error":"#N/A"},{"$error":"#N/A"},{"$error":"#N/A"}]
[null,null,null,null,null,null,null,null,null,null,{"$error":"#N/A"},{"$error":"#N/A"},{"$error":"#N/A"},{"$error":"#N/A"},{"$error":"#N/A"}]
[null,null,null,null,null,null,null,null,null,null,{"$error":"#N/A"},{"$error":"#N/A"},{"$error":"#N/A"},{"$error":"#N/A"},{"$error":"#N/A"}]
[null,null,null,null,null,null,null,null,null,null,{"$error":"#N/A"},{"$error":"#N/A"},{"$error":"#N/A"},{"$error":"#N/A"},{"$error":"#N/A"}]
[null,null,null,null,null,null,null,null,null,null,{"$error":"#N/A"},{"$error":"#N/A"},{"$error":"#N/A"},{"$error":"#N/A"},{"$error":"#N/A"}]
[null,null,null,null,null,null,null,null,null,null,{"$error":"#N/A"},{"$error":"#N/A"},{"$error":"#N/A"},{"$error":"#N/A"},{"$error":"#N/A"}]
[null,null,null,null,null,null,null,null,null,null,{"$error":"#N/A"},{"$error":"#N/A"},{"$error":"#N/A"},{"$error":"#N/A"},{"$error":"#N/A"}]
[null,null,null,null,null,null,null,null,null,null,{"$error":"#N/A"},{"$error":"#N/A"},{"$error":"#N/A"},{"$error":"#N/A"},{"$error":"#N/A"}]
[null,null,null,null,null,null,null,null,null,null,{"$error":"#N/A"},{"$error":"#N/A"},{"$error":"#N/A"},{"$error":"#N/A"},{"$error":"#N/A"}]
[null,null,null,null,null,null,null,null,null,null,{"$error":"#N/A"},{"$error":"#N/A"},{"$error":"#N/A"},{"$error":"#N/A"},{"$error":"#N/A"}]
[null,null,null,null,null,null,null,null,null,null,{"$error":"#N/A"},{"$error":"#N/A"},{"$error":"#N/A"},{"$error":"#N/A"},{"$error":"#N/A"}]
[null,null,null,null,null,null,null,null,null,null,{"$error":"#N/A"},{"$error":"#N/A"},{"$error":"#N/A"},{"$error":"#N/A"},{"$error":"#N/A"}]
[null,null,null,null,null,null,null,null,null,null,{"$error":"#N/A"},{"$error":"#N/A"},{"$error":"#N/A"},{"$error":"#N/A"},{"$error":"#N/A"}]
[null,null,null,null,null,null,null,null,null,null,{"$error":"#N/A"},{"$error":"#N/A"},{"$error":"#N/A"},{"$error":"#N/A"},{"$error":"#N/A"}]
[null,null,null,null,null,null,null,null,null,null,{"$error":"#N/A"},{"$error":"#N/A"},{"$error":"#N/A"},{"$error":"#N/A"},{"$error":"#N/A"}]
[null,null,null,null,null,null,null,null,null,null,{"$error":"#N/A"},{"$error":"#N/A"},{"$error":"#N/A"},{"$error":"#N/A"},{"$error":"#N/A"}]
[null,null,null,null,null,null,null,null,null,null,{"$error":"#N/A"},{"$error":"#N/A"},{"$error":"#N/A"},{"$error":"#N/A"},{"$error":"#N/A"}]
[null,null,null,null,null,null,null,null,null,null,{"$error":"#N/A"},{"$error":"#N/A"},{"$error":"#N/A"},{"$error":"#N/A"},{"$error":"#N/A"}]
[null,null,null,null,null,null,null,null,null,null,{"$error":"#N/A"},{"$error":"#N/A"},{"$error":"#N/A"},{"$error":"#N/A"},{"$error":"#N/A"}]
[null,null,null,null,null,null,null,null,null,null,{"$error":"#N/A"},{"$error":"#N/A"},{"$error":"#N/A"},{"$error":"#N/A"},{"$error":"#N/A"}]
[null,null,null,null,null,null,null,null,null,null,{"$error":"#N/A"},{"$error":"#N/A"},{"$error":"#N/A"},{"$error":"#N/A"},{"$error":"#N/A"}]
[null,null,null,null,null,null,null,null,null,null,{"$error":"#N/A"},{"$error":"#N/A"},{"$error":"#N/A"},{"$error":"#N/A"},{"$error":"#N/A"}]
[null,null,null,null,null,null,null,null,null,null,{"$error":"#N/A"},{"$error":"#N/A"},{"$error":"#N/A"},{"$error":"#N/A"},{"$error":"#N/A"}]
[null,null,null,null,null,null,null,null,null,null,{"$error":"#N/A"},{"$error":"#N/A"},{"$error":"#N/A"},{"$error":"#N/A"},{"$error":"#N/A"}]
[null,null,null,null,null,null,null,null,null,null,{"$error":"#N/A"},{"$error":"#N/A"},{"$error":"#N/A"},{"$error":"#N/A"},{"$error":"#N/A"}]
[null,null,null,null,null,null,null,null,null,null,{"$error":"#N/A"},{"$error":"#N/A"},{"$error":"#N/A"},{"$error":"#N/A"},{"$error":"#N/A"}]
[null,null,null,null,null,null,null,null,null,null,{"$error":"#N/A"},{"$error":"#N/A"},{"$error":"#N/A"},{"$error":"#N/A"},{"$error":"#N/A"}]
[null,null,null,null,null,null,null,null,null,null,{"$error":"#N/A"},{"$error":"#N/A"},{"$error":"#N/A"},{"$error":"#N/A"},{"$error":"#N/A"}]
[null,null,null,null,null,null,null,null,null,null,{"$error":"#N/A"},{"$error":"#N/A"},{"$error":"#N/A"},{"$error":"#N/A"},{"$error":"#N/A"}]
[null,null,null,null,null,null,null,null,null,null,{"$error":"#N/A"},{"$error":"#N/A"},{"$error":"#N/A"},{"$error":"#N/A"},{"$error":"#N/A"}]
[null,null,null,null,null,null,null,null,null,null,{"$error":"#N/A"},{"$error":"#N/A"},{"$error":"#N/A"},{"$error":"#N/A"},{"$error":"#N/A"}]
[null,null,null,null,null,null,null,null,null,null,{"$error":"#N/A"},{"$error":"#N/A"},{"$error":"#N/A"},{"$error":"#N/A"},{"$error":"#N/A"}]
[null,null,null,null,null,null,null,null,null,null,{"$error":"#N/A"},{"$error":"#N/A"},{"$error":"#N/A"},{"$error":"#N/A"},{"$error":"#N/A"}]
[null,null,null,null,null,null,null,null,null,null,{"$error":"#N/A"},{"$error":"#N/A"},{"$error":"#N/A"},{"$error":"#N/A"},{"$error":"#N/A"}]
[null,null,null,null,null,null,null,null,null,null,{"$error":"#N/A"},{"$error":"#N/A"},{"$error":"#N/A"},{"$error":"#N/A"},{"$error":"#N/A"}]
[null,null,null,null,null,null,null,null,null,null,{"$error":"#N/A"},{"$error":"#N/A"},{"$error":"#N/A"},{"$error":"#N/A"},{"$error":"#N/A"}]
[null,null,null,null,null,null,null,null,null,null,{"$error":"#N/A"},{"$error":"#N/A"},{"$error":"#N/A"},{"$f":"IF(ISBLANK(K1163),\"\",$G$13*K1163+$H$13)","v":{"$error":"#N/A"}},{"$error":"#N/A"}]
[null,null,null,null,null,null,null,null,null,null,{"$f":"IF(K1163+$G$19<=$G$18,K1163+$G$19,NA())","v":{"$error":"#N/A"}},{"$error":"#N/A"},{"$error":"#N/A"},{"$error":"#N/A"},{"$error":"#N/A"}]
[null,null,null,null,null,null,null,null,null,null,{"$error":"#N/A"},{"$f":"IF(ISBLANK(K1165),\"\",$G$11*K1165+$H$11)","v":{"$error":"#N/A"}},{"$f":"IF(ISBLANK(L1165),\"\",$G$12*K1165+$H$12)","v":{"$error":"#N/A"}},{"$error":"#N/A"},{"$f":"IF(ISBLANK(M1165),\"\",$G$14*K1165+$H$14)","v":{"$error":"#N/A"}}]
[null,null,null,null,null,null,null,null,null,null,{"$error":"#N/A"},{"$error":"#N/A"},{"$error":"#N/A"},{"$error":"#N/A"},{"$error":"#N/A"}]
[null,null,null,null,null,null,null,null,null,null,{"$error":"#N/A"},{"$error":"#N/A"},{"$error":"#N/A"},{"$error":"#N/A"},{"$error":"#N/A"}]
[null,null,null,null,null,null,null,null,null,null,{"$error":"#N/A"},{"$error":"#N/A"},{"$error":"#N/A"},{"$error":"#N/A"},{"$error":"#N/A"}]
[null,null,null,null,null,null,null,null,null,null,{"$error":"#N/A"},{"$error":"#N/A"},{"$error":"#N/A"},{"$error":"#N/A"},{"$error":"#N/A"}]
[null,null,null,null,null,null,null,null,null,null,{"$error":"#N/A"},{"$error":"#N/A"},{"$error":"#N/A"},{"$error":"#N/A"},{"$error":"#N/A"}]
[null,null,null,null,null,null,null,null,null,null,{"$error":"#N/A"},{"$error":"#N/A"},{"$error":"#N/A"},{"$error":"#N/A"},{"$error":"#N/A"}]
[null,null,null,null,null,null,null,null,null,null,{"$error":"#N/A"},{"$error":"#N/A"},{"$error":"#N/A"},{"$error":"#N/A"},{"$error":"#N/A"}]
[null,null,null,null,null,null,null,null,null,null,{"$error":"#N/A"},{"$error":"#N/A"},{"$error":"#N/A"},{"$error":"#N/A"},{"$error":"#N/A"}]
[null,null,null,null,null,null,null,null,null,null,{"$error":"#N/A"},{"$error":"#N/A"},{"$error":"#N/A"},{"$error":"#N/A"},{"$error":"#N/A"}]
[null,null,null,null,null,null,null,null,null,null,{"$error":"#N/A"},{"$error":"#N/A"},{"$error":"#N/A"},{"$error":"#N/A"},{"$error":"#N/A"}]
[null,null,null,null,null,null,null,null,null,null,{"$error":"#N/A"},{"$error":"#N/A"},{"$error":"#N/A"},{"$error":"#N/A"},{"$error":"#N/A"}]
[null,null,null,null,null,null,null,null,null,null,{"$error":"#N/A"},{"$error":"#N/A"},{"$error":"#N/A"},{"$error":"#N/A"},{"$error":"#N/A"}]
[null,null,null,null,null,null,null,null,null,null,{"$error":"#N/A"},{"$error":"#N/A"},{"$error":"#N/A"},{"$error":"#N/A"},{"$error":"#N/A"}]
[null,null,null,null,null,null,null,null,null,null,{"$error":"#N/A"},{"$error":"#N/A"},{"$error":"#N/A"},{"$error":"#N/A"},{"$error":"#N/A"}]
[null,null,null,null,null,null,null,null,null,null,{"$error":"#N/A"},{"$error":"#N/A"},{"$error":"#N/A"},{"$error":"#N/A"},{"$error":"#N/A"}]
[null,null,null,null,null,null,null,null,null,null,{"$error":"#N/A"},{"$error":"#N/A"},{"$error":"#N/A"},{"$error":"#N/A"},{"$error":"#N/A"}]
[null,null,null,null,null,null,null,null,null,null,{"$error":"#N/A"},{"$error":"#N/A"},{"$error":"#N/A"},{"$error":"#N/A"},{"$error":"#N/A"}]
[null,null,null,null,null,null,null,null,null,null,{"$error":"#N/A"},{"$error":"#N/A"},{"$error":"#N/A"},{"$error":"#N/A"},{"$error":"#N/A"}]
[null,null,null,null,null,null,null,null,null,null,{"$error":"#N/A"},{"$error":"#N/A"},{"$error":"#N/A"},{"$error":"#N/A"},{"$error":"#N/A"}]
[null,null,null,null,null,null,null,null,null,null,{"$error":"#N/A"},{"$error":"#N/A"},{"$error":"#N/A"},{"$error":"#N/A"},{"$error":"#N/A"}]
[null,null,null,null,null,null,null,null,null,null,{"$error":"#N/A"},{"$error":"#N/A"},{"$error":"#N/A"},{"$error":"#N/A"},{"$error":"#N/A"}]
[null,null,null,null,null,null,null,null,null,null,{"$error":"#N/A"},{"$error":"#N/A"},{"$error":"#N/A"},{"$error":"#N/A"},{"$error":"#N/A"}]
[null,null,null,null,null,null,null,null,null,null,{"$error":"#N/A"},{"$error":"#N/A"},{"$error":"#N/A"},{"$error":"#N/A"},{"$error":"#N/A"}]
[null,null,null,null,null,null,null,null,null,null,{"$error":"#N/A"},{"$error":"#N/A"},{"$error":"#N/A"},{"$error":"#N/A"},{"$error":"#N/A"}]
[null,null,null,null,null,null,null,null,null,null,{"$error":"#N/A"},{"$error":"#N/A"},{"$error":"#N/A"},{"$error":"#N/A"},{"$error":"#N/A"}]
[null,null,null,null,null,null,null,null,null,null,{"$error":"#N/A"},{"$error":"#N/A"},{"$error":"#N/A"},{"$error":"#N/A"},{"$error":"#N/A"}]
[null,null,null,null,null,null,null,null,null,null,{"$error":"#N/A"},{"$error":"#N/A"},{"$error":"#N/A"},{"$error":"#N/A"},{"$error":"#N/A"}]
[null,null,null,null,null,null,null,null,null,null,{"$error":"#N/A"},{"$error":"#N/A"},{"$error":"#N/A"},{"$error":"#N/A"},{"$error":"#N/A"}]
[null,null,null,null,null,null,null,null,null,null,{"$error":"#N/A"},{"$error":"#N/A"},{"$error":"#N/A"},{"$error":"#N/A"},{"$error":"#N/A"}]
[null,null,null,null,null,null,null,null,null,null,{"$error":"#N/A"},{"$error":"#N/A"},{"$error":"#N/A"},{"$error":"#N/A"},{"$error":"#N/A"}]
[null,null,null,null,null,null,null,null,null,null,{"$error":"#N/A"},{"$error":"#N/A"},{"$error":"#N/A"},{"$error":"#N/A"},{"$error":"#N/A"}]
[null,null,null,null,null,null,null,null,null,null,{"$error":"#N/A"},{"$error":"#N/A"},{"$error":"#N/A"},{"$error":"#N/A"},{"$error":"#N/A"}]
[null,null,null,null,null,null,null,null,null,null,{"$error":"#N/A"},{"$error":"#N/A"},{"$error":"#N/A"},{"$error":"#N/A"},{"$error":"#N/A"}]
[null,null,null,null,null,null,null,null,null,null,{"$error":"#N/A"},{"$error":"#N/A"},{"$error":"#N/A"},{"$error":"#N/A"},{"$error":"#N/A"}]
[null,null,null,null,null,null,null,null,null,null,{"$error":"#N/A"},{"$error":"#N/A"},{"$error":"#N/A"},{"$error":"#N/A"},{"$error":"#N/A"}]
[null,null,null,null,null,null,null,null,null,null,{"$error":"#N/A"},{"$error":"#N/A"},{"$error":"#N/A"},{"$error":"#N/A"},{"$error":"#N/A"}]
[null,null,null,null,null,null,null,null,null,null,{"$error":"#N/A"},{"$error":"#N/A"},{"$error":"#N/A"},{"$error":"#N/A"},{"$error":"#N/A"}]
[null,null,null,null,null,null,null,null,null,null,{"$error":"#N/A"},{"$error":"#N/A"},{"$error":"#N/A"},{"$error":"#N/A"},{"$error":"#N/A"}]
[null,null,null,null,null,null,null,null,null,null,{"$error":"#N/A"},{"$error":"#N/A"},{"$error":"#N/A"},{"$error":"#N/A"},{"$error":"#N/A"}]
[null,null,null,null,null,null,null,null,null,null,{"$error":"#N/A"},{"$error":"#N/A"},{"$error":"#N/A"},{"$error":"#N/A"},{"$error":"#N/A"}]
[null,null,null,null,null,null,null,null,null,null,{"$error":"#N/A"},{"$error":"#N/A"},{"$error":"#N/A"},{"$error":"#N/A"},{"$error":"#N/A"}]
[null,null,null,null,null,null,null,null,null,null,{"$error":"#N/A"},{"$error":"#N/A"},{"$error":"#N/A"},{"$error":"#N/A"},{"$error":"#N/A"}]
[null,null,null,null,null,null,null,null,null,null,{"$error":"#N/A"},{"$error":"#N/A"},{"$error":"#N/A"},{"$error":"#N/A"},{"$error":"#N/A"}]
[null,null,null,null,null,null,null,null,null,null,{"$error":"#N/A"},{"$error":"#N/A"},{"$error":"#N/A"},{"$error":"#N/A"},{"$error":"#N/A"}]
[null,null,null,null,null,null,null,null,null,null,{"$error":"#N/A"},{"$error":"#N/A"},{"$error":"#N/A"},{"$error":"#N/A"},{"$error":"#N/A"}]
[null,null,null,null,null,null,null,null,null,null,{"$error":"#N/A"},{"$error":"#N/A"},{"$error":"#N/A"},{"$error":"#N/A"},{"$error":"#N/A"}]
[null,null,null,null,null,null,null,null,null,null,{"$error":"#N/A"},{"$error":"#N/A"},{"$error":"#N/A"},{"$error":"#N/A"},{"$error":"#N/A"}]
[null,null,null,null,null,null,null,null,null,null,{"$error":"#N/A"},{"$error":"#N/A"},{"$error":"#N/A"},{"$error":"#N/A"},{"$error":"#N/A"}]
[null,null,null,null,null,null,null,null,null,null,{"$error":"#N/A"},{"$error":"#N/A"},{"$error":"#N/A"},{"$error":"#N/A"},{"$error":"#N/A"}]
[null,null,null,null,null,null,null,null,null,null,{"$error":"#N/A"},{"$error":"#N/A"},{"$error":"#N/A"},{"$error":"#N/A"},{"$error":"#N/A"}]
[null,null,null,null,null,null,null,null,null,null,{"$error":"#N/A"},{"$error":"#N/A"},{"$error":"#N/A"},{"$error":"#N/A"},{"$error":"#N/A"}]
[null,null,null,null,null,null,null,null,null,null,{"$error":"#N/A"},{"$error":"#N/A"},{"$error":"#N/A"},{"$error":"#N/A"},{"$error":"#N/A"}]
[null,null,null,null,null,null,null,null,null,null,{"$error":"#N/A"},{"$error":"#N/A"},{"$error":"#N/A"},{"$error":"#N/A"},{"$error":"#N/A"}]
[null,null,null,null,null,null,null,null,null,null,{"$error":"#N/A"},{"$error":"#N/A"},{"$error":"#N/A"},{"$error":"#N/A"},{"$error":"#N/A"}]
[null,null,null,null,null,null,null,null,null,null,{"$error":"#N/A"},{"$error":"#N/A"},{"$error":"#N/A"},{"$error":"#N/A"},{"$error":"#N/A"}]
[null,null,null,null,null,null,null,null,null,null,{"$error":"#N/A"},{"$error":"#N/A"},{"$error":"#N/A"},{"$error":"#N/A"},{"$error":"#N/A"}]
[null,null,null,null,null,null,null,null,null,null,{"$error":"#N/A"},{"$error":"#N/A"},{"$error":"#N/A"},{"$error":"#N/A"},{"$error":"#N/A"}]
[null,null,null,null,null,null,null,null,null,null,{"$error":"#N/A"},{"$error":"#N/A"},{"$error":"#N/A"},{"$error":"#N/A"},{"$error":"#N/A"}]
[null,null,null,null,null,null,null,null,null,null,{"$error":"#N/A"},{"$error":"#N/A"},{"$error":"#N/A"},{"$error":"#N/A"},{"$error":"#N/A"}]
[null,null,null,null,null,null,null,null,null,null,{"$error":"#N/A"},{"$error":"#N/A"},{"$error":"#N/A"},{"$error":"#N/A"},{"$error":"#N/A"}]
[null,null,null,null,null,null,null,null,null,null,{"$error":"#N/A"},{"$error":"#N/A"},{"$error":"#N/A"},{"$error":"#N/A"},{"$error":"#N/A"}]
[null,null,null,null,null,null,null,null,null,null,{"$error":"#N/A"},{"$error":"#N/A"},{"$error":"#N/A"},{"$f":"IF(ISBLANK(K1227),\"\",$G$13*K1227+$H$13)","v":{"$error":"#N/A"}},{"$error":"#N/A"}]
[null,null,null,null,null,null,null,null,null,null,{"$f":"IF(K1227+$G$19<=$G$18,K1227+$G$19,NA())","v":{"$error":"#N/A"}},{"$error":"#N/A"},{"$error":"#N/A"},{"$error":"#N/A"},{"$error":"#N/A"}]
[null,null,null,null,null,null,null,null,null,null,{"$error":"#N/A"},{"$f":"IF(ISBLANK(K1229),\"\",$G$11*K1229+$H$11)","v":{"$error":"#N/A"}},{"$f":"IF(ISBLANK(L1229),\"\",$G$12*K1229+$H$12)","v":{"$error":"#N/A"}},{"$error":"#N/A"},{"$f":"IF(ISBLANK(M1229),\"\",$G$14*K1229+$H$14)","v":{"$error":"#N/A"}}]
[null,null,null,null,null,null,null,null,null,null,{"$error":"#N/A"},{"$error":"#N/A"},{"$error":"#N/A"},{"$error":"#N/A"},{"$error":"#N/A"}]
[null,null,null,null,null,null,null,null,null,null,{"$error":"#N/A"},{"$error":"#N/A"},{"$error":"#N/A"},{"$error":"#N/A"},{"$error":"#N/A"}]
[null,null,null,null,null,null,null,null,null,null,{"$error":"#N/A"},{"$error":"#N/A"},{"$error":"#N/A"},{"$error":"#N/A"},{"$error":"#N/A"}]
[null,null,null,null,null,null,null,null,null,null,{"$error":"#N/A"},{"$error":"#N/A"},{"$error":"#N/A"},{"$error":"#N/A"},{"$error":"#N/A"}]
[null,null,null,null,null,null,null,null,null,null,{"$error":"#N/A"},{"$error":"#N/A"},{"$error":"#N/A"},{"$error":"#N/A"},{"$error":"#N/A"}]
[null,null,null,null,null,null,null,null,null,null,{"$error":"#N/A"},{"$error":"#N/A"},{"$error":"#N/A"},{"$error":"#N/A"},{"$error":"#N/A"}]
[null,null,null,null,null,null,null,null,null,null,{"$error":"#N/A"},{"$error":"#N/A"},{"$error":"#N/A"},{"$error":"#N/A"},{"$error":"#N/A"}]
[null,null,null,null,null,null,null,null,null,null,{"$error":"#N/A"},{"$error":"#N/A"},{"$error":"#N/A"},{"$error":"#N/A"},{"$error":"#N/A"}]
[null,null,null,null,null,null,null,null,null,null,{"$error":"#N/A"},{"$error":"#N/A"},{"$error":"#N/A"},{"$error":"#N/A"},{"$error":"#N/A"}]
[null,null,null,null,null,null,null,null,null,null,{"$error":"#N/A"},{"$error":"#N/A"},{"$error":"#N/A"},{"$error":"#N/A"},{"$error":"#N/A"}]
[null,null,null,null,null,null,null,null,null,null,{"$error":"#N/A"},{"$error":"#N/A"},{"$error":"#N/A"},{"$error":"#N/A"},{"$error":"#N/A"}]
[null,null,null,null,null,null,null,null,null,null,{"$error":"#N/A"},{"$error":"#N/A"},{"$error":"#N/A"},{"$error":"#N/A"},{"$error":"#N/A"}]
[null,null,null,null,null,null,null,null,null,null,{"$error":"#N/A"},{"$error":"#N/A"},{"$error":"#N/A"},{"$error":"#N/A"},{"$error":"#N/A"}]
[null,null,null,null,null,null,null,null,null,null,{"$error":"#N/A"},{"$error":"#N/A"},{"$error":"#N/A"},{"$error":"#N/A"},{"$error":"#N/A"}]
[null,null,null,null,null,null,null,null,null,null,{"$error":"#N/A"},{"$error":"#N/A"},{"$error":"#N/A"},{"$error":"#N/A"},{"$error":"#N/A"}]
[null,null,null,null,null,null,null,null,null,null,{"$error":"#N/A"},{"$error":"#N/A"},{"$error":"#N/A"},{"$error":"#N/A"},{"$error":"#N/A"}]
[null,null,null,null,null,null,null,null,null,null,{"$error":"#N/A"},{"$error":"#N/A"},{"$error":"#N/A"},{"$error":"#N/A"},{"$error":"#N/A"}]
[null,null,null,null,null,null,null,null,null,null,{"$error":"#N/A"},{"$error":"#N/A"},{"$error":"#N/A"},{"$error":"#N/A"},{"$error":"#N/A"}]
[null,null,null,null,null,null,null,null,null,null,{"$error":"#N/A"},{"$error":"#N/A"},{"$error":"#N/A"},{"$error":"#N/A"},{"$error":"#N/A"}]
[null,null,null,null,null,null,null,null,null,null,{"$error":"#N/A"},{"$error":"#N/A"},{"$error":"#N/A"},{"$error":"#N/A"},{"$error":"#N/A"}]
[null,null,null,null,null,null,null,null,null,null,{"$error":"#N/A"},{"$error":"#N/A"},{"$error":"#N/A"},{"$error":"#N/A"},{"$error":"#N/A"}]
[null,null,null,null,null,null,null,null,null,null,{"$error":"#N/A"},{"$error":"#N/A"},{"$error":"#N/A"},{"$error":"#N/A"},{"$error":"#N/A"}]
[null,null,null,null,null,null,null,null,null,null,{"$error":"#N/A"},{"$error":"#N/A"},{"$error":"#N/A"},{"$error":"#N/A"},{"$error":"#N/A"}]
[null,null,null,null,null,null,null,null,null,null,{"$error":"#N/A"},{"$error":"#N/A"},{"$error":"#N/A"},{"$error":"#N/A"},{"$error":"#N/A"}]
[null,null,null,null,null,null,null,null,null,null,{"$error":"#N/A"},{"$error":"#N/A"},{"$error":"#N/A"},{"$error":"#N/A"},{"$error":"#N/A"}]
[null,null,null,null,null,null,null,null,null,null,{"$error":"#N/A"},{"$error":"#N/A"},{"$error":"#N/A"},{"$error":"#N/A"},{"$error":"#N/A"}]
[null,null,null,null,null,null,null,null,null,null,{"$error":"#N/A"},{"$error":"#N/A"},{"$error":"#N/A"},{"$error":"#N/A"},{"$error":"#N/A"}]
[null,null,null,null,null,null,null,null,null,null,{"$error":"#N/A"},{"$error":"#N/A"},{"$error":"#N/A"},{"$error":"#N/A"},{"$error":"#N/A"}]
[null,null,null,null,null,null,null,null,null,null,{"$error":"#N/A"},{"$error":"#N/A"},{"$error":"#N/A"},{"$error":"#N/A"},{"$error":"#N/A"}]
[null,null,null,null,null,null,null,null,null,null,{"$error":"#N/A"},{"$error":"#N/A"},{"$error":"#N/A"},{"$error":"#N/A"},{"$error":"#N/A"}]
[null,null,null,null,null,null,null,null,null,null,{"$error":"#N/A"},{"$error":"#N/A"},{"$error":"#N/A"},{"$error":"#N/A"},{"$error":"#N/A"}]
[null,null,null,null,null,null,null,null,null,null,{"$error":"#N/A"},{"$error":"#N/A"},{"$error":"#N/A"},{"$error":"#N/A"},{"$error":"#N/A"}]
[null,null,null,null,null,null,null,null,null,null,{"$error":"#N/A"},{"$error":"#N/A"},{"$error":"#N/A"},{"$error":"#N/A"},{"$error":"#N/A"}]
[null,null,null,null,null,null,null,null,null,null,{"$error":"#N/A"},{"$error":"#N/A"},{"$error":"#N/A"},{"$error":"#N/A"},{"$error":"#N/A"}]
[null,null,null,null,null,null,null,null,null,null,{"$error":"#N/A"},{"$error":"#N/A"},{"$error":"#N/A"},{"$error":"#N/A"},{"$error":"#N/A"}]
[null,null,null,null,null,null,null,null,null,null,{"$error":"#N/A"},{"$error":"#N/A"},{"$error":"#N/A"},{"$error":"#N/A"},{"$error":"#N/A"}]
[null,null,null,null,null,null,null,null,null,null,{"$error":"#N/A"},{"$error":"#N/A"},{"$error":"#N/A"},{"$error":"#N/A"},{"$error":"#N/A"}]
[null,null,null,null,null,null,null,null,null,null,{"$error":"#N/A"},{"$error":"#N/A"},{"$error":"#N/A"},{"$error":"#N/A"},{"$error":"#N/A"}]
[null,null,null,null,null,null,null,null,null,null,{"$error":"#N/A"},{"$error":"#N/A"},{"$error":"#N/A"},{"$error":"#N/A"},{"$error":"#N/A"}]
[null,null,null,null,null,null,null,null,null,null,{"$error":"#N/A"},{"$error":"#N/A"},{"$error":"#N/A"},{"$error":"#N/A"},{"$error":"#N/A"}]
[null,null,null,null,null,null,null,null,null,null,{"$error":"#N/A"},{"$error":"#N/A"},{"$error":"#N/A"},{"$error":"#N/A"},{"$error":"#N/A"}]
[null,null,null,null,null,null,null,null,null,null,{"$error":"#N/A"},{"$error":"#N/A"},{"$error":"#N/A"},{"$error":"#N/A"},{"$error":"#N/A"}]
[null,null,null,null,null,null,null,null,null,null,{"$error":"#N/A"},{"$error":"#N/A"},{"$error":"#N/A"},{"$error":"#N/A"},{"$error":"#N/A"}]
[null,null,null,null,null,null,null,null,null,null,{"$error":"#N/A"},{"$error":"#N/A"},{"$error":"#N/A"},{"$error":"#N/A"},{"$error":"#N/A"}]
[null,null,null,null,null,null,null,null,null,null,{"$error":"#N/A"},{"$error":"#N/A"},{"$error":"#N/A"},{"$error":"#N/A"},{"$error":"#N/A"}]
[null,null,null,null,null,null,null,null,null,null,{"$error":"#N/A"},{"$error":"#N/A"},{"$error":"#N/A"},{"$error":"#N/A"},{"$error":"#N/A"}]
[null,null,null,null,null,null,null,null,null,null,{"$error":"#N/A"},{"$error":"#N/A"},{"$error":"#N/A"},{"$error":"#N/A"},{"$error":"#N/A"}]
[null,null,null,null,null,null,null,null,null,null,{"$error":"#N/A"},{"$error":"#N/A"},{"$error":"#N/A"},{"$error":"#N/A"},{"$error":"#N/A"}]
[null,null,null,null,null,null,null,null,null,null,{"$error":"#N/A"},{"$error":"#N/A"},{"$error":"#N/A"},{"$error":"#N/A"},{"$error":"#N/A"}]
[null,null,null,null,null,null,null,null,null,null,{"$error":"#N/A"},{"$error":"#N/A"},{"$error":"#N/A"},{"$error":"#N/A"},{"$error":"#N/A"}]
[null,null,null,null,null,null,null,null,null,null,{"$error":"#N/A"},{"$error":"#N/A"},{"$error":"#N/A"},{"$error":"#N/A"},{"$error":"#N/A"}]
[null,null,null,null,null,null,null,null,null,null,{"$error":"#N/A"},{"$error":"#N/A"},{"$error":"#N/A"},{"$error":"#N/A"},{"$error":"#N/A"}]
[null,null,null,null,null,null,null,null,null,null,{"$error":"#N/A"},{"$error":"#N/A"},{"$error":"#N/A"},{"$error":"#N/A"},{"$error":"#N/A"}]
[null,null,null,null,null,null,null,null,null,null,{"$error":"#N/A"},{"$error":"#N/A"},{"$error":"#N/A"},{"$error":"#N/A"},{"$error":"#N/A"}]
[null,null,null,null,null,null,null,null,null,null,{"$error":"#N/A"},{"$error":"#N/A"},{"$error":"#N/A"},{"$error":"#N/A"},{"$error":"#N/A"}]
[null,null,null,null,null,null,null,null,null,null,{"$error":"#N/A"},{"$error":"#N/A"},{"$error":"#N/A"},{"$error":"#N/A"},{"$error":"#N/A"}]
[null,null,null,null,null,null,null,null,null,null,{"$error":"#N/A"},{"$error":"#N/A"},{"$error":"#N/A"},{"$error":"#N/A"},{"$error":"#N/A"}]
[null,null,null,null,null,null,null,null,null,null,{"$error":"#N/A"},{"$error":"#N/A"},{"$error":"#N/A"},{"$error":"#N/A"},{"$error":"#N/A"}]
[null,null,null,null,null,null,null,null,null,null,{"$error":"#N/A"},{"$error":"#N/A"},{"$error":"#N/A"},{"$error":"#N/A"},{"$error":"#N/A"}]
[null,null,null,null,null,null,null,null,null,null,{"$error":"#N/A"},{"$error":"#N/A"},{"$error":"#N/A"},{"$error":"#N/A"},{"$error":"#N/A"}]
[null,null,null,null,null,null,null,null,null,null,{"$error":"#N/A"},{"$error":"#N/A"},{"$error":"#N/A"},{"$error":"#N/A"},{"$error":"#N/A"}]
[null,null,null,null,null,null,null,null,null,null,{"$error":"#N/A"},{"$error":"#N/A"},{"$error":"#N/A"},{"$f":"IF(ISBLANK(K1291),\"\",$G$13*K1291+$H$13)","v":{"$error":"#N/A"}},{"$error":"#N/A"}]
[null,null,null,null,null,null,null,null,null,null,{"$f":"IF(K1291+$G$19<=$G$18,K1291+$G$19,NA())","v":{"$error":"#N/A"}},{"$error":"#N/A"},{"$error":"#N/A"},{"$error":"#N/A"},{"$error":"#N/A"}]
[null,null,null,null,null,null,null,null,null,null,{"$error":"#N/A"},{"$f":"IF(ISBLANK(K1293),\"\",$G$11*K1293+$H$11)","v":{"$error":"#N/A"}},{"$f":"IF(ISBLANK(L1293),\"\",$G$12*K1293+$H$12)","v":{"$error":"#N/A"}},{"$error":"#N/A"},{"$f":"IF(ISBLANK(M1293),\"\",$G$14*K1293+$H$14)","v":{"$error":"#N/A"}}]
[null,null,null,null,null,null,null,null,null,null,{"$error":"#N/A"},{"$error":"#N/A"},{"$error":"#N/A"},{"$error":"#N/A"},{"$error":"#N/A"}]
[null,null,null,null,null,null,null,null,null,null,{"$error":"#N/A"},{"$error":"#N/A"},{"$error":"#N/A"},{"$error":"#N/A"},{"$error":"#N/A"}]
[null,null,null,null,null,null,null,null,null,null,{"$error":"#N/A"},{"$error":"#N/A"},{"$error":"#N/A"},{"$error":"#N/A"},{"$error":"#N/A"}]
[null,null,null,null,null,null,null,null,null,null,{"$error":"#N/A"},{"$error":"#N/A"},{"$error":"#N/A"},{"$error":"#N/A"},{"$error":"#N/A"}]
[null,null,null,null,null,null,null,null,null,null,{"$error":"#N/A"},{"$error":"#N/A"},{"$error":"#N/A"},{"$error":"#N/A"},{"$error":"#N/A"}]
[null,null,null,null,null,null,null,null,null,null,{"$error":"#N/A"},{"$error":"#N/A"},{"$error":"#N/A"},{"$error":"#N/A"},{"$error":"#N/A"}]
[null,null,null,null,null,null,null,null,null,null,{"$error":"#N/A"},{"$error":"#N/A"},{"$error":"#N/A"},{"$error":"#N/A"},{"$error":"#N/A"}]
[null,null,null,null,null,null,null,null,null,null,{"$error":"#N/A"},{"$error":"#N/A"},{"$error":"#N/A"},{"$error":"#N/A"},{"$error":"#N/A"}]
[null,null,null,null,null,null,null,null,null,null,{"$error":"#N/A"},{"$error":"#N/A"},{"$error":"#N/A"},{"$error":"#N/A"},{"$error":"#N/A"}]
[null,null,null,null,null,null,null,null,null,null,{"$error":"#N/A"},{"$error":"#N/A"},{"$error":"#N/A"},{"$error":"#N/A"},{"$error":"#N/A"}]
[null,null,null,null,null,null,null,null,null,null,{"$error":"#N/A"},{"$error":"#N/A"},{"$error":"#N/A"},{"$error":"#N/A"},{"$error":"#N/A"}]
[null,null,null,null,null,null,null,null,null,null,{"$error":"#N/A"},{"$error":"#N/A"},{"$error":"#N/A"},{"$error":"#N/A"},{"$error":"#N/A"}]
[null,null,null,null,null,null,null,null,null,null,{"$error":"#N/A"},{"$error":"#N/A"},{"$error":"#N/A"},{"$error":"#N/A"},{"$error":"#N/A"}]
[null,null,null,null,null,null,null,null,null,null,{"$error":"#N/A"},{"$error":"#N/A"},{"$error":"#N/A"},{"$error":"#N/A"},{"$error":"#N/A"}]
[null,null,null,null,null,null,null,null,null,null,{"$error":"#N/A"},{"$error":"#N/A"},{"$error":"#N/A"},{"$error":"#N/A"},{"$error":"#N/A"}]
[null,null,null,null,null,null,null,null,null,null,{"$error":"#N/A"},{"$error":"#N/A"},{"$error":"#N/A"},{"$error":"#N/A"},{"$error":"#N/A"}]
[null,null,null,null,null,null,null,null,null,null,{"$error":"#N/A"},{"$error":"#N/A"},{"$error":"#N/A"},{"$error":"#N/A"},{"$error":"#N/A"}]
[null,null,null,null,null,null,null,null,null,null,{"$error":"#N/A"},{"$error":"#N/A"},{"$error":"#N/A"},{"$error":"#N/A"},{"$error":"#N/A"}]
[null,null,null,null,null,null,null,null,null,null,{"$error":"#N/A"},{"$error":"#N/A"},{"$error":"#N/A"},{"$error":"#N/A"},{"$error":"#N/A"}]
[null,null,null,null,null,null,null,null,null,null,{"$error":"#N/A"},{"$error":"#N/A"},{"$error":"#N/A"},{"$error":"#N/A"},{"$error":"#N/A"}]
[null,null,null,null,null,null,null,null,null,null,{"$error":"#N/A"},{"$error":"#N/A"},{"$error":"#N/A"},{"$error":"#N/A"},{"$error":"#N/A"}]
[null,null,null,null,null,null,null,null,null,null,{"$error":"#N/A"},{"$error":"#N/A"},{"$error":"#N/A"},{"$error":"#N/A"},{"$error":"#N/A"}]
[null,null,null,null,null,null,null,null,null,null,{"$error":"#N/A"},{"$error":"#N/A"},{"$error":"#N/A"},{"$error":"#N/A"},{"$error":"#N/A"}]
[null,null,null,null,null,null,null,null,null,null,{"$error":"#N/A"},{"$error":"#N/A"},{"$error":"#N/A"},{"$error":"#N/A"},{"$error":"#N/A"}]
[null,null,null,null,null,null,null,null,null,null,{"$error":"#N/A"},{"$error":"#N/A"},{"$error":"#N/A"},{"$error":"#N/A"},{"$error":"#N/A"}]
[null,null,null,null,null,null,null,null,null,null,{"$error":"#N/A"},{"$error":"#N/A"},{"$error":"#N/A"},{"$error":"#N/A"},{"$error":"#N/A"}]
[null,null,null,null,null,null,null,null,null,null,{"$error":"#N/A"},{"$error":"#N/A"},{"$error":"#N/A"},{"$error":"#N/A"},{"$error":"#N/A"}]
[null,null,null,null,null,null,null,null,null,null,{"$error":"#N/A"},{"$error":"#N/A"},{"$error":"#N/A"},{"$error":"#N/A"},{"$error":"#N/A"}]
[null,null,null,null,null,null,null,null,null,null,{"$error":"#N/A"},{"$error":"#N/A"},{"$error":"#N/A"},{"$error":"#N/A"},{"$error":"#N/A"}]
[null,null,null,null,null,null,null,null,null,null,{"$error":"#N/A"},{"$error":"#N/A"},{"$error":"#N/A"},{"$error":"#N/A"},{"$error":"#N/A"}]
[null,null,null,null,null,null,null,null,null,null,{"$error":"#N/A"},{"$error":"#N/A"},{"$error":"#N/A"},{"$error":"#N/A"},{"$error":"#N/A"}]
[null,null,null,null,null,null,null,null,null,null,{"$error":"#N/A"},{"$error":"#N/A"},{"$error":"#N/A"},{"$error":"#N/A"},{"$error":"#N/A"}]
[null,null,null,null,null,null,null,null,null,null,{"$error":"#N/A"},{"$error":"#N/A"},{"$error":"#N/A"},{"$error":"#N/A"},{"$error":"#N/A"}]
[null,null,null,null,null,null,null,null,null,null,{"$error":"#N/A"},{"$error":"#N/A"},{"$error":"#N/A"},{"$error":"#N/A"},{"$error":"#N/A"}]
[null,null,null,null,null,null,null,null,null,null,{"$error":"#N/A"},{"$error":"#N/A"},{"$error":"#N/A"},{"$error":"#N/A"},{"$error":"#N/A"}]
[null,null,null,null,null,null,null,null,null,null,{"$error":"#N/A"},{"$error":"#N/A"},{"$error":"#N/A"},{"$error":"#N/A"},{"$error":"#N/A"}]
[null,null,null,null,null,null,null,null,null,null,{"$error":"#N/A"},{"$error":"#N/A"},{"$error":"#N/A"},{"$error":"#N/A"},{"$error":"#N/A"}]
[null,null,null,null,null,null,null,null,null,null,{"$error":"#N/A"},{"$error":"#N/A"},{"$error":"#N/A"},{"$error":"#N/A"},{"$error":"#N/A"}]
[null,null,null,null,null,null,null,null,null,null,{"$error":"#N/A"},{"$error":"#N/A"},{"$error":"#N/A"},{"$error":"#N/A"},{"$error":"#N/A"}]
[null,null,null,null,null,null,null,null,null,null,{"$error":"#N/A"},{"$error":"#N/A"},{"$error":"#N/A"},{"$error":"#N/A"},{"$error":"#N/A"}]
[null,null,null,null,null,null,null,null,null,null,{"$error":"#N/A"},{"$error":"#N/A"},{"$error":"#N/A"},{"$error":"#N/A"},{"$error":"#N/A"}]
[null,null,null,null,null,null,null,null,null,null,{"$error":"#N/A"},{"$error":"#N/A"},{"$error":"#N/A"},{"$error":"#N/A"},{"$error":"#N/A"}]
[null,null,null,null,null,null,null,null,null,null,{"$error":"#N/A"},{"$error":"#N/A"},{"$error":"#N/A"},{"$error":"#N/A"},{"$error":"#N/A"}]
[null,null,null,null,null,null,null,null,null,null,{"$error":"#N/A"},{"$error":"#N/A"},{"$error":"#N/A"},{"$error":"#N/A"},{"$error":"#N/A"}]
[null,null,null,null,null,null,null,null,null,null,{"$error":"#N/A"},{"$error":"#N/A"},{"$error":"#N/A"},{"$error":"#N/A"},{"$error":"#N/A"}]
[null,null,null,null,null,null,null,null,null,null,{"$error":"#N/A"},{"$error":"#N/A"},{"$error":"#N/A"},{"$error":"#N/A"},{"$error":"#N/A"}]
[null,null,null,null,null,null,null,null,null,null,{"$error":"#N/A"},{"$error":"#N/A"},{"$error":"#N/A"},{"$error":"#N/A"},{"$error":"#N/A"}]
[null,null,null,null,null,null,null,null,null,null,{"$error":"#N/A"},{"$error":"#N/A"},{"$error":"#N/A"},{"$error":"#N/A"},{"$error":"#N/A"}]
[null,null,null,null,null,null,null,null,null,null,{"$error":"#N/A"},{"$error":"#N/A"},{"$error":"#N/A"},{"$error":"#N/A"},{"$error":"#N/A"}]
[null,null,null,null,null,null,null,null,null,null,{"$error":"#N/A"},{"$error":"#N/A"},{"$error":"#N/A"},{"$error":"#N/A"},{"$error":"#N/A"}]
[null,null,null,null,null,null,null,null,null,null,{"$error":"#N/A"},{"$error":"#N/A"},{"$error":"#N/A"},{"$error":"#N/A"},{"$error":"#N/A"}]
[null,null,null,null,null,null,null,null,null,null,{"$error":"#N/A"},{"$error":"#N/A"},{"$error":"#N/A"},{"$error":"#N/A"},{"$error":"#N/A"}]
[null,null,null,null,null,null,null,null,null,null,{"$error":"#N/A"},{"$error":"#N/A"},{"$error":"#N/A"},{"$error":"#N/A"},{"$error":"#N/A"}]
[null,null,null,null,null,null,null,null,null,null,{"$error":"#N/A"},{"$error":"#N/A"},{"$error":"#N/A"},{"$error":"#N/A"},{"$error":"#N/A"}]
[null,null,null,null,null,null,null,null,null,null,{"$error":"#N/A"},{"$error":"#N/A"},{"$error":"#N/A"},{"$error":"#N/A"},{"$error":"#N/A"}]
[null,null,null,null,null,null,null,null,null,null,{"$error":"#N/A"},{"$error":"#N/A"},{"$error":"#N/A"},{"$error":"#N/A"},{"$error":"#N/A"}]
[null,null,null,null,null,null,null,null,null,null,{"$error":"#N/A"},{"$error":"#N/A"},{"$error":"#N/A"},{"$error":"#N/A"},{"$error":"#N/A"}]
[null,null,null,null,null,null,null,null,null,null,{"$error":"#N/A"},{"$error":"#N/A"},{"$error":"#N/A"},{"$error":"#N/A"},{"$error":"#N/A"}]
[null,null,null,null,null,null,null,null,null,null,{"$error":"#N/A"},{"$error":"#N/A"},{"$error":"#N/A"},{"$error":"#N/A"},{"$error":"#N/A"}]
[null,null,null,null,null,null,null,null,null,null,{"$error":"#N/A"},{"$error":"#N/A"},{"$error":"#N/A"},{"$error":"#N/A"},{"$error":"#N/A"}]
[null,null,null,null,null,null,null,null,null,null,{"$error":"#N/A"},{"$error":"#N/A"},{"$error":"#N/A"},{"$error":"#N/A"},{"$error":"#N/A"}]
[null,null,null,null,null,null,null,null,null,null,{"$error":"#N/A"},{"$error":"#N/A"},{"$error":"#N/A"},{"$f":"IF(ISBLANK(K1355),\"\",$G$13*K1355+$H$13)","v":{"$error":"#N/A"}},{"$error":"#N/A"}]
[null,null,null,null,null,null,null,null,null,null,{"$f":"IF(K1355+$G$19<=$G$18,K1355+$G$19,NA())","v":{"$error":"#N/A"}},{"$error":"#N/A"},{"$error":"#N/A"},{"$error":"#N/A"},{"$error":"#N/A"}]
[null,null,null,null,null,null,null,null,null,null,{"$error":"#N/A"},{"$f":"IF(ISBLANK(K1357),\"\",$G$11*K1357+$H$11)","v":{"$error":"#N/A"}},{"$f":"IF(ISBLANK(L1357),\"\",$G$12*K1357+$H$12)","v":{"$error":"#N/A"}},{"$error":"#N/A"},{"$f":"IF(ISBLANK(M1357),\"\",$G$14*K1357+$H$14)","v":{"$error":"#N/A"}}]
[null,null,null,null,null,null,null,null,null,null,{"$error":"#N/A"},{"$error":"#N/A"},{"$error":"#N/A"},{"$error":"#N/A"},{"$error":"#N/A"}]
[null,null,null,null,null,null,null,null,null,null,{"$error":"#N/A"},{"$error":"#N/A"},{"$error":"#N/A"},{"$error":"#N/A"},{"$error":"#N/A"}]
[null,null,null,null,null,null,null,null,null,null,{"$error":"#N/A"},{"$error":"#N/A"},{"$error":"#N/A"},{"$error":"#N/A"},{"$error":"#N/A"}]
[null,null,null,null,null,null,null,null,null,null,{"$error":"#N/A"},{"$error":"#N/A"},{"$error":"#N/A"},{"$error":"#N/A"},{"$error":"#N/A"}]
[null,null,null,null,null,null,null,null,null,null,{"$error":"#N/A"},{"$error":"#N/A"},{"$error":"#N/A"},{"$error":"#N/A"},{"$error":"#N/A"}]
[null,null,null,null,null,null,null,null,null,null,{"$error":"#N/A"},{"$error":"#N/A"},{"$error":"#N/A"},{"$error":"#N/A"},{"$error":"#N/A"}]
[null,null,null,null,null,null,null,null,null,null,{"$error":"#N/A"},{"$error":"#N/A"},{"$error":"#N/A"},{"$error":"#N/A"},{"$error":"#N/A"}]
[null,null,null,null,null,null,null,null,null,null,{"$error":"#N/A"},{"$error":"#N/A"},{"$error":"#N/A"},{"$error":"#N/A"},{"$error":"#N/A"}]
[null,null,null,null,null,null,null,null,null,null,{"$error":"#N/A"},{"$error":"#N/A"},{"$error":"#N/A"},{"$error":"#N/A"},{"$error":"#N/A"}]
[null,null,null,null,null,null,null,null,null,null,{"$error":"#N/A"},{"$error":"#N/A"},{"$error":"#N/A"},{"$error":"#N/A"},{"$error":"#N/A"}]
[null,null,null,null,null,null,null,null,null,null,{"$error":"#N/A"},{"$error":"#N/A"},{"$error":"#N/A"},{"$error":"#N/A"},{"$error":"#N/A"}]
[null,null,null,null,null,null,null,null,null,null,{"$error":"#N/A"},{"$error":"#N/A"},{"$error":"#N/A"},{"$error":"#N/A"},{"$error":"#N/A"}]
[null,null,null,null,null,null,null,null,null,null,{"$error":"#N/A"},{"$error":"#N/A"},{"$error":"#N/A"},{"$error":"#N/A"},{"$error":"#N/A"}]
[null,null,null,null,null,null,null,null,null,null,{"$error":"#N/A"},{"$error":"#N/A"},{"$error":"#N/A"},{"$error":"#N/A"},{"$error":"#N/A"}]
[null,null,null,null,null,null,null,null,null,null,{"$error":"#N/A"},{"$error":"#N/A"},{"$error":"#N/A"},{"$error":"#N/A"},{"$error":"#N/A"}]
[null,null,null,null,null,null,null,null,null,null,{"$error":"#N/A"},{"$error":"#N/A"},{"$error":"#N/A"},{"$error":"#N/A"},{"$error":"#N/A"}]
[null,null,null,null,null,null,null,null,null,null,{"$error":"#N/A"},{"$error":"#N/A"},{"$error":"#N/A"},{"$error":"#N/A"},{"$error":"#N/A"}]
[null,null,null,null,null,null,null,null,null,null,{"$error":"#N/A"},{"$error":"#N/A"},{"$error":"#N/A"},{"$error":"#N/A"},{"$error":"#N/A"}]
[null,null,null,null,null,null,null,null,null,null,{"$error":"#N/A"},{"$error":"#N/A"},{"$error":"#N/A"},{"$error":"#N/A"},{"$error":"#N/A"}]
[null,null,null,null,null,null,null,null,null,null,{"$error":"#N/A"},{"$error":"#N/A"},{"$error":"#N/A"},{"$error":"#N/A"},{"$error":"#N/A"}]
[null,null,null,null,null,null,null,null,null,null,{"$error":"#N/A"},{"$error":"#N/A"},{"$error":"#N/A"},{"$error":"#N/A"},{"$error":"#N/A"}]
[null,null,null,null,null,null,null,null,null,null,{"$error":"#N/A"},{"$error":"#N/A"},{"$error":"#N/A"},{"$error":"#N/A"},{"$error":"#N/A"}]
[null,null,null,null,null,null,null,null,null,null,{"$error":"#N/A"},{"$error":"#N/A"},{"$error":"#N/A"},{"$error":"#N/A"},{"$error":"#N/A"}]
[null,null,null,null,null,null,null,null,null,null,{"$error":"#N/A"},{"$error":"#N/A"},{"$error":"#N/A"},{"$error":"#N/A"},{"$error":"#N/A"}]
[null,null,null,null,null,null,null,null,null,null,{"$error":"#N/A"},{"$error":"#N/A"},{"$error":"#N/A"},{"$error":"#N/A"},{"$error":"#N/A"}]
[null,null,null,null,null,null,null,null,null,null,{"$error":"#N/A"},{"$error":"#N/A"},{"$error":"#N/A"},{"$error":"#N/A"},{"$error":"#N/A"}]
[null,null,null,null,null,null,null,null,null,null,{"$error":"#N/A"},{"$error":"#N/A"},{"$error":"#N/A"},{"$error":"#N/A"},{"$error":"#N/A"}]
[null,null,null,null,null,null,null,null,null,null,{"$error":"#N/A"},{"$error":"#N/A"},{"$error":"#N/A"},{"$error":"#N/A"},{"$error":"#N/A"}]
[null,null,null,null,null,null,null,null,null,null,{"$error":"#N/A"},{"$error":"#N/A"},{"$error":"#N/A"},{"$error":"#N/A"},{"$error":"#N/A"}]
[null,null,null,null,null,null,null,null,null,null,{"$error":"#N/A"},{"$error":"#N/A"},{"$error":"#N/A"},{"$error":"#N/A"},{"$error":"#N/A"}]
[null,null,null,null,null,null,null,null,null,null,{"$error":"#N/A"},{"$error":"#N/A"},{"$error":"#N/A"},{"$error":"#N/A"},{"$error":"#N/A"}]
[null,null,null,null,null,null,null,null,null,null,{"$error":"#N/A"},{"$error":"#N/A"},{"$error":"#N/A"},{"$error":"#N/A"},{"$error":"#N/A"}]
[null,null,null,null,null,null,null,null,null,null,{"$error":"#N/A"},{"$error":"#N/A"},{"$error":"#N/A"},{"$error":"#N/A"},{"$error":"#N/A"}]
[null,null,null,null,null,null,null,null,null,null,{"$error":"#N/A"},{"$error":"#N/A"},{"$error":"#N/A"},{"$error":"#N/A"},{"$error":"#N/A"}]
[null,null,null,null,null,null,null,null,null,null,{"$error":"#N/A"},{"$error":"#N/A"},{"$error":"#N/A"},{"$error":"#N/A"},{"$error":"#N/A"}]
[null,null,null,null,null,null,null,null,null,null,{"$error":"#N/A"},{"$error":"#N/A"},{"$error":"#N/A"},{"$error":"#N/A"},{"$error":"#N/A"}]
[null,null,null,null,null,null,null,null,null,null,{"$error":"#N/A"},{"$error":"#N/A"},{"$error":"#N/A"},{"$error":"#N/A"},{"$error":"#N/A"}]
[null,null,null,null,null,null,null,null,null,null,{"$error":"#N/A"},{"$error":"#N/A"},{"$error":"#N/A"},{"$error":"#N/A"},{"$error":"#N/A"}]
[null,null,null,null,null,null,null,null,null,null,{"$error":"#N/A"},{"$error":"#N/A"},{"$error":"#N/A"},{"$error":"#N/A"},{"$error":"#N/A"}]
[null,null,null,null,null,null,null,null,null,null,{"$error":"#N/A"},{"$error":"#N/A"},{"$error":"#N/A"},{"$error":"#N/A"},{"$error":"#N/A"}]
[null,null,null,null,null,null,null,null,null,null,{"$error":"#N/A"},{"$error":"#N/A"},{"$error":"#N/A"},{"$error":"#N/A"},{"$error":"#N/A"}]
[null,null,null,null,null,null,null,null,null,null,{"$error":"#N/A"},{"$error":"#N/A"},{"$error":"#N/A"},{"$error":"#N/A"},{"$error":"#N/A"}]
[null,null,null,null,null,null,null,null,null,null,{"$error":"#N/A"},{"$error":"#N/A"},{"$error":"#N/A"},{"$error":"#N/A"},{"$error":"#N/A"}]
[null,null,null,null,null,null,null,null,null,null,{"$error":"#N/A"},{"$error":"#N/A"},{"$error":"#N/A"},{"$error":"#N/A"},{"$error":"#N/A"}]
[null,null,null,null,null,null,null,null,null,null,{"$error":"#N/A"},{"$error":"#N/A"},{"$error":"#N/A"},{"$error":"#N/A"},{"$error":"#N/A"}]
[null,null,null,null,null,null,null,null,null,null,{"$error":"#N/A"},{"$error":"#N/A"},{"$error":"#N/A"},{"$error":"#N/A"},{"$error":"#N/A"}]
[null,null,null,null,null,null,null,null,null,null,{"$error":"#N/A"},{"$error":"#N/A"},{"$error":"#N/A"},{"$error":"#N/A"},{"$error":"#N/A"}]
[null,null,null,null,null,null,null,null,null,null,{"$error":"#N/A"},{"$error":"#N/A"},{"$error":"#N/A"},{"$error":"#N/A"},{"$error":"#N/A"}]
[null,null,null,null,null,null,null,null,null,null,{"$error":"#N/A"},{"$error":"#N/A"},{"$error":"#N/A"},{"$error":"#N/A"},{"$error":"#N/A"}]
[null,null,null,null,null,null,null,null,null,null,{"$error":"#N/A"},{"$error":"#N/A"},{"$error":"#N/A"},{"$error":"#N/A"},{"$error":"#N/A"}]
[null,null,null,null,null,null,null,null,null,null,{"$error":"#N/A"},{"$error":"#N/A"},{"$error":"#N/A"},{"$error":"#N/A"},{"$error":"#N/A"}]
[null,null,null,null,null,null,null,null,null,null,{"$error":"#N/A"},{"$error":"#N/A"},{"$error":"#N/A"},{"$error":"#N/A"},{"$error":"#N/A"}]
[null,null,null,null,null,null,null,null,null,null,{"$error":"#N/A"},{"$error":"#N/A"},{"$error":"#N/A"},{"$error":"#N/A"},{"$error":"#N/A"}]
[null,null,null,null,null,null,null,null,null,null,{"$error":"#N/A"},{"$error":"#N/A"},{"$error":"#N/A"},{"$error":"#N/A"},{"$error":"#N/A"}]
[null,null,null,null,null,null,null,null,null,null,{"$error":"#N/A"},{"$error":"#N/A"},{"$error":"#N/A"},{"$error":"#N/A"},{"$error":"#N/A"}]
[null,null,null,null,null,null,null,null,null,null,{"$error":"#N/A"},{"$error":"#N/A"},{"$error":"#N/A"},{"$error":"#N/A"},{"$error":"#N/A"}]
[null,null,null,null,null,null,null,null,null,null,{"$error":"#N/A"},{"$error":"#N/A"},{"$error":"#N/A"},{"$error":"#N/A"},{"$error":"#N/A"}]
[null,null,null,null,null,null,null,null,null,null,{"$error":"#N/A"},{"$error":"#N/A"},{"$error":"#N/A"},{"$error":"#N/A"},{"$error":"#N/A"}]
[null,null,null,null,null,null,null,null,null,null,{"$error":"#N/A"},{"$error":"#N/A"},{"$error":"#N/A"},{"$error":"#N/A"},{"$error":"#N/A"}]
[null,null,null,null,null,null,null,null,null,null,{"$error":"#N/A"},{"$error":"#N/A"},{"$error":"#N/A"},{"$error":"#N/A"},{"$error":"#N/A"}]
[null,null,null,null,null,null,null,null,null,null,{"$error":"#N/A"},{"$error":"#N/A"},{"$error":"#N/A"},{"$error":"#N/A"},{"$error":"#N/A"}]
[null,null,null,null,null,null,null,null,null,null,{"$error":"#N/A"},{"$error":"#N/A"},{"$error":"#N/A"},{"$f":"IF(ISBLANK(K1419),\"\",$G$13*K1419+$H$13)","v":{"$error":"#N/A"}},{"$error":"#N/A"}]
[null,null,null,null,null,null,null,null,null,null,{"$f":"IF(K1419+$G$19<=$G$18,K1419+$G$19,NA())","v":{"$error":"#N/A"}},{"$error":"#N/A"},{"$error":"#N/A"},{"$error":"#N/A"},{"$error":"#N/A"}]
[null,null,null,null,null,null,null,null,null,null,{"$error":"#N/A"},{"$f":"IF(ISBLANK(K1421),\"\",$G$11*K1421+$H$11)","v":{"$error":"#N/A"}},{"$f":"IF(ISBLANK(L1421),\"\",$G$12*K1421+$H$12)","v":{"$error":"#N/A"}},{"$error":"#N/A"},{"$f":"IF(ISBLANK(M1421),\"\",$G$14*K1421+$H$14)","v":{"$error":"#N/A"}}]
[null,null,null,null,null,null,null,null,null,null,{"$error":"#N/A"},{"$error":"#N/A"},{"$error":"#N/A"},{"$error":"#N/A"},{"$error":"#N/A"}]
[null,null,null,null,null,null,null,null,null,null,{"$error":"#N/A"},{"$error":"#N/A"},{"$error":"#N/A"},{"$error":"#N/A"},{"$error":"#N/A"}]
[null,null,null,null,null,null,null,null,null,null,{"$error":"#N/A"},{"$error":"#N/A"},{"$error":"#N/A"},{"$error":"#N/A"},{"$error":"#N/A"}]
[null,null,null,null,null,null,null,null,null,null,{"$error":"#N/A"},{"$error":"#N/A"},{"$error":"#N/A"},{"$error":"#N/A"},{"$error":"#N/A"}]
[null,null,null,null,null,null,null,null,null,null,{"$error":"#N/A"},{"$error":"#N/A"},{"$error":"#N/A"},{"$error":"#N/A"},{"$error":"#N/A"}]
[null,null,null,null,null,null,null,null,null,null,{"$error":"#N/A"},{"$error":"#N/A"},{"$error":"#N/A"},{"$error":"#N/A"},{"$error":"#N/A"}]
[null,null,null,null,null,null,null,null,null,null,{"$error":"#N/A"},{"$error":"#N/A"},{"$error":"#N/A"},{"$error":"#N/A"},{"$error":"#N/A"}]
[null,null,null,null,null,null,null,null,null,null,{"$error":"#N/A"},{"$error":"#N/A"},{"$error":"#N/A"},{"$error":"#N/A"},{"$error":"#N/A"}]
[null,null,null,null,null,null,null,null,null,null,{"$error":"#N/A"},{"$error":"#N/A"},{"$error":"#N/A"},{"$error":"#N/A"},{"$error":"#N/A"}]
[null,null,null,null,null,null,null,null,null,null,{"$error":"#N/A"},{"$error":"#N/A"},{"$error":"#N/A"},{"$error":"#N/A"},{"$error":"#N/A"}]
[null,null,null,null,null,null,null,null,null,null,{"$error":"#N/A"},{"$error":"#N/A"},{"$error":"#N/A"},{"$error":"#N/A"},{"$error":"#N/A"}]
[null,null,null,null,null,null,null,null,null,null,{"$error":"#N/A"},{"$error":"#N/A"},{"$error":"#N/A"},{"$error":"#N/A"},{"$error":"#N/A"}]
[null,null,null,null,null,null,null,null,null,null,{"$error":"#N/A"},{"$error":"#N/A"},{"$error":"#N/A"},{"$error":"#N/A"},{"$error":"#N/A"}]
[null,null,null,null,null,null,null,null,null,null,{"$error":"#N/A"},{"$error":"#N/A"},{"$error":"#N/A"},{"$error":"#N/A"},{"$error":"#N/A"}]
[null,null,null,null,null,null,null,null,null,null,{"$error":"#N/A"},{"$error":"#N/A"},{"$error":"#N/A"},{"$error":"#N/A"},{"$error":"#N/A"}]
[null,null,null,null,null,null,null,null,null,null,{"$error":"#N/A"},{"$error":"#N/A"},{"$error":"#N/A"},{"$error":"#N/A"},{"$error":"#N/A"}]
[null,null,null,null,null,null,null,null,null,null,{"$error":"#N/A"},{"$error":"#N/A"},{"$error":"#N/A"},{"$error":"#N/A"},{"$error":"#N/A"}]
[null,null,null,null,null,null,null,null,null,null,{"$error":"#N/A"},{"$error":"#N/A"},{"$error":"#N/A"},{"$error":"#N/A"},{"$error":"#N/A"}]
[null,null,null,null,null,null,null,null,null,null,{"$error":"#N/A"},{"$error":"#N/A"},{"$error":"#N/A"},{"$error":"#N/A"},{"$error":"#N/A"}]
[null,null,null,null,null,null,null,null,null,null,{"$error":"#N/A"},{"$error":"#N/A"},{"$error":"#N/A"},{"$error":"#N/A"},{"$error":"#N/A"}]
[null,null,null,null,null,null,null,null,null,null,{"$error":"#N/A"},{"$error":"#N/A"},{"$error":"#N/A"},{"$error":"#N/A"},{"$error":"#N/A"}]
[null,null,null,null,null,null,null,null,null,null,{"$error":"#N/A"},{"$error":"#N/A"},{"$error":"#N/A"},{"$error":"#N/A"},{"$error":"#N/A"}]
[null,null,null,null,null,null,null,null,null,null,{"$error":"#N/A"},{"$error":"#N/A"},{"$error":"#N/A"},{"$error":"#N/A"},{"$error":"#N/A"}]
[null,null,null,null,null,null,null,null,null,null,{"$error":"#N/A"},{"$error":"#N/A"},{"$error":"#N/A"},{"$error":"#N/A"},{"$error":"#N/A"}]
[null,null,null,null,null,null,null,null,null,null,{"$error":"#N/A"},{"$error":"#N/A"},{"$error":"#N/A"},{"$error":"#N/A"},{"$error":"#N/A"}]
[null,null,null,null,null,null,null,null,null,null,{"$error":"#N/A"},{"$error":"#N/A"},{"$error":"#N/A"},{"$error":"#N/A"},{"$error":"#N/A"}]
[null,null,null,null,null,null,null,null,null,null,{"$error":"#N/A"},{"$error":"#N/A"},{"$error":"#N/A"},{"$error":"#N/A"},{"$error":"#N/A"}]
[null,null,null,null,null,null,null,null,null,null,{"$error":"#N/A"},{"$error":"#N/A"},{"$error":"#N/A"},{"$error":"#N/A"},{"$error":"#N/A"}]
[null,null,null,null,null,null,null,null,null,null,{"$error":"#N/A"},{"$error":"#N/A"},{"$error":"#N/A"},{"$error":"#N/A"},{"$error":"#N/A"}]
[null,null,null,null,null,null,null,null,null,null,{"$error":"#N/A"},{"$error":"#N/A"},{"$error":"#N/A"},{"$error":"#N/A"},{"$error":"#N/A"}]
[null,null,null,null,null,null,null,null,null,null,{"$error":"#N/A"},{"$error":"#N/A"},{"$error":"#N/A"},{"$error":"#N/A"},{"$error":"#N/A"}]
[null,null,null,null,null,null,null,null,null,null,{"$error":"#N/A"},{"$error":"#N/A"},{"$error":"#N/A"},{"$error":"#N/A"},{"$error":"#N/A"}]
[null,null,null,null,null,null,null,null,null,null,{"$error":"#N/A"},{"$error":"#N/A"},{"$error":"#N/A"},{"$error":"#N/A"},{"$error":"#N/A"}]
[null,null,null,null,null,null,null,null,null,null,{"$error":"#N/A"},{"$error":"#N/A"},{"$error":"#N/A"},{"$error":"#N/A"},{"$error":"#N/A"}]
[null,null,null,null,null,null,null,null,null,null,{"$error":"#N/A"},{"$error":"#N/A"},{"$error":"#N/A"},{"$error":"#N/A"},{"$error":"#N/A"}]
[null,null,null,null,null,null,null,null,null,null,{"$error":"#N/A"},{"$error":"#N/A"},{"$error":"#N/A"},{"$error":"#N/A"},{"$error":"#N/A"}]
[null,null,null,null,null,null,null,null,null,null,{"$error":"#N/A"},{"$error":"#N/A"},{"$error":"#N/A"},{"$error":"#N/A"},{"$error":"#N/A"}]
[null,null,null,null,null,null,null,null,null,null,{"$error":"#N/A"},{"$error":"#N/A"},{"$error":"#N/A"},{"$error":"#N/A"},{"$error":"#N/A"}]
[null,null,null,null,null,null,null,null,null,null,{"$error":"#N/A"},{"$error":"#N/A"},{"$error":"#N/A"},{"$error":"#N/A"},{"$error":"#N/A"}]
[null,null,null,null,null,null,null,null,null,null,{"$error":"#N/A"},{"$error":"#N/A"},{"$error":"#N/A"},{"$error":"#N/A"},{"$error":"#N/A"}]
[null,null,null,null,null,null,null,null,null,null,{"$error":"#N/A"},{"$error":"#N/A"},{"$error":"#N/A"},{"$error":"#N/A"},{"$error":"#N/A"}]
[null,null,null,null,null,null,null,null,null,null,{"$error":"#N/A"},{"$error":"#N/A"},{"$error":"#N/A"},{"$error":"#N/A"},{"$error":"#N/A"}]
[null,null,null,null,null,null,null,null,null,null,{"$error":"#N/A"},{"$error":"#N/A"},{"$error":"#N/A"},{"$error":"#N/A"},{"$error":"#N/A"}]
[null,null,null,null,null,null,null,null,null,null,{"$error":"#N/A"},{"$error":"#N/A"},{"$error":"#N/A"},{"$error":"#N/A"},{"$error":"#N/A"}]
[null,null,null,null,null,null,null,null,null,null,{"$error":"#N/A"},{"$error":"#N/A"},{"$error":"#N/A"},{"$error":"#N/A"},{"$error":"#N/A"}]
[null,null,null,null,null,null,null,null,null,null,{"$error":"#N/A"},{"$error":"#N/A"},{"$error":"#N/A"},{"$error":"#N/A"},{"$error":"#N/A"}]
[null,null,null,null,null,null,null,null,null,null,{"$error":"#N/A"},{"$error":"#N/A"},{"$error":"#N/A"},{"$error":"#N/A"},{"$error":"#N/A"}]
[null,null,null,null,null,null,null,null,null,null,{"$error":"#N/A"},{"$error":"#N/A"},{"$error":"#N/A"},{"$error":"#N/A"},{"$error":"#N/A"}]
[null,null,null,null,null,null,null,null,null,null,{"$error":"#N/A"},{"$error":"#N/A"},{"$error":"#N/A"},{"$error":"#N/A"},{"$error":"#N/A"}]
[null,null,null,null,null,null,null,null,null,null,{"$error":"#N/A"},{"$error":"#N/A"},{"$error":"#N/A"},{"$error":"#N/A"},{"$error":"#N/A"}]
[null,null,null,null,null,null,null,null,null,null,{"$error":"#N/A"},{"$error":"#N/A"},{"$error":"#N/A"},{"$error":"#N/A"},{"$error":"#N/A"}]
[null,null,null,null,null,null,null,null,null,null,{"$error":"#N/A"},{"$error":"#N/A"},{"$error":"#N/A"},{"$error":"#N/A"},{"$error":"#N/A"}]
[null,null,null,null,null,null,null,null,null,null,{"$error":"#N/A"},{"$error":"#N/A"},{"$error":"#N/A"},{"$error":"#N/A"},{"$error":"#N/A"}]
[null,null,null,null,null,null,null,null,null,null,{"$error":"#N/A"},{"$error":"#N/A"},{"$error":"#N/A"},{"$error":"#N/A"},{"$error":"#N/A"}]
[null,null,null,null,null,null,null,null,null,null,{"$error":"#N/A"},{"$error":"#N/A"},{"$error":"#N/A"},{"$error":"#N/A"},{"$error":"#N/A"}]
[null,null,null,null,null,null,null,null,null,null,{"$error":"#N/A"},{"$error":"#N/A"},{"$error":"#N/A"},{"$error":"#N/A"},{"$error":"#N/A"}]
[null,null,null,null,null,null,null,null,null,null,{"$error":"#N/A"},{"$error":"#N/A"},{"$error":"#N/A"},{"$error":"#N/A"},{"$error":"#N/A"}]
[null,null,null,null,null,null,null,null,null,null,{"$error":"#N/A"},{"$error":"#N/A"},{"$error":"#N/A"},{"$error":"#N/A"},{"$error":"#N/A"}]
[null,null,null,null,null,null,null,null,null,null,{"$error":"#N/A"},{"$error":"#N/A"},{"$error":"#N/A"},{"$error":"#N/A"},{"$error":"#N/A"}]
[null,null,null,null,null,null,null,null,null,null,{"$error":"#N/A"},{"$error":"#N/A"},{"$error":"#N/A"},{"$error":"#N/A"},{"$error":"#N/A"}]
[null,null,null,null,null,null,null,null,null,null,{"$error":"#N/A"},{"$error":"#N/A"},{"$error":"#N/A"},{"$error":"#N/A"},{"$error":"#N/A"}]
[null,null,null,null,null,null,null,null,null,null,{"$error":"#N/A"},{"$error":"#N/A"},{"$error":"#N/A"},{"$f":"IF(ISBLANK(K1483),\"\",$G$13*K1483+$H$13)","v":{"$error":"#N/A"}},{"$error":"#N/A"}]
[null,null,null,null,null,null,null,null,null,null,{"$f":"IF(K1483+$G$19<=$G$18,K1483+$G$19,NA())","v":{"$error":"#N/A"}},{"$error":"#N/A"},{"$error":"#N/A"},{"$error":"#N/A"},{"$error":"#N/A"}]
[null,null,null,null,null,null,null,null,null,null,{"$error":"#N/A"},{"$f":"IF(ISBLANK(K1485),\"\",$G$11*K1485+$H$11)","v":{"$error":"#N/A"}},{"$f":"IF(ISBLANK(L1485),\"\",$G$12*K1485+$H$12)","v":{"$error":"#N/A"}},{"$error":"#N/A"},{"$f":"IF(ISBLANK(M1485),\"\",$G$14*K1485+$H$14)","v":{"$error":"#N/A"}}]
[null,null,null,null,null,null,null,null,null,null,{"$error":"#N/A"},{"$error":"#N/A"},{"$error":"#N/A"},{"$error":"#N/A"},{"$error":"#N/A"}]
[null,null,null,null,null,null,null,null,null,null,{"$error":"#N/A"},{"$error":"#N/A"},{"$error":"#N/A"},{"$error":"#N/A"},{"$error":"#N/A"}]
[null,null,null,null,null,null,null,null,null,null,{"$error":"#N/A"},{"$error":"#N/A"},{"$error":"#N/A"},{"$error":"#N/A"},{"$error":"#N/A"}]
[null,null,null,null,null,null,null,null,null,null,{"$error":"#N/A"},{"$error":"#N/A"},{"$error":"#N/A"},{"$error":"#N/A"},{"$error":"#N/A"}]
[null,null,null,null,null,null,null,null,null,null,{"$error":"#N/A"},{"$error":"#N/A"},{"$error":"#N/A"},{"$error":"#N/A"},{"$error":"#N/A"}]
[null,null,null,null,null,null,null,null,null,null,{"$error":"#N/A"},{"$error":"#N/A"},{"$error":"#N/A"},{"$error":"#N/A"},{"$error":"#N/A"}]
[null,null,null,null,null,null,null,null,null,null,{"$error":"#N/A"},{"$error":"#N/A"},{"$error":"#N/A"},{"$error":"#N/A"},{"$error":"#N/A"}]
[null,null,null,null,null,null,null,null,null,null,{"$error":"#N/A"},{"$error":"#N/A"},{"$error":"#N/A"},{"$error":"#N/A"},{"$error":"#N/A"}]
[null,null,null,null,null,null,null,null,null,null,{"$error":"#N/A"},{"$error":"#N/A"},{"$error":"#N/A"},{"$error":"#N/A"},{"$error":"#N/A"}]
[null,null,null,null,null,null,null,null,null,null,{"$error":"#N/A"},{"$error":"#N/A"},{"$error":"#N/A"},{"$error":"#N/A"},{"$error":"#N/A"}]
[null,null,null,null,null,null,null,null,null,null,{"$error":"#N/A"},{"$error":"#N/A"},{"$error":"#N/A"},{"$error":"#N/A"},{"$error":"#N/A"}]
[null,null,null,null,null,null,null,null,null,null,{"$error":"#N/A"},{"$error":"#N/A"},{"$error":"#N/A"},{"$error":"#N/A"},{"$error":"#N/A"}]
[null,null,null,null,null,null,null,null,null,null,{"$error":"#N/A"},{"$error":"#N/A"},{"$error":"#N/A"},{"$error":"#N/A"},{"$error":"#N/A"}]
[null,null,null,null,null,null,null,null,null,null,{"$error":"#N/A"},{"$error":"#N/A"},{"$error":"#N/A"},{"$error":"#N/A"},{"$error":"#N/A"}]
[null,null,null,null,null,null,null,null,null,null,{"$error":"#N/A"},{"$error":"#N/A"},{"$error":"#N/A"},{"$error":"#N/A"},{"$error":"#N/A"}]
[null,null,null,null,null,null,null,null,null,null,{"$error":"#N/A"},{"$error":"#N/A"},{"$error":"#N/A"},{"$error":"#N/A"},{"$error":"#N/A"}]
[null,null,null,null,null,null,null,null,null,null,{"$error":"#N/A"},{"$error":"#N/A"},{"$error":"#N/A"},{"$error":"#N/A"},{"$error":"#N/A"}]
[null,null,null,null,null,null,null,null,null,null,{"$error":"#N/A"},{"$error":"#N/A"},{"$error":"#N/A"},{"$error":"#N/A"},{"$error":"#N/A"}]
[null,null,null,null,null,null,null,null,null,null,{"$error":"#N/A"},{"$error":"#N/A"},{"$error":"#N/A"},{"$error":"#N/A"},{"$error":"#N/A"}]
[null,null,null,null,null,null,null,null,null,null,{"$error":"#N/A"},{"$error":"#N/A"},{"$error":"#N/A"},{"$error":"#N/A"},{"$error":"#N/A"}]
[null,null,null,null,null,null,null,null,null,null,{"$error":"#N/A"},{"$error":"#N/A"},{"$error":"#N/A"},{"$error":"#N/A"},{"$error":"#N/A"}]
[null,null,null,null,null,null,null,null,null,null,{"$error":"#N/A"},{"$error":"#N/A"},{"$error":"#N/A"},{"$error":"#N/A"},{"$error":"#N/A"}]
[null,null,null,null,null,null,null,null,null,null,{"$error":"#N/A"},{"$error":"#N/A"},{"$error":"#N/A"},{"$error":"#N/A"},{"$error":"#N/A"}]
[null,null,null,null,null,null,null,null,null,null,{"$error":"#N/A"},{"$error":"#N/A"},{"$error":"#N/A"},{"$error":"#N/A"},{"$error":"#N/A"}]
[null,null,null,null,null,null,null,null,null,null,{"$error":"#N/A"},{"$error":"#N/A"},{"$error":"#N/A"},{"$error":"#N/A"},{"$error":"#N/A"}]
[null,null,null,null,null,null,null,null,null,null,{"$error":"#N/A"},{"$error":"#N/A"},{"$error":"#N/A"},{"$error":"#N/A"},{"$error":"#N/A"}]
[null,null,null,null,null,null,null,null,null,null,{"$error":"#N/A"},{"$error":"#N/A"},{"$error":"#N/A"},{"$error":"#N/A"},{"$error":"#N/A"}]
[null,null,null,null,null,null,null,null,null,null,{"$error":"#N/A"},{"$error":"#N/A"},{"$error":"#N/A"},{"$error":"#N/A"},{"$error":"#N/A"}]
[null,null,null,null,null,null,null,null,null,null,{"$error":"#N/A"},{"$error":"#N/A"},{"$error":"#N/A"},{"$error":"#N/A"},{"$error":"#N/A"}]
[null,null,null,null,null,null,null,null,null,null,{"$error":"#N/A"},{"$error":"#N/A"},{"$error":"#N/A"},{"$error":"#N/A"},{"$error":"#N/A"}]
[null,null,null,null,null,null,null,null,null,null,{"$error":"#N/A"},{"$error":"#N/A"},{"$error":"#N/A"},{"$error":"#N/A"},{"$error":"#N/A"}]
[null,null,null,null,null,null,null,null,null,null,{"$error":"#N/A"},{"$error":"#N/A"},{"$error":"#N/A"},{"$error":"#N/A"},{"$error":"#N/A"}]
[null,null,null,null,null,null,null,null,null,null,{"$error":"#N/A"},{"$error":"#N/A"},{"$error":"#N/A"},{"$error":"#N/A"},{"$error":"#N/A"}]
[null,null,null,null,null,null,null,null,null,null,{"$error":"#N/A"},{"$error":"#N/A"},{"$error":"#N/A"},{"$error":"#N/A"},{"$error":"#N/A"}]
[null,null,null,null,null,null,null,null,null,null,{"$error":"#N/A"},{"$error":"#N/A"},{"$error":"#N/A"},{"$error":"#N/A"},{"$error":"#N/A"}]
[null,null,null,null,null,null,null,null,null,null,{"$error":"#N/A"},{"$error":"#N/A"},{"$error":"#N/A"},{"$error":"#N/A"},{"$error":"#N/A"}]
[null,null,null,null,null,null,null,null,null,null,{"$error":"#N/A"},{"$error":"#N/A"},{"$error":"#N/A"},{"$error":"#N/A"},{"$error":"#N/A"}]
[null,null,null,null,null,null,null,null,null,null,{"$error":"#N/A"},{"$error":"#N/A"},{"$error":"#N/A"},{"$error":"#N/A"},{"$error":"#N/A"}]
[null,null,null,null,null,null,null,null,null,null,{"$error":"#N/A"},{"$error":"#N/A"},{"$error":"#N/A"},{"$error":"#N/A"},{"$error":"#N/A"}]
[null,null,null,null,null,null,null,null,null,null,{"$error":"#N/A"},{"$error":"#N/A"},{"$error":"#N/A"},{"$error":"#N/A"},{"$error":"#N/A"}]
[null,null,null,null,null,null,null,null,null,null,{"$error":"#N/A"},{"$error":"#N/A"},{"$error":"#N/A"},{"$error":"#N/A"},{"$error":"#N/A"}]
[null,null,null,null,null,null,null,null,null,null,{"$error":"#N/A"},{"$error":"#N/A"},{"$error":"#N/A"},{"$error":"#N/A"},{"$error":"#N/A"}]
[null,null,null,null,null,null,null,null,null,null,{"$error":"#N/A"},{"$error":"#N/A"},{"$error":"#N/A"},{"$error":"#N/A"},{"$error":"#N/A"}]
[null,null,null,null,null,null,null,null,null,null,{"$error":"#N/A"},{"$error":"#N/A"},{"$error":"#N/A"},{"$error":"#N/A"},{"$error":"#N/A"}]
[null,null,null,null,null,null,null,null,null,null,{"$error":"#N/A"},{"$error":"#N/A"},{"$error":"#N/A"},{"$error":"#N/A"},{"$error":"#N/A"}]
[null,null,null,null,null,null,null,null,null,null,{"$error":"#N/A"},{"$error":"#N/A"},{"$error":"#N/A"},{"$error":"#N/A"},{"$error":"#N/A"}]
[null,null,null,null,null,null,null,null,null,null,{"$error":"#N/A"},{"$error":"#N/A"},{"$error":"#N/A"},{"$error":"#N/A"},{"$error":"#N/A"}]
[null,null,null,null,null,null,null,null,null,null,{"$error":"#N/A"},{"$error":"#N/A"},{"$error":"#N/A"},{"$error":"#N/A"},{"$error":"#N/A"}]
[null,null,null,null,null,null,null,null,null,null,{"$error":"#N/A"},{"$error":"#N/A"},{"$error":"#N/A"},{"$error":"#N/A"},{"$error":"#N/A"}]
[null,null,null,null,null,null,null,null,null,null,{"$error":"#N/A"},{"$error":"#N/A"},{"$error":"#N/A"},{"$error":"#N/A"},{"$error":"#N/A"}]
[null,null,null,null,null,null,null,null,null,null,{"$error":"#N/A"},{"$error":"#N/A"},{"$error":"#N/A"},{"$error":"#N/A"},{"$error":"#N/A"}]
[null,null,null,null,null,null,null,null,null,null,{"$error":"#N/A"},{"$error":"#N/A"},{"$error":"#N/A"},{"$error":"#N/A"},{"$error":"#N/A"}]
[null,null,null,null,null,null,null,null,null,null,{"$error":"#N/A"},{"$error":"#N/A"},{"$error":"#N/A"},{"$error":"#N/A"},{"$error":"#N/A"}]
[null,null,null,null,null,null,null,null,null,null,{"$error":"#N/A"},{"$error":"#N/A"},{"$error":"#N/A"},{"$error":"#N/A"},{"$error":"#N/A"}]
[null,null,null,null,null,null,null,null,null,null,{"$error":"#N/A"},{"$error":"#N/A"},{"$error":"#N/A"},{"$error":"#N/A"},{"$error":"#N/A"}]
[null,null,null,null,null,null,null,null,null,null,{"$error":"#N/A"},{"$error":"#N/A"},{"$error":"#N/A"},{"$error":"#N/A"},{"$error":"#N/A"}]
[null,null,null,null,null,null,null,null,null,null,{"$error":"#N/A"},{"$error":"#N/A"},{"$error":"#N/A"},{"$error":"#N/A"},{"$error":"#N/A"}]
[null,null,null,null,null,null,null,null,null,null,{"$error":"#N/A"},{"$error":"#N/A"},{"$error":"#N/A"},{"$error":"#N/A"},{"$error":"#N/A"}]
[null,null,null,null,null,null,null,null,null,null,{"$error":"#N/A"},{"$error":"#N/A"},{"$error":"#N/A"},{"$error":"#N/A"},{"$error":"#N/A"}]
[null,null,null,null,null,null,null,null,null,null,{"$error":"#N/A"},{"$error":"#N/A"},{"$error":"#N/A"},{"$error":"#N/A"},{"$error":"#N/A"}]
[null,null,null,null,null,null,null,null,null,null,{"$error":"#N/A"},{"$error":"#N/A"},{"$error":"#N/A"},{"$error":"#N/A"},{"$error":"#N/A"}]
[null,null,null,null,null,null,null,null,null,null,{"$error":"#N/A"},{"$error":"#N/A"},{"$error":"#N/A"},{"$f":"IF(ISBLANK(K1547),\"\",$G$13*K1547+$H$13)","v":{"$error":"#N/A"}},{"$error":"#N/A"}]
[null,null,null,null,null,null,null,null,null,null,{"$f":"IF(K1547+$G$19<=$G$18,K1547+$G$19,NA())","v":{"$error":"#N/A"}},{"$error":"#N/A"},{"$error":"#N/A"},{"$error":"#N/A"},{"$error":"#N/A"}]
[null,null,null,null,null,null,null,null,null,null,{"$error":"#N/A"},{"$f":"IF(ISBLANK(K1549),\"\",$G$11*K1549+$H$11)","v":{"$error":"#N/A"}},{"$f":"IF(ISBLANK(L1549),\"\",$G$12*K1549+$H$12)","v":{"$error":"#N/A"}},{"$error":"#N/A"},{"$f":"IF(ISBLANK(M1549),\"\",$G$14*K1549+$H$14)","v":{"$error":"#N/A"}}]
[null,null,null,null,null,null,null,null,null,null,{"$error":"#N/A"},{"$error":"#N/A"},{"$error":"#N/A"},{"$error":"#N/A"},{"$error":"#N/A"}]
[null,null,null,null,null,null,null,null,null,null,{"$error":"#N/A"},{"$error":"#N/A"},{"$error":"#N/A"},{"$error":"#N/A"},{"$error":"#N/A"}]
[null,null,null,null,null,null,null,null,null,null,{"$error":"#N/A"},{"$error":"#N/A"},{"$error":"#N/A"},{"$error":"#N/A"},{"$error":"#N/A"}]
[null,null,null,null,null,null,null,null,null,null,{"$error":"#N/A"},{"$error":"#N/A"},{"$error":"#N/A"},{"$error":"#N/A"},{"$error":"#N/A"}]
[null,null,null,null,null,null,null,null,null,null,{"$error":"#N/A"},{"$error":"#N/A"},{"$error":"#N/A"},{"$error":"#N/A"},{"$error":"#N/A"}]
[null,null,null,null,null,null,null,null,null,null,{"$error":"#N/A"},{"$error":"#N/A"},{"$error":"#N/A"},{"$error":"#N/A"},{"$error":"#N/A"}]
[null,null,null,null,null,null,null,null,null,null,{"$error":"#N/A"},{"$error":"#N/A"},{"$error":"#N/A"},{"$error":"#N/A"},{"$error":"#N/A"}]
[null,null,null,null,null,null,null,null,null,null,{"$error":"#N/A"},{"$error":"#N/A"},{"$error":"#N/A"},{"$error":"#N/A"},{"$error":"#N/A"}]
[null,null,null,null,null,null,null,null,null,null,{"$error":"#N/A"},{"$error":"#N/A"},{"$error":"#N/A"},{"$error":"#N/A"},{"$error":"#N/A"}]
[null,null,null,null,null,null,null,null,null,null,{"$error":"#N/A"},{"$error":"#N/A"},{"$error":"#N/A"},{"$error":"#N/A"},{"$error":"#N/A"}]
[null,null,null,null,null,null,null,null,null,null,{"$error":"#N/A"},{"$error":"#N/A"},{"$error":"#N/A"},{"$error":"#N/A"},{"$error":"#N/A"}]
[null,null,null,null,null,null,null,null,null,null,{"$error":"#N/A"},{"$error":"#N/A"},{"$error":"#N/A"},{"$error":"#N/A"},{"$error":"#N/A"}]
[null,null,null,null,null,null,null,null,null,null,{"$error":"#N/A"},{"$error":"#N/A"},{"$error":"#N/A"},{"$error":"#N/A"},{"$error":"#N/A"}]
[null,null,null,null,null,null,null,null,null,null,{"$error":"#N/A"},{"$error":"#N/A"},{"$error":"#N/A"},{"$error":"#N/A"},{"$error":"#N/A"}]
[null,null,null,null,null,null,null,null,null,null,{"$error":"#N/A"},{"$error":"#N/A"},{"$error":"#N/A"},{"$error":"#N/A"},{"$error":"#N/A"}]
[null,null,null,null,null,null,null,null,null,null,{"$error":"#N/A"},{"$error":"#N/A"},{"$error":"#N/A"},{"$error":"#N/A"},{"$error":"#N/A"}]
[null,null,null,null,null,null,null,null,null,null,{"$error":"#N/A"},{"$error":"#N/A"},{"$error":"#N/A"},{"$error":"#N/A"},{"$error":"#N/A"}]
[null,null,null,null,null,null,null,null,null,null,{"$error":"#N/A"},{"$error":"#N/A"},{"$error":"#N/A"},{"$error":"#N/A"},{"$error":"#N/A"}]
[null,null,null,null,null,null,null,null,null,null,{"$error":"#N/A"},{"$error":"#N/A"},{"$error":"#N/A"},{"$error":"#N/A"},{"$error":"#N/A"}]
[null,null,null,null,null,null,null,null,null,null,{"$error":"#N/A"},{"$error":"#N/A"},{"$error":"#N/A"},{"$error":"#N/A"},{"$error":"#N/A"}]
[null,null,null,null,null,null,null,null,null,null,{"$error":"#N/A"},{"$error":"#N/A"},{"$error":"#N/A"},{"$error":"#N/A"},{"$error":"#N/A"}]
[null,null,null,null,null,null,null,null,null,null,{"$error":"#N/A"},{"$error":"#N/A"},{"$error":"#N/A"},{"$error":"#N/A"},{"$error":"#N/A"}]
[null,null,null,null,null,null,null,null,null,null,{"$error":"#N/A"},{"$error":"#N/A"},{"$error":"#N/A"},{"$error":"#N/A"},{"$error":"#N/A"}]
[null,null,null,null,null,null,null,null,null,null,{"$error":"#N/A"},{"$error":"#N/A"},{"$error":"#N/A"},{"$error":"#N/A"},{"$error":"#N/A"}]
[null,null,null,null,null,null,null,null,null,null,{"$error":"#N/A"},{"$error":"#N/A"},{"$error":"#N/A"},{"$error":"#N/A"},{"$error":"#N/A"}]
[null,null,null,null,null,null,null,null,null,null,{"$error":"#N/A"},{"$error":"#N/A"},{"$error":"#N/A"},{"$error":"#N/A"},{"$error":"#N/A"}]
[null,null,null,null,null,null,null,null,null,null,{"$error":"#N/A"},{"$error":"#N/A"},{"$error":"#N/A"},{"$error":"#N/A"},{"$error":"#N/A"}]
[null,null,null,null,null,null,null,null,null,null,{"$error":"#N/A"},{"$error":"#N/A"},{"$error":"#N/A"},{"$error":"#N/A"},{"$error":"#N/A"}]
[null,null,null,null,null,null,null,null,null,null,{"$error":"#N/A"},{"$error":"#N/A"},{"$error":"#N/A"},{"$error":"#N/A"},{"$error":"#N/A"}]
[null,null,null,null,null,null,null,null,null,null,{"$error":"#N/A"},{"$error":"#N/A"},{"$error":"#N/A"},{"$error":"#N/A"},{"$error":"#N/A"}]
[null,null,null,null,null,null,null,null,null,null,{"$error":"#N/A"},{"$error":"#N/A"},{"$error":"#N/A"},{"$error":"#N/A"},{"$error":"#N/A"}]
[null,null,null,null,null,null,null,null,null,null,{"$error":"#N/A"},{"$error":"#N/A"},{"$error":"#N/A"},{"$error":"#N/A"},{"$error":"#N/A"}]
[null,null,null,null,null,null,null,null,null,null,{"$error":"#N/A"},{"$error":"#N/A"},{"$error":"#N/A"},{"$error":"#N/A"},{"$error":"#N/A"}]
[null,null,null,null,null,null,null,null,null,null,{"$error":"#N/A"},{"$error":"#N/A"},{"$error":"#N/A"},{"$error":"#N/A"},{"$error":"#N/A"}]
[null,null,null,null,null,null,null,null,null,null,{"$error":"#N/A"},{"$error":"#N/A"},{"$error":"#N/A"},{"$error":"#N/A"},{"$error":"#N/A"}]
[null,null,null,null,null,null,null,null,null,null,{"$error":"#N/A"},{"$error":"#N/A"},{"$error":"#N/A"},{"$error":"#N/A"},{"$error":"#N/A"}]
[null,null,null,null,null,null,null,null,null,null,{"$error":"#N/A"},{"$error":"#N/A"},{"$error":"#N/A"},{"$error":"#N/A"},{"$error":"#N/A"}]
[null,null,null,null,null,null,null,null,null,null,{"$error":"#N/A"},{"$error":"#N/A"},{"$error":"#N/A"},{"$error":"#N/A"},{"$error":"#N/A"}]
[null,null,null,null,null,null,null,null,null,null,{"$error":"#N/A"},{"$error":"#N/A"},{"$error":"#N/A"},{"$error":"#N/A"},{"$error":"#N/A"}]
[null,null,null,null,null,null,null,null,null,null,{"$error":"#N/A"},{"$error":"#N/A"},{"$error":"#N/A"},{"$error":"#N/A"},{"$error":"#N/A"}]
[null,null,null,null,null,null,null,null,null,null,{"$error":"#N/A"},{"$error":"#N/A"},{"$error":"#N/A"},{"$error":"#N/A"},{"$error":"#N/A"}]
[null,null,null,null,null,null,null,null,null,null,{"$error":"#N/A"},{"$error":"#N/A"},{"$error":"#N/A"},{"$error":"#N/A"},{"$error":"#N/A"}]
[null,null,null,null,null,null,null,null,null,null,{"$error":"#N/A"},{"$error":"#N/A"},{"$error":"#N/A"},{"$error":"#N/A"},{"$error":"#N/A"}]
[null,null,null,null,null,null,null,null,null,null,{"$error":"#N/A"},{"$error":"#N/A"},{"$error":"#N/A"},{"$error":"#N/A"},{"$error":"#N/A"}]
[null,null,null,null,null,null,null,null,null,null,{"$error":"#N/A"},{"$error":"#N/A"},{"$error":"#N/A"},{"$error":"#N/A"},{"$error":"#N/A"}]
[null,null,null,null,null,null,null,null,null,null,{"$error":"#N/A"},{"$error":"#N/A"},{"$error":"#N/A"},{"$error":"#N/A"},{"$error":"#N/A"}]
[null,null,null,null,null,null,null,null,null,null,{"$error":"#N/A"},{"$error":"#N/A"},{"$error":"#N/A"},{"$error":"#N/A"},{"$error":"#N/A"}]
[null,null,null,null,null,null,null,null,null,null,{"$error":"#N/A"},{"$error":"#N/A"},{"$error":"#N/A"},{"$error":"#N/A"},{"$error":"#N/A"}]
[null,null,null,null,null,null,null,null,null,null,{"$error":"#N/A"},{"$error":"#N/A"},{"$error":"#N/A"},{"$error":"#N/A"},{"$error":"#N/A"}]
[null,null,null,null,null,null,null,null,null,null,{"$error":"#N/A"},{"$error":"#N/A"},{"$error":"#N/A"},{"$error":"#N/A"},{"$error":"#N/A"}]
[null,null,null,null,null,null,null,null,null,null,{"$error":"#N/A"},{"$error":"#N/A"},{"$error":"#N/A"},{"$error":"#N/A"},{"$error":"#N/A"}]
[null,null,null,null,null,null,null,null,null,null,{"$error":"#N/A"},{"$error":"#N/A"},{"$error":"#N/A"},{"$error":"#N/A"},{"$error":"#N/A"}]
[null,null,null,null,null,null,null,null,null,null,{"$error":"#N/A"},{"$error":"#N/A"},{"$error":"#N/A"},{"$error":"#N/A"},{"$error":"#N/A"}]
[null,null,null,null,null,null,null,null,null,null,{"$error":"#N/A"},{"$error":"#N/A"},{"$error":"#N/A"},{"$error":"#N/A"},{"$error":"#N/A"}]
[null,null,null,null,null,null,null,null,null,null,{"$error":"#N/A"},{"$error":"#N/A"},{"$error":"#N/A"},{"$error":"#N/A"},{"$error":"#N/A"}]
[null,null,null,null,null,null,null,null,null,null,{"$error":"#N/A"},{"$error":"#N/A"},{"$error":"#N/A"},{"$error":"#N/A"},{"$error":"#N/A"}]
[null,null,null,null,null,null,null,null,null,null,{"$error":"#N/A"},{"$error":"#N/A"},{"$error":"#N/A"},{"$error":"#N/A"},{"$error":"#N/A"}]
[null,null,null,null,null,null,null,null,null,null,{"$error":"#N/A"},{"$error":"#N/A"},{"$error":"#N/A"},{"$error":"#N/A"},{"$error":"#N/A"}]
[null,null,null,null,null,null,null,null,null,null,{"$error":"#N/A"},{"$error":"#N/A"},{"$error":"#N/A"},{"$error":"#N/A"},{"$error":"#N/A"}]
[null,null,null,null,null,null,null,null,null,null,{"$error":"#N/A"},{"$error":"#N/A"},{"$error":"#N/A"},{"$error":"#N/A"},{"$error":"#N/A"}]
[null,null,null,null,null,null,null,null,null,null,{"$error":"#N/A"},{"$error":"#N/A"},{"$error":"#N/A"},{"$error":"#N/A"},{"$error":"#N/A"}]
[null,null,null,null,null,null,null,null,null,null,{"$error":"#N/A"},{"$error":"#N/A"},{"$error":"#N/A"},{"$f":"IF(ISBLANK(K1611),\"\",$G$13*K1611+$H$13)","v":{"$error":"#N/A"}},{"$error":"#N/A"}]
[null,null,null,null,null,null,null,null,null,null,{"$f":"IF(K1611+$G$19<=$G$18,K1611+$G$19,NA())","v":{"$error":"#N/A"}},{"$error":"#N/A"},{"$error":"#N/A"},{"$error":"#N/A"},{"$error":"#N/A"}]
[null,null,null,null,null,null,null,null,null,null,{"$error":"#N/A"},{"$f":"IF(ISBLANK(K1613),\"\",$G$11*K1613+$H$11)","v":{"$error":"#N/A"}},{"$f":"IF(ISBLANK(L1613),\"\",$G$12*K1613+$H$12)","v":{"$error":"#N/A"}},{"$error":"#N/A"},{"$f":"IF(ISBLANK(M1613),\"\",$G$14*K1613+$H$14)","v":{"$error":"#N/A"}}]
[null,null,null,null,null,null,null,null,null,null,{"$error":"#N/A"},{"$error":"#N/A"},{"$error":"#N/A"},{"$error":"#N/A"},{"$error":"#N/A"}]
[null,null,null,null,null,null,null,null,null,null,{"$error":"#N/A"},{"$error":"#N/A"},{"$error":"#N/A"},{"$error":"#N/A"},{"$error":"#N/A"}]
[null,null,null,null,null,null,null,null,null,null,{"$error":"#N/A"},{"$error":"#N/A"},{"$error":"#N/A"},{"$error":"#N/A"},{"$error":"#N/A"}]
[null,null,null,null,null,null,null,null,null,null,{"$error":"#N/A"},{"$error":"#N/A"},{"$error":"#N/A"},{"$error":"#N/A"},{"$error":"#N/A"}]
[null,null,null,null,null,null,null,null,null,null,{"$error":"#N/A"},{"$error":"#N/A"},{"$error":"#N/A"},{"$error":"#N/A"},{"$error":"#N/A"}]
[null,null,null,null,null,null,null,null,null,null,{"$error":"#N/A"},{"$error":"#N/A"},{"$error":"#N/A"},{"$error":"#N/A"},{"$error":"#N/A"}]
[null,null,null,null,null,null,null,null,null,null,{"$error":"#N/A"},{"$error":"#N/A"},{"$error":"#N/A"},{"$error":"#N/A"},{"$error":"#N/A"}]
[null,null,null,null,null,null,null,null,null,null,{"$error":"#N/A"},{"$error":"#N/A"},{"$error":"#N/A"},{"$error":"#N/A"},{"$error":"#N/A"}]
[null,null,null,null,null,null,null,null,null,null,{"$error":"#N/A"},{"$error":"#N/A"},{"$error":"#N/A"},{"$error":"#N/A"},{"$error":"#N/A"}]
[null,null,null,null,null,null,null,null,null,null,{"$error":"#N/A"},{"$error":"#N/A"},{"$error":"#N/A"},{"$error":"#N/A"},{"$error":"#N/A"}]
[null,null,null,null,null,null,null,null,null,null,{"$error":"#N/A"},{"$error":"#N/A"},{"$error":"#N/A"},{"$error":"#N/A"},{"$error":"#N/A"}]
[null,null,null,null,null,null,null,null,null,null,{"$error":"#N/A"},{"$error":"#N/A"},{"$error":"#N/A"},{"$error":"#N/A"},{"$error":"#N/A"}]
[null,null,null,null,null,null,null,null,null,null,{"$error":"#N/A"},{"$error":"#N/A"},{"$error":"#N/A"},{"$error":"#N/A"},{"$error":"#N/A"}]
[null,null,null,null,null,null,null,null,null,null,{"$error":"#N/A"},{"$error":"#N/A"},{"$error":"#N/A"},{"$error":"#N/A"},{"$error":"#N/A"}]
[null,null,null,null,null,null,null,null,null,null,{"$error":"#N/A"},{"$error":"#N/A"},{"$error":"#N/A"},{"$error":"#N/A"},{"$error":"#N/A"}]
[null,null,null,null,null,null,null,null,null,null,{"$error":"#N/A"},{"$error":"#N/A"},{"$error":"#N/A"},{"$error":"#N/A"},{"$error":"#N/A"}]
[null,null,null,null,null,null,null,null,null,null,{"$error":"#N/A"},{"$error":"#N/A"},{"$error":"#N/A"},{"$error":"#N/A"},{"$error":"#N/A"}]
[null,null,null,null,null,null,null,null,null,null,{"$error":"#N/A"},{"$error":"#N/A"},{"$error":"#N/A"},{"$error":"#N/A"},{"$error":"#N/A"}]
[null,null,null,null,null,null,null,null,null,null,{"$error":"#N/A"},{"$error":"#N/A"},{"$error":"#N/A"},{"$error":"#N/A"},{"$error":"#N/A"}]
[null,null,null,null,null,null,null,null,null,null,{"$error":"#N/A"},{"$error":"#N/A"},{"$error":"#N/A"},{"$error":"#N/A"},{"$error":"#N/A"}]
[null,null,null,null,null,null,null,null,null,null,{"$error":"#N/A"},{"$error":"#N/A"},{"$error":"#N/A"},{"$error":"#N/A"},{"$error":"#N/A"}]
[null,null,null,null,null,null,null,null,null,null,{"$error":"#N/A"},{"$error":"#N/A"},{"$error":"#N/A"},{"$error":"#N/A"},{"$error":"#N/A"}]
[null,null,null,null,null,null,null,null,null,null,{"$error":"#N/A"},{"$error":"#N/A"},{"$error":"#N/A"},{"$error":"#N/A"},{"$error":"#N/A"}]
[null,null,null,null,null,null,null,null,null,null,{"$error":"#N/A"},{"$error":"#N/A"},{"$error":"#N/A"},{"$error":"#N/A"},{"$error":"#N/A"}]
[null,null,null,null,null,null,null,null,null,null,{"$error":"#N/A"},{"$error":"#N/A"},{"$error":"#N/A"},{"$error":"#N/A"},{"$error":"#N/A"}]
[null,null,null,null,null,null,null,null,null,null,{"$error":"#N/A"},{"$error":"#N/A"},{"$error":"#N/A"},{"$error":"#N/A"},{"$error":"#N/A"}]
[null,null,null,null,null,null,null,null,null,null,{"$error":"#N/A"},{"$error":"#N/A"},{"$error":"#N/A"},{"$error":"#N/A"},{"$error":"#N/A"}]
[null,null,null,null,null,null,null,null,null,null,{"$error":"#N/A"},{"$error":"#N/A"},{"$error":"#N/A"},{"$error":"#N/A"},{"$error":"#N/A"}]
[null,null,null,null,null,null,null,null,null,null,{"$error":"#N/A"},{"$error":"#N/A"},{"$error":"#N/A"},{"$error":"#N/A"},{"$error":"#N/A"}]
[null,null,null,null,null,null,null,null,null,null,{"$error":"#N/A"},{"$error":"#N/A"},{"$error":"#N/A"},{"$error":"#N/A"},{"$error":"#N/A"}]
[null,null,null,null,null,null,null,null,null,null,{"$error":"#N/A"},{"$error":"#N/A"},{"$error":"#N/A"},{"$error":"#N/A"},{"$error":"#N/A"}]
[null,null,null,null,null,null,null,null,null,null,{"$error":"#N/A"},{"$error":"#N/A"},{"$error":"#N/A"},{"$error":"#N/A"},{"$error":"#N/A"}]
[null,null,null,null,null,null,null,null,null,null,{"$error":"#N/A"},{"$error":"#N/A"},{"$error":"#N/A"},{"$error":"#N/A"},{"$error":"#N/A"}]
[null,null,null,null,null,null,null,null,null,null,{"$error":"#N/A"},{"$error":"#N/A"},{"$error":"#N/A"},{"$error":"#N/A"},{"$error":"#N/A"}]
[null,null,null,null,null,null,null,null,null,null,{"$error":"#N/A"},{"$error":"#N/A"},{"$error":"#N/A"},{"$error":"#N/A"},{"$error":"#N/A"}]
[null,null,null,null,null,null,null,null,null,null,{"$error":"#N/A"},{"$error":"#N/A"},{"$error":"#N/A"},{"$error":"#N/A"},{"$error":"#N/A"}]
[null,null,null,null,null,null,null,null,null,null,{"$error":"#N/A"},{"$error":"#N/A"},{"$error":"#N/A"},{"$error":"#N/A"},{"$error":"#N/A"}]
[null,null,null,null,null,null,null,null,null,null,{"$error":"#N/A"},{"$error":"#N/A"},{"$error":"#N/A"},{"$error":"#N/A"},{"$error":"#N/A"}]
[null,null,null,null,null,null,null,null,null,null,{"$error":"#N/A"},{"$error":"#N/A"},{"$error":"#N/A"},{"$error":"#N/A"},{"$error":"#N/A"}]
[null,null,null,null,null,null,null,null,null,null,{"$error":"#N/A"},{"$error":"#N/A"},{"$error":"#N/A"},{"$error":"#N/A"},{"$error":"#N/A"}]
[null,null,null,null,null,null,null,null,null,null,{"$error":"#N/A"},{"$error":"#N/A"},{"$error":"#N/A"},{"$error":"#N/A"},{"$error":"#N/A"}]
[null,null,null,null,null,null,null,null,null,null,{"$error":"#N/A"},{"$error":"#N/A"},{"$error":"#N/A"},{"$error":"#N/A"},{"$error":"#N/A"}]
[null,null,null,null,null,null,null,null,null,null,{"$error":"#N/A"},{"$error":"#N/A"},{"$error":"#N/A"},{"$error":"#N/A"},{"$error":"#N/A"}]
[null,null,null,null,null,null,null,null,null,null,{"$error":"#N/A"},{"$error":"#N/A"},{"$error":"#N/A"},{"$error":"#N/A"},{"$error":"#N/A"}]
[null,null,null,null,null,null,null,null,null,null,{"$error":"#N/A"},{"$error":"#N/A"},{"$error":"#N/A"},{"$error":"#N/A"},{"$error":"#N/A"}]
[null,null,null,null,null,null,null,null,null,null,{"$error":"#N/A"},{"$error":"#N/A"},{"$error":"#N/A"},{"$error":"#N/A"},{"$error":"#N/A"}]
[null,null,null,null,null,null,null,null,null,null,{"$error":"#N/A"},{"$error":"#N/A"},{"$error":"#N/A"},{"$error":"#N/A"},{"$error":"#N/A"}]
[null,null,null,null,null,null,null,null,null,null,{"$error":"#N/A"},{"$error":"#N/A"},{"$error":"#N/A"},{"$error":"#N/A"},{"$error":"#N/A"}]
[null,null,null,null,null,null,null,null,null,null,{"$error":"#N/A"},{"$error":"#N/A"},{"$error":"#N/A"},{"$error":"#N/A"},{"$error":"#N/A"}]
[null,null,null,null,null,null,null,null,null,null,{"$error":"#N/A"},{"$error":"#N/A"},{"$error":"#N/A"},{"$error":"#N/A"},{"$error":"#N/A"}]
[null,null,null,null,null,null,null,null,null,null,{"$error":"#N/A"},{"$error":"#N/A"},{"$error":"#N/A"},{"$error":"#N/A"},{"$error":"#N/A"}]
[null,null,null,null,null,null,null,null,null,null,{"$error":"#N/A"},{"$error":"#N/A"},{"$error":"#N/A"},{"$error":"#N/A"},{"$error":"#N/A"}]
[null,null,null,null,null,null,null,null,null,null,{"$error":"#N/A"},{"$error":"#N/A"},{"$error":"#N/A"},{"$error":"#N/A"},{"$error":"#N/A"}]
[null,null,null,null,null,null,null,null,null,null,{"$error":"#N/A"},{"$error":"#N/A"},{"$error":"#N/A"},{"$error":"#N/A"},{"$error":"#N/A"}]
[null,null,null,null,null,null,null,null,null,null,{"$error":"#N/A"},{"$error":"#N/A"},{"$error":"#N/A"},{"$error":"#N/A"},{"$error":"#N/A"}]
[null,null,null,null,null,null,null,null,null,null,{"$error":"#N/A"},{"$error":"#N/A"},{"$error":"#N/A"},{"$error":"#N/A"},{"$error":"#N/A"}]
[null,null,null,null,null,null,null,null,null,null,{"$error":"#N/A"},{"$error":"#N/A"},{"$error":"#N/A"},{"$error":"#N/A"},{"$error":"#N/A"}]
[null,null,null,null,null,null,null,null,null,null,{"$error":"#N/A"},{"$error":"#N/A"},{"$error":"#N/A"},{"$error":"#N/A"},{"$error":"#N/A"}]
[null,null,null,null,null,null,null,null,null,null,{"$error":"#N/A"},{"$error":"#N/A"},{"$error":"#N/A"},{"$error":"#N/A"},{"$error":"#N/A"}]
[null,null,null,null,null,null,null,null,null,null,{"$error":"#N/A"},{"$error":"#N/A"},{"$error":"#N/A"},{"$error":"#N/A"},{"$error":"#N/A"}]
[null,null,null,null,null,null,null,null,null,null,{"$error":"#N/A"},{"$error":"#N/A"},{"$error":"#N/A"},{"$error":"#N/A"},{"$error":"#N/A"}]
[null,null,null,null,null,null,null,null,null,null,{"$error":"#N/A"},{"$error":"#N/A"},{"$error":"#N/A"},{"$f":"IF(ISBLANK(K1675),\"\",$G$13*K1675+$H$13)","v":{"$error":"#N/A"}},{"$error":"#N/A"}]
[null,null,null,null,null,null,null,null,null,null,{"$f":"IF(K1675+$G$19<=$G$18,K1675+$G$19,NA())","v":{"$error":"#N/A"}},{"$error":"#N/A"},{"$error":"#N/A"},{"$error":"#N/A"},{"$error":"#N/A"}]
[null,null,null,null,null,null,null,null,null,null,{"$error":"#N/A"},{"$f":"IF(ISBLANK(K1677),\"\",$G$11*K1677+$H$11)","v":{"$error":"#N/A"}},{"$f":"IF(ISBLANK(L1677),\"\",$G$12*K1677+$H$12)","v":{"$error":"#N/A"}},{"$error":"#N/A"},{"$f":"IF(ISBLANK(M1677),\"\",$G$14*K1677+$H$14)","v":{"$error":"#N/A"}}]
[null,null,null,null,null,null,null,null,null,null,{"$error":"#N/A"},{"$error":"#N/A"},{"$error":"#N/A"},{"$error":"#N/A"},{"$error":"#N/A"}]
[null,null,null,null,null,null,null,null,null,null,{"$error":"#N/A"},{"$error":"#N/A"},{"$error":"#N/A"},{"$error":"#N/A"},{"$error":"#N/A"}]
[null,null,null,null,null,null,null,null,null,null,{"$error":"#N/A"},{"$error":"#N/A"},{"$error":"#N/A"},{"$error":"#N/A"},{"$error":"#N/A"}]
[null,null,null,null,null,null,null,null,null,null,{"$error":"#N/A"},{"$error":"#N/A"},{"$error":"#N/A"},{"$error":"#N/A"},{"$error":"#N/A"}]
[null,null,null,null,null,null,null,null,null,null,{"$error":"#N/A"},{"$error":"#N/A"},{"$error":"#N/A"},{"$error":"#N/A"},{"$error":"#N/A"}]
[null,null,null,null,null,null,null,null,null,null,{"$error":"#N/A"},{"$error":"#N/A"},{"$error":"#N/A"},{"$error":"#N/A"},{"$error":"#N/A"}]
[null,null,null,null,null,null,null,null,null,null,{"$error":"#N/A"},{"$error":"#N/A"},{"$error":"#N/A"},{"$error":"#N/A"},{"$error":"#N/A"}]
[null,null,null,null,null,null,null,null,null,null,{"$error":"#N/A"},{"$error":"#N/A"},{"$error":"#N/A"},{"$error":"#N/A"},{"$error":"#N/A"}]
[null,null,null,null,null,null,null,null,null,null,{"$error":"#N/A"},{"$error":"#N/A"},{"$error":"#N/A"},{"$error":"#N/A"},{"$error":"#N/A"}]
[null,null,null,null,null,null,null,null,null,null,{"$error":"#N/A"},{"$error":"#N/A"},{"$error":"#N/A"},{"$error":"#N/A"},{"$error":"#N/A"}]
[null,null,null,null,null,null,null,null,null,null,{"$error":"#N/A"},{"$error":"#N/A"},{"$error":"#N/A"},{"$error":"#N/A"},{"$error":"#N/A"}]
[null,null,null,null,null,null,null,null,null,null,{"$error":"#N/A"},{"$error":"#N/A"},{"$error":"#N/A"},{"$error":"#N/A"},{"$error":"#N/A"}]
[null,null,null,null,null,null,null,null,null,null,{"$error":"#N/A"},{"$error":"#N/A"},{"$error":"#N/A"},{"$error":"#N/A"},{"$error":"#N/A"}]
[null,null,null,null,null,null,null,null,null,null,{"$error":"#N/A"},{"$error":"#N/A"},{"$error":"#N/A"},{"$error":"#N/A"},{"$error":"#N/A"}]
[null,null,null,null,null,null,null,null,null,null,{"$error":"#N/A"},{"$error":"#N/A"},{"$error":"#N/A"},{"$error":"#N/A"},{"$error":"#N/A"}]
[null,null,null,null,null,null,null,null,null,null,{"$error":"#N/A"},{"$error":"#N/A"},{"$error":"#N/A"},{"$error":"#N/A"},{"$error":"#N/A"}]
[null,null,null,null,null,null,null,null,null,null,{"$error":"#N/A"},{"$error":"#N/A"},{"$error":"#N/A"},{"$error":"#N/A"},{"$error":"#N/A"}]
[null,null,null,null,null,null,null,null,null,null,{"$error":"#N/A"},{"$error":"#N/A"},{"$error":"#N/A"},{"$error":"#N/A"},{"$error":"#N/A"}]
[null,null,null,null,null,null,null,null,null,null,{"$error":"#N/A"},{"$error":"#N/A"},{"$error":"#N/A"},{"$error":"#N/A"},{"$error":"#N/A"}]
[null,null,null,null,null,null,null,null,null,null,{"$error":"#N/A"},{"$error":"#N/A"},{"$error":"#N/A"},{"$error":"#N/A"},{"$error":"#N/A"}]
[null,null,null,null,null,null,null,null,null,null,{"$error":"#N/A"},{"$error":"#N/A"},{"$error":"#N/A"},{"$error":"#N/A"},{"$error":"#N/A"}]
[null,null,null,null,null,null,null,null,null,null,{"$error":"#N/A"},{"$error":"#N/A"},{"$error":"#N/A"},{"$error":"#N/A"},{"$error":"#N/A"}]
[null,null,null,null,null,null,null,null,null,null,{"$error":"#N/A"},{"$error":"#N/A"},{"$error":"#N/A"},{"$error":"#N/A"},{"$error":"#N/A"}]
[null,null,null,null,null,null,null,null,null,null,{"$error":"#N/A"},{"$error":"#N/A"},{"$error":"#N/A"},{"$error":"#N/A"},{"$error":"#N/A"}]
[null,null,null,null,null,null,null,null,null,null,{"$error":"#N/A"},{"$error":"#N/A"},{"$error":"#N/A"},{"$error":"#N/A"},{"$error":"#N/A"}]
[null,null,null,null,null,null,null,null,null,null,{"$error":"#N/A"},{"$error":"#N/A"},{"$error":"#N/A"},{"$error":"#N/A"},{"$error":"#N/A"}]
[null,null,null,null,null,null,null,null,null,null,{"$error":"#N/A"},{"$error":"#N/A"},{"$error":"#N/A"},{"$error":"#N/A"},{"$error":"#N/A"}]
[null,null,null,null,null,null,null,null,null,null,{"$error":"#N/A"},{"$error":"#N/A"},{"$error":"#N/A"},{"$error":"#N/A"},{"$error":"#N/A"}]
[null,null,null,null,null,null,null,null,null,null,{"$error":"#N/A"},{"$error":"#N/A"},{"$error":"#N/A"},{"$error":"#N/A"},{"$error":"#N/A"}]
[null,null,null,null,null,null,null,null,null,null,{"$error":"#N/A"},{"$error":"#N/A"},{"$error":"#N/A"},{"$error":"#N/A"},{"$error":"#N/A"}]
[null,null,null,null,null,null,null,null,null,null,{"$error":"#N/A"},{"$error":"#N/A"},{"$error":"#N/A"},{"$error":"#N/A"},{"$error":"#N/A"}]
[null,null,null,null,null,null,null,null,null,null,{"$error":"#N/A"},{"$error":"#N/A"},{"$error":"#N/A"},{"$error":"#N/A"},{"$error":"#N/A"}]
[null,null,null,null,null,null,null,null,null,null,{"$error":"#N/A"},{"$error":"#N/A"},{"$error":"#N/A"},{"$error":"#N/A"},{"$error":"#N/A"}]
[null,null,null,null,null,null,null,null,null,null,{"$error":"#N/A"},{"$error":"#N/A"},{"$error":"#N/A"},{"$error":"#N/A"},{"$error":"#N/A"}]
[null,null,null,null,null,null,null,null,null,null,{"$error":"#N/A"},{"$error":"#N/A"},{"$error":"#N/A"},{"$error":"#N/A"},{"$error":"#N/A"}]
[null,null,null,null,null,null,null,null,null,null,{"$error":"#N/A"},{"$error":"#N/A"},{"$error":"#N/A"},{"$error":"#N/A"},{"$error":"#N/A"}]
[null,null,null,null,null,null,null,null,null,null,{"$error":"#N/A"},{"$error":"#N/A"},{"$error":"#N/A"},{"$error":"#N/A"},{"$error":"#N/A"}]
[null,null,null,null,null,null,null,null,null,null,{"$error":"#N/A"},{"$error":"#N/A"},{"$error":"#N/A"},{"$error":"#N/A"},{"$error":"#N/A"}]
[null,null,null,null,null,null,null,null,null,null,{"$error":"#N/A"},{"$error":"#N/A"},{"$error":"#N/A"},{"$error":"#N/A"},{"$error":"#N/A"}]
[null,null,null,null,null,null,null,null,null,null,{"$error":"#N/A"},{"$error":"#N/A"},{"$error":"#N/A"},{"$error":"#N/A"},{"$error":"#N/A"}]
[null,null,null,null,null,null,null,null,null,null,{"$error":"#N/A"},{"$error":"#N/A"},{"$error":"#N/A"},{"$error":"#N/A"},{"$error":"#N/A"}]
[null,null,null,null,null,null,null,null,null,null,{"$error":"#N/A"},{"$error":"#N/A"},{"$error":"#N/A"},{"$error":"#N/A"},{"$error":"#N/A"}]
[null,null,null,null,null,null,null,null,null,null,{"$error":"#N/A"},{"$error":"#N/A"},{"$error":"#N/A"},{"$error":"#N/A"},{"$error":"#N/A"}]
[null,null,null,null,null,null,null,null,null,null,{"$error":"#N/A"},{"$error":"#N/A"},{"$error":"#N/A"},{"$error":"#N/A"},{"$error":"#N/A"}]
[null,null,null,null,null,null,null,null,null,null,{"$error":"#N/A"},{"$error":"#N/A"},{"$error":"#N/A"},{"$error":"#N/A"},{"$error":"#N/A"}]
[null,null,null,null,null,null,null,null,null,null,{"$error":"#N/A"},{"$error":"#N/A"},{"$error":"#N/A"},{"$error":"#N/A"},{"$error":"#N/A"}]
[null,null,null,null,null,null,null,null,null,null,{"$error":"#N/A"},{"$error":"#N/A"},{"$error":"#N/A"},{"$error":"#N/A"},{"$error":"#N/A"}]
[null,null,null,null,null,null,null,null,null,null,{"$error":"#N/A"},{"$error":"#N/A"},{"$error":"#N/A"},{"$error":"#N/A"},{"$error":"#N/A"}]
[null,null,null,null,null,null,null,null,null,null,{"$error":"#N/A"},{"$error":"#N/A"},{"$error":"#N/A"},{"$error":"#N/A"},{"$error":"#N/A"}]
[null,null,null,null,null,null,null,null,null,null,{"$error":"#N/A"},{"$error":"#N/A"},{"$error":"#N/A"},{"$error":"#N/A"},{"$error":"#N/A"}]
[null,null,null,null,null,null,null,null,null,null,{"$error":"#N/A"},{"$error":"#N/A"},{"$error":"#N/A"},{"$error":"#N/A"},{"$error":"#N/A"}]
[null,null,null,null,null,null,null,null,null,null,{"$error":"#N/A"},{"$error":"#N/A"},{"$error":"#N/A"},{"$error":"#N/A"},{"$error":"#N/A"}]
[null,null,null,null,null,null,null,null,null,null,{"$error":"#N/A"},{"$error":"#N/A"},{"$error":"#N/A"},{"$error":"#N/A"},{"$error":"#N/A"}]
[null,null,null,null,null,null,null,null,null,null,{"$error":"#N/A"},{"$error":"#N/A"},{"$error":"#N/A"},{"$error":"#N/A"},{"$error":"#N/A"}]
[null,null,null,null,null,null,null,null,null,null,{"$error":"#N/A"},{"$error":"#N/A"},{"$error":"#N/A"},{"$error":"#N/A"},{"$error":"#N/A"}]
[null,null,null,null,null,null,null,null,null,null,{"$error":"#N/A"},{"$error":"#N/A"},{"$error":"#N/A"},{"$error":"#N/A"},{"$error":"#N/A"}]
[null,null,null,null,null,null,null,null,null,null,{"$error":"#N/A"},{"$error":"#N/A"},{"$error":"#N/A"},{"$error":"#N/A"},{"$error":"#N/A"}]
[null,null,null,null,null,null,null,null,null,null,{"$error":"#N/A"},{"$error":"#N/A"},{"$error":"#N/A"},{"$error":"#N/A"},{"$error":"#N/A"}]
[null,null,null,null,null,null,null,null,null,null,{"$error":"#N/A"},{"$error":"#N/A"},{"$error":"#N/A"},{"$error":"#N/A"},{"$error":"#N/A"}]
[null,null,null,null,null,null,null,null,null,null,{"$error":"#N/A"},{"$error":"#N/A"},{"$error":"#N/A"},{"$error":"#N/A"},{"$error":"#N/A"}]
[null,null,null,null,null,null,null,null,null,null,{"$error":"#N/A"},{"$error":"#N/A"},{"$error":"#N/A"},{"$error":"#N/A"},{"$error":"#N/A"}]
[null,null,null,null,null,null,null,null,null,null,{"$error":"#N/A"},{"$error":"#N/A"},{"$error":"#N/A"},{"$f":"IF(ISBLANK(K1739),\"\",$G$13*K1739+$H$13)","v":{"$error":"#N/A"}},{"$error":"#N/A"}]
[null,null,null,null,null,null,null,null,null,null,{"$f":"IF(K1739+$G$19<=$G$18,K1739+$G$19,NA())","v":{"$error":"#N/A"}},{"$error":"#N/A"},{"$error":"#N/A"},{"$error":"#N/A"},{"$error":"#N/A"}]
[null,null,null,null,null,null,null,null,null,null,{"$error":"#N/A"},{"$f":"IF(ISBLANK(K1741),\"\",$G$11*K1741+$H$11)","v":{"$error":"#N/A"}},{"$f":"IF(ISBLANK(L1741),\"\",$G$12*K1741+$H$12)","v":{"$error":"#N/A"}},{"$error":"#N/A"},{"$f":"IF(ISBLANK(M1741),\"\",$G$14*K1741+$H$14)","v":{"$error":"#N/A"}}]
[null,null,null,null,null,null,null,null,null,null,{"$error":"#N/A"},{"$error":"#N/A"},{"$error":"#N/A"},{"$error":"#N/A"},{"$error":"#N/A"}]
[null,null,null,null,null,null,null,null,null,null,{"$error":"#N/A"},{"$error":"#N/A"},{"$error":"#N/A"},{"$error":"#N/A"},{"$error":"#N/A"}]
[null,null,null,null,null,null,null,null,null,null,{"$error":"#N/A"},{"$error":"#N/A"},{"$error":"#N/A"},{"$error":"#N/A"},{"$error":"#N/A"}]
[null,null,null,null,null,null,null,null,null,null,{"$error":"#N/A"},{"$error":"#N/A"},{"$error":"#N/A"},{"$error":"#N/A"},{"$error":"#N/A"}]
[null,null,null,null,null,null,null,null,null,null,{"$error":"#N/A"},{"$error":"#N/A"},{"$error":"#N/A"},{"$error":"#N/A"},{"$error":"#N/A"}]
[null,null,null,null,null,null,null,null,null,null,{"$error":"#N/A"},{"$error":"#N/A"},{"$error":"#N/A"},{"$error":"#N/A"},{"$error":"#N/A"}]
[null,null,null,null,null,null,null,null,null,null,{"$error":"#N/A"},{"$error":"#N/A"},{"$error":"#N/A"},{"$error":"#N/A"},{"$error":"#N/A"}]
[null,null,null,null,null,null,null,null,null,null,{"$error":"#N/A"},{"$error":"#N/A"},{"$error":"#N/A"},{"$error":"#N/A"},{"$error":"#N/A"}]
[null,null,null,null,null,null,null,null,null,null,{"$error":"#N/A"},{"$error":"#N/A"},{"$error":"#N/A"},{"$error":"#N/A"},{"$error":"#N/A"}]
[null,null,null,null,null,null,null,null,null,null,{"$error":"#N/A"},{"$error":"#N/A"},{"$error":"#N/A"},{"$error":"#N/A"},{"$error":"#N/A"}]
[null,null,null,null,null,null,null,null,null,null,{"$error":"#N/A"},{"$error":"#N/A"},{"$error":"#N/A"},{"$error":"#N/A"},{"$error":"#N/A"}]
[null,null,null,null,null,null,null,null,null,null,{"$error":"#N/A"},{"$error":"#N/A"},{"$error":"#N/A"},{"$error":"#N/A"},{"$error":"#N/A"}]
[null,null,null,null,null,null,null,null,null,null,{"$error":"#N/A"},{"$error":"#N/A"},{"$error":"#N/A"},{"$error":"#N/A"},{"$error":"#N/A"}]
[null,null,null,null,null,null,null,null,null,null,{"$error":"#N/A"},{"$error":"#N/A"},{"$error":"#N/A"},{"$error":"#N/A"},{"$error":"#N/A"}]
[null,null,null,null,null,null,null,null,null,null,{"$error":"#N/A"},{"$error":"#N/A"},{"$error":"#N/A"},{"$error":"#N/A"},{"$error":"#N/A"}]
[null,null,null,null,null,null,null,null,null,null,{"$error":"#N/A"},{"$error":"#N/A"},{"$error":"#N/A"},{"$error":"#N/A"},{"$error":"#N/A"}]
[null,null,null,null,null,null,null,null,null,null,{"$error":"#N/A"},{"$error":"#N/A"},{"$error":"#N/A"},{"$error":"#N/A"},{"$error":"#N/A"}]
[null,null,null,null,null,null,null,null,null,null,{"$error":"#N/A"},{"$error":"#N/A"},{"$error":"#N/A"},{"$error":"#N/A"},{"$error":"#N/A"}]
[null,null,null,null,null,null,null,null,null,null,{"$error":"#N/A"},{"$error":"#N/A"},{"$error":"#N/A"},{"$error":"#N/A"},{"$error":"#N/A"}]
[null,null,null,null,null,null,null,null,null,null,{"$error":"#N/A"},{"$error":"#N/A"},{"$error":"#N/A"},{"$error":"#N/A"},{"$error":"#N/A"}]
[null,null,null,null,null,null,null,null,null,null,{"$error":"#N/A"},{"$error":"#N/A"},{"$error":"#N/A"},{"$error":"#N/A"},{"$error":"#N/A"}]
[null,null,null,null,null,null,null,null,null,null,{"$error":"#N/A"},{"$error":"#N/A"},{"$error":"#N/A"},{"$error":"#N/A"},{"$error":"#N/A"}]
[null,null,null,null,null,null,null,null,null,null,{"$error":"#N/A"},{"$error":"#N/A"},{"$error":"#N/A"},{"$error":"#N/A"},{"$error":"#N/A"}]
[null,null,null,null,null,null,null,null,null,null,{"$error":"#N/A"},{"$error":"#N/A"},{"$error":"#N/A"},{"$error":"#N/A"},{"$error":"#N/A"}]
[null,null,null,null,null,null,null,null,null,null,{"$error":"#N/A"},{"$error":"#N/A"},{"$error":"#N/A"},{"$error":"#N/A"},{"$error":"#N/A"}]
[null,null,null,null,null,null,null,null,null,null,{"$error":"#N/A"},{"$error":"#N/A"},{"$error":"#N/A"},{"$error":"#N/A"},{"$error":"#N/A"}]
[null,null,null,null,null,null,null,null,null,null,{"$error":"#N/A"},{"$error":"#N/A"},{"$error":"#N/A"},{"$error":"#N/A"},{"$error":"#N/A"}]
[null,null,null,null,null,null,null,null,null,null,{"$error":"#N/A"},{"$error":"#N/A"},{"$error":"#N/A"},{"$error":"#N/A"},{"$error":"#N/A"}]
[null,null,null,null,null,null,null,null,null,null,{"$error":"#N/A"},{"$error":"#N/A"},{"$error":"#N/A"},{"$error":"#N/A"},{"$error":"#N/A"}]
[null,null,null,null,null,null,null,null,null,null,{"$error":"#N/A"},{"$error":"#N/A"},{"$error":"#N/A"},{"$error":"#N/A"},{"$error":"#N/A"}]
[null,null,null,null,null,null,null,null,null,null,{"$error":"#N/A"},{"$error":"#N/A"},{"$error":"#N/A"},{"$error":"#N/A"},{"$error":"#N/A"}]
[null,null,null,null,null,null,null,null,null,null,{"$error":"#N/A"},{"$error":"#N/A"},{"$error":"#N/A"},{"$error":"#N/A"},{"$error":"#N/A"}]
[null,null,null,null,null,null,null,null,null,null,{"$error":"#N/A"},{"$error":"#N/A"},{"$error":"#N/A"},{"$error":"#N/A"},{"$error":"#N/A"}]
[null,null,null,null,null,null,null,null,null,null,{"$error":"#N/A"},{"$error":"#N/A"},{"$error":"#N/A"},{"$error":"#N/A"},{"$error":"#N/A"}]
[null,null,null,null,null,null,null,null,null,null,{"$error":"#N/A"},{"$error":"#N/A"},{"$error":"#N/A"},{"$error":"#N/A"},{"$error":"#N/A"}]
[null,null,null,null,null,null,null,null,null,null,{"$error":"#N/A"},{"$error":"#N/A"},{"$error":"#N/A"},{"$error":"#N/A"},{"$error":"#N/A"}]
[null,null,null,null,null,null,null,null,null,null,{"$error":"#N/A"},{"$error":"#N/A"},{"$error":"#N/A"},{"$error":"#N/A"},{"$error":"#N/A"}]
[null,null,null,null,null,null,null,null,null,null,{"$error":"#N/A"},{"$error":"#N/A"},{"$error":"#N/A"},{"$error":"#N/A"},{"$error":"#N/A"}]
[null,null,null,null,null,null,null,null,null,null,{"$error":"#N/A"},{"$error":"#N/A"},{"$error":"#N/A"},{"$error":"#N/A"},{"$error":"#N/A"}]
[null,null,null,null,null,null,null,null,null,null,{"$error":"#N/A"},{"$error":"#N/A"},{"$error":"#N/A"},{"$error":"#N/A"},{"$error":"#N/A"}]
[null,null,null,null,null,null,null,null,null,null,{"$error":"#N/A"},{"$error":"#N/A"},{"$error":"#N/A"},{"$error":"#N/A"},{"$error":"#N/A"}]
[null,null,null,null,null,null,null,null,null,null,{"$error":"#N/A"},{"$error":"#N/A"},{"$error":"#N/A"},{"$error":"#N/A"},{"$error":"#N/A"}]
[null,null,null,null,null,null,null,null,null,null,{"$error":"#N/A"},{"$error":"#N/A"},{"$error":"#N/A"},{"$error":"#N/A"},{"$error":"#N/A"}]
[null,null,null,null,null,null,null,null,null,null,{"$error":"#N/A"},{"$error":"#N/A"},{"$error":"#N/A"},{"$error":"#N/A"},{"$error":"#N/A"}]
[null,null,null,null,null,null,null,null,null,null,{"$error":"#N/A"},{"$error":"#N/A"},{"$error":"#N/A"},{"$error":"#N/A"},{"$error":"#N/A"}]
[null,null,null,null,null,null,null,null,null,null,{"$error":"#N/A"},{"$error":"#N/A"},{"$error":"#N/A"},{"$error":"#N/A"},{"$error":"#N/A"}]
[null,null,null,null,null,null,null,null,null,null,{"$error":"#N/A"},{"$error":"#N/A"},{"$error":"#N/A"},{"$error":"#N/A"},{"$error":"#N/A"}]
[null,null,null,null,null,null,null,null,null,null,{"$error":"#N/A"},{"$error":"#N/A"},{"$error":"#N/A"},{"$error":"#N/A"},{"$error":"#N/A"}]
[null,null,null,null,null,null,null,null,null,null,{"$error":"#N/A"},{"$error":"#N/A"},{"$error":"#N/A"},{"$error":"#N/A"},{"$error":"#N/A"}]
[null,null,null,null,null,null,null,null,null,null,{"$error":"#N/A"},{"$error":"#N/A"},{"$error":"#N/A"},{"$error":"#N/A"},{"$error":"#N/A"}]
[null,null,null,null,null,null,null,null,null,null,{"$error":"#N/A"},{"$error":"#N/A"},{"$error":"#N/A"},{"$error":"#N/A"},{"$error":"#N/A"}]
[null,null,null,null,null,null,null,null,null,null,{"$error":"#N/A"},{"$error":"#N/A"},{"$error":"#N/A"},{"$error":"#N/A"},{"$error":"#N/A"}]
[null,null,null,null,null,null,null,null,null,null,{"$error":"#N/A"},{"$error":"#N/A"},{"$error":"#N/A"},{"$error":"#N/A"},{"$error":"#N/A"}]
[null,null,null,null,null,null,null,null,null,null,{"$error":"#N/A"},{"$error":"#N/A"},{"$error":"#N/A"},{"$error":"#N/A"},{"$error":"#N/A"}]
[null,null,null,null,null,null,null,null,null,null,{"$error":"#N/A"},{"$error":"#N/A"},{"$error":"#N/A"},{"$error":"#N/A"},{"$error":"#N/A"}]
[null,null,null,null,null,null,null,null,null,null,{"$error":"#N/A"},{"$error":"#N/A"},{"$error":"#N/A"},{"$error":"#N/A"},{"$error":"#N/A"}]
[null,null,null,null,null,null,null,null,null,null,{"$error":"#N/A"},{"$error":"#N/A"},{"$error":"#N/A"},{"$error":"#N/A"},{"$error":"#N/A"}]
[null,null,null,null,null,null,null,null,null,null,{"$error":"#N/A"},{"$error":"#N/A"},{"$error":"#N/A"},{"$error":"#N/A"},{"$error":"#N/A"}]
[null,null,null,null,null,null,null,null,null,null,{"$error":"#N/A"},{"$error":"#N/A"},{"$error":"#N/A"},{"$error":"#N/A"},{"$error":"#N/A"}]
[null,null,null,null,null,null,null,null,null,null,{"$error":"#N/A"},{"$error":"#N/A"},{"$error":"#N/A"},{"$error":"#N/A"},{"$error":"#N/A"}]
[null,null,null,null,null,null,null,null,null,null,{"$error":"#N/A"},{"$error":"#N/A"},{"$error":"#N/A"},{"$error":"#N/A"},{"$error":"#N/A"}]
[null,null,null,null,null,null,null,null,null,null,{"$error":"#N/A"},{"$error":"#N/A"},{"$error":"#N/A"},{"$f":"IF(ISBLANK(K1803),\"\",$G$13*K1803+$H$13)","v":{"$error":"#N/A"}},{"$error":"#N/A"}]
[null,null,null,null,null,null,null,null,null,null,{"$f":"IF(K1803+$G$19<=$G$18,K1803+$G$19,NA())","v":{"$error":"#N/A"}},{"$error":"#N/A"},{"$error":"#N/A"},{"$error":"#N/A"},{"$error":"#N/A"}]
[null,null,null,null,null,null,null,null,null,null,{"$error":"#N/A"},{"$f":"IF(ISBLANK(K1805),\"\",$G$11*K1805+$H$11)","v":{"$error":"#N/A"}},{"$f":"IF(ISBLANK(L1805),\"\",$G$12*K1805+$H$12)","v":{"$error":"#N/A"}},{"$error":"#N/A"},{"$f":"IF(ISBLANK(M1805),\"\",$G$14*K1805+$H$14)","v":{"$error":"#N/A"}}]
[null,null,null,null,null,null,null,null,null,null,{"$error":"#N/A"},{"$error":"#N/A"},{"$error":"#N/A"},{"$error":"#N/A"},{"$error":"#N/A"}]
[null,null,null,null,null,null,null,null,null,null,{"$error":"#N/A"},{"$error":"#N/A"},{"$error":"#N/A"},{"$error":"#N/A"},{"$error":"#N/A"}]
[null,null,null,null,null,null,null,null,null,null,{"$error":"#N/A"},{"$error":"#N/A"},{"$error":"#N/A"},{"$error":"#N/A"},{"$error":"#N/A"}]
[null,null,null,null,null,null,null,null,null,null,{"$error":"#N/A"},{"$error":"#N/A"},{"$error":"#N/A"},{"$error":"#N/A"},{"$error":"#N/A"}]
[null,null,null,null,null,null,null,null,null,null,{"$error":"#N/A"},{"$error":"#N/A"},{"$error":"#N/A"},{"$error":"#N/A"},{"$error":"#N/A"}]
[null,null,null,null,null,null,null,null,null,null,{"$error":"#N/A"},{"$error":"#N/A"},{"$error":"#N/A"},{"$error":"#N/A"},{"$error":"#N/A"}]
[null,null,null,null,null,null,null,null,null,null,{"$error":"#N/A"},{"$error":"#N/A"},{"$error":"#N/A"},{"$error":"#N/A"},{"$error":"#N/A"}]
[null,null,null,null,null,null,null,null,null,null,{"$error":"#N/A"},{"$error":"#N/A"},{"$error":"#N/A"},{"$error":"#N/A"},{"$error":"#N/A"}]
[null,null,null,null,null,null,null,null,null,null,{"$error":"#N/A"},{"$error":"#N/A"},{"$error":"#N/A"},{"$error":"#N/A"},{"$error":"#N/A"}]
[null,null,null,null,null,null,null,null,null,null,{"$error":"#N/A"},{"$error":"#N/A"},{"$error":"#N/A"},{"$error":"#N/A"},{"$error":"#N/A"}]
[null,null,null,null,null,null,null,null,null,null,{"$error":"#N/A"},{"$error":"#N/A"},{"$error":"#N/A"},{"$error":"#N/A"},{"$error":"#N/A"}]
[null,null,null,null,null,null,null,null,null,null,{"$error":"#N/A"},{"$error":"#N/A"},{"$error":"#N/A"},{"$error":"#N/A"},{"$error":"#N/A"}]
[null,null,null,null,null,null,null,null,null,null,{"$error":"#N/A"},{"$error":"#N/A"},{"$error":"#N/A"},{"$error":"#N/A"},{"$error":"#N/A"}]
[null,null,null,null,null,null,null,null,null,null,{"$error":"#N/A"},{"$error":"#N/A"},{"$error":"#N/A"},{"$error":"#N/A"},{"$error":"#N/A"}]
[null,null,null,null,null,null,null,null,null,null,{"$error":"#N/A"},{"$error":"#N/A"},{"$error":"#N/A"},{"$error":"#N/A"},{"$error":"#N/A"}]
[null,null,null,null,null,null,null,null,null,null,{"$error":"#N/A"},{"$error":"#N/A"},{"$error":"#N/A"},{"$error":"#N/A"},{"$error":"#N/A"}]
[null,null,null,null,null,null,null,null,null,null,{"$error":"#N/A"},{"$error":"#N/A"},{"$error":"#N/A"},{"$error":"#N/A"},{"$error":"#N/A"}]
[null,null,null,null,null,null,null,null,null,null,{"$error":"#N/A"},{"$error":"#N/A"},{"$error":"#N/A"},{"$error":"#N/A"},{"$error":"#N/A"}]
[null,null,null,null,null,null,null,null,null,null,{"$error":"#N/A"},{"$error":"#N/A"},{"$error":"#N/A"},{"$error":"#N/A"},{"$error":"#N/A"}]
[null,null,null,null,null,null,null,null,null,null,{"$error":"#N/A"},{"$error":"#N/A"},{"$error":"#N/A"},{"$error":"#N/A"},{"$error":"#N/A"}]
[null,null,null,null,null,null,null,null,null,null,{"$error":"#N/A"},{"$error":"#N/A"},{"$error":"#N/A"},{"$error":"#N/A"},{"$error":"#N/A"}]
[null,null,null,null,null,null,null,null,null,null,{"$error":"#N/A"},{"$error":"#N/A"},{"$error":"#N/A"},{"$error":"#N/A"},{"$error":"#N/A"}]
[null,null,null,null,null,null,null,null,null,null,{"$error":"#N/A"},{"$error":"#N/A"},{"$error":"#N/A"},{"$error":"#N/A"},{"$error":"#N/A"}]
[null,null,null,null,null,null,null,null,null,null,{"$error":"#N/A"},{"$error":"#N/A"},{"$error":"#N/A"},{"$error":"#N/A"},{"$error":"#N/A"}]
[null,null,null,null,null,null,null,null,null,null,{"$error":"#N/A"},{"$error":"#N/A"},{"$error":"#N/A"},{"$error":"#N/A"},{"$error":"#N/A"}]
[null,null,null,null,null,null,null,null,null,null,{"$error":"#N/A"},{"$error":"#N/A"},{"$error":"#N/A"},{"$error":"#N/A"},{"$error":"#N/A"}]
[null,null,null,null,null,null,null,null,null,null,{"$error":"#N/A"},{"$error":"#N/A"},{"$error":"#N/A"},{"$error":"#N/A"},{"$error":"#N/A"}]
[null,null,null,null,null,null,null,null,null,null,{"$error":"#N/A"},{"$error":"#N/A"},{"$error":"#N/A"},{"$error":"#N/A"},{"$error":"#N/A"}]
[null,null,null,null,null,null,null,null,null,null,{"$error":"#N/A"},{"$error":"#N/A"},{"$error":"#N/A"},{"$error":"#N/A"},{"$error":"#N/A"}]
[null,null,null,null,null,null,null,null,null,null,{"$error":"#N/A"},{"$error":"#N/A"},{"$error":"#N/A"},{"$error":"#N/A"},{"$error":"#N/A"}]
[null,null,null,null,null,null,null,null,null,null,{"$error":"#N/A"},{"$error":"#N/A"},{"$error":"#N/A"},{"$error":"#N/A"},{"$error":"#N/A"}]
[null,null,null,null,null,null,null,null,null,null,{"$error":"#N/A"},{"$error":"#N/A"},{"$error":"#N/A"},{"$error":"#N/A"},{"$error":"#N/A"}]
[null,null,null,null,null,null,null,null,null,null,{"$error":"#N/A"},{"$error":"#N/A"},{"$error":"#N/A"},{"$error":"#N/A"},{"$error":"#N/A"}]
[null,null,null,null,null,null,null,null,null,null,{"$error":"#N/A"},{"$error":"#N/A"},{"$error":"#N/A"},{"$error":"#N/A"},{"$error":"#N/A"}]
[null,null,null,null,null,null,null,null,null,null,{"$error":"#N/A"},{"$error":"#N/A"},{"$error":"#N/A"},{"$error":"#N/A"},{"$error":"#N/A"}]
[null,null,null,null,null,null,null,null,null,null,{"$error":"#N/A"},{"$error":"#N/A"},{"$error":"#N/A"},{"$error":"#N/A"},{"$error":"#N/A"}]
[null,null,null,null,null,null,null,null,null,null,{"$error":"#N/A"},{"$error":"#N/A"},{"$error":"#N/A"},{"$error":"#N/A"},{"$error":"#N/A"}]
[null,null,null,null,null,null,null,null,null,null,{"$error":"#N/A"},{"$error":"#N/A"},{"$error":"#N/A"},{"$error":"#N/A"},{"$error":"#N/A"}]
[null,null,null,null,null,null,null,null,null,null,{"$error":"#N/A"},{"$error":"#N/A"},{"$error":"#N/A"},{"$error":"#N/A"},{"$error":"#N/A"}]
[null,null,null,null,null,null,null,null,null,null,{"$error":"#N/A"},{"$error":"#N/A"},{"$error":"#N/A"},{"$error":"#N/A"},{"$error":"#N/A"}]
[null,null,null,null,null,null,null,null,null,null,{"$error":"#N/A"},{"$error":"#N/A"},{"$error":"#N/A"},{"$error":"#N/A"},{"$error":"#N/A"}]
[null,null,null,null,null,null,null,null,null,null,{"$error":"#N/A"},{"$error":"#N/A"},{"$error":"#N/A"},{"$error":"#N/A"},{"$error":"#N/A"}]
[null,null,null,null,null,null,null,null,null,null,{"$error":"#N/A"},{"$error":"#N/A"},{"$error":"#N/A"},{"$error":"#N/A"},{"$error":"#N/A"}]
[null,null,null,null,null,null,null,null,null,null,{"$error":"#N/A"},{"$error":"#N/A"},{"$error":"#N/A"},{"$error":"#N/A"},{"$error":"#N/A"}]
[null,null,null,null,null,null,null,null,null,null,{"$error":"#N/A"},{"$error":"#N/A"},{"$error":"#N/A"},{"$error":"#N/A"},{"$error":"#N/A"}]
[null,null,null,null,null,null,null,null,null,null,{"$error":"#N/A"},{"$error":"#N/A"},{"$error":"#N/A"},{"$error":"#N/A"},{"$error":"#N/A"}]
[null,null,null,null,null,null,null,null,null,null,{"$error":"#N/A"},{"$error":"#N/A"},{"$error":"#N/A"},{"$error":"#N/A"},{"$error":"#N/A"}]
[null,null,null,null,null,null,null,null,null,null,{"$error":"#N/A"},{"$error":"#N/A"},{"$error":"#N/A"},{"$error":"#N/A"},{"$error":"#N/A"}]
[null,null,null,null,null,null,null,null,null,null,{"$error":"#N/A"},{"$error":"#N/A"},{"$error":"#N/A"},{"$error":"#N/A"},{"$error":"#N/A"}]
[null,null,null,null,null,null,null,null,null,null,{"$error":"#N/A"},{"$error":"#N/A"},{"$error":"#N/A"},{"$error":"#N/A"},{"$error":"#N/A"}]
[null,null,null,null,null,null,null,null,null,null,{"$error":"#N/A"},{"$error":"#N/A"},{"$error":"#N/A"},{"$error":"#N/A"},{"$error":"#N/A"}]
[null,null,null,null,null,null,null,null,null,null,{"$error":"#N/A"},{"$error":"#N/A"},{"$error":"#N/A"},{"$error":"#N/A"},{"$error":"#N/A"}]
[null,null,null,null,null,null,null,null,null,null,{"$error":"#N/A"},{"$error":"#N/A"},{"$error":"#N/A"},{"$error":"#N/A"},{"$error":"#N/A"}]
[null,null,null,null,null,null,null,null,null,null,{"$error":"#N/A"},{"$error":"#N/A"},{"$error":"#N/A"},{"$error":"#N/A"},{"$error":"#N/A"}]
[null,null,null,null,null,null,null,null,null,null,{"$error":"#N/A"},{"$error":"#N/A"},{"$error":"#N/A"},{"$error":"#N/A"},{"$error":"#N/A"}]
[null,null,null,null,null,null,null,null,null,null,{"$error":"#N/A"},{"$error":"#N/A"},{"$error":"#N/A"},{"$error":"#N/A"},{"$error":"#N/A"}]
[null,null,null,null,null,null,null,null,null,null,{"$error":"#N/A"},{"$error":"#N/A"},{"$error":"#N/A"},{"$error":"#N/A"},{"$error":"#N/A"}]
[null,null,null,null,null,null,null,null,null,null,{"$error":"#N/A"},{"$error":"#N/A"},{"$error":"#N/A"},{"$error":"#N/A"},{"$error":"#N/A"}]
[null,null,null,null,null,null,null,null,null,null,{"$error":"#N/A"},{"$error":"#N/A"},{"$error":"#N/A"},{"$error":"#N/A"},{"$error":"#N/A"}]
[null,null,null,null,null,null,null,null,null,null,{"$error":"#N/A"},{"$error":"#N/A"},{"$error":"#N/A"},{"$error":"#N/A"},{"$error":"#N/A"}]
[null,null,null,null,null,null,null,null,null,null,{"$error":"#N/A"},{"$error":"#N/A"},{"$error":"#N/A"},{"$error":"#N/A"},{"$error":"#N/A"}]
[null,null,null,null,null,null,null,null,null,null,{"$error":"#N/A"},{"$error":"#N/A"},{"$error":"#N/A"},{"$f":"IF(ISBLANK(K1867),\"\",$G$13*K1867+$H$13)","v":{"$error":"#N/A"}},{"$error":"#N/A"}]
[null,null,null,null,null,null,null,null,null,null,{"$f":"IF(K1867+$G$19<=$G$18,K1867+$G$19,NA())","v":{"$error":"#N/A"}},{"$error":"#N/A"},{"$error":"#N/A"},{"$error":"#N/A"},{"$error":"#N/A"}]
[null,null,null,null,null,null,null,null,null,null,{"$error":"#N/A"},{"$f":"IF(ISBLANK(K1869),\"\",$G$11*K1869+$H$11)","v":{"$error":"#N/A"}},{"$f":"IF(ISBLANK(L1869),\"\",$G$12*K1869+$H$12)","v":{"$error":"#N/A"}},{"$error":"#N/A"},{"$f":"IF(ISBLANK(M1869),\"\",$G$14*K1869+$H$14)","v":{"$error":"#N/A"}}]
[null,null,null,null,null,null,null,null,null,null,{"$error":"#N/A"},{"$error":"#N/A"},{"$error":"#N/A"},{"$error":"#N/A"},{"$error":"#N/A"}]
[null,null,null,null,null,null,null,null,null,null,{"$error":"#N/A"},{"$error":"#N/A"},{"$error":"#N/A"},{"$error":"#N/A"},{"$error":"#N/A"}]
[null,null,null,null,null,null,null,null,null,null,{"$error":"#N/A"},{"$error":"#N/A"},{"$error":"#N/A"},{"$error":"#N/A"},{"$error":"#N/A"}]
[null,null,null,null,null,null,null,null,null,null,{"$error":"#N/A"},{"$error":"#N/A"},{"$error":"#N/A"},{"$error":"#N/A"},{"$error":"#N/A"}]
[null,null,null,null,null,null,null,null,null,null,{"$error":"#N/A"},{"$error":"#N/A"},{"$error":"#N/A"},{"$error":"#N/A"},{"$error":"#N/A"}]
[null,null,null,null,null,null,null,null,null,null,{"$error":"#N/A"},{"$error":"#N/A"},{"$error":"#N/A"},{"$error":"#N/A"},{"$error":"#N/A"}]
[null,null,null,null,null,null,null,null,null,null,{"$error":"#N/A"},{"$error":"#N/A"},{"$error":"#N/A"},{"$error":"#N/A"},{"$error":"#N/A"}]
[null,null,null,null,null,null,null,null,null,null,{"$error":"#N/A"},{"$error":"#N/A"},{"$error":"#N/A"},{"$error":"#N/A"},{"$error":"#N/A"}]
[null,null,null,null,null,null,null,null,null,null,{"$error":"#N/A"},{"$error":"#N/A"},{"$error":"#N/A"},{"$error":"#N/A"},{"$error":"#N/A"}]
[null,null,null,null,null,null,null,null,null,null,{"$error":"#N/A"},{"$error":"#N/A"},{"$error":"#N/A"},{"$error":"#N/A"},{"$error":"#N/A"}]
[null,null,null,null,null,null,null,null,null,null,{"$error":"#N/A"},{"$error":"#N/A"},{"$error":"#N/A"},{"$error":"#N/A"},{"$error":"#N/A"}]
[null,null,null,null,null,null,null,null,null,null,{"$error":"#N/A"},{"$error":"#N/A"},{"$error":"#N/A"},{"$error":"#N/A"},{"$error":"#N/A"}]
[null,null,null,null,null,null,null,null,null,null,{"$error":"#N/A"},{"$error":"#N/A"},{"$error":"#N/A"},{"$error":"#N/A"},{"$error":"#N/A"}]
[null,null,null,null,null,null,null,null,null,null,{"$error":"#N/A"},{"$error":"#N/A"},{"$error":"#N/A"},{"$error":"#N/A"},{"$error":"#N/A"}]
[null,null,null,null,null,null,null,null,null,null,{"$error":"#N/A"},{"$error":"#N/A"},{"$error":"#N/A"},{"$error":"#N/A"},{"$error":"#N/A"}]
[null,null,null,null,null,null,null,null,null,null,{"$error":"#N/A"},{"$error":"#N/A"},{"$error":"#N/A"},{"$error":"#N/A"},{"$error":"#N/A"}]
[null,null,null,null,null,null,null,null,null,null,{"$error":"#N/A"},{"$error":"#N/A"},{"$error":"#N/A"},{"$error":"#N/A"},{"$error":"#N/A"}]
[null,null,null,null,null,null,null,null,null,null,{"$error":"#N/A"},{"$error":"#N/A"},{"$error":"#N/A"},{"$error":"#N/A"},{"$error":"#N/A"}]
[null,null,null,null,null,null,null,null,null,null,{"$error":"#N/A"},{"$error":"#N/A"},{"$error":"#N/A"},{"$error":"#N/A"},{"$error":"#N/A"}]
[null,null,null,null,null,null,null,null,null,null,{"$error":"#N/A"},{"$error":"#N/A"},{"$error":"#N/A"},{"$error":"#N/A"},{"$error":"#N/A"}]
[null,null,null,null,null,null,null,null,null,null,{"$error":"#N/A"},{"$error":"#N/A"},{"$error":"#N/A"},{"$error":"#N/A"},{"$error":"#N/A"}]
[null,null,null,null,null,null,null,null,null,null,{"$error":"#N/A"},{"$error":"#N/A"},{"$error":"#N/A"},{"$error":"#N/A"},{"$error":"#N/A"}]
[null,null,null,null,null,null,null,null,null,null,{"$error":"#N/A"},{"$error":"#N/A"},{"$error":"#N/A"},{"$error":"#N/A"},{"$error":"#N/A"}]
[null,null,null,null,null,null,null,null,null,null,{"$error":"#N/A"},{"$error":"#N/A"},{"$error":"#N/A"},{"$error":"#N/A"},{"$error":"#N/A"}]
[null,null,null,null,null,null,null,null,null,null,{"$error":"#N/A"},{"$error":"#N/A"},{"$error":"#N/A"},{"$error":"#N/A"},{"$error":"#N/A"}]
[null,null,null,null,null,null,null,null,null,null,{"$error":"#N/A"},{"$error":"#N/A"},{"$error":"#N/A"},{"$error":"#N/A"},{"$error":"#N/A"}]
[null,null,null,null,null,null,null,null,null,null,{"$error":"#N/A"},{"$error":"#N/A"},{"$error":"#N/A"},{"$error":"#N/A"},{"$error":"#N/A"}]
[null,null,null,null,null,null,null,null,null,null,{"$error":"#N/A"},{"$error":"#N/A"},{"$error":"#N/A"},{"$error":"#N/A"},{"$error":"#N/A"}]
[null,null,null,null,null,null,null,null,null,null,{"$error":"#N/A"},{"$error":"#N/A"},{"$error":"#N/A"},{"$error":"#N/A"},{"$error":"#N/A"}]
[null,null,null,null,null,null,null,null,null,null,{"$error":"#N/A"},{"$error":"#N/A"},{"$error":"#N/A"},{"$error":"#N/A"},{"$error":"#N/A"}]
[null,null,null,null,null,null,null,null,null,null,{"$error":"#N/A"},{"$error":"#N/A"},{"$error":"#N/A"},{"$error":"#N/A"},{"$error":"#N/A"}]
[null,null,null,null,null,null,null,null,null,null,{"$error":"#N/A"},{"$error":"#N/A"},{"$error":"#N/A"},{"$error":"#N/A"},{"$error":"#N/A"}]
[null,null,null,null,null,null,null,null,null,null,{"$error":"#N/A"},{"$error":"#N/A"},{"$error":"#N/A"},{"$error":"#N/A"},{"$error":"#N/A"}]
[null,null,null,null,null,null,null,null,null,null,{"$error":"#N/A"},{"$error":"#N/A"},{"$error":"#N/A"},{"$error":"#N/A"},{"$error":"#N/A"}]
[null,null,null,null,null,null,null,null,null,null,{"$error":"#N/A"},{"$error":"#N/A"},{"$error":"#N/A"},{"$error":"#N/A"},{"$error":"#N/A"}]
[null,null,null,null,null,null,null,null,null,null,{"$error":"#N/A"},{"$error":"#N/A"},{"$error":"#N/A"},{"$error":"#N/A"},{"$error":"#N/A"}]
[null,null,null,null,null,null,null,null,null,null,{"$error":"#N/A"},{"$error":"#N/A"},{"$error":"#N/A"},{"$error":"#N/A"},{"$error":"#N/A"}]
[null,null,null,null,null,null,null,null,null,null,{"$error":"#N/A"},{"$error":"#N/A"},{"$error":"#N/A"},{"$error":"#N/A"},{"$error":"#N/A"}]
[null,null,null,null,null,null,null,null,null,null,{"$error":"#N/A"},{"$error":"#N/A"},{"$error":"#N/A"},{"$error":"#N/A"},{"$error":"#N/A"}]
[null,null,null,null,null,null,null,null,null,null,{"$error":"#N/A"},{"$error":"#N/A"},{"$error":"#N/A"},{"$error":"#N/A"},{"$error":"#N/A"}]
[null,null,null,null,null,null,null,null,null,null,{"$error":"#N/A"},{"$error":"#N/A"},{"$error":"#N/A"},{"$error":"#N/A"},{"$error":"#N/A"}]
[null,null,null,null,null,null,null,null,null,null,{"$error":"#N/A"},{"$error":"#N/A"},{"$error":"#N/A"},{"$error":"#N/A"},{"$error":"#N/A"}]
[null,null,null,null,null,null,null,null,null,null,{"$error":"#N/A"},{"$error":"#N/A"},{"$error":"#N/A"},{"$error":"#N/A"},{"$error":"#N/A"}]
[null,null,null,null,null,null,null,null,null,null,{"$error":"#N/A"},{"$error":"#N/A"},{"$error":"#N/A"},{"$error":"#N/A"},{"$error":"#N/A"}]
[null,null,null,null,null,null,null,null,null,null,{"$error":"#N/A"},{"$error":"#N/A"},{"$error":"#N/A"},{"$error":"#N/A"},{"$error":"#N/A"}]
[null,null,null,null,null,null,null,null,null,null,{"$error":"#N/A"},{"$error":"#N/A"},{"$error":"#N/A"},{"$error":"#N/A"},{"$error":"#N/A"}]
[null,null,null,null,null,null,null,null,null,null,{"$error":"#N/A"},{"$error":"#N/A"},{"$error":"#N/A"},{"$error":"#N/A"},{"$error":"#N/A"}]
[null,null,null,null,null,null,null,null,null,null,{"$error":"#N/A"},{"$error":"#N/A"},{"$error":"#N/A"},{"$error":"#N/A"},{"$error":"#N/A"}]
[null,null,null,null,null,null,null,null,null,null,{"$error":"#N/A"},{"$error":"#N/A"},{"$error":"#N/A"},{"$error":"#N/A"},{"$error":"#N/A"}]
[null,null,null,null,null,null,null,null,null,null,{"$error":"#N/A"},{"$error":"#N/A"},{"$error":"#N/A"},{"$error":"#N/A"},{"$error":"#N/A"}]
[null,null,null,null,null,null,null,null,null,null,{"$error":"#N/A"},{"$error":"#N/A"},{"$error":"#N/A"},{"$error":"#N/A"},{"$error":"#N/A"}]
[null,null,null,null,null,null,null,null,null,null,{"$error":"#N/A"},{"$error":"#N/A"},{"$error":"#N/A"},{"$error":"#N/A"},{"$error":"#N/A"}]
[null,null,null,null,null,null,null,null,null,null,{"$error":"#N/A"},{"$error":"#N/A"},{"$error":"#N/A"},{"$error":"#N/A"},{"$error":"#N/A"}]
[null,null,null,null,null,null,null,null,null,null,{"$error":"#N/A"},{"$error":"#N/A"},{"$error":"#N/A"},{"$error":"#N/A"},{"$error":"#N/A"}]
[null,null,null,null,null,null,null,null,null,null,{"$error":"#N/A"},{"$error":"#N/A"},{"$error":"#N/A"},{"$error":"#N/A"},{"$error":"#N/A"}]
[null,null,null,null,null,null,null,null,null,null,{"$error":"#N/A"},{"$error":"#N/A"},{"$error":"#N/A"},{"$error":"#N/A"},{"$error":"#N/A"}]
[null,null,null,null,null,null,null,null,null,null,{"$error":"#N/A"},{"$error":"#N/A"},{"$error":"#N/A"},{"$error":"#N/A"},{"$error":"#N/A"}]
[null,null,null,null,null,null,null,null,null,null,{"$error":"#N/A"},{"$error":"#N/A"},{"$error":"#N/A"},{"$error":"#N/A"},{"$error":"#N/A"}]
[null,null,null,null,null,null,null,null,null,null,{"$error":"#N/A"},{"$error":"#N/A"},{"$error":"#N/A"},{"$error":"#N/A"},{"$error":"#N/A"}]
[null,null,null,null,null,null,null,null,null,null,{"$error":"#N/A"},{"$error":"#N/A"},{"$error":"#N/A"},{"$error":"#N/A"},{"$error":"#N/A"}]
[null,null,null,null,null,null,null,null,null,null,{"$error":"#N/A"},{"$error":"#N/A"},{"$error":"#N/A"},{"$error":"#N/A"},{"$error":"#N/A"}]
[null,null,null,null,null,null,null,null,null,null,{"$error":"#N/A"},{"$error":"#N/A"},{"$error":"#N/A"},{"$f":"IF(ISBLANK(K1931),\"\",$G$13*K1931+$H$13)","v":{"$error":"#N/A"}},{"$error":"#N/A"}]
[null,null,null,null,null,null,null,null,null,null,{"$f":"IF(K1931+$G$19<=$G$18,K1931+$G$19,NA())","v":{"$error":"#N/A"}},{"$error":"#N/A"},{"$error":"#N/A"},{"$error":"#N/A"},{"$error":"#N/A"}]
[null,null,null,null,null,null,null,null,null,null,{"$error":"#N/A"},{"$f":"IF(ISBLANK(K1933),\"\",$G$11*K1933+$H$11)","v":{"$error":"#N/A"}},{"$f":"IF(ISBLANK(L1933),\"\",$G$12*K1933+$H$12)","v":{"$error":"#N/A"}},{"$error":"#N/A"},{"$f":"IF(ISBLANK(M1933),\"\",$G$14*K1933+$H$14)","v":{"$error":"#N/A"}}]
[null,null,null,null,null,null,null,null,null,null,{"$error":"#N/A"},{"$error":"#N/A"},{"$error":"#N/A"},{"$error":"#N/A"},{"$error":"#N/A"}]
[null,null,null,null,null,null,null,null,null,null,{"$error":"#N/A"},{"$error":"#N/A"},{"$error":"#N/A"},{"$error":"#N/A"},{"$error":"#N/A"}]
[null,null,null,null,null,null,null,null,null,null,{"$error":"#N/A"},{"$error":"#N/A"},{"$error":"#N/A"},{"$error":"#N/A"},{"$error":"#N/A"}]
[null,null,null,null,null,null,null,null,null,null,{"$error":"#N/A"},{"$error":"#N/A"},{"$error":"#N/A"},{"$error":"#N/A"},{"$error":"#N/A"}]
[null,null,null,null,null,null,null,null,null,null,{"$error":"#N/A"},{"$error":"#N/A"},{"$error":"#N/A"},{"$error":"#N/A"},{"$error":"#N/A"}]
[null,null,null,null,null,null,null,null,null,null,{"$error":"#N/A"},{"$error":"#N/A"},{"$error":"#N/A"},{"$error":"#N/A"},{"$error":"#N/A"}]
[null,null,null,null,null,null,null,null,null,null,{"$error":"#N/A"},{"$error":"#N/A"},{"$error":"#N/A"},{"$error":"#N/A"},{"$error":"#N/A"}]
[null,null,null,null,null,null,null,null,null,null,{"$error":"#N/A"},{"$error":"#N/A"},{"$error":"#N/A"},{"$error":"#N/A"},{"$error":"#N/A"}]
[null,null,null,null,null,null,null,null,null,null,{"$error":"#N/A"},{"$error":"#N/A"},{"$error":"#N/A"},{"$error":"#N/A"},{"$error":"#N/A"}]
[null,null,null,null,null,null,null,null,null,null,{"$error":"#N/A"},{"$error":"#N/A"},{"$error":"#N/A"},{"$error":"#N/A"},{"$error":"#N/A"}]
[null,null,null,null,null,null,null,null,null,null,{"$error":"#N/A"},{"$error":"#N/A"},{"$error":"#N/A"},{"$error":"#N/A"},{"$error":"#N/A"}]
[null,null,null,null,null,null,null,null,null,null,{"$error":"#N/A"},{"$error":"#N/A"},{"$error":"#N/A"},{"$error":"#N/A"},{"$error":"#N/A"}]
[null,null,null,null,null,null,null,null,null,null,{"$error":"#N/A"},{"$error":"#N/A"},{"$error":"#N/A"},{"$error":"#N/A"},{"$error":"#N/A"}]
[null,null,null,null,null,null,null,null,null,null,{"$error":"#N/A"},{"$error":"#N/A"},{"$error":"#N/A"},{"$error":"#N/A"},{"$error":"#N/A"}]
[null,null,null,null,null,null,null,null,null,null,{"$error":"#N/A"},{"$error":"#N/A"},{"$error":"#N/A"},{"$error":"#N/A"},{"$error":"#N/A"}]
[null,null,null,null,null,null,null,null,null,null,{"$error":"#N/A"},{"$error":"#N/A"},{"$error":"#N/A"},{"$error":"#N/A"},{"$error":"#N/A"}]
[null,null,null,null,null,null,null,null,null,null,{"$error":"#N/A"},{"$error":"#N/A"},{"$error":"#N/A"},{"$error":"#N/A"},{"$error":"#N/A"}]
[null,null,null,null,null,null,null,null,null,null,{"$error":"#N/A"},{"$error":"#N/A"},{"$error":"#N/A"},{"$error":"#N/A"},{"$error":"#N/A"}]
[null,null,null,null,null,null,null,null,null,null,{"$error":"#N/A"},{"$error":"#N/A"},{"$error":"#N/A"},{"$error":"#N/A"},{"$error":"#N/A"}]
[null,null,null,null,null,null,null,null,null,null,{"$error":"#N/A"},{"$error":"#N/A"},{"$error":"#N/A"},{"$error":"#N/A"},{"$error":"#N/A"}]
[null,null,null,null,null,null,null,null,null,null,{"$error":"#N/A"},{"$error":"#N/A"},{"$error":"#N/A"},{"$error":"#N/A"},{"$error":"#N/A"}]
[null,null,null,null,null,null,null,null,null,null,{"$error":"#N/A"},{"$error":"#N/A"},{"$error":"#N/A"},{"$error":"#N/A"},{"$error":"#N/A"}]
[null,null,null,null,null,null,null,null,null,null,{"$error":"#N/A"},{"$error":"#N/A"},{"$error":"#N/A"},{"$error":"#N/A"},{"$error":"#N/A"}]
[null,null,null,null,null,null,null,null,null,null,{"$error":"#N/A"},{"$error":"#N/A"},{"$error":"#N/A"},{"$error":"#N/A"},{"$error":"#N/A"}]
[null,null,null,null,null,null,null,null,null,null,{"$error":"#N/A"},{"$error":"#N/A"},{"$error":"#N/A"},{"$error":"#N/A"},{"$error":"#N/A"}]
[null,null,null,null,null,null,null,null,null,null,{"$error":"#N/A"},{"$error":"#N/A"},{"$error":"#N/A"},{"$error":"#N/A"},{"$error":"#N/A"}]
[null,null,null,null,null,null,null,null,null,null,{"$error":"#N/A"},{"$error":"#N/A"},{"$error":"#N/A"},{"$error":"#N/A"},{"$error":"#N/A"}]
[null,null,null,null,null,null,null,null,null,null,{"$error":"#N/A"},{"$error":"#N/A"},{"$error":"#N/A"},{"$error":"#N/A"},{"$error":"#N/A"}]
[null,null,null,null,null,null,null,null,null,null,{"$error":"#N/A"},{"$error":"#N/A"},{"$error":"#N/A"},{"$error":"#N/A"},{"$error":"#N/A"}]
[null,null,null,null,null,null,null,null,null,null,{"$error":"#N/A"},{"$error":"#N/A"},{"$error":"#N/A"},{"$error":"#N/A"},{"$error":"#N/A"}]
[null,null,null,null,null,null,null,null,null,null,{"$error":"#N/A"},{"$error":"#N/A"},{"$error":"#N/A"},{"$error":"#N/A"},{"$error":"#N/A"}]
[null,null,null,null,null,null,null,null,null,null,{"$error":"#N/A"},{"$error":"#N/A"},{"$error":"#N/A"},{"$error":"#N/A"},{"$error":"#N/A"}]
[null,null,null,null,null,null,null,null,null,null,{"$error":"#N/A"},{"$error":"#N/A"},{"$error":"#N/A"},{"$error":"#N/A"},{"$error":"#N/A"}]
[null,null,null,null,null,null,null,null,null,null,{"$error":"#N/A"},{"$error":"#N/A"},{"$error":"#N/A"},{"$error":"#N/A"},{"$error":"#N/A"}]
[null,null,null,null,null,null,null,null,null,null,{"$error":"#N/A"},{"$error":"#N/A"},{"$error":"#N/A"},{"$error":"#N/A"},{"$error":"#N/A"}]
[null,null,null,null,null,null,null,null,null,null,{"$error":"#N/A"},{"$error":"#N/A"},{"$error":"#N/A"},{"$error":"#N/A"},{"$error":"#N/A"}]
[null,null,null,null,null,null,null,null,null,null,{"$error":"#N/A"},{"$error":"#N/A"},{"$error":"#N/A"},{"$error":"#N/A"},{"$error":"#N/A"}]
[null,null,null,null,null,null,null,null,null,null,{"$error":"#N/A"},{"$error":"#N/A"},{"$error":"#N/A"},{"$error":"#N/A"},{"$error":"#N/A"}]
[null,null,null,null,null,null,null,null,null,null,{"$error":"#N/A"},{"$error":"#N/A"},{"$error":"#N/A"},{"$error":"#N/A"},{"$error":"#N/A"}]
[null,null,null,null,null,null,null,null,null,null,{"$error":"#N/A"},{"$error":"#N/A"},{"$error":"#N/A"},{"$error":"#N/A"},{"$error":"#N/A"}]
[null,null,null,null,null,null,null,null,null,null,{"$error":"#N/A"},{"$error":"#N/A"},{"$error":"#N/A"},{"$error":"#N/A"},{"$error":"#N/A"}]
[null,null,null,null,null,null,null,null,null,null,{"$error":"#N/A"},{"$error":"#N/A"},{"$error":"#N/A"},{"$error":"#N/A"},{"$error":"#N/A"}]
[null,null,null,null,null,null,null,null,null,null,{"$error":"#N/A"},{"$error":"#N/A"},{"$error":"#N/A"},{"$error":"#N/A"},{"$error":"#N/A"}]
[null,null,null,null,null,null,null,null,null,null,{"$error":"#N/A"},{"$error":"#N/A"},{"$error":"#N/A"},{"$error":"#N/A"},{"$error":"#N/A"}]
[null,null,null,null,null,null,null,null,null,null,{"$error":"#N/A"},{"$error":"#N/A"},{"$error":"#N/A"},{"$error":"#N/A"},{"$error":"#N/A"}]
[null,null,null,null,null,null,null,null,null,null,{"$error":"#N/A"},{"$error":"#N/A"},{"$error":"#N/A"},{"$error":"#N/A"},{"$error":"#N/A"}]
[null,null,null,null,null,null,null,null,null,null,{"$error":"#N/A"},{"$error":"#N/A"},{"$error":"#N/A"},{"$error":"#N/A"},{"$error":"#N/A"}]
[null,null,null,null,null,null,null,null,null,null,{"$error":"#N/A"},{"$error":"#N/A"},{"$error":"#N/A"},{"$error":"#N/A"},{"$error":"#N/A"}]
[null,null,null,null,null,null,null,null,null,null,{"$error":"#N/A"},{"$error":"#N/A"},{"$error":"#N/A"},{"$error":"#N/A"},{"$error":"#N/A"}]
[null,null,null,null,null,null,null,null,null,null,{"$error":"#N/A"},{"$error":"#N/A"},{"$error":"#N/A"},{"$error":"#N/A"},{"$error":"#N/A"}]
[null,null,null,null,null,null,null,null,null,null,{"$error":"#N/A"},{"$error":"#N/A"},{"$error":"#N/A"},{"$error":"#N/A"},{"$error":"#N/A"}]
[null,null,null,null,null,null,null,null,null,null,{"$error":"#N/A"},{"$error":"#N/A"},{"$error":"#N/A"},{"$error":"#N/A"},{"$error":"#N/A"}]
[null,null,null,null,null,null,null,null,null,null,{"$error":"#N/A"},{"$error":"#N/A"},{"$error":"#N/A"},{"$error":"#N/A"},{"$error":"#N/A"}]
[null,null,null,null,null,null,null,null,null,null,{"$error":"#N/A"},{"$error":"#N/A"},{"$error":"#N/A"},{"$error":"#N/A"},{"$error":"#N/A"}]
[null,null,null,null,null,null,null,null,null,null,{"$error":"#N/A"},{"$error":"#N/A"},{"$error":"#N/A"},{"$error":"#N/A"},{"$error":"#N/A"}]
[null,null,null,null,null,null,null,null,null,null,{"$error":"#N/A"},{"$error":"#N/A"},{"$error":"#N/A"},{"$error":"#N/A"},{"$error":"#N/A"}]
[null,null,null,null,null,null,null,null,null,null,{"$error":"#N/A"},{"$error":"#N/A"},{"$error":"#N/A"},{"$error":"#N/A"},{"$error":"#N/A"}]
[null,null,null,null,null,null,null,null,null,null,{"$error":"#N/A"},{"$error":"#N/A"},{"$error":"#N/A"},{"$error":"#N/A"},{"$error":"#N/A"}]
[null,null,null,null,null,null,null,null,null,null,{"$error":"#N/A"},{"$error":"#N/A"},{"$error":"#N/A"},{"$error":"#N/A"},{"$error":"#N/A"}]
[null,null,null,null,null,null,null,null,null,null,{"$error":"#N/A"},{"$error":"#N/A"},{"$error":"#N/A"},{"$error":"#N/A"},{"$error":"#N/A"}]
[null,null,null,null,null,null,null,null,null,null,{"$error":"#N/A"},{"$error":"#N/A"},{"$error":"#N/A"},{"$error":"#N/A"},{"$error":"#N/A"}]
[null,null,null,null,null,null,null,null,null,null,{"$error":"#N/A"},{"$error":"#N/A"},{"$error":"#N/A"},{"$f":"IF(ISBLANK(K1995),\"\",$G$13*K1995+$H$13)","v":{"$error":"#N/A"}},{"$error":"#N/A"}]
[null,null,null,null,null,null,null,null,null,null,{"$f":"IF(K1995+$G$19<=$G$18,K1995+$G$19,NA())","v":{"$error":"#N/A"}},{"$error":"#N/A"},{"$error":"#N/A"},{"$error":"#N/A"},{"$error":"#N/A"}]
[null,null,null,null,null,null,null,null,null,null,{"$error":"#N/A"},{"$f":"IF(ISBLANK(K1997),\"\",$G$11*K1997+$H$11)","v":{"$error":"#N/A"}},{"$f":"IF(ISBLANK(L1997),\"\",$G$12*K1997+$H$12)","v":{"$error":"#N/A"}},{"$error":"#N/A"},{"$f":"IF(ISBLANK(M1997),\"\",$G$14*K1997+$H$14)","v":{"$error":"#N/A"}}]
[null,null,null,null,null,null,null,null,null,null,{"$error":"#N/A"},{"$error":"#N/A"},{"$error":"#N/A"},{"$error":"#N/A"},{"$error":"#N/A"}]
[null,null,null,null,null,null,null,null,null,null,{"$error":"#N/A"},{"$error":"#N/A"},{"$error":"#N/A"},{"$error":"#N/A"},{"$error":"#N/A"}]
[null,null,null,null,null,null,null,null,null,null,{"$error":"#N/A"},{"$error":"#N/A"},{"$error":"#N/A"},{"$error":"#N/A"},{"$error":"#N/A"}]
[null,null,null,null,null,null,null,null,null,null,{"$error":"#N/A"},{"$error":"#N/A"},{"$error":"#N/A"},{"$error":"#N/A"},{"$error":"#N/A"}]
[null,null,null,null,null,null,null,null,null,null,{"$error":"#N/A"},{"$error":"#N/A"},{"$error":"#N/A"},{"$error":"#N/A"},{"$error":"#N/A"}]
[null,null,null,null,null,null,null,null,null,null,{"$error":"#N/A"},{"$error":"#N/A"},{"$error":"#N/A"},{"$error":"#N/A"},{"$error":"#N/A"}]
[null,null,null,null,null,null,null,null,null,null,{"$error":"#N/A"},{"$error":"#N/A"},{"$error":"#N/A"},{"$error":"#N/A"},{"$error":"#N/A"}]
[null,null,null,null,null,null,null,null,null,null,{"$error":"#N/A"},{"$error":"#N/A"},{"$error":"#N/A"},{"$error":"#N/A"},{"$error":"#N/A"}]
[null,null,null,null,null,null,null,null,null,null,{"$error":"#N/A"},{"$error":"#N/A"},{"$error":"#N/A"},{"$error":"#N/A"},{"$error":"#N/A"}]
[null,null,null,null,null,null,null,null,null,null,{"$error":"#N/A"},{"$error":"#N/A"},{"$error":"#N/A"},{"$error":"#N/A"},{"$error":"#N/A"}]
[null,null,null,null,null,null,null,null,null,null,{"$error":"#N/A"},{"$error":"#N/A"},{"$error":"#N/A"},{"$error":"#N/A"},{"$error":"#N/A"}]
[null,null,null,null,null,null,null,null,null,null,{"$error":"#N/A"},{"$error":"#N/A"},{"$error":"#N/A"},{"$error":"#N/A"},{"$error":"#N/A"}]
[null,null,null,null,null,null,null,null,null,null,{"$error":"#N/A"},{"$error":"#N/A"},{"$error":"#N/A"},{"$error":"#N/A"},{"$error":"#N/A"}]
[null,null,null,null,null,null,null,null,null,null,{"$error":"#N/A"},{"$error":"#N/A"},{"$error":"#N/A"},{"$error":"#N/A"},{"$error":"#N/A"}]
[null,null,null,null,null,null,null,null,null,null,{"$error":"#N/A"},{"$error":"#N/A"},{"$error":"#N/A"},{"$error":"#N/A"},{"$error":"#N/A"}]
[null,null,null,null,null,null,null,null,null,null,{"$error":"#N/A"},{"$error":"#N/A"},{"$error":"#N/A"},{"$error":"#N/A"},{"$error":"#N/A"}]
[null,null,null,null,null,null,null,null,null,null,{"$error":"#N/A"},{"$error":"#N/A"},{"$error":"#N/A"},{"$error":"#N/A"},{"$error":"#N/A"}]
[null,null,null,null,null,null,null,null,null,null,{"$error":"#N/A"},{"$error":"#N/A"},{"$error":"#N/A"},{"$error":"#N/A"},{"$error":"#N/A"}]
[null,null,null,null,null,null,null,null,null,null,{"$error":"#N/A"},{"$error":"#N/A"},{"$error":"#N/A"},{"$error":"#N/A"},{"$error":"#N/A"}]
[null,null,null,null,null,null,null,null,null,null,{"$error":"#N/A"},{"$error":"#N/A"},{"$error":"#N/A"},{"$error":"#N/A"},{"$error":"#N/A"}]
[null,null,null,null,null,null,null,null,null,null,{"$error":"#N/A"},{"$error":"#N/A"},{"$error":"#N/A"},{"$error":"#N/A"},{"$error":"#N/A"}]
[null,null,null,null,null,null,null,null,null,null,{"$error":"#N/A"},{"$error":"#N/A"},{"$error":"#N/A"},{"$error":"#N/A"},{"$error":"#N/A"}]
[null,null,null,null,null,null,null,null,null,null,{"$error":"#N/A"},{"$error":"#N/A"},{"$error":"#N/A"},{"$error":"#N/A"},{"$error":"#N/A"}]
[null,null,null,null,null,null,null,null,null,null,{"$error":"#N/A"},{"$error":"#N/A"},{"$error":"#N/A"},{"$error":"#N/A"},{"$error":"#N/A"}]
[null,null,null,null,null,null,null,null,null,null,{"$error":"#N/A"},{"$error":"#N/A"},{"$error":"#N/A"},{"$error":"#N/A"},{"$error":"#N/A"}]
[null,null,null,null,null,null,null,null,null,null,{"$error":"#N/A"},{"$error":"#N/A"},{"$error":"#N/A"},{"$error":"#N/A"},{"$error":"#N/A"}]
[null,null,null,null,null,null,null,null,null,null,{"$error":"#N/A"},{"$error":"#N/A"},{"$error":"#N/A"},{"$error":"#N/A"},{"$error":"#N/A"}]
[null,null,null,null,null,null,null,null,null,null,{"$error":"#N/A"},{"$error":"#N/A"},{"$error":"#N/A"},{"$error":"#N/A"},{"$error":"#N/A"}]
[null,null,null,null,null,null,null,null,null,null,{"$error":"#N/A"},{"$error":"#N/A"},{"$error":"#N/A"},{"$error":"#N/A"},{"$error":"#N/A"}]
[null,null,null,null,null,null,null,null,null,null,{"$error":"#N/A"},{"$f":"IF(ISBLANK(K2637),\"\",$G$11*K2637+$H$11)","v":{"$error":"#N/A"}},{"$f":"IF(ISBLANK(L2637),\"\",$G$12*K2637+$H$12)","v":{"$error":"#N/A"}},{"$error":"#N/A"},{"$f":"IF(ISBLANK(M2637),\"\",$G$14*K2637+$H$14)","v":{"$error":"#N/A"}}]
[null,null,null,null,null,null,null,null,null,null,{"$error":"#N/A"},{"$error":"#N/A"},{"$error":"#N/A"},{"$error":"#N/A"},{"$error":"#N/A"}]
[null,null,null,null,null,null,null,null,null,null,{"$error":"#N/A"},{"$error":"#N/A"},{"$error":"#N/A"},{"$error":"#N/A"},{"$error":"#N/A"}]
[null,null,null,null,null,null,null,null,null,null,{"$error":"#N/A"},{"$error":"#N/A"},{"$error":"#N/A"},{"$error":"#N/A"},{"$error":"#N/A"}]
[null,null,null,null,null,null,null,null,null,null,{"$error":"#N/A"},{"$error":"#N/A"},{"$error":"#N/A"},{"$error":"#N/A"},{"$error":"#N/A"}]
[null,null,null,null,null,null,null,null,null,null,{"$error":"#N/A"},{"$error":"#N/A"},{"$error":"#N/A"},{"$error":"#N/A"},{"$error":"#N/A"}]
[null,null,null,null,null,null,null,null,null,null,{"$f":"IF(K2763+$G$19<=$G$18,K2763+$G$19,NA())","v":{"$error":"#N/A"}},{"$error":"#N/A"},{"$error":"#N/A"},{"$error":"#N/A"},{"$error":"#N/A"}]
[null,null,null,null,null,null,null,null,null,null,{"$error":"#N/A"},{"$error":"#N/A"},{"$error":"#N/A"},{"$error":"#N/A"},{"$error":"#N/A"}]
[null,null,null,null,null,null,null,null,null,null,{"$error":"#N/A"},{"$error":"#N/A"},{"$error":"#N/A"},{"$f":"IF(ISBLANK(K2827),\"\",$G$13*K2827+$H$13)","v":{"$error":"#N/A"}},{"$error":"#N/A"}]
[null,null,null,null,null,null,null,null,null,null,{"$error":"#N/A"},{"$error":"#N/A"},{"$error":"#N/A"},{"$error":"#N/A"},{"$error":"#N/A"}]
[null,null,null,null,null,null,null,null,null,null,{"$error":"#N/A"},{"$error":"#N/A"},{"$error":"#N/A"},{"$error":"#N/A"},{"$error":"#N/A"}]
[null,null,null,null,null,null,null,null,null,null,{"$error":"#N/A"},{"$error":"#N/A"},{"$error":"#N/A"},{"$error":"#N/A"},{"$error":"#N/A"}]
[null,null,null,null,null,null,null,null,null,null,{"$error":"#N/A"},{"$error":"#N/A"},{"$error":"#N/A"},{"$error":"#N/A"},{"$error":"#N/A"}]
[null,null,null,null,null,null,null,null,null,null,{"$error":"#N/A"},{"$error":"#N/A"},{"$error":"#N/A"},{"$error":"#N/A"},{"$error":"#N/A"}]
[null,null,null,null,null,null,null,null,null,null,{"$error":"#N/A"},{"$error":"#N/A"},{"$error":"#N/A"},{"$error":"#N/A"},{"$error":"#N/A"}]
[null,null,null,null,null,null,null,null,null,null,{"$error":"#N/A"},{"$error":"#N/A"},{"$error":"#N/A"},{"$error":"#N/A"},{"$error":"#N/A"}]
[null,null,null,null,null,null,null,null,null,null,{"$error":"#N/A"},{"$error":"#N/A"},{"$error":"#N/A"},{"$error":"#N/A"},{"$error":"#N/A"}]
[null,null,null,null,null,null,null,null,null,null,{"$error":"#N/A"},{"$error":"#N/A"},{"$error":"#N/A"},{"$error":"#N/A"},{"$error":"#N/A"}]
[null,null,null,null,null,null,null,null,null,null,{"$error":"#N/A"},{"$error":"#N/A"},{"$error":"#N/A"},{"$error":"#N/A"},{"$error":"#N/A"}]
[null,null,null,null,null,null,null,null,null,null,{"$error":"#N/A"},{"$error":"#N/A"},{"$error":"#N/A"},{"$error":"#N/A"},{"$error":"#N/A"}]
[null,null,null,null,null,null,null,null,null,null,{"$error":"#N/A"},{"$error":"#N/A"},{"$error":"#N/A"},{"$error":"#N/A"},{"$error":"#N/A"}]
[null,null,null,null,null,null,null,null,null,null,{"$error":"#N/A"},{"$error":"#N/A"},{"$error":"#N/A"},{"$error":"#N/A"},{"$error":"#N/A"}]
[null,null,null,null,null,null,null,null,null,null,{"$error":"#N/A"},{"$error":"#N/A"},{"$error":"#N/A"},{"$error":"#N/A"},{"$error":"#N/A"}]
[null,null,null,null,null,null,null,null,null,null,{"$error":"#N/A"},{"$error":"#N/A"},{"$error":"#N/A"},{"$error":"#N/A"},{"$error":"#N/A"}]
[null,null,null,null,null,null,null,null,null,null,{"$error":"#N/A"},{"$error":"#N/A"},{"$error":"#N/A"},{"$error":"#N/A"},{"$error":"#N/A"}]
[null,null,null,null,null,null,null,null,null,null,{"$error":"#N/A"},{"$error":"#N/A"},{"$error":"#N/A"},{"$error":"#N/A"},{"$error":"#N/A"}]
[null,null,null,null,null,null,null,null,null,null,{"$error":"#N/A"},{"$error":"#N/A"},{"$error":"#N/A"},{"$error":"#N/A"},{"$error":"#N/A"}]
[null,null,null,null,null,null,null,null,null,null,{"$error":"#N/A"},{"$error":"#N/A"},{"$error":"#N/A"},{"$error":"#N/A"},{"$error":"#N/A"}]
[null,null,null,null,null,null,null,null,null,null,{"$error":"#N/A"},{"$error":"#N/A"},{"$error":"#N/A"},{"$error":"#N/A"},{"$error":"#N/A"}]
[null,null,null,null,null,null,null,null,null,null,{"$error":"#N/A"},{"$error":"#N/A"},{"$error":"#N/A"},{"$error":"#N/A"},{"$error":"#N/A"}]
[null,null,null,null,null,null,null,null,null,null,{"$error":"#N/A"},{"$error":"#N/A"},{"$error":"#N/A"},{"$error":"#N/A"},{"$error":"#N/A"}]
[null,null,null,null,null,null,null,null,null,null,{"$error":"#N/A"},{"$error":"#N/A"},{"$error":"#N/A"},{"$error":"#N/A"},{"$error":"#N/A"}]
[null,null,null,null,null,null,null,null,null,null,{"$error":"#N/A"},{"$error":"#N/A"},{"$error":"#N/A"},{"$error":"#N/A"},{"$error":"#N/A"}]
[null,null,null,null,null,null,null,null,null,null,{"$error":"#N/A"},{"$error":"#N/A"},{"$error":"#N/A"},{"$error":"#N/A"},{"$error":"#N/A"}]
[null,null,null,null,null,null,null,null,null,null,{"$error":"#N/A"},{"$error":"#N/A"},{"$error":"#N/A"},{"$error":"#N/A"},{"$error":"#N/A"}]
[null,null,null,null,null,null,null,null,null,null,{"$error":"#N/A"},{"$error":"#N/A"},{"$error":"#N/A"},{"$error":"#N/A"},{"$error":"#N/A"}]
[null,null,null,null,null,null,null,null,null,null,{"$error":"#N/A"},{"$error":"#N/A"},{"$error":"#N/A"},{"$error":"#N/A"},{"$error":"#N/A"}]
[null,null,null,null,null,null,null,null,null,null,{"$error":"#N/A"},{"$error":"#N/A"},{"$error":"#N/A"},{"$error":"#N/A"},{"$error":"#N/A"}]
[null,null,null,null,null,null,null,null,null,null,{"$error":"#N/A"},{"$error":"#N/A"},{"$error":"#N/A"},{"$error":"#N/A"},{"$error":"#N/A"}]
[null,null,null,null,null,null,null,null,null,null,{"$error":"#N/A"},{"$error":"#N/A"},{"$error":"#N/A"},{"$error":"#N/A"},{"$error":"#N/A"}]
[null,null,null,null,null,null,null,null,null,null,{"$error":"#N/A"},{"$error":"#N/A"},{"$error":"#N/A"},{"$error":"#N/A"},{"$error":"#N/A"}]
[null,null,null,null,null,null,null,null,null,null,{"$error":"#N/A"},{"$error":"#N/A"},{"$error":"#N/A"},{"$error":"#N/A"},{"$error":"#N/A"}]
[null,null,null,null,null,null,null,null,null,null,{"$error":"#N/A"},{"$error":"#N/A"},{"$error":"#N/A"},{"$error":"#N/A"},{"$error":"#N/A"}]
[null,null,null,null,null,null,null,null,null,null,{"$error":"#N/A"},{"$error":"#N/A"},{"$error":"#N/A"},{"$f":"IF(ISBLANK(K3659),\"\",$G$13*K3659+$H$13)","v":{"$error":"#N/A"}},{"$error":"#N/A"}]
[null,null,null,null,null,null,null,null,null,null,{"$error":"#N/A"},{"$error":"#N/A"},{"$error":"#N/A"},{"$error":"#N/A"},{"$error":"#N/A"}]
[null,null,null,null,null,null,null,null,null,null,{"$error":"#N/A"},{"$error":"#N/A"},{"$error":"#N/A"},{"$error":"#N/A"},{"$error":"#N/A"}]
[null,null,null,null,null,null,null,null,null,null,{"$error":"#N/A"},{"$error":"#N/A"},{"$error":"#N/A"},{"$error":"#N/A"},{"$error":"#N/A"}]
[null,null,null,null,null,null,null,null,null,null,{"$error":"#N/A"},{"$error":"#N/A"},{"$error":"#N/A"},{"$error":"#N/A"},{"$error":"#N/A"}]
[null,null,null,null,null,null,null,null,null,null,{"$error":"#N/A"},{"$error":"#N/A"},{"$error":"#N/A"},{"$error":"#N/A"},{"$error":"#N/A"}]
[null,null,null,null,null,null,null,null,null,null,{"$error":"#N/A"},{"$error":"#N/A"},{"$error":"#N/A"},{"$error":"#N/A"},{"$error":"#N/A"}]
[null,null,null,null,null,null,null,null,null,null,{"$error":"#N/A"},{"$error":"#N/A"},{"$error":"#N/A"},{"$error":"#N/A"},{"$error":"#N/A"}]
[null,null,null,null,null,null,null,null,null,null,{"$error":"#N/A"},{"$error":"#N/A"},{"$error":"#N/A"},{"$error":"#N/A"},{"$error":"#N/A"}]
[null,null,null,null,null,null,null,null,null,null,{"$error":"#N/A"},{"$error":"#N/A"},{"$error":"#N/A"},{"$error":"#N/A"},{"$error":"#N/A"}]
[null,null,null,null,null,null,null,null,null,null,{"$error":"#N/A"},{"$error":"#N/A"},{"$error":"#N/A"},{"$error":"#N/A"},{"$error":"#N/A"}]
[null,null,null,null,null,null,null,null,null,null,{"$error":"#N/A"},{"$error":"#N/A"},{"$error":"#N/A"},{"$error":"#N/A"},{"$error":"#N/A"}]
[null,null,null,null,null,null,null,null,null,null,{"$error":"#N/A"},{"$error":"#N/A"},{"$error":"#N/A"},{"$error":"#N/A"},{"$error":"#N/A"}]
[null,null,null,null,null,null,null,null,null,null,{"$error":"#N/A"},{"$error":"#N/A"},{"$error":"#N/A"},{"$error":"#N/A"},{"$error":"#N/A"}]
[null,null,null,null,null,null,null,null,null,null,{"$error":"#N/A"},{"$error":"#N/A"},{"$error":"#N/A"},{"$error":"#N/A"},{"$error":"#N/A"}]
[null,null,null,null,null,null,null,null,null,null,{"$error":"#N/A"},{"$error":"#N/A"},{"$error":"#N/A"},{"$error":"#N/A"},{"$error":"#N/A"}]
[null,null,null,null,null,null,null,null,null,null,{"$error":"#N/A"},{"$error":"#N/A"},{"$error":"#N/A"},{"$error":"#N/A"},{"$error":"#N/A"}]
[null,null,null,null,null,null,null,null,null,null,{"$error":"#N/A"},{"$error":"#N/A"},{"$error":"#N/A"},{"$error":"#N/A"},{"$error":"#N/A"}]
[null,null,null,null,null,null,null,null,null,null,{"$error":"#N/A"},{"$error":"#N/A"},{"$error":"#N/A"},{"$error":"#N/A"},{"$error":"#N/A"}]
[null,null,null,null,null,null,null,null,null,null,{"$error":"#N/A"},{"$error":"#N/A"},{"$error":"#N/A"},{"$error":"#N/A"},{"$error":"#N/A"}]
[null,null,null,null,null,null,null,null,null,null,{"$error":"#N/A"},{"$error":"#N/A"},{"$error":"#N/A"},{"$error":"#N/A"},{"$error":"#N/A"}]
[null,null,null,null,null,null,null,null,null,null,{"$error":"#N/A"},{"$error":"#N/A"},{"$error":"#N/A"},{"$error":"#N/A"},{"$error":"#N/A"}]
[null,null,null,null,null,null,null,null,null,null,{"$error":"#N/A"},{"$error":"#N/A"},{"$error":"#N/A"},{"$error":"#N/A"},{"$error":"#N/A"}]
[null,null,null,null,null,null,null,null,null,null,{"$error":"#N/A"},{"$error":"#N/A"},{"$error":"#N/A"},{"$error":"#N/A"},{"$error":"#N/A"}]
[null,null,null,null,null,null,null,null,null,null,{"$error":"#N/A"},{"$error":"#N/A"},{"$error":"#N/A"},{"$error":"#N/A"},{"$error":"#N/A"}]
[null,null,null,null,null,null,null,null,null,null,{"$error":"#N/A"},{"$error":"#N/A"},{"$error":"#N/A"},{"$error":"#N/A"},{"$error":"#N/A"}]
[null,null,null,null,null,null,null,null,null,null,{"$error":"#N/A"},{"$error":"#N/A"},{"$error":"#N/A"},{"$error":"#N/A"},{"$error":"#N/A"}]
[null,null,null,null,null,null,null,null,null,null,{"$error":"#N/A"},{"$error":"#N/A"},{"$error":"#N/A"},{"$error":"#N/A"},{"$error":"#N/A"}]
[null,null,null,null,null,null,null,null,null,null,{"$error":"#N/A"},{"$error":"#N/A"},{"$error":"#N/A"},{"$error":"#N/A"},{"$error":"#N/A"}]
[null,null,null,null,null,null,null,null,null,null,{"$error":"#N/A"},{"$error":"#N/A"},{"$error":"#N/A"},{"$error":"#N/A"},{"$error":"#N/A"}]
[null,null,null,null,null,null,null,null,null,null,{"$error":"#N/A"},{"$error":"#N/A"},{"$error":"#N/A"},{"$error":"#N/A"},{"$error":"#N/A"}]
[null,null,null,null,null,null,null,null,null,null,{"$error":"#N/A"},{"$error":"#N/A"},{"$error":"#N/A"},{"$error":"#N/A"},{"$error":"#N/A"}]
[null,null,null,null,null,null,null,null,null,null,{"$error":"#N/A"},{"$error":"#N/A"},{"$error":"#N/A"},{"$error":"#N/A"},{"$error":"#N/A"}]
[null,null,null,null,null,null,null,null,null,null,{"$error":"#N/A"},{"$error":"#N/A"},{"$error":"#N/A"},{"$error":"#N/A"},{"$error":"#N/A"}]
[null,null,null,null,null,null,null,null,null,null,{"$error":"#N/A"},{"$error":"#N/A"},{"$error":"#N/A"},{"$error":"#N/A"},{"$error":"#N/A"}]
[null,null,null,null,null,null,null,null,null,null,{"$error":"#N/A"},{"$error":"#N/A"},{"$error":"#N/A"},{"$error":"#N/A"},{"$error":"#N/A"}]
[null,null,null,null,null,null,null,null,null,null,{"$error":"#N/A"},{"$error":"#N/A"},{"$error":"#N/A"},{"$error":"#N/A"},{"$error":"#N/A"}]
[null,null,null,null,null,null,null,null,null,null,{"$error":"#N/A"},{"$error":"#N/A"},{"$error":"#N/A"},{"$error":"#N/A"},{"$error":"#N/A"}]
[null,null,null,null,null,null,null,null,null,null,{"$error":"#N/A"},{"$error":"#N/A"},{"$error":"#N/A"},{"$error":"#N/A"},{"$error":"#N/A"}]
[null,null,null,null,null,null,null,null,null,null,{"$error":"#N/A"},{"$error":"#N/A"},{"$error":"#N/A"},{"$error":"#N/A"},{"$error":"#N/A"}]
[null,null,null,null,null,null,null,null,null,null,{"$error":"#N/A"},{"$error":"#N/A"},{"$error":"#N/A"},{"$error":"#N/A"},{"$error":"#N/A"}]
[null,null,null,null,null,null,null,null,null,null,{"$error":"#N/A"},{"$error":"#N/A"},{"$error":"#N/A"},{"$error":"#N/A"},{"$error":"#N/A"}]
[null,null,null,null,null,null,null,null,null,null,{"$error":"#N/A"},{"$error":"#N/A"},{"$error":"#N/A"},{"$error":"#N/A"},{"$error":"#N/A"}]
[null,null,null,null,null,null,null,null,null,null,{"$error":"#N/A"},{"$error":"#N/A"},{"$error":"#N/A"},{"$error":"#N/A"},{"$error":"#N/A"}]
[null,null,null,null,null,null,null,null,null,null,{"$error":"#N/A"},{"$error":"#N/A"},{"$error":"#N/A"},{"$error":"#N/A"},{"$error":"#N/A"}]
[null,null,null,null,null,null,null,null,null,null,{"$error":"#N/A"},{"$error":"#N/A"},{"$error":"#N/A"},{"$error":"#N/A"},{"$error":"#N/A"}]
[null,null,null,null,null,null,null,null,null,null,{"$error":"#N/A"},{"$error":"#N/A"},{"$error":"#N/A"},{"$error":"#N/A"},{"$error":"#N/A"}]
[null,null,null,null,null,null,null,null,null,null,{"$error":"#N/A"},{"$error":"#N/A"},{"$error":"#N/A"},{"$error":"#N/A"},{"$error":"#N/A"}]
[null,null,null,null,null,null,null,null,null,null,{"$error":"#N/A"},{"$error":"#N/A"},{"$error":"#N/A"},{"$error":"#N/A"},{"$error":"#N/A"}]
[null,null,null,null,null,null,null,null,null,null,{"$error":"#N/A"},{"$error":"#N/A"},{"$error":"#N/A"},{"$error":"#N/A"},{"$error":"#N/A"}]
[null,null,null,null,null,null,null,null,null,null,{"$error":"#N/A"},{"$error":"#N/A"},{"$error":"#N/A"},{"$error":"#N/A"},{"$error":"#N/A"}]
[null,null,null,null,null,null,null,null,null,null,{"$error":"#N/A"},{"$error":"#N/A"},{"$error":"#N/A"},{"$error":"#N/A"},{"$error":"#N/A"}]
[null,null,null,null,null,null,null,null,null,null,{"$error":"#N/A"},{"$f":"IF(ISBLANK(K4877),\"\",$G$11*K4877+$H$11)","v":{"$error":"#N/A"}},{"$f":"IF(ISBLANK(L4877),\"\",$G$12*K4877+$H$12)","v":{"$error":"#N/A"}},{"$error":"#N/A"},{"$f":"IF(ISBLANK(M4877),\"\",$G$14*K4877+$H$14)","v":{"$error":"#N/A"}}]
[null,null,null,null,null,null,null,null,null,null,{"$error":"#N/A"},{"$error":"#N/A"},{"$error":"#N/A"},{"$error":"#N/A"},{"$error":"#N/A"}]
[null,null,null,null,null,null,null,null,null,null,{"$error":"#N/A"},{"$error":"#N/A"},{"$error":"#N/A"},{"$error":"#N/A"},{"$error":"#N/A"}]
[null,null,null,null,null,null,null,null,null,null,{"$error":"#N/A"},{"$error":"#N/A"},{"$error":"#N/A"},{"$error":"#N/A"},{"$error":"#N/A"}]
[null,null,null,null,null,null,null,null,null,null,{"$error":"#N/A"},{"$error":"#N/A"},{"$error":"#N/A"},{"$error":"#N/A"},{"$error":"#N/A"}]
[null,null,null,null,null,null,null,null,null,null,{"$error":"#N/A"},{"$error":"#N/A"},{"$error":"#N/A"},{"$error":"#N/A"},{"$error":"#N/A"}]
[null,null,null,null,null,null,null,null,null,null,{"$error":"#N/A"},{"$error":"#N/A"},{"$error":"#N/A"},{"$error":"#N/A"},{"$error":"#N/A"}]
[null,null,null,null,null,null,null,null,null,null,{"$error":"#N/A"},{"$error":"#N/A"},{"$error":"#N/A"},{"$error":"#N/A"},{"$error":"#N/A"}]
[null,null,null,null,null,null,null,null,null,null,{"$error":"#N/A"},{"$error":"#N/A"},{"$error":"#N/A"},{"$f":"IF(ISBLANK(K5067),\"\",$G$13*K5067+$H$13)","v":{"$error":"#N/A"}},{"$error":"#N/A"}]
[null,null,null,null,null,null,null,null,null,null,{"$error":"#N/A"},{"$error":"#N/A"},{"$error":"#N/A"},{"$error":"#N/A"},{"$error":"#N/A"}]
[null,null,null,null,null,null,null,null,null,null,{"$error":"#N/A"},{"$error":"#N/A"},{"$error":"#N/A"},{"$error":"#N/A"},{"$error":"#N/A"}]
[null,null,null,null,null,null,null,null,null,null,{"$error":"#N/A"},{"$error":"#N/A"},{"$error":"#N/A"},{"$error":"#N/A"},{"$error":"#N/A"}]
[null,null,null,null,null,null,null,null,null,null,{"$error":"#N/A"},{"$error":"#N/A"},{"$error":"#N/A"},{"$error":"#N/A"},{"$error":"#N/A"}]
[null,null,null,null,null,null,null,null,null,null,{"$error":"#N/A"},{"$error":"#N/A"},{"$error":"#N/A"},{"$error":"#N/A"},{"$error":"#N/A"}]
[null,null,null,null,null,null,null,null,null,null,{"$error":"#N/A"},{"$error":"#N/A"},{"$error":"#N/A"},{"$error":"#N/A"},{"$error":"#N/A"}]
[null,null,null,null,null,null,null,null,null,null,{"$error":"#N/A"},{"$error":"#N/A"},{"$error":"#N/A"},{"$error":"#N/A"},{"$error":"#N/A"}]
[null,null,null,null,null,null,null,null,null,null,{"$error":"#N/A"},{"$error":"#N/A"},{"$error":"#N/A"},{"$error":"#N/A"},{"$error":"#N/A"}]
[null,null,null,null,null,null,null,null,null,null,{"$error":"#N/A"},{"$error":"#N/A"},{"$error":"#N/A"},{"$error":"#N/A"},{"$error":"#N/A"}]
[null,null,null,null,null,null,null,null,null,null,{"$error":"#N/A"},{"$error":"#N/A"},{"$error":"#N/A"},{"$error":"#N/A"},{"$error":"#N/A"}]
[null,null,null,null,null,null,null,null,null,null,{"$error":"#N/A"},{"$error":"#N/A"},{"$error":"#N/A"},{"$error":"#N/A"},{"$error":"#N/A"}]
[null,null,null,null,null,null,null,null,null,null,{"$error":"#N/A"},{"$error":"#N/A"},{"$error":"#N/A"},{"$error":"#N/A"},{"$error":"#N/A"}]
[null,null,null,null,null,null,null,null,null,null,{"$error":"#N/A"},{"$error":"#N/A"},{"$error":"#N/A"},{"$error":"#N/A"},{"$error":"#N/A"}]
[null,null,null,null,null,null,null,null,null,null,{"$error":"#N/A"},{"$error":"#N/A"},{"$error":"#N/A"},{"$error":"#N/A"},{"$error":"#N/A"}]
[null,null,null,null,null,null,null,null,null,null,{"$error":"#N/A"},{"$error":"#N/A"},{"$error":"#N/A"},{"$error":"#N/A"},{"$error":"#N/A"}]
[null,null,null,null,null,null,null,null,null,null,{"$error":"#N/A"},{"$error":"#N/A"},{"$error":"#N/A"},{"$error":"#N/A"},{"$error":"#N/A"}]
[null,null,null,null,null,null,null,null,null,null,{"$error":"#N/A"},{"$error":"#N/A"},{"$error":"#N/A"},{"$error":"#N/A"},{"$error":"#N/A"}]
[null,null,null,null,null,null,null,null,null,null,{"$error":"#N/A"},{"$error":"#N/A"},{"$error":"#N/A"},{"$error":"#N/A"},{"$error":"#N/A"}]
[null,null,null,null,null,null,null,null,null,null,{"$error":"#N/A"},{"$error":"#N/A"},{"$error":"#N/A"},{"$error":"#N/A"},{"$error":"#N/A"}]
[null,null,null,null,null,null,null,null,null,null,{"$error":"#N/A"},{"$error":"#N/A"},{"$error":"#N/A"},{"$error":"#N/A"},{"$error":"#N/A"}]
[null,null,null,null,null,null,null,null,null,null,{"$error":"#N/A"},{"$error":"#N/A"},{"$error":"#N/A"},{"$error":"#N/A"},{"$error":"#N/A"}]
[null,null,null,null,null,null,null,null,null,null,{"$error":"#N/A"},{"$error":"#N/A"},{"$error":"#N/A"},{"$error":"#N/A"},{"$error":"#N/A"}]
[null,null,null,null,null,null,null,null,null,null,{"$error":"#N/A"},{"$error":"#N/A"},{"$error":"#N/A"},{"$error":"#N/A"},{"$error":"#N/A"}]
[null,null,null,null,null,null,null,null,null,null,{"$error":"#N/A"},{"$error":"#N/A"},{"$error":"#N/A"},{"$error":"#N/A"},{"$error":"#N/A"}]
[null,null,null,null,null,null,null,null,null,null,{"$error":"#N/A"},{"$error":"#N/A"},{"$error":"#N/A"},{"$error":"#N/A"},{"$error":"#N/A"}]
[null,null,null,null,null,null,null,null,null,null,{"$error":"#N/A"},{"$error":"#N/A"},{"$error":"#N/A"},{"$error":"#N/A"},{"$error":"#N/A"}]
[null,null,null,null,null,null,null,null,null,null,{"$error":"#N/A"},{"$error":"#N/A"},{"$error":"#N/A"},{"$error":"#N/A"},{"$error":"#N/A"}]
[null,null,null,null,null,null,null,null,null,null,{"$error":"#N/A"},{"$error":"#N/A"},{"$error":"#N/A"},{"$error":"#N/A"},{"$error":"#N/A"}]
[null,null,null,null,null,null,null,null,null,null,{"$error":"#N/A"},{"$error":"#N/A"},{"$error":"#N/A"},{"$error":"#N/A"},{"$error":"#N/A"}]
[null,null,null,null,null,null,null,null,null,null,{"$error":"#N/A"},{"$error":"#N/A"},{"$error":"#N/A"},{"$error":"#N/A"},{"$error":"#N/A"}]
[null,null,null,null,null,null,null,null,null,null,{"$error":"#N/A"},{"$error":"#N/A"},{"$error":"#N/A"},{"$error":"#N/A"},{"$error":"#N/A"}]
[null,null,null,null,null,null,null,null,null,null,{"$error":"#N/A"},{"$error":"#N/A"},{"$error":"#N/A"},{"$error":"#N/A"},{"$error":"#N/A"}]
[null,null,null,null,null,null,null,null,null,null,{"$error":"#N/A"},{"$error":"#N/A"},{"$error":"#N/A"},{"$error":"#N/A"},{"$error":"#N/A"}]
[null,null,null,null,null,null,null,null,null,null,{"$error":"#N/A"},{"$error":"#N/A"},{"$error":"#N/A"},{"$error":"#N/A"},{"$error":"#N/A"}]
[null,null,null,null,null,null,null,null,null,null,{"$error":"#N/A"},{"$error":"#N/A"},{"$error":"#N/A"},{"$error":"#N/A"},{"$error":"#N/A"}]
[null,null,null,null,null,null,null,null,null,null,{"$error":"#N/A"},{"$error":"#N/A"},{"$error":"#N/A"},{"$error":"#N/A"},{"$error":"#N/A"}]
[null,null,null,null,null,null,null,null,null,null,{"$error":"#N/A"},{"$error":"#N/A"},{"$error":"#N/A"},{"$error":"#N/A"},{"$error":"#N/A"}]
[null,null,null,null,null,null,null,null,null,null,{"$error":"#N/A"},{"$error":"#N/A"},{"$error":"#N/A"},{"$error":"#N/A"},{"$error":"#N/A"}]
[null,null,null,null,null,null,null,null,null,null,{"$error":"#N/A"},{"$error":"#N/A"},{"$error":"#N/A"},{"$error":"#N/A"},{"$error":"#N/A"}]
[null,null,null,null,null,null,null,null,null,null,{"$error":"#N/A"},{"$error":"#N/A"},{"$error":"#N/A"},{"$error":"#N/A"},{"$error":"#N/A"}]
[null,null,null,null,null,null,null,null,null,null,{"$error":"#N/A"},{"$error":"#N/A"},{"$error":"#N/A"},{"$error":"#N/A"},{"$error":"#N/A"}]
[null,null,null,null,null,null,null,null,null,null,{"$error":"#N/A"},{"$error":"#N/A"},{"$error":"#N/A"},{"$error":"#N/A"},{"$error":"#N/A"}]
[null,null,null,null,null,null,null,null,null,null,{"$error":"#N/A"},{"$error":"#N/A"},{"$error":"#N/A"},{"$error":"#N/A"},{"$error":"#N/A"}]
[null,null,null,null,null,null,null,null,null,null,{"$error":"#N/A"},{"$error":"#N/A"},{"$error":"#N/A"},{"$error":"#N/A"},{"$error":"#N/A"}]
[null,null,null,null,null,null,null,null,null,null,{"$error":"#N/A"},{"$error":"#N/A"},{"$error":"#N/A"},{"$error":"#N/A"},{"$error":"#N/A"}]
[null,null,null,null,null,null,null,null,null,null,{"$error":"#N/A"},{"$error":"#N/A"},{"$error":"#N/A"},{"$error":"#N/A"},{"$error":"#N/A"}]
[null,null,null,null,null,null,null,null,null,null,{"$error":"#N/A"},{"$error":"#N/A"},{"$error":"#N/A"},{"$error":"#N/A"},{"$error":"#N/A"}]
[null,null,null,null,null,null,null,null,null,null,{"$error":"#N/A"},{"$error":"#N/A"},{"$error":"#N/A"},{"$error":"#N/A"},{"$error":"#N/A"}]
[null,null,null,null,null,null,null,null,null,null,{"$error":"#N/A"},{"$error":"#N/A"},{"$error":"#N/A"},{"$error":"#N/A"},{"$error":"#N/A"}]
[null,null,null,null,null,null,null,null,null,null,{"$error":"#N/A"},{"$error":"#N/A"},{"$error":"#N/A"},{"$error":"#N/A"},{"$error":"#N/A"}]
[null,null,null,null,null,null,null,null,null,null,{"$error":"#N/A"},{"$error":"#N/A"},{"$error":"#N/A"},{"$error":"#N/A"},{"$error":"#N/A"}]
[null,null,null,null,null,null,null,null,null,null,{"$error":"#N/A"},{"$error":"#N/A"},{"$error":"#N/A"},{"$error":"#N/A"},{"$error":"#N/A"}]
[null,null,null,null,null,null,null,null,null,null,{"$error":"#N/A"},{"$error":"#N/A"},{"$error":"#N/A"},{"$error":"#N/A"},{"$error":"#N/A"}]
[null,null,null,null,null,null,null,null,null,null,{"$error":"#N/A"},{"$error":"#N/A"},{"$error":"#N/A"},{"$error":"#N/A"},{"$error":"#N/A"}]
[null,null,null,null,null,null,null,null,null,null,{"$error":"#N/A"},{"$error":"#N/A"},{"$error":"#N/A"},{"$error":"#N/A"},{"$error":"#N/A"}]
[null,null,null,null,null,null,null,null,null,null,{"$error":"#N/A"},{"$error":"#N/A"},{"$error":"#N/A"},{"$error":"#N/A"},{"$error":"#N/A"}]
[null,null,null,null,null,null,null,null,null,null,{"$error":"#N/A"},{"$error":"#N/A"},{"$error":"#N/A"},{"$error":"#N/A"},{"$error":"#N/A"}]
[null,null,null,null,null,null,null,null,null,null,{"$error":"#N/A"},{"$error":"#N/A"},{"$error":"#N/A"},{"$error":"#N/A"},{"$error":"#N/A"}]
[null,null,null,null,null,null,null,null,null,null,{"$error":"#N/A"},{"$error":"#N/A"},{"$error":"#N/A"},{"$error":"#N/A"},{"$error":"#N/A"}]
[null,null,null,null,null,null,null,null,null,null,{"$error":"#N/A"},{"$error":"#N/A"},{"$error":"#N/A"},{"$error":"#N/A"},{"$error":"#N/A"}]
[null,null,null,null,null,null,null,null,null,null,{"$error":"#N/A"},{"$error":"#N/A"},{"$error":"#N/A"},{"$error":"#N/A"},{"$error":"#N/A"}]
[null,null,null,null,null,null,null,null,null,null,{"$error":"#N/A"},{"$error":"#N/A"},{"$error":"#N/A"},{"$error":"#N/A"},{"$error":"#N/A"}]
[null,null,null,null,null,null,null,null,null,null,{"$error":"#N/A"},{"$error":"#N/A"},{"$error":"#N/A"},{"$error":"#N/A"},{"$error":"#N/A"}]
[null,null,null,null,null,null,null,null,null,null,{"$error":"#N/A"},{"$error":"#N/A"},{"$error":"#N/A"},{"$error":"#N/A"},{"$error":"#N/A"}]
[null,null,null,null,null,null,null,null,null,null,{"$error":"#N/A"},{"$error":"#N/A"},{"$error":"#N/A"},{"$error":"#N/A"},{"$error":"#N/A"}]
[null,null,null,null,null,null,null,null,null,null,{"$error":"#N/A"},{"$error":"#N/A"},{"$error":"#N/A"},{"$error":"#N/A"},{"$error":"#N/A"}]
[null,null,null,null,null,null,null,null,null,null,{"$error":"#N/A"},{"$error":"#N/A"},{"$error":"#N/A"},{"$error":"#N/A"},{"$error":"#N/A"}]
[null,null,null,null,null,null,null,null,null,null,{"$error":"#N/A"},{"$error":"#N/A"},{"$error":"#N/A"},{"$error":"#N/A"},{"$error":"#N/A"}]
[null,null,null,null,null,null,null,null,null,null,{"$error":"#N/A"},{"$error":"#N/A"},{"$error":"#N/A"},{"$error":"#N/A"},{"$error":"#N/A"}]
[null,null,null,null,null,null,null,null,null,null,{"$error":"#N/A"},{"$error":"#N/A"},{"$error":"#N/A"},{"$error":"#N/A"},{"$error":"#N/A"}]
[null,null,null,null,null,null,null,null,null,null,{"$error":"#N/A"},{"$error":"#N/A"},{"$error":"#N/A"},{"$error":"#N/A"},{"$error":"#N/A"}]
[null,null,null,null,null,null,null,null,null,null,{"$error":"#N/A"},{"$error":"#N/A"},{"$error":"#N/A"},{"$error":"#N/A"},{"$error":"#N/A"}]
[null,null,null,null,null,null,null,null,null,null,{"$error":"#N/A"},{"$error":"#N/A"},{"$error":"#N/A"},{"$error":"#N/A"},{"$error":"#N/A"}]
[null,null,null,null,null,null,null,null,null,null,{"$error":"#N/A"},{"$error":"#N/A"},{"$error":"#N/A"},{"$error":"#N/A"},{"$error":"#N/A"}]
[null,null,null,null,null,null,null,null,null,null,{"$f":"IF(K6859+$G$19<=$G$18,K6859+$G$19,NA())","v":{"$error":"#N/A"}},{"$error":"#N/A"},{"$error":"#N/A"},{"$error":"#N/A"},{"$error":"#N/A"}]
[null,null,null,null,null,null,null,null,null,null,{"$error":"#N/A"},{"$error":"#N/A"},{"$error":"#N/A"},{"$error":"#N/A"},{"$error":"#N/A"}]
[null,null,null,null,null,null,null,null,null,null,{"$error":"#N/A"},{"$error":"#N/A"},{"$error":"#N/A"},{"$error":"#N/A"},{"$error":"#N/A"}]
[null,null,null,null,null,null,null,null,null,null,{"$error":"#N/A"},{"$error":"#N/A"},{"$error":"#N/A"},{"$error":"#N/A"},{"$error":"#N/A"}]
[null,null,null,null,null,null,null,null,null,null,{"$error":"#N/A"},{"$error":"#N/A"},{"$error":"#N/A"},{"$error":"#N/A"},{"$error":"#N/A"}]
[null,null,null,null,null,null,null,null,null,null,{"$error":"#N/A"},{"$error":"#N/A"},{"$error":"#N/A"},{"$error":"#N/A"},{"$error":"#N/A"}]
[null,null,null,null,null,null,null,null,null,null,{"$error":"#N/A"},{"$error":"#N/A"},{"$error":"#N/A"},{"$error":"#N/A"},{"$error":"#N/A"}]
[null,null,null,null,null,null,null,null,null,null,{"$error":"#N/A"},{"$error":"#N/A"},{"$error":"#N/A"},{"$error":"#N/A"},{"$error":"#N/A"}]
[null,null,null,null,null,null,null,null,null,null,{"$error":"#N/A"},{"$error":"#N/A"},{"$error":"#N/A"},{"$error":"#N/A"},{"$error":"#N/A"}]
[null,null,null,null,null,null,null,null,null,null,{"$error":"#N/A"},{"$error":"#N/A"},{"$error":"#N/A"},{"$error":"#N/A"},{"$error":"#N/A"}]
[null,null,null,null,null,null,null,null,null,null,{"$error":"#N/A"},{"$error":"#N/A"},{"$error":"#N/A"},{"$error":"#N/A"},{"$error":"#N/A"}]
[null,null,null,null,null,null,null,null,null,null,{"$f":"IF(K7115+$G$19<=$G$18,K7115+$G$19,NA())","v":{"$error":"#N/A"}},{"$error":"#N/A"},{"$error":"#N/A"},{"$error":"#N/A"},{"$error":"#N/A"}]
[null,null,null,null,null,null,null,null,null,null,{"$error":"#N/A"},{"$error":"#N/A"},{"$error":"#N/A"},{"$error":"#N/A"},{"$error":"#N/A"}]
[null,null,null,null,null,null,null,null,null,null,{"$error":"#N/A"},{"$error":"#N/A"},{"$error":"#N/A"},{"$error":"#N/A"},{"$error":"#N/A"}]
[null,null,null,null,null,null,null,null,null,null,{"$error":"#N/A"},{"$error":"#N/A"},{"$error":"#N/A"},{"$error":"#N/A"},{"$error":"#N/A"}]
[null,null,null,null,null,null,null,null,null,null,{"$error":"#N/A"},{"$error":"#N/A"},{"$error":"#N/A"},{"$error":"#N/A"},{"$error":"#N/A"}]
[null,null,null,null,null,null,null,null,null,null,{"$error":"#N/A"},{"$error":"#N/A"},{"$error":"#N/A"},{"$error":"#N/A"},{"$error":"#N/A"}]
[null,null,null,null,null,null,null,null,null,null,{"$error":"#N/A"},{"$error":"#N/A"},{"$error":"#N/A"},{"$error":"#N/A"},{"$error":"#N/A"}]
[null,null,null,null,null,null,null,null,null,null,{"$error":"#N/A"},{"$error":"#N/A"},{"$error":"#N/A"},{"$error":"#N/A"},{"$error":"#N/A"}]
[null,null,null,null,null,null,null,null,null,null,{"$error":"#N/A"},{"$error":"#N/A"},{"$error":"#N/A"},{"$error":"#N/A"},{"$error":"#N/A"}]
[null,null,null,null,null,null,null,null,null,null,{"$error":"#N/A"},{"$error":"#N/A"},{"$error":"#N/A"},{"$error":"#N/A"},{"$error":"#N/A"}]
[null,null,null,null,null,null,null,null,null,null,{"$error":"#N/A"},{"$error":"#N/A"},{"$error":"#N/A"},{"$error":"#N/A"},{"$error":"#N/A"}]
[null,null,null,null,null,null,null,null,null,null,{"$f":"IF(K7371+$G$19<=$G$18,K7371+$G$19,NA())","v":{"$error":"#N/A"}},{"$error":"#N/A"},{"$error":"#N/A"},{"$error":"#N/A"},{"$error":"#N/A"}]
[null,null,null,null,null,null,null,null,null,null,{"$error":"#N/A"},{"$error":"#N/A"},{"$error":"#N/A"},{"$error":"#N/A"},{"$error":"#N/A"}]
[null,null,null,null,null,null,null,null,null,null,{"$error":"#N/A"},{"$error":"#N/A"},{"$error":"#N/A"},{"$error":"#N/A"},{"$error":"#N/A"}]
[null,null,null,null,null,null,null,null,null,null,{"$error":"#N/A"},{"$error":"#N/A"},{"$error":"#N/A"},{"$error":"#N/A"},{"$error":"#N/A"}]
[null,null,null,null,null,null,null,null,null,null,{"$error":"#N/A"},{"$error":"#N/A"},{"$error":"#N/A"},{"$error":"#N/A"},{"$error":"#N/A"}]
[null,null,null,null,null,null,null,null,null,null,{"$error":"#N/A"},{"$error":"#N/A"},{"$error":"#N/A"},{"$error":"#N/A"},{"$error":"#N/A"}]
[null,null,null,null,null,null,null,null,null,null,{"$error":"#N/A"},{"$error":"#N/A"},{"$error":"#N/A"},{"$error":"#N/A"},{"$error":"#N/A"}]
[null,null,null,null,null,null,null,null,null,null,{"$error":"#N/A"},{"$error":"#N/A"},{"$error":"#N/A"},{"$error":"#N/A"},{"$error":"#N/A"}]
[null,null,null,null,null,null,null,null,null,null,{"$error":"#N/A"},{"$error":"#N/A"},{"$error":"#N/A"},{"$error":"#N/A"},{"$error":"#N/A"}]
[null,null,null,null,null,null,null,null,null,null,{"$error":"#N/A"},{"$error":"#N/A"},{"$error":"#N/A"},{"$error":"#N/A"},{"$error":"#N/A"}]
[null,null,null,null,null,null,null,null,null,null,{"$error":"#N/A"},{"$f":"IF(ISBLANK(K7629),\"\",$G$11*K7629+$H$11)","v":{"$error":"#N/A"}},{"$f":"IF(ISBLANK(L7629),\"\",$G$12*K7629+$H$12)","v":{"$error":"#N/A"}},{"$error":"#N/A"},{"$f":"IF(ISBLANK(M7629),\"\",$G$14*K7629+$H$14)","v":{"$error":"#N/A"}}]
[null,null,null,null,null,null,null,null,null,null,{"$error":"#N/A"},{"$error":"#N/A"},{"$error":"#N/A"},{"$error":"#N/A"},{"$error":"#N/A"}]
[null,null,null,null,null,null,null,null,null,null,{"$error":"#N/A"},{"$error":"#N/A"},{"$error":"#N/A"},{"$error":"#N/A"},{"$error":"#N/A"}]
[null,null,null,null,null,null,null,null,null,null,{"$error":"#N/A"},{"$error":"#N/A"},{"$error":"#N/A"},{"$error":"#N/A"},{"$error":"#N/A"}]
[null,null,null,null,null,null,null,null,null,null,{"$error":"#N/A"},{"$error":"#N/A"},{"$error":"#N/A"},{"$error":"#N/A"},{"$error":"#N/A"}]
[null,null,null,null,null,null,null,null,null,null,{"$error":"#N/A"},{"$error":"#N/A"},{"$error":"#N/A"},{"$error":"#N/A"},{"$error":"#N/A"}]
[null,null,null,null,null,null,null,null,null,null,{"$error":"#N/A"},{"$error":"#N/A"},{"$error":"#N/A"},{"$error":"#N/A"},{"$error":"#N/A"}]
[null,null,null,null,null,null,null,null,null,null,{"$error":"#N/A"},{"$error":"#N/A"},{"$error":"#N/A"},{"$error":"#N/A"},{"$error":"#N/A"}]
[null,null,null,null,null,null,null,null,null,null,{"$error":"#N/A"},{"$error":"#N/A"},{"$error":"#N/A"},{"$error":"#N/A"},{"$error":"#N/A"}]
[null,null,null,null,null,null,null,null,null,null,{"$error":"#N/A"},{"$error":"#N/A"},{"$error":"#N/A"},{"$error":"#N/A"},{"$error":"#N/A"}]
[null,null,null,null,null,null,null,null,null,null,{"$error":"#N/A"},{"$error":"#N/A"},{"$error":"#N/A"},{"$error":"#N/A"},{"$error":"#N/A"}]
[null,null,null,null,null,null,null,null,null,null,{"$error":"#N/A"},{"$error":"#N/A"},{"$error":"#N/A"},{"$error":"#N/A"},{"$error":"#N/A"}]
[null,null,null,null,null,null,null,null,null,null,{"$error":"#N/A"},{"$error":"#N/A"},{"$error":"#N/A"},{"$error":"#N/A"},{"$error":"#N/A"}]
[null,null,null,null,null,null,null,null,null,null,{"$error":"#N/A"},{"$error":"#N/A"},{"$error":"#N/A"},{"$error":"#N/A"},{"$error":"#N/A"}]
[null,null,null,null,null,null,null,null,null,null,{"$error":"#N/A"},{"$error":"#N/A"},{"$error":"#N/A"},{"$error":"#N/A"},{"$error":"#N/A"}]
[null,null,null,null,null,null,null,null,null,null,{"$error":"#N/A"},{"$error":"#N/A"},{"$error":"#N/A"},{"$error":"#N/A"},{"$error":"#N/A"}]
[null,null,null,null,null,null,null,null,null,null,{"$error":"#N/A"},{"$error":"#N/A"},{"$error":"#N/A"},{"$error":"#N/A"},{"$error":"#N/A"}]
[null,null,null,null,null,null,null,null,null,null,{"$error":"#N/A"},{"$error":"#N/A"},{"$error":"#N/A"},{"$error":"#N/A"},{"$error":"#N/A"}]
[null,null,null,null,null,null,null,null,null,null,{"$error":"#N/A"},{"$error":"#N/A"},{"$error":"#N/A"},{"$error":"#N/A"},{"$error":"#N/A"}]
[null,null,null,null,null,null,null,null,null,null,{"$error":"#N/A"},{"$error":"#N/A"},{"$error":"#N/A"},{"$error":"#N/A"},{"$error":"#N/A"}]
[null,null,null,null,null,null,null,null,null,null,{"$error":"#N/A"},{"$error":"#N/A"},{"$error":"#N/A"},{"$error":"#N/A"},{"$error":"#N/A"}]
[null,null,null,null,null,null,null,null,null,null,{"$error":"#N/A"},{"$error":"#N/A"},{"$error":"#N/A"},{"$error":"#N/A"},{"$error":"#N/A"}]
[null,null,null,null,null,null,null,null,null,null,{"$error":"#N/A"},{"$error":"#N/A"},{"$error":"#N/A"},{"$error":"#N/A"},{"$error":"#N/A"}]
[null,null,null,null,null,null,null,null,null,null,{"$error":"#N/A"},{"$error":"#N/A"},{"$error":"#N/A"},{"$error":"#N/A"},{"$error":"#N/A"}]
[null,null,null,null,null,null,null,null,null,null,{"$error":"#N/A"},{"$error":"#N/A"},{"$error":"#N/A"},{"$error":"#N/A"},{"$error":"#N/A"}]
[null,null,null,null,null,null,null,null,null,null,{"$error":"#N/A"},{"$error":"#N/A"},{"$error":"#N/A"},{"$error":"#N/A"},{"$error":"#N/A"}]
[null,null,null,null,null,null,null,null,null,null,{"$error":"#N/A"},{"$error":"#N/A"},{"$error":"#N/A"},{"$error":"#N/A"},{"$error":"#N/A"}]
[null,null,null,null,null,null,null,null,null,null,{"$error":"#N/A"},{"$error":"#N/A"},{"$error":"#N/A"},{"$error":"#N/A"},{"$error":"#N/A"}]
[null,null,null,null,null,null,null,null,null,null,{"$error":"#N/A"},{"$error":"#N/A"},{"$error":"#N/A"},{"$error":"#N/A"},{"$error":"#N/A"}]
[null,null,null,null,null,null,null,null,null,null,{"$error":"#N/A"},{"$error":"#N/A"},{"$error":"#N/A"},{"$error":"#N/A"},{"$error":"#N/A"}]
[null,null,null,null,null,null,null,null,null,null,{"$error":"#N/A"},{"$error":"#N/A"},{"$error":"#N/A"},{"$error":"#N/A"},{"$error":"#N/A"}]
[null,null,null,null,null,null,null,null,null,null,{"$error":"#N/A"},{"$error":"#N/A"},{"$error":"#N/A"},{"$error":"#N/A"},{"$error":"#N/A"}]
[null,null,null,null,null,null,null,null,null,null,{"$error":"#N/A"},{"$error":"#N/A"},{"$error":"#N/A"},{"$error":"#N/A"},{"$error":"#N/A"}]
[null,null,null,null,null,null,null,null,null,null,{"$error":"#N/A"},{"$error":"#N/A"},{"$error":"#N/A"},{"$error":"#N/A"},{"$error":"#N/A"}]
[null,null,null,null,null,null,null,null,null,null,{"$error":"#N/A"},{"$error":"#N/A"},{"$error":"#N/A"},{"$error":"#N/A"},{"$error":"#N/A"}]
[null,null,null,null,null,null,null,null,null,null,{"$error":"#N/A"},{"$error":"#N/A"},{"$error":"#N/A"},{"$error":"#N/A"},{"$error":"#N/A"}]
[null,null,null,null,null,null,null,null,null,null,{"$error":"#N/A"},{"$error":"#N/A"},{"$error":"#N/A"},{"$error":"#N/A"},{"$error":"#N/A"}]
[null,null,null,null,null,null,null,null,null,null,{"$error":"#N/A"},{"$error":"#N/A"},{"$error":"#N/A"},{"$error":"#N/A"},{"$error":"#N/A"}]
[null,null,null,null,null,null,null,null,null,null,{"$error":"#N/A"},{"$error":"#N/A"},{"$error":"#N/A"},{"$error":"#N/A"},{"$error":"#N/A"}]
[null,null,null,null,null,null,null,null,null,null,{"$error":"#N/A"},{"$error":"#N/A"},{"$error":"#N/A"},{"$error":"#N/A"},{"$error":"#N/A"}]
[null,null,null,null,null,null,null,null,null,null,{"$error":"#N/A"},{"$error":"#N/A"},{"$error":"#N/A"},{"$error":"#N/A"},{"$error":"#N/A"}]
[null,null,null,null,null,null,null,null,null,null,{"$error":"#N/A"},{"$error":"#N/A"},{"$error":"#N/A"},{"$error":"#N/A"},{"$error":"#N/A"}]
[null,null,null,null,null,null,null,null,null,null,{"$error":"#N/A"},{"$error":"#N/A"},{"$error":"#N/A"},{"$error":"#N/A"},{"$error":"#N/A"}]
[null,null,null,null,null,null,null,null,null,null,{"$error":"#N/A"},{"$error":"#N/A"},{"$error":"#N/A"},{"$error":"#N/A"},{"$error":"#N/A"}]
[null,null,null,null,null,null,null,null,null,null,{"$error":"#N/A"},{"$error":"#N/A"},{"$error":"#N/A"},{"$error":"#N/A"},{"$error":"#N/A"}]
[null,null,null,null,null,null,null,null,null,null,{"$error":"#N/A"},{"$error":"#N/A"},{"$error":"#N/A"},{"$error":"#N/A"},{"$error":"#N/A"}]
[null,null,null,null,null,null,null,null,null,null,{"$error":"#N/A"},{"$error":"#N/A"},{"$error":"#N/A"},{"$error":"#N/A"},{"$error":"#N/A"}]
[null,null,null,null,null,null,null,null,null,null,{"$error":"#N/A"},{"$error":"#N/A"},{"$error":"#N/A"},{"$error":"#N/A"},{"$error":"#N/A"}]
[null,null,null,null,null,null,null,null,null,null,{"$error":"#N/A"},{"$error":"#N/A"},{"$error":"#N/A"},{"$error":"#N/A"},{"$error":"#N/A"}]
[null,null,null,null,null,null,null,null,null,null,{"$error":"#N/A"},{"$error":"#N/A"},{"$error":"#N/A"},{"$error":"#N/A"},{"$error":"#N/A"}]
[null,null,null,null,null,null,null,null,null,null,{"$error":"#N/A"},{"$error":"#N/A"},{"$error":"#N/A"},{"$error":"#N/A"},{"$error":"#N/A"}]
[null,null,null,null,null,null,null,null,null,null,{"$error":"#N/A"},{"$error":"#N/A"},{"$error":"#N/A"},{"$error":"#N/A"},{"$error":"#N/A"}]
[null,null,null,null,null,null,null,null,null,null,{"$error":"#N/A"},{"$error":"#N/A"},{"$error":"#N/A"},{"$error":"#N/A"},{"$error":"#N/A"}]
[null,null,null,null,null,null,null,null,null,null,{"$error":"#N/A"},{"$error":"#N/A"},{"$error":"#N/A"},{"$error":"#N/A"},{"$error":"#N/A"}]
[null,null,null,null,null,null,null,null,null,null,{"$error":"#N/A"},{"$error":"#N/A"},{"$error":"#N/A"},{"$error":"#N/A"},{"$error":"#N/A"}]
[null,null,null,null,null,null,null,null,null,null,{"$error":"#N/A"},{"$error":"#N/A"},{"$error":"#N/A"},{"$error":"#N/A"},{"$error":"#N/A"}]
[null,null,null,null,null,null,null,null,null,null,{"$error":"#N/A"},{"$error":"#N/A"},{"$error":"#N/A"},{"$error":"#N/A"},{"$error":"#N/A"}]
[null,null,null,null,null,null,null,null,null,null,{"$error":"#N/A"},{"$error":"#N/A"},{"$error":"#N/A"},{"$f":"IF(ISBLANK(K8971),\"\",$G$13*K8971+$H$13)","v":{"$error":"#N/A"}},{"$error":"#N/A"}]
[null,null,null,null,null,null,null,null,null,null,{"$error":"#N/A"},{"$error":"#N/A"},{"$error":"#N/A"},{"$error":"#N/A"},{"$error":"#N/A"}]
[null,null,null,null,null,null,null,null,null,null,{"$error":"#N/A"},{"$error":"#N/A"},{"$error":"#N/A"},{"$error":"#N/A"},{"$error":"#N/A"}]
[null,null,null,null,null,null,null,null,null,null,{"$error":"#N/A"},{"$error":"#N/A"},{"$error":"#N/A"},{"$error":"#N/A"},{"$error":"#N/A"}]
[null,null,null,null,null,null,null,null,null,null,{"$error":"#N/A"},{"$error":"#N/A"},{"$error":"#N/A"},{"$error":"#N/A"},{"$error":"#N/A"}]
[null,null,null,null,null,null,null,null,null,null,{"$error":"#N/A"},{"$error":"#N/A"},{"$error":"#N/A"},{"$error":"#N/A"},{"$error":"#N/A"}]
[null,null,null,null,null,null,null,null,null,null,{"$error":"#N/A"},{"$error":"#N/A"},{"$error":"#N/A"},{"$error":"#N/A"},{"$error":"#N/A"}]
[null,null,null,null,null,null,null,null,null,null,{"$error":"#N/A"},{"$error":"#N/A"},{"$error":"#N/A"},{"$error":"#N/A"},{"$error":"#N/A"}]
[null,null,null,null,null,null,null,null,null,null,{"$error":"#N/A"},{"$error":"#N/A"},{"$error":"#N/A"},{"$error":"#N/A"},{"$error":"#N/A"}]
[null,null,null,null,null,null,null,null,null,null,{"$error":"#N/A"},{"$error":"#N/A"},{"$error":"#N/A"},{"$error":"#N/A"},{"$error":"#N/A"}]
[null,null,null,null,null,null,null,null,null,null,{"$error":"#N/A"},{"$error":"#N/A"},{"$error":"#N/A"},{"$error":"#N/A"},{"$error":"#N/A"}]
[null,null,null,null,null,null,null,null,null,null,{"$error":"#N/A"},{"$error":"#N/A"},{"$error":"#N/A"},{"$error":"#N/A"},{"$error":"#N/A"}]
[null,null,null,null,null,null,null,null,null,null,{"$error":"#N/A"},{"$error":"#N/A"},{"$error":"#N/A"},{"$error":"#N/A"},{"$error":"#N/A"}]
[null,null,null,null,null,null,null,null,null,null,{"$error":"#N/A"},{"$error":"#N/A"},{"$error":"#N/A"},{"$error":"#N/A"},{"$error":"#N/A"}]
[null,null,null,null,null,null,null,null,null,null,{"$error":"#N/A"},{"$error":"#N/A"},{"$error":"#N/A"},{"$error":"#N/A"},{"$error":"#N/A"}]
[null,null,null,null,null,null,null,null,null,null,{"$error":"#N/A"},{"$error":"#N/A"},{"$error":"#N/A"},{"$error":"#N/A"},{"$error":"#N/A"}]
[null,null,null,null,null,null,null,null,null,null,{"$error":"#N/A"},{"$error":"#N/A"},{"$error":"#N/A"},{"$f":"IF(ISBLANK(K9355),\"\",$G$13*K9355+$H$13)","v":{"$error":"#N/A"}},{"$error":"#N/A"}]
[null,null,null,null,null,null,null,null,null,null,{"$error":"#N/A"},{"$error":"#N/A"},{"$error":"#N/A"},{"$error":"#N/A"},{"$error":"#N/A"}]
[null,null,null,null,null,null,null,null,null,null,{"$error":"#N/A"},{"$error":"#N/A"},{"$error":"#N/A"},{"$error":"#N/A"},{"$error":"#N/A"}]
[null,null,null,null,null,null,null,null,null,null,{"$error":"#N/A"},{"$f":"IF(ISBLANK(K9421),\"\",$G$11*K9421+$H$11)","v":{"$error":"#N/A"}},{"$f":"IF(ISBLANK(L9421),\"\",$G$12*K9421+$H$12)","v":{"$error":"#N/A"}},{"$error":"#N/A"},{"$f":"IF(ISBLANK(M9421),\"\",$G$14*K9421+$H$14)","v":{"$error":"#N/A"}}]
[null,null,null,null,null,null,null,null,null,null,{"$error":"#N/A"},{"$error":"#N/A"},{"$error":"#N/A"},{"$error":"#N/A"},{"$error":"#N/A"}]
[null,null,null,null,null,null,null,null,null,null,{"$error":"#N/A"},{"$error":"#N/A"},{"$error":"#N/A"},{"$error":"#N/A"},{"$error":"#N/A"}]
[null,null,null,null,null,null,null,null,null,null,{"$error":"#N/A"},{"$error":"#N/A"},{"$error":"#N/A"},{"$error":"#N/A"},{"$error":"#N/A"}]
[null,null,null,null,null,null,null,null,null,null,{"$error":"#N/A"},{"$error":"#N/A"},{"$error":"#N/A"},{"$error":"#N/A"},{"$error":"#N/A"}]
[null,null,null,null,null,null,null,null,null,null,{"$error":"#N/A"},{"$error":"#N/A"},{"$error":"#N/A"},{"$error":"#N/A"},{"$error":"#N/A"}]
[null,null,null,null,null,null,null,null,null,null,{"$error":"#N/A"},{"$error":"#N/A"},{"$error":"#N/A"},{"$error":"#N/A"},{"$error":"#N/A"}]
[null,null,null,null,null,null,null,null,null,null,{"$error":"#N/A"},{"$error":"#N/A"},{"$error":"#N/A"},{"$error":"#N/A"},{"$error":"#N/A"}]
[null,null,null,null,null,null,null,null,null,null,{"$error":"#N/A"},{"$error":"#N/A"},{"$error":"#N/A"},{"$f":"IF(ISBLANK(K9611),\"\",$G$13*K9611+$H$13)","v":{"$error":"#N/A"}},{"$error":"#N/A"}]
[null,null,null,null,null,null,null,null,null,null,{"$error":"#N/A"},{"$error":"#N/A"},{"$error":"#N/A"},{"$error":"#N/A"},{"$error":"#N/A"}]
[null,null,null,null,null,null,null,null,null,null,{"$error":"#N/A"},{"$error":"#N/A"},{"$error":"#N/A"},{"$error":"#N/A"},{"$error":"#N/A"}]
[null,null,null,null,null,null,null,null,null,null,{"$error":"#N/A"},{"$f":"IF(ISBLANK(K9677),\"\",$G$11*K9677+$H$11)","v":{"$error":"#N/A"}},{"$f":"IF(ISBLANK(L9677),\"\",$G$12*K9677+$H$12)","v":{"$error":"#N/A"}},{"$error":"#N/A"},{"$f":"IF(ISBLANK(M9677),\"\",$G$14*K9677+$H$14)","v":{"$error":"#N/A"}}]
[null,null,null,null,null,null,null,null,null,null,{"$error":"#N/A"},{"$error":"#N/A"},{"$error":"#N/A"},{"$error":"#N/A"},{"$error":"#N/A"}]
[null,null,null,null,null,null,null,null,null,null,{"$error":"#N/A"},{"$error":"#N/A"},{"$error":"#N/A"},{"$error":"#N/A"},{"$error":"#N/A"}]
[null,null,null,null,null,null,null,null,null,null,{"$error":"#N/A"},{"$error":"#N/A"},{"$error":"#N/A"},{"$error":"#N/A"},{"$error":"#N/A"}]
[null,null,null,null,null,null,null,null,null,null,{"$error":"#N/A"},{"$error":"#N/A"},{"$error":"#N/A"},{"$error":"#N/A"},{"$error":"#N/A"}]
[null,null,null,null,null,null,null,null,null,null,{"$error":"#N/A"},{"$error":"#N/A"},{"$error":"#N/A"},{"$error":"#N/A"},{"$error":"#N/A"}]
[null,null,null,null,null,null,null,null,null,null,{"$error":"#N/A"},{"$error":"#N/A"},{"$error":"#N/A"},{"$error":"#N/A"},{"$error":"#N/A"}]
[null,null,null,null,null,null,null,null,null,null,{"$error":"#N/A"},{"$error":"#N/A"},{"$error":"#N/A"},{"$error":"#N/A"},{"$error":"#N/A"}]
[null,null,null,null,null,null,null,null,null,null,{"$error":"#N/A"},{"$error":"#N/A"},{"$error":"#N/A"},{"$f":"IF(ISBLANK(K9867),\"\",$G$13*K9867+$H$13)","v":{"$error":"#N/A"}},{"$error":"#N/A"}]
[null,null,null,null,null,null,null,null,null,null,{"$error":"#N/A"},{"$error":"#N/A"},{"$error":"#N/A"},{"$error":"#N/A"},{"$error":"#N/A"}]
[null,null,null,null,null,null,null,null,null,null,{"$error":"#N/A"},{"$error":"#N/A"},{"$error":"#N/A"},{"$error":"#N/A"},{"$error":"#N/A"}]
[null,null,null,null,null,null,null,null,null,null,{"$error":"#N/A"},{"$error":"#N/A"},{"$error":"#N/A"},{"$error":"#N/A"},{"$error":"#N/A"}]
[null,null,null,null,null,null,null,null,null,null,{"$error":"#N/A"},{"$error":"#N/A"},{"$error":"#N/A"},{"$error":"#N/A"},{"$error":"#N/A"}]
[null,null,null,null,null,null,null,null,null,null,{"$error":"#N/A"},{"$error":"#N/A"},{"$error":"#N/A"},{"$error":"#N/A"},{"$error":"#N/A"}]
[null,null,null,null,null,null,null,null,null,null,{"$error":"#N/A"},{"$error":"#N/A"},{"$error":"#N/A"},{"$error":"#N/A"},{"$error":"#N/A"}]
[null,null,null,null,null,null,null,null,null,null,{"$error":"#N/A"},{"$error":"#N/A"},{"$error":"#N/A"},{"$error":"#N/A"},{"$error":"#N/A"}]
[null,null,null,null,null,null,null,null,null,null,{"$error":"#N/A"},{"$error":"#N/A"},{"$error":"#N/A"},{"$error":"#N/A"},{"$error":"#N/A"}]
[null,null,null,null,null,null,null,null,null,null,{"$error":"#N/A"},{"$error":"#N/A"},{"$error":"#N/A"},{"$error":"#N/A"},{"$error":"#N/A"}]
[null,null,null,null,null,null,null,null,null,null,{"$error":"#N/A"},{"$error":"#N/A"},{"$error":"#N/A"},{"$error":"#N/A"},{"$error":"#N/A"}]
[null,null,null,null,null,null,null,null,null,null,{"$error":"#N/A"},{"$error":"#N/A"},{"$error":"#N/A"},{"$error":"#N/A"},{"$error":"#N/A"}]
[null,null,null,null,null,null,null,null,null,null,{"$error":"#N/A"},{"$error":"#N/A"},{"$error":"#N/A"},{"$error":"#N/A"},{"$error":"#N/A"}]
[null,null,null,null,null,null,null,null,null,null,{"$error":"#N/A"},{"$error":"#N/A"},{"$error":"#N/A"},{"$error":"#N/A"},{"$error":"#N/A"}]
[null,null,null,null,null,null,null,null,null,null,{"$error":"#N/A"},{"$error":"#N/A"},{"$error":"#N/A"},{"$error":"#N/A"},{"$error":"#N/A"}]
[null,null,null,null,null,null,null,null,null,null,{"$error":"#N/A"},{"$error":"#N/A"},{"$error":"#N/A"},{"$error":"#N/A"},{"$error":"#N/A"}]
[null,null,null,null,null,null,null,null,null,null,{"$error":"#N/A"},{"$error":"#N/A"},{"$error":"#N/A"},{"$error":"#N/A"},{"$error":"#N/A"}]
[null,null,null,null,null,null,null,null,null,null,{"$error":"#N/A"},{"$error":"#N/A"},{"$error":"#N/A"},{"$error":"#N/A"},{"$error":"#N/A"}]
[null,null,null,null,null,null,null,null,null,null,{"$error":"#N/A"},{"$error":"#N/A"},{"$error":"#N/A"},{"$error":"#N/A"},{"$error":"#N/A"}]
[null,null,null,null,null,null,null,null,null,null,{"$error":"#N/A"},{"$error":"#N/A"},{"$error":"#N/A"},{"$error":"#N/A"},{"$error":"#N/A"}]
[null,null,null,null,null,null,null,null,null,null,{"$error":"#N/A"},{"$error":"#N/A"},{"$error":"#N/A"},{"$error":"#N/A"},{"$error":"#N/A"}]
[null,null,null,null,null,null,null,null,null,null,{"$error":"#N/A"},{"$error":"#N/A"},{"$error":"#N/A"},{"$error":"#N/A"},{"$error":"#N/A"}]
[null,null,null,null,null,null,null,null,null,null,{"$error":"#N/A"},{"$error":"#N/A"},{"$error":"#N/A"},{"$error":"#N/A"},{"$error":"#N/A"}]
[null,null,null,null,null,null,null,null,null,null,{"$error":"#N/A"},{"$error":"#N/A"},{"$error":"#N/A"},{"$error":"#N/A"},{"$error":"#N/A"}]
[null,null,null,null,null,null,null,null,null,null,{"$error":"#N/A"},{"$error":"#N/A"},{"$error":"#N/A"},{"$error":"#N/A"},{"$error":"#N/A"}]
[null,null,null,null,null,null,null,null,null,null,{"$error":"#N/A"},{"$error":"#N/A"},{"$error":"#N/A"},{"$error":"#N/A"},{"$error":"#N/A"}]
[null,null,null,null,null,null,null,null,null,null,{"$error":"#N/A"},{"$error":"#N/A"},{"$error":"#N/A"},{"$error":"#N/A"},{"$error":"#N/A"}]
[null,null,null,null,null,null,null,null,null,null,{"$error":"#N/A"},{"$error":"#N/A"},{"$error":"#N/A"},{"$error":"#N/A"},{"$error":"#N/A"}]
[null,null,null,null,null,null,null,null,null,null,{"$error":"#N/A"},{"$error":"#N/A"},{"$error":"#N/A"},{"$error":"#N/A"},{"$error":"#N/A"}]
[null,null,null,null,null,null,null,null,null,null,{"$error":"#N/A"},{"$error":"#N/A"},{"$error":"#N/A"},{"$error":"#N/A"},{"$error":"#N/A"}]
[null,null,null,null,null,null,null,null,null,null,{"$error":"#N/A"},{"$error":"#N/A"},{"$error":"#N/A"},{"$error":"#N/A"},{"$error":"#N/A"}]
[null,null,null,null,null,null,null,null,null,null,{"$error":"#N/A"},{"$error":"#N/A"},{"$error":"#N/A"},{"$error":"#N/A"},{"$error":"#N/A"}]
[null,null,null,null,null,null,null,null,null,null,{"$error":"#N/A"},{"$error":"#N/A"},{"$error":"#N/A"},{"$f":"IF(ISBLANK(K10635),\"\",$G$13*K10635+$H$13)","v":{"$error":"#N/A"}},{"$error":"#N/A"}]
[null,null,null,null,null,null,null,null,null,null,{"$error":"#N/A"},{"$error":"#N/A"},{"$error":"#N/A"},{"$error":"#N/A"},{"$error":"#N/A"}]
[null,null,null,null,null,null,null,null,null,null,{"$error":"#N/A"},{"$error":"#N/A"},{"$error":"#N/A"},{"$error":"#N/A"},{"$error":"#N/A"}]
[null,null,null,null,null,null,null,null,null,null,{"$error":"#N/A"},{"$error":"#N/A"},{"$error":"#N/A"},{"$error":"#N/A"},{"$error":"#N/A"}]
[null,null,null,null,null,null,null,null,null,null,{"$error":"#N/A"},{"$error":"#N/A"},{"$error":"#N/A"},{"$error":"#N/A"},{"$error":"#N/A"}]
[null,null,null,null,null,null,null,null,null,null,{"$error":"#N/A"},{"$error":"#N/A"},{"$error":"#N/A"},{"$error":"#N/A"},{"$error":"#N/A"}]
[null,null,null,null,null,null,null,null,null,null,{"$error":"#N/A"},{"$error":"#N/A"},{"$error":"#N/A"},{"$error":"#N/A"},{"$error":"#N/A"}]
[null,null,null,null,null,null,null,null,null,null,{"$error":"#N/A"},{"$error":"#N/A"},{"$error":"#N/A"},{"$error":"#N/A"},{"$error":"#N/A"}]
[null,null,null,null,null,null,null,null,null,null,{"$error":"#N/A"},{"$error":"#N/A"},{"$error":"#N/A"},{"$error":"#N/A"},{"$error":"#N/A"}]
[null,null,null,null,null,null,null,null,null,null,{"$error":"#N/A"},{"$error":"#N/A"},{"$error":"#N/A"},{"$error":"#N/A"},{"$error":"#N/A"}]
[null,null,null,null,null,null,null,null,null,null,{"$error":"#N/A"},{"$error":"#N/A"},{"$error":"#N/A"},{"$error":"#N/A"},{"$error":"#N/A"}]
[null,null,null,null,null,null,null,null,null,null,{"$error":"#N/A"},{"$error":"#N/A"},{"$error":"#N/A"},{"$error":"#N/A"},{"$error":"#N/A"}]
[null,null,null,null,null,null,null,null,null,null,{"$error":"#N/A"},{"$error":"#N/A"},{"$error":"#N/A"},{"$error":"#N/A"},{"$error":"#N/A"}]
[null,null,null,null,null,null,null,null,null,null,{"$error":"#N/A"},{"$error":"#N/A"},{"$error":"#N/A"},{"$error":"#N/A"},{"$error":"#N/A"}]
[null,null,null,null,null,null,null,null,null,null,{"$error":"#N/A"},{"$error":"#N/A"},{"$error":"#N/A"},{"$error":"#N/A"},{"$error":"#N/A"}]
[null,null,null,null,null,null,null,null,null,null,{"$error":"#N/A"},{"$error":"#N/A"},{"$error":"#N/A"},{"$error":"#N/A"},{"$error":"#N/A"}]
[null,null,null,null,null,null,null,null,null,null,{"$error":"#N/A"},{"$error":"#N/A"},{"$error":"#N/A"},{"$error":"#N/A"},{"$error":"#N/A"}]
[null,null,null,null,null,null,null,null,null,null,{"$error":"#N/A"},{"$error":"#N/A"},{"$error":"#N/A"},{"$error":"#N/A"},{"$error":"#N/A"}]
[null,null,null,null,null,null,null,null,null,null,{"$error":"#N/A"},{"$error":"#N/A"},{"$error":"#N/A"},{"$error":"#N/A"},{"$error":"#N/A"}]
[null,null,null,null,null,null,null,null,null,null,{"$error":"#N/A"},{"$error":"#N/A"},{"$error":"#N/A"},{"$error":"#N/A"},{"$error":"#N/A"}]
[null,null,null,null,null,null,null,null,null,null,{"$error":"#N/A"},{"$error":"#N/A"},{"$error":"#N/A"},{"$error":"#N/A"},{"$error":"#N/A"}]
[null,null,null,null,null,null,null,null,null,null,{"$error":"#N/A"},{"$error":"#N/A"},{"$error":"#N/A"},{"$error":"#N/A"},{"$error":"#N/A"}]
[null,null,null,null,null,null,null,null,null,null,{"$error":"#N/A"},{"$error":"#N/A"},{"$error":"#N/A"},{"$error":"#N/A"},{"$error":"#N/A"}]
[null,null,null,null,null,null,null,null,null,null,{"$error":"#N/A"},{"$error":"#N/A"},{"$error":"#N/A"},{"$error":"#N/A"},{"$error":"#N/A"}]
[null,null,null,null,null,null,null,null,null,null,{"$error":"#N/A"},{"$error":"#N/A"},{"$error":"#N/A"},{"$error":"#N/A"},{"$error":"#N/A"}]
[null,null,null,null,null,null,null,null,null,null,{"$error":"#N/A"},{"$error":"#N/A"},{"$error":"#N/A"},{"$error":"#N/A"},{"$error":"#N/A"}]
[null,null,null,null,null,null,null,null,null,null,{"$error":"#N/A"},{"$error":"#N/A"},{"$error":"#N/A"},{"$error":"#N/A"},{"$error":"#N/A"}]
[null,null,null,null,null,null,null,null,null,null,{"$error":"#N/A"},{"$error":"#N/A"},{"$error":"#N/A"},{"$error":"#N/A"},{"$error":"#N/A"}]
[null,null,null,null,null,null,null,null,null,null,{"$error":"#N/A"},{"$error":"#N/A"},{"$error":"#N/A"},{"$error":"#N/A"},{"$error":"#N/A"}]
[null,null,null,null,null,null,null,null,null,null,{"$error":"#N/A"},{"$error":"#N/A"},{"$error":"#N/A"},{"$error":"#N/A"},{"$error":"#N/A"}]
[null,null,null,null,null,null,null,null,null,null,{"$error":"#N/A"},{"$error":"#N/A"},{"$error":"#N/A"},{"$error":"#N/A"},{"$error":"#N/A"}]
[null,null,null,null,null,null,null,null,null,null,{"$error":"#N/A"},{"$error":"#N/A"},{"$error":"#N/A"},{"$error":"#N/A"},{"$error":"#N/A"}]
[null,null,null,null,null,null,null,null,null,null,{"$error":"#N/A"},{"$error":"#N/A"},{"$error":"#N/A"},{"$error":"#N/A"},{"$error":"#N/A"}]
[null,null,null,null,null,null,null,null,null,null,{"$error":"#N/A"},{"$error":"#N/A"},{"$error":"#N/A"},{"$error":"#N/A"},{"$error":"#N/A"}]
[null,null,null,null,null,null,null,null,null,null,{"$error":"#N/A"},{"$error":"#N/A"},{"$error":"#N/A"},{"$error":"#N/A"},{"$error":"#N/A"}]
[null,null,null,null,null,null,null,null,null,null,{"$error":"#N/A"},{"$error":"#N/A"},{"$error":"#N/A"},{"$error":"#N/A"},{"$error":"#N/A"}]
[null,null,null,null,null,null,null,null,null,null,{"$error":"#N/A"},{"$error":"#N/A"},{"$error":"#N/A"},{"$error":"#N/A"},{"$error":"#N/A"}]
[null,null,null,null,null,null,null,null,null,null,{"$error":"#N/A"},{"$error":"#N/A"},{"$error":"#N/A"},{"$error":"#N/A"},{"$error":"#N/A"}]
[null,null,null,null,null,null,null,null,null,null,{"$error":"#N/A"},{"$error":"#N/A"},{"$error":"#N/A"},{"$error":"#N/A"},{"$error":"#N/A"}]
[null,null,null,null,null,null,null,null,null,null,{"$error":"#N/A"},{"$error":"#N/A"},{"$error":"#N/A"},{"$error":"#N/A"},{"$error":"#N/A"}]
[null,null,null,null,null,null,null,null,null,null,{"$error":"#N/A"},{"$error":"#N/A"},{"$error":"#N/A"},{"$error":"#N/A"},{"$error":"#N/A"}]
[null,null,null,null,null,null,null,null,null,null,{"$error":"#N/A"},{"$error":"#N/A"},{"$error":"#N/A"},{"$error":"#N/A"},{"$error":"#N/A"}]
[null,null,null,null,null,null,null,null,null,null,{"$error":"#N/A"},{"$error":"#N/A"},{"$error":"#N/A"},{"$error":"#N/A"},{"$error":"#N/A"}]
[null,null,null,null,null,null,null,null,null,null,{"$f":"IF(K11659+$G$19<=$G$18,K11659+$G$19,NA())","v":{"$error":"#N/A"}},{"$error":"#N/A"},{"$error":"#N/A"},{"$error":"#N/A"},{"$error":"#N/A"}]
[null,null,null,null,null,null,null,null,null,null,{"$error":"#N/A"},{"$error":"#N/A"},{"$error":"#N/A"},{"$error":"#N/A"},{"$error":"#N/A"}]
[null,null,null,null,null,null,null,null,null,null,{"$error":"#N/A"},{"$error":"#N/A"},{"$error":"#N/A"},{"$error":"#N/A"},{"$error":"#N/A"}]
[null,null,null,null,null,null,null,null,null,null,{"$error":"#N/A"},{"$error":"#N/A"},{"$error":"#N/A"},{"$error":"#N/A"},{"$error":"#N/A"}]
[null,null,null,null,null,null,null,null,null,null,{"$error":"#N/A"},{"$error":"#N/A"},{"$error":"#N/A"},{"$error":"#N/A"},{"$error":"#N/A"}]
[null,null,null,null,null,null,null,null,null,null,{"$error":"#N/A"},{"$error":"#N/A"},{"$error":"#N/A"},{"$error":"#N/A"},{"$error":"#N/A"}]
[null,null,null,null,null,null,null,null,null,null,{"$error":"#N/A"},{"$error":"#N/A"},{"$error":"#N/A"},{"$error":"#N/A"},{"$error":"#N/A"}]
[null,null,null,null,null,null,null,null,null,null,{"$error":"#N/A"},{"$error":"#N/A"},{"$error":"#N/A"},{"$error":"#N/A"},{"$error":"#N/A"}]
[null,null,null,null,null,null,null,null,null,null,{"$error":"#N/A"},{"$error":"#N/A"},{"$error":"#N/A"},{"$error":"#N/A"},{"$error":"#N/A"}]
[null,null,null,null,null,null,null,null,null,null,{"$error":"#N/A"},{"$error":"#N/A"},{"$error":"#N/A"},{"$error":"#N/A"},{"$error":"#N/A"}]
[null,null,null,null,null,null,null,null,null,null,{"$error":"#N/A"},{"$error":"#N/A"},{"$error":"#N/A"},{"$error":"#N/A"},{"$error":"#N/A"}]
[null,null,null,null,null,null,null,null,null,null,{"$f":"IF(K11915+$G$19<=$G$18,K11915+$G$19,NA())","v":{"$error":"#N/A"}},{"$error":"#N/A"},{"$error":"#N/A"},{"$error":"#N/A"},{"$error":"#N/A"}]
[null,null,null,null,null,null,null,null,null,null,{"$error":"#N/A"},{"$error":"#N/A"},{"$error":"#N/A"},{"$error":"#N/A"},{"$error":"#N/A"}]
[null,null,null,null,null,null,null,null,null,null,{"$error":"#N/A"},{"$error":"#N/A"},{"$error":"#N/A"},{"$error":"#N/A"},{"$error":"#N/A"}]
[null,null,null,null,null,null,null,null,null,null,{"$error":"#N/A"},{"$error":"#N/A"},{"$error":"#N/A"},{"$error":"#N/A"},{"$error":"#N/A"}]
[null,null,null,null,null,null,null,null,null,null,{"$error":"#N/A"},{"$error":"#N/A"},{"$error":"#N/A"},{"$error":"#N/A"},{"$error":"#N/A"}]
[null,null,null,null,null,null,null,null,null,null,{"$error":"#N/A"},{"$error":"#N/A"},{"$error":"#N/A"},{"$error":"#N/A"},{"$error":"#N/A"}]
[null,null,null,null,null,null,null,null,null,null,{"$error":"#N/A"},{"$error":"#N/A"},{"$error":"#N/A"},{"$error":"#N/A"},{"$error":"#N/A"}]
[null,null,null,null,null,null,null,null,null,null,{"$error":"#N/A"},{"$error":"#N/A"},{"$error":"#N/A"},{"$error":"#N/A"},{"$error":"#N/A"}]
[null,null,null,null,null,null,null,null,null,null,{"$error":"#N/A"},{"$error":"#N/A"},{"$error":"#N/A"},{"$error":"#N/A"},{"$error":"#N/A"}]
[null,null,null,null,null,null,null,null,null,null,{"$error":"#N/A"},{"$error":"#N/A"},{"$error":"#N/A"},{"$error":"#N/A"},{"$error":"#N/A"}]
[null,null,null,null,null,null,null,null,null,null,{"$error":"#N/A"},{"$error":"#N/A"},{"$error":"#N/A"},{"$error":"#N/A"},{"$error":"#N/A"}]
[null,null,null,null,null,null,null,null,null,null,{"$error":"#N/A"},{"$error":"#N/A"},{"$error":"#N/A"},{"$error":"#N/A"},{"$error":"#N/A"}]
[null,null,null,null,null,null,null,null,null,null,{"$error":"#N/A"},{"$error":"#N/A"},{"$error":"#N/A"},{"$error":"#N/A"},{"$error":"#N/A"}]
[null,null,null,null,null,null,null,null,null,null,{"$error":"#N/A"},{"$error":"#N/A"},{"$error":"#N/A"},{"$error":"#N/A"},{"$error":"#N/A"}]
[null,null,null,null,null,null,null,null,null,null,{"$error":"#N/A"},{"$error":"#N/A"},{"$error":"#N/A"},{"$error":"#N/A"},{"$error":"#N/A"}]
[null,null,null,null,null,null,null,null,null,null,{"$error":"#N/A"},{"$error":"#N/A"},{"$error":"#N/A"},{"$error":"#N/A"},{"$error":"#N/A"}]
[null,null,null,null,null,null,null,null,null,null,{"$error":"#N/A"},{"$error":"#N/A"},{"$error":"#N/A"},{"$error":"#N/A"},{"$error":"#N/A"}]
[null,null,null,null,null,null,null,null,null,null,{"$error":"#N/A"},{"$error":"#N/A"},{"$error":"#N/A"},{"$error":"#N/A"},{"$error":"#N/A"}]
[null,null,null,null,null,null,null,null,null,null,{"$error":"#N/A"},{"$error":"#N/A"},{"$error":"#N/A"},{"$error":"#N/A"},{"$error":"#N/A"}]
[null,null,null,null,null,null,null,null,null,null,{"$error":"#N/A"},{"$error":"#N/A"},{"$error":"#N/A"},{"$error":"#N/A"},{"$error":"#N/A"}]
[null,null,null,null,null,null,null,null,null,null,{"$error":"#N/A"},{"$error":"#N/A"},{"$error":"#N/A"},{"$error":"#N/A"},{"$error":"#N/A"}]
[null,null,null,null,null,null,null,null,null,null,{"$error":"#N/A"},{"$error":"#N/A"},{"$error":"#N/A"},{"$error":"#N/A"},{"$error":"#N/A"}]
[null,null,null,null,null,null,null,null,null,null,{"$error":"#N/A"},{"$f":"IF(ISBLANK(K12429),\"\",$G$11*K12429+$H$11)","v":{"$error":"#N/A"}},{"$f":"IF(ISBLANK(L12429),\"\",$G$12*K12429+$H$12)","v":{"$error":"#N/A"}},{"$error":"#N/A"},{"$f":"IF(ISBLANK(M12429),\"\",$G$14*K12429+$H$14)","v":{"$error":"#N/A"}}]
[null,null,null,null,null,null,null,null,null,null,{"$error":"#N/A"},{"$error":"#N/A"},{"$error":"#N/A"},{"$error":"#N/A"},{"$error":"#N/A"}]
[null,null,null,null,null,null,null,null,null,null,{"$error":"#N/A"},{"$error":"#N/A"},{"$error":"#N/A"},{"$error":"#N/A"},{"$error":"#N/A"}]
[null,null,null,null,null,null,null,null,null,null,{"$error":"#N/A"},{"$error":"#N/A"},{"$error":"#N/A"},{"$error":"#N/A"},{"$error":"#N/A"}]
[null,null,null,null,null,null,null,null,null,null,{"$error":"#N/A"},{"$error":"#N/A"},{"$error":"#N/A"},{"$error":"#N/A"},{"$error":"#N/A"}]
[null,null,null,null,null,null,null,null,null,null,{"$error":"#N/A"},{"$error":"#N/A"},{"$error":"#N/A"},{"$error":"#N/A"},{"$error":"#N/A"}]
[null,null,null,null,null,null,null,null,null,null,{"$error":"#N/A"},{"$error":"#N/A"},{"$error":"#N/A"},{"$error":"#N/A"},{"$error":"#N/A"}]
[null,null,null,null,null,null,null,null,null,null,{"$error":"#N/A"},{"$error":"#N/A"},{"$error":"#N/A"},{"$error":"#N/A"},{"$error":"#N/A"}]
[null,null,null,null,null,null,null,null,null,null,{"$error":"#N/A"},{"$error":"#N/A"},{"$error":"#N/A"},{"$f":"IF(ISBLANK(K12619),\"\",$G$13*K12619+$H$13)","v":{"$error":"#N/A"}},{"$error":"#N/A"}]
[null,null,null,null,null,null,null,null,null,null,{"$error":"#N/A"},{"$error":"#N/A"},{"$error":"#N/A"},{"$error":"#N/A"},{"$error":"#N/A"}]
[null,null,null,null,null,null,null,null,null,null,{"$error":"#N/A"},{"$error":"#N/A"},{"$error":"#N/A"},{"$error":"#N/A"},{"$error":"#N/A"}]
[null,null,null,null,null,null,null,null,null,null,{"$error":"#N/A"},{"$error":"#N/A"},{"$error":"#N/A"},{"$error":"#N/A"},{"$error":"#N/A"}]
[null,null,null,null,null,null,null,null,null,null,{"$error":"#N/A"},{"$error":"#N/A"},{"$error":"#N/A"},{"$error":"#N/A"},{"$error":"#N/A"}]
[null,null,null,null,null,null,null,null,null,null,{"$error":"#N/A"},{"$error":"#N/A"},{"$error":"#N/A"},{"$error":"#N/A"},{"$error":"#N/A"}]
[null,null,null,null,null,null,null,null,null,null,{"$error":"#N/A"},{"$error":"#N/A"},{"$error":"#N/A"},{"$error":"#N/A"},{"$error":"#N/A"}]
[null,null,null,null,null,null,null,null,null,null,{"$error":"#N/A"},{"$error":"#N/A"},{"$error":"#N/A"},{"$error":"#N/A"},{"$error":"#N/A"}]
[null,null,null,null,null,null,null,null,null,null,{"$error":"#N/A"},{"$error":"#N/A"},{"$error":"#N/A"},{"$error":"#N/A"},{"$error":"#N/A"}]
[null,null,null,null,null,null,null,null,null,null,{"$error":"#N/A"},{"$error":"#N/A"},{"$error":"#N/A"},{"$error":"#N/A"},{"$error":"#N/A"}]
[null,null,null,null,null,null,null,null,null,null,{"$error":"#N/A"},{"$error":"#N/A"},{"$error":"#N/A"},{"$error":"#N/A"},{"$error":"#N/A"}]
[null,null,null,null,null,null,null,null,null,null,{"$error":"#N/A"},{"$error":"#N/A"},{"$error":"#N/A"},{"$error":"#N/A"},{"$error":"#N/A"}]
[null,null,null,null,null,null,null,null,null,null,{"$error":"#N/A"},{"$error":"#N/A"},{"$error":"#N/A"},{"$error":"#N/A"},{"$error":"#N/A"}]
[null,null,null,null,null,null,null,null,null,null,{"$error":"#N/A"},{"$error":"#N/A"},{"$error":"#N/A"},{"$error":"#N/A"},{"$error":"#N/A"}]
[null,null,null,null,null,null,null,null,null,null,{"$error":"#N/A"},{"$error":"#N/A"},{"$error":"#N/A"},{"$error":"#N/A"},{"$error":"#N/A"}]
[null,null,null,null,null,null,null,null,null,null,{"$error":"#N/A"},{"$error":"#N/A"},{"$error":"#N/A"},{"$error":"#N/A"},{"$error":"#N/A"}]
[null,null,null,null,null,null,null,null,null,null,{"$error":"#N/A"},{"$error":"#N/A"},{"$error":"#N/A"},{"$error":"#N/A"},{"$error":"#N/A"}]
[null,null,null,null,null,null,null,null,null,null,{"$error":"#N/A"},{"$error":"#N/A"},{"$error":"#N/A"},{"$error":"#N/A"},{"$error":"#N/A"}]
[null,null,null,null,null,null,null,null,null,null,{"$error":"#N/A"},{"$error":"#N/A"},{"$error":"#N/A"},{"$error":"#N/A"},{"$error":"#N/A"}]
[null,null,null,null,null,null,null,null,null,null,{"$error":"#N/A"},{"$error":"#N/A"},{"$error":"#N/A"},{"$error":"#N/A"},{"$error":"#N/A"}]
[null,null,null,null,null,null,null,null,null,null,{"$error":"#N/A"},{"$error":"#N/A"},{"$error":"#N/A"},{"$error":"#N/A"},{"$error":"#N/A"}]
[null,null,null,null,null,null,null,null,null,null,{"$error":"#N/A"},{"$error":"#N/A"},{"$error":"#N/A"},{"$error":"#N/A"},{"$error":"#N/A"}]
[null,null,null,null,null,null,null,null,null,null,{"$error":"#N/A"},{"$error":"#N/A"},{"$error":"#N/A"},{"$error":"#N/A"},{"$error":"#N/A"}]
[null,null,null,null,null,null,null,null,null,null,{"$error":"#N/A"},{"$error":"#N/A"},{"$error":"#N/A"},{"$error":"#N/A"},{"$error":"#N/A"}]
[null,null,null,null,null,null,null,null,null,null,{"$error":"#N/A"},{"$error":"#N/A"},{"$error":"#N/A"},{"$error":"#N/A"},{"$error":"#N/A"}]
[null,null,null,null,null,null,null,null,null,null,{"$error":"#N/A"},{"$error":"#N/A"},{"$error":"#N/A"},{"$error":"#N/A"},{"$error":"#N/A"}]
[null,null,null,null,null,null,null,null,null,null,{"$error":"#N/A"},{"$error":"#N/A"},{"$error":"#N/A"},{"$error":"#N/A"},{"$error":"#N/A"}]
[null,null,null,null,null,null,null,null,null,null,{"$error":"#N/A"},{"$error":"#N/A"},{"$error":"#N/A"},{"$error":"#N/A"},{"$error":"#N/A"}]
[null,null,null,null,null,null,null,null,null,null,{"$error":"#N/A"},{"$error":"#N/A"},{"$error":"#N/A"},{"$error":"#N/A"},{"$error":"#N/A"}]
[null,null,null,null,null,null,null,null,null,null,{"$error":"#N/A"},{"$error":"#N/A"},{"$error":"#N/A"},{"$error":"#N/A"},{"$error":"#N/A"}]
[null,null,null,null,null,null,null,null,null,null,{"$error":"#N/A"},{"$error":"#N/A"},{"$error":"#N/A"},{"$error":"#N/A"},{"$error":"#N/A"}]
[null,null,null,null,null,null,null,null,null,null,{"$error":"#N/A"},{"$error":"#N/A"},{"$error":"#N/A"},{"$error":"#N/A"},{"$error":"#N/A"}]
[null,null,null,null,null,null,null,null,null,null,{"$error":"#N/A"},{"$error":"#N/A"},{"$error":"#N/A"},{"$error":"#N/A"},{"$error":"#N/A"}]
[null,null,null,null,null,null,null,null,null,null,{"$error":"#N/A"},{"$error":"#N/A"},{"$error":"#N/A"},{"$error":"#N/A"},{"$error":"#N/A"}]
[null,null,null,null,null,null,null,null,null,null,{"$error":"#N/A"},{"$error":"#N/A"},{"$error":"#N/A"},{"$error":"#N/A"},{"$error":"#N/A"}]
[null,null,null,null,null,null,null,null,null,null,{"$error":"#N/A"},{"$error":"#N/A"},{"$error":"#N/A"},{"$error":"#N/A"},{"$error":"#N/A"}]
[null,null,null,null,null,null,null,null,null,null,{"$error":"#N/A"},{"$error":"#N/A"},{"$error":"#N/A"},{"$error":"#N/A"},{"$error":"#N/A"}]
[null,null,null,null,null,null,null,null,null,null,{"$error":"#N/A"},{"$error":"#N/A"},{"$error":"#N/A"},{"$error":"#N/A"},{"$error":"#N/A"}]
[null,null,null,null,null,null,null,null,null,null,{"$error":"#N/A"},{"$error":"#N/A"},{"$error":"#N/A"},{"$error":"#N/A"},{"$error":"#N/A"}]
[null,null,null,null,null,null,null,null,null,null,{"$error":"#N/A"},{"$error":"#N/A"},{"$error":"#N/A"},{"$error":"#N/A"},{"$error":"#N/A"}]
[null,null,null,null,null,null,null,null,null,null,{"$error":"#N/A"},{"$error":"#N/A"},{"$error":"#N/A"},{"$error":"#N/A"},{"$error":"#N/A"}]
[null,null,null,null,null,null,null,null,null,null,{"$error":"#N/A"},{"$error":"#N/A"},{"$error":"#N/A"},{"$error":"#N/A"},{"$error":"#N/A"}]
[null,null,null,null,null,null,null,null,null,null,{"$error":"#N/A"},{"$error":"#N/A"},{"$error":"#N/A"},{"$error":"#N/A"},{"$error":"#N/A"}]
[null,null,null,null,null,null,null,null,null,null,{"$error":"#N/A"},{"$error":"#N/A"},{"$error":"#N/A"},{"$error":"#N/A"},{"$error":"#N/A"}]
[null,null,null,null,null,null,null,null,null,null,{"$error":"#N/A"},{"$error":"#N/A"},{"$error":"#N/A"},{"$error":"#N/A"},{"$error":"#N/A"}]
[null,null,null,null,null,null,null,null,null,null,{"$error":"#N/A"},{"$error":"#N/A"},{"$error":"#N/A"},{"$error":"#N/A"},{"$error":"#N/A"}]
[null,null,null,null,null,null,null,null,null,null,{"$error":"#N/A"},{"$error":"#N/A"},{"$error":"#N/A"},{"$error":"#N/A"},{"$error":"#N/A"}]
[null,null,null,null,null,null,null,null,null,null,{"$error":"#N/A"},{"$error":"#N/A"},{"$error":"#N/A"},{"$error":"#N/A"},{"$error":"#N/A"}]
[null,null,null,null,null,null,null,null,null,null,{"$error":"#N/A"},{"$error":"#N/A"},{"$error":"#N/A"},{"$error":"#N/A"},{"$error":"#N/A"}]
[null,null,null,null,null,null,null,null,null,null,{"$error":"#N/A"},{"$error":"#N/A"},{"$error":"#N/A"},{"$error":"#N/A"},{"$error":"#N/A"}]
[null,null,null,null,null,null,null,null,null,null,{"$error":"#N/A"},{"$error":"#N/A"},{"$error":"#N/A"},{"$error":"#N/A"},{"$error":"#N/A"}]
[null,null,null,null,null,null,null,null,null,null,{"$error":"#N/A"},{"$error":"#N/A"},{"$error":"#N/A"},{"$error":"#N/A"},{"$error":"#N/A"}]
[null,null,null,null,null,null,null,null,null,null,{"$error":"#N/A"},{"$error":"#N/A"},{"$error":"#N/A"},{"$error":"#N/A"},{"$error":"#N/A"}]
[null,null,null,null,null,null,null,null,null,null,{"$error":"#N/A"},{"$error":"#N/A"},{"$error":"#N/A"},{"$error":"#N/A"},{"$error":"#N/A"}]
[null,null,null,null,null,null,null,null,null,null,{"$error":"#N/A"},{"$error":"#N/A"},{"$error":"#N/A"},{"$error":"#N/A"},{"$error":"#N/A"}]
[null,null,null,null,null,null,null,null,null,null,{"$error":"#N/A"},{"$error":"#N/A"},{"$error":"#N/A"},{"$error":"#N/A"},{"$error":"#N/A"}]
[null,null,null,null,null,null,null,null,null,null,{"$error":"#N/A"},{"$f":"IF(ISBLANK(K13965),\"\",$G$11*K13965+$H$11)","v":{"$error":"#N/A"}},{"$f":"IF(ISBLANK(L13965),\"\",$G$12*K13965+$H$12)","v":{"$error":"#N/A"}},{"$error":"#N/A"},{"$f":"IF(ISBLANK(M13965),\"\",$G$14*K13965+$H$14)","v":{"$error":"#N/A"}}]
[null,null,null,null,null,null,null,null,null,null,{"$error":"#N/A"},{"$error":"#N/A"},{"$error":"#N/A"},{"$error":"#N/A"},{"$error":"#N/A"}]
[null,null,null,null,null,null,null,null,null,null,{"$error":"#N/A"},{"$error":"#N/A"},{"$error":"#N/A"},{"$error":"#N/A"},{"$error":"#N/A"}]
[null,null,null,null,null,null,null,null,null,null,{"$error":"#N/A"},{"$error":"#N/A"},{"$error":"#N/A"},{"$error":"#N/A"},{"$error":"#N/A"}]
[null,null,null,null,null,null,null,null,null,null,{"$error":"#N/A"},{"$error":"#N/A"},{"$error":"#N/A"},{"$error":"#N/A"},{"$error":"#N/A"}]
[null,null,null,null,null,null,null,null,null,null,{"$error":"#N/A"},{"$error":"#N/A"},{"$error":"#N/A"},{"$error":"#N/A"},{"$error":"#N/A"}]
[null,null,null,null,null,null,null,null,null,null,{"$error":"#N/A"},{"$error":"#N/A"},{"$error":"#N/A"},{"$error":"#N/A"},{"$error":"#N/A"}]
[null,null,null,null,null,null,null,null,null,null,{"$error":"#N/A"},{"$error":"#N/A"},{"$error":"#N/A"},{"$error":"#N/A"},{"$error":"#N/A"}]
[null,null,null,null,null,null,null,null,null,null,{"$error":"#N/A"},{"$error":"#N/A"},{"$error":"#N/A"},{"$f":"IF(ISBLANK(K14155),\"\",$G$13*K14155+$H$13)","v":{"$error":"#N/A"}},{"$error":"#N/A"}]
[null,null,null,null,null,null,null,null,null,null,{"$error":"#N/A"},{"$error":"#N/A"},{"$error":"#N/A"},{"$error":"#N/A"},{"$error":"#N/A"}]
[null,null,null,null,null,null,null,null,null,null,{"$error":"#N/A"},{"$error":"#N/A"},{"$error":"#N/A"},{"$error":"#N/A"},{"$error":"#N/A"}]
[null,null,null,null,null,null,null,null,null,null,{"$error":"#N/A"},{"$error":"#N/A"},{"$error":"#N/A"},{"$error":"#N/A"},{"$error":"#N/A"}]
[null,null,null,null,null,null,null,null,null,null,{"$error":"#N/A"},{"$error":"#N/A"},{"$error":"#N/A"},{"$error":"#N/A"},{"$error":"#N/A"}]
[null,null,null,null,null,null,null,null,null,null,{"$error":"#N/A"},{"$error":"#N/A"},{"$error":"#N/A"},{"$error":"#N/A"},{"$error":"#N/A"}]
[null,null,null,null,null,null,null,null,null,null,{"$error":"#N/A"},{"$error":"#N/A"},{"$error":"#N/A"},{"$error":"#N/A"},{"$error":"#N/A"}]
[null,null,null,null,null,null,null,null,null,null,{"$error":"#N/A"},{"$error":"#N/A"},{"$error":"#N/A"},{"$error":"#N/A"},{"$error":"#N/A"}]
[null,null,null,null,null,null,null,null,null,null,{"$error":"#N/A"},{"$error":"#N/A"},{"$error":"#N/A"},{"$error":"#N/A"},{"$error":"#N/A"}]
[null,null,null,null,null,null,null,null,null,null,{"$error":"#N/A"},{"$error":"#N/A"},{"$error":"#N/A"},{"$error":"#N/A"},{"$error":"#N/A"}]
[null,null,null,null,null,null,null,null,null,null,{"$error":"#N/A"},{"$error":"#N/A"},{"$error":"#N/A"},{"$error":"#N/A"},{"$error":"#N/A"}]
[null,null,null,null,null,null,null,null,null,null,{"$error":"#N/A"},{"$error":"#N/A"},{"$error":"#N/A"},{"$error":"#N/A"},{"$error":"#N/A"}]
[null,null,null,null,null,null,null,null,null,null,{"$error":"#N/A"},{"$error":"#N/A"},{"$error":"#N/A"},{"$error":"#N/A"},{"$error":"#N/A"}]
[null,null,null,null,null,null,null,null,null,null,{"$error":"#N/A"},{"$error":"#N/A"},{"$error":"#N/A"},{"$error":"#N/A"},{"$error":"#N/A"}]
[null,null,null,null,null,null,null,null,null,null,{"$error":"#N/A"},{"$error":"#N/A"},{"$error":"#N/A"},{"$error":"#N/A"},{"$error":"#N/A"}]
[null,null,null,null,null,null,null,null,null,null,{"$error":"#N/A"},{"$error":"#N/A"},{"$error":"#N/A"},{"$error":"#N/A"},{"$error":"#N/A"}]
[null,null,null,null,null,null,null,null,null,null,{"$error":"#N/A"},{"$error":"#N/A"},{"$error":"#N/A"},{"$error":"#N/A"},{"$error":"#N/A"}]
[null,null,null,null,null,null,null,null,null,null,{"$error":"#N/A"},{"$error":"#N/A"},{"$error":"#N/A"},{"$error":"#N/A"},{"$error":"#N/A"}]
[null,null,null,null,null,null,null,null,null,null,{"$error":"#N/A"},{"$error":"#N/A"},{"$error":"#N/A"},{"$error":"#N/A"},{"$error":"#N/A"}]
[null,null,null,null,null,null,null,null,null,null,{"$error":"#N/A"},{"$f":"IF(ISBLANK(K14605),\"\",$G$11*K14605+$H$11)","v":{"$error":"#N/A"}},{"$f":"IF(ISBLANK(L14605),\"\",$G$12*K14605+$H$12)","v":{"$error":"#N/A"}},{"$error":"#N/A"},{"$f":"IF(ISBLANK(M14605),\"\",$G$14*K14605+$H$14)","v":{"$error":"#N/A"}}]
[null,null,null,null,null,null,null,null,null,null,{"$error":"#N/A"},{"$error":"#N/A"},{"$error":"#N/A"},{"$error":"#N/A"},{"$error":"#N/A"}]
[null,null,null,null,null,null,null,null,null,null,{"$error":"#N/A"},{"$error":"#N/A"},{"$error":"#N/A"},{"$error":"#N/A"},{"$error":"#N/A"}]
[null,null,null,null,null,null,null,null,null,null,{"$f":"IF(K14667+$G$19<=$G$18,K14667+$G$19,NA())","v":{"$error":"#N/A"}},{"$error":"#N/A"},{"$error":"#N/A"},{"$error":"#N/A"},{"$error":"#N/A"}]
[null,null,null,null,null,null,null,null,null,null,{"$error":"#N/A"},{"$error":"#N/A"},{"$error":"#N/A"},{"$error":"#N/A"},{"$error":"#N/A"}]
[null,null,null,null,null,null,null,null,null,null,{"$error":"#N/A"},{"$error":"#N/A"},{"$error":"#N/A"},{"$error":"#N/A"},{"$error":"#N/A"}]
[null,null,null,null,null,null,null,null,null,null,{"$error":"#N/A"},{"$error":"#N/A"},{"$error":"#N/A"},{"$error":"#N/A"},{"$error":"#N/A"}]
[null,null,null,null,null,null,null,null,null,null,{"$error":"#N/A"},{"$error":"#N/A"},{"$error":"#N/A"},{"$error":"#N/A"},{"$error":"#N/A"}]
[null,null,null,null,null,null,null,null,null,null,{"$error":"#N/A"},{"$error":"#N/A"},{"$error":"#N/A"},{"$error":"#N/A"},{"$error":"#N/A"}]
[null,null,null,null,null,null,null,null,null,null,{"$error":"#N/A"},{"$error":"#N/A"},{"$error":"#N/A"},{"$error":"#N/A"},{"$error":"#N/A"}]
[null,null,null,null,null,null,null,null,null,null,{"$error":"#N/A"},{"$error":"#N/A"},{"$error":"#N/A"},{"$error":"#N/A"},{"$error":"#N/A"}]
[null,null,null,null,null,null,null,null,null,null,{"$error":"#N/A"},{"$error":"#N/A"},{"$error":"#N/A"},{"$error":"#N/A"},{"$error":"#N/A"}]
[null,null,null,null,null,null,null,null,null,null,{"$error":"#N/A"},{"$error":"#N/A"},{"$error":"#N/A"},{"$error":"#N/A"},{"$error":"#N/A"}]
[null,null,null,null,null,null,null,null,null,null,{"$error":"#N/A"},{"$error":"#N/A"},{"$error":"#N/A"},{"$error":"#N/A"},{"$error":"#N/A"}]
[null,null,null,null,null,null,null,null,null,null,{"$f":"IF(K14923+$G$19<=$G$18,K14923+$G$19,NA())","v":{"$error":"#N/A"}},{"$error":"#N/A"},{"$error":"#N/A"},{"$error":"#N/A"},{"$error":"#N/A"}]
[null,null,null,null,null,null,null,null,null,null,{"$error":"#N/A"},{"$error":"#N/A"},{"$error":"#N/A"},{"$error":"#N/A"},{"$error":"#N/A"}]
[null,null,null,null,null,null,null,null,null,null,{"$error":"#N/A"},{"$error":"#N/A"},{"$error":"#N/A"},{"$error":"#N/A"},{"$error":"#N/A"}]
[null,null,null,null,null,null,null,null,null,null,{"$error":"#N/A"},{"$error":"#N/A"},{"$error":"#N/A"},{"$error":"#N/A"},{"$error":"#N/A"}]
[null,null,null,null,null,null,null,null,null,null,{"$error":"#N/A"},{"$error":"#N/A"},{"$error":"#N/A"},{"$error":"#N/A"},{"$error":"#N/A"}]
[null,null,null,null,null,null,null,null,null,null,{"$error":"#N/A"},{"$error":"#N/A"},{"$error":"#N/A"},{"$error":"#N/A"},{"$error":"#N/A"}]
[null,null,null,null,null,null,null,null,null,null,{"$error":"#N/A"},{"$error":"#N/A"},{"$error":"#N/A"},{"$error":"#N/A"},{"$error":"#N/A"}]
[null,null,null,null,null,null,null,null,null,null,{"$error":"#N/A"},{"$error":"#N/A"},{"$error":"#N/A"},{"$error":"#N/A"},{"$error":"#N/A"}]
[null,null,null,null,null,null,null,null,null,null,{"$error":"#N/A"},{"$error":"#N/A"},{"$error":"#N/A"},{"$error":"#N/A"},{"$error":"#N/A"}]
[null,null,null,null,null,null,null,null,null,null,{"$error":"#N/A"},{"$error":"#N/A"},{"$error":"#N/A"},{"$error":"#N/A"},{"$error":"#N/A"}]
[null,null,null,null,null,null,null,null,null,null,{"$error":"#N/A"},{"$error":"#N/A"},{"$error":"#N/A"},{"$error":"#N/A"},{"$error":"#N/A"}]
[null,null,null,null,null,null,null,null,null,null,{"$error":"#N/A"},{"$error":"#N/A"},{"$error":"#N/A"},{"$error":"#N/A"},{"$error":"#N/A"}]
[null,null,null,null,null,null,null,null,null,null,{"$error":"#N/A"},{"$error":"#N/A"},{"$error":"#N/A"},{"$error":"#N/A"},{"$error":"#N/A"}]
[null,null,null,null,null,null,null,null,null,null,{"$error":"#N/A"},{"$error":"#N/A"},{"$error":"#N/A"},{"$error":"#N/A"},{"$error":"#N/A"}]
[null,null,null,null,null,null,null,null,null,null,{"$error":"#N/A"},{"$error":"#N/A"},{"$error":"#N/A"},{"$error":"#N/A"},{"$error":"#N/A"}]
[null,null,null,null,null,null,null,null,null,null,{"$error":"#N/A"},{"$error":"#N/A"},{"$error":"#N/A"},{"$error":"#N/A"},{"$error":"#N/A"}]
[null,null,null,null,null,null,null,null,null,null,{"$error":"#N/A"},{"$error":"#N/A"},{"$error":"#N/A"},{"$error":"#N/A"},{"$error":"#N/A"}]
[null,null,null,null,null,null,null,null,null,null,{"$error":"#N/A"},{"$error":"#N/A"},{"$error":"#N/A"},{"$error":"#N/A"},{"$error":"#N/A"}]
[null,null,null,null,null,null,null,null,null,null,{"$error":"#N/A"},{"$error":"#N/A"},{"$error":"#N/A"},{"$error":"#N/A"},{"$error":"#N/A"}]
[null,null,null,null,null,null,null,null,null,null,{"$error":"#N/A"},{"$error":"#N/A"},{"$error":"#N/A"},{"$error":"#N/A"},{"$error":"#N/A"}]
[null,null,null,null,null,null,null,null,null,null,{"$error":"#N/A"},{"$error":"#N/A"},{"$error":"#N/A"},{"$error":"#N/A"},{"$error":"#N/A"}]
[null,null,null,null,null,null,null,null,null,null,{"$error":"#N/A"},{"$error":"#N/A"},{"$error":"#N/A"},{"$error":"#N/A"},{"$error":"#N/A"}]
[null,null,null,null,null,null,null,null,null,null,{"$error":"#N/A"},{"$error":"#N/A"},{"$error":"#N/A"},{"$error":"#N/A"},{"$error":"#N/A"}]
[null,null,null,null,null,null,null,null,null,null,{"$error":"#N/A"},{"$error":"#N/A"},{"$error":"#N/A"},{"$error":"#N/A"},{"$error":"#N/A"}]
[null,null,null,null,null,null,null,null,null,null,{"$error":"#N/A"},{"$error":"#N/A"},{"$error":"#N/A"},{"$error":"#N/A"},{"$error":"#N/A"}]
[null,null,null,null,null,null,null,null,null,null,{"$error":"#N/A"},{"$error":"#N/A"},{"$error":"#N/A"},{"$error":"#N/A"},{"$error":"#N/A"}]
[null,null,null,null,null,null,null,null,null,null,{"$error":"#N/A"},{"$error":"#N/A"},{"$error":"#N/A"},{"$error":"#N/A"},{"$error":"#N/A"}]
[null,null,null,null,null,null,null,null,null,null,{"$error":"#N/A"},{"$error":"#N/A"},{"$error":"#N/A"},{"$error":"#N/A"},{"$error":"#N/A"}]
[null,null,null,null,null,null,null,null,null,null,{"$error":"#N/A"},{"$error":"#N/A"},{"$error":"#N/A"},{"$error":"#N/A"},{"$error":"#N/A"}]
[null,null,null,null,null,null,null,null,null,null,{"$error":"#N/A"},{"$error":"#N/A"},{"$error":"#N/A"},{"$error":"#N/A"},{"$error":"#N/A"}]
[null,null,null,null,null,null,null,null,null,null,{"$error":"#N/A"},{"$error":"#N/A"},{"$error":"#N/A"},{"$error":"#N/A"},{"$error":"#N/A"}]
[null,null,null,null,null,null,null,null,null,null,{"$error":"#N/A"},{"$error":"#N/A"},{"$error":"#N/A"},{"$error":"#N/A"},{"$error":"#N/A"}]
[null,null,null,null,null,null,null,null,null,null,{"$error":"#N/A"},{"$error":"#N/A"},{"$error":"#N/A"},{"$error":"#N/A"},{"$error":"#N/A"}]
[null,null,null,null,null,null,null,null,null,null,{"$error":"#N/A"},{"$error":"#N/A"},{"$error":"#N/A"},{"$error":"#N/A"},{"$error":"#N/A"}]
[null,null,null,null,null,null,null,null,null,null,{"$error":"#N/A"},{"$error":"#N/A"},{"$error":"#N/A"},{"$error":"#N/A"},{"$error":"#N/A"}]
[null,null,null,null,null,null,null,null,null,null,{"$error":"#N/A"},{"$error":"#N/A"},{"$error":"#N/A"},{"$error":"#N/A"},{"$error":"#N/A"}]
[null,null,null,null,null,null,null,null,null,null,{"$error":"#N/A"},{"$error":"#N/A"},{"$error":"#N/A"},{"$error":"#N/A"},{"$error":"#N/A"}]
[null,null,null,null,null,null,null,null,null,null,{"$error":"#N/A"},{"$error":"#N/A"},{"$error":"#N/A"},{"$error":"#N/A"},{"$error":"#N/A"}]
[null,null,null,null,null,null,null,null,null,null,{"$error":"#N/A"},{"$error":"#N/A"},{"$error":"#N/A"},{"$error":"#N/A"},{"$error":"#N/A"}]
[null,null,null,null,null,null,null,null,null,null,{"$error":"#N/A"},{"$error":"#N/A"},{"$error":"#N/A"},{"$error":"#N/A"},{"$error":"#N/A"}]
[null,null,null,null,null,null,null,null,null,null,{"$error":"#N/A"},{"$error":"#N/A"},{"$error":"#N/A"},{"$error":"#N/A"},{"$error":"#N/A"}]
[null,null,null,null,null,null,null,null,null,null,{"$error":"#N/A"},{"$error":"#N/A"},{"$error":"#N/A"},{"$error":"#N/A"},{"$error":"#N/A"}]
[null,null,null,null,null,null,null,null,null,null,{"$error":"#N/A"},{"$error":"#N/A"},{"$error":"#N/A"},{"$error":"#N/A"},{"$error":"#N/A"}]
[null,null,null,null,null,null,null,null,null,null,{"$error":"#N/A"},{"$error":"#N/A"},{"$error":"#N/A"},{"$error":"#N/A"},{"$error":"#N/A"}]
[null,null,null,null,null,null,null,null,null,null,{"$error":"#N/A"},{"$error":"#N/A"},{"$error":"#N/A"},{"$error":"#N/A"},{"$error":"#N/A"}]
[null,null,null,null,null,null,null,null,null,null,{"$error":"#N/A"},{"$error":"#N/A"},{"$error":"#N/A"},{"$error":"#N/A"},{"$error":"#N/A"}]
[null,null,null,null,null,null,null,null,null,null,{"$error":"#N/A"},{"$error":"#N/A"},{"$error":"#N/A"},{"$error":"#N/A"},{"$error":"#N/A"}]
[null,null,null,null,null,null,null,null,null,null,{"$error":"#N/A"},{"$error":"#N/A"},{"$error":"#N/A"},{"$error":"#N/A"},{"$error":"#N/A"}]
[null,null,null,null,null,null,null,null,null,null,{"$error":"#N/A"},{"$error":"#N/A"},{"$error":"#N/A"},{"$error":"#N/A"},{"$error":"#N/A"}]
[null,null,null,null,null,null,null,null,null,null,{"$error":"#N/A"},{"$error":"#N/A"},{"$error":"#N/A"},{"$error":"#N/A"},{"$error":"#N/A"}]
[null,null,null,null,null,null,null,null,null,null,{"$error":"#N/A"},{"$error":"#N/A"},{"$error":"#N/A"},{"$error":"#N/A"},{"$error":"#N/A"}]
[null,null,null,null,null,null,null,null,null,null,{"$error":"#N/A"},{"$error":"#N/A"},{"$error":"#N/A"},{"$error":"#N/A"},{"$error":"#N/A"}]
[null,null,null,null,null,null,null,null,null,null,{"$error":"#N/A"},{"$error":"#N/A"},{"$error":"#N/A"},{"$error":"#N/A"},{"$error":"#N/A"}]
[null,null,null,null,null,null,null,null,null,null,{"$f":"IF(K16203+$G$19<=$G$18,K16203+$G$19,NA())","v":{"$error":"#N/A"}},{"$error":"#N/A"},{"$error":"#N/A"},{"$error":"#N/A"},{"$error":"#N/A"}]
[null,null,null,null,null,null,null,null,null,null,{"$error":"#N/A"},{"$error":"#N/A"},{"$error":"#N/A"},{"$error":"#N/A"},{"$error":"#N/A"}]
[null,null,null,null,null,null,null,null,null,null,{"$error":"#N/A"},{"$error":"#N/A"},{"$error":"#N/A"},{"$error":"#N/A"},{"$error":"#N/A"}]
[null,null,null,null,null,null,null,null,null,null,{"$error":"#N/A"},{"$f":"IF(ISBLANK(K16269),\"\",$G$11*K16269+$H$11)","v":{"$error":"#N/A"}},{"$f":"IF(ISBLANK(L16269),\"\",$G$12*K16269+$H$12)","v":{"$error":"#N/A"}},{"$error":"#N/A"},{"$f":"IF(ISBLANK(M16269),\"\",$G$14*K16269+$H$14)","v":{"$error":"#N/A"}}]
[null,null,null,null,null,null,null,null,null,null,{"$error":"#N/A"},{"$error":"#N/A"},{"$error":"#N/A"},{"$error":"#N/A"},{"$error":"#N/A"}]
[null,null,null,null,null,null,null,null,null,null,{"$error":"#N/A"},{"$error":"#N/A"},{"$error":"#N/A"},{"$error":"#N/A"},{"$error":"#N/A"}]
[null,null,null,null,null,null,null,null,null,null,{"$error":"#N/A"},{"$error":"#N/A"},{"$error":"#N/A"},{"$error":"#N/A"},{"$error":"#N/A"}]
[null,null,null,null,null,null,null,null,null,null,{"$error":"#N/A"},{"$error":"#N/A"},{"$error":"#N/A"},{"$error":"#N/A"},{"$error":"#N/A"}]
[null,null,null,null,null,null,null,null,null,null,{"$error":"#N/A"},{"$error":"#N/A"},{"$error":"#N/A"},{"$error":"#N/A"},{"$error":"#N/A"}]
[null,null,null,null,null,null,null,null,null,null,{"$error":"#N/A"},{"$error":"#N/A"},{"$error":"#N/A"},{"$error":"#N/A"},{"$error":"#N/A"}]
[null,null,null,null,null,null,null,null,null,null,{"$error":"#N/A"},{"$error":"#N/A"},{"$error":"#N/A"},{"$error":"#N/A"},{"$error":"#N/A"}]
[null,null,null,null,null,null,null,null,null,null,{"$error":"#N/A"},{"$error":"#N/A"},{"$error":"#N/A"},{"$error":"#N/A"},{"$error":"#N/A"}]
[null,null,null,null,null,null,null,null,null,null,{"$error":"#N/A"},{"$error":"#N/A"},{"$error":"#N/A"},{"$error":"#N/A"},{"$error":"#N/A"}]
[null,null,null,null,null,null,null,null,null,null,{"$error":"#N/A"},{"$error":"#N/A"},{"$error":"#N/A"},{"$error":"#N/A"},{"$error":"#N/A"}]
[null,null,null,null,null,null,null,null,null,null,{"$error":"#N/A"},{"$error":"#N/A"},{"$error":"#N/A"},{"$error":"#N/A"},{"$error":"#N/A"}]
[null,null,null,null,null,null,null,null,null,null,{"$error":"#N/A"},{"$error":"#N/A"},{"$error":"#N/A"},{"$error":"#N/A"},{"$error":"#N/A"}]
[null,null,null,null,null,null,null,null,null,null,{"$error":"#N/A"},{"$error":"#N/A"},{"$error":"#N/A"},{"$error":"#N/A"},{"$error":"#N/A"}]
[null,null,null,null,null,null,null,null,null,null,{"$error":"#N/A"},{"$error":"#N/A"},{"$error":"#N/A"},{"$error":"#N/A"},{"$error":"#N/A"}]
[null,null,null,null,null,null,null,null,null,null,{"$error":"#N/A"},{"$error":"#N/A"},{"$error":"#N/A"},{"$error":"#N/A"},{"$error":"#N/A"}]
[null,null,null,null,null,null,null,null,null,null,{"$error":"#N/A"},{"$error":"#N/A"},{"$error":"#N/A"},{"$error":"#N/A"},{"$error":"#N/A"}]
[null,null,null,null,null,null,null,null,null,null,{"$error":"#N/A"},{"$error":"#N/A"},{"$error":"#N/A"},{"$error":"#N/A"},{"$error":"#N/A"}]
[null,null,null,null,null,null,null,null,null,null,{"$error":"#N/A"},{"$error":"#N/A"},{"$error":"#N/A"},{"$error":"#N/A"},{"$error":"#N/A"}]
[null,null,null,null,null,null,null,null,null,null,{"$error":"#N/A"},{"$f":"IF(ISBLANK(K16717),\"\",$G$11*K16717+$H$11)","v":{"$error":"#N/A"}},{"$f":"IF(ISBLANK(L16717),\"\",$G$12*K16717+$H$12)","v":{"$error":"#N/A"}},{"$error":"#N/A"},{"$f":"IF(ISBLANK(M16717),\"\",$G$14*K16717+$H$14)","v":{"$error":"#N/A"}}]
[null,null,null,null,null,null,null,null,null,null,{"$error":"#N/A"},{"$error":"#N/A"},{"$error":"#N/A"},{"$error":"#N/A"},{"$error":"#N/A"}]
[null,null,null,null,null,null,null,null,null,null,{"$error":"#N/A"},{"$error":"#N/A"},{"$error":"#N/A"},{"$error":"#N/A"},{"$error":"#N/A"}]
[null,null,null,null,null,null,null,null,null,null,{"$error":"#N/A"},{"$error":"#N/A"},{"$error":"#N/A"},{"$error":"#N/A"},{"$error":"#N/A"}]
[null,null,null,null,null,null,null,null,null,null,{"$error":"#N/A"},{"$error":"#N/A"},{"$error":"#N/A"},{"$error":"#N/A"},{"$error":"#N/A"}]
[null,null,null,null,null,null,null,null,null,null,{"$error":"#N/A"},{"$error":"#N/A"},{"$error":"#N/A"},{"$error":"#N/A"},{"$error":"#N/A"}]
[null,null,null,null,null,null,null,null,null,null,{"$error":"#N/A"},{"$error":"#N/A"},{"$error":"#N/A"},{"$error":"#N/A"},{"$error":"#N/A"}]
[null,null,null,null,null,null,null,null,null,null,{"$error":"#N/A"},{"$error":"#N/A"},{"$error":"#N/A"},{"$error":"#N/A"},{"$error":"#N/A"}]
[null,null,null,null,null,null,null,null,null,null,{"$error":"#N/A"},{"$error":"#N/A"},{"$error":"#N/A"},{"$f":"IF(ISBLANK(K16907),\"\",$G$13*K16907+$H$13)","v":{"$error":"#N/A"}},{"$error":"#N/A"}]
[null,null,null,null,null,null,null,null,null,null,{"$error":"#N/A"},{"$error":"#N/A"},{"$error":"#N/A"},{"$error":"#N/A"},{"$error":"#N/A"}]
[null,null,null,null,null,null,null,null,null,null,{"$error":"#N/A"},{"$error":"#N/A"},{"$error":"#N/A"},{"$error":"#N/A"},{"$error":"#N/A"}]
[null,null,null,null,null,null,null,null,null,null,{"$error":"#N/A"},{"$f":"IF(ISBLANK(K16973),\"\",$G$11*K16973+$H$11)","v":{"$error":"#N/A"}},{"$f":"IF(ISBLANK(L16973),\"\",$G$12*K16973+$H$12)","v":{"$error":"#N/A"}},{"$error":"#N/A"},{"$f":"IF(ISBLANK(M16973),\"\",$G$14*K16973+$H$14)","v":{"$error":"#N/A"}}]
[null,null,null,null,null,null,null,null,null,null,{"$error":"#N/A"},{"$error":"#N/A"},{"$error":"#N/A"},{"$error":"#N/A"},{"$error":"#N/A"}]
[null,null,null,null,null,null,null,null,null,null,{"$error":"#N/A"},{"$error":"#N/A"},{"$error":"#N/A"},{"$error":"#N/A"},{"$error":"#N/A"}]
[null,null,null,null,null,null,null,null,null,null,{"$error":"#N/A"},{"$error":"#N/A"},{"$error":"#N/A"},{"$error":"#N/A"},{"$error":"#N/A"}]
[null,null,null,null,null,null,null,null,null,null,{"$error":"#N/A"},{"$error":"#N/A"},{"$error":"#N/A"},{"$error":"#N/A"},{"$error":"#N/A"}]
[null,null,null,null,null,null,null,null,null,null,{"$error":"#N/A"},{"$error":"#N/A"},{"$error":"#N/A"},{"$error":"#N/A"},{"$error":"#N/A"}]
[null,null,null,null,null,null,null,null,null,null,{"$error":"#N/A"},{"$error":"#N/A"},{"$error":"#N/A"},{"$error":"#N/A"},{"$error":"#N/A"}]
[null,null,null,null,null,null,null,null,null,null,{"$error":"#N/A"},{"$error":"#N/A"},{"$error":"#N/A"},{"$error":"#N/A"},{"$error":"#N/A"}]
[null,null,null,null,null,null,null,null,null,null,{"$error":"#N/A"},{"$error":"#N/A"},{"$error":"#N/A"},{"$f":"IF(ISBLANK(K17163),\"\",$G$13*K17163+$H$13)","v":{"$error":"#N/A"}},{"$error":"#N/A"}]
[null,null,null,null,null,null,null,null,null,null,{"$error":"#N/A"},{"$error":"#N/A"},{"$error":"#N/A"},{"$error":"#N/A"},{"$error":"#N/A"}]
[null,null,null,null,null,null,null,null,null,null,{"$error":"#N/A"},{"$error":"#N/A"},{"$error":"#N/A"},{"$error":"#N/A"},{"$error":"#N/A"}]
[null,null,null,null,null,null,null,null,null,null,{"$error":"#N/A"},{"$f":"IF(ISBLANK(K17229),\"\",$G$11*K17229+$H$11)","v":{"$error":"#N/A"}},{"$f":"IF(ISBLANK(L17229),\"\",$G$12*K17229+$H$12)","v":{"$error":"#N/A"}},{"$error":"#N/A"},{"$f":"IF(ISBLANK(M17229),\"\",$G$14*K17229+$H$14)","v":{"$error":"#N/A"}}]
[null,null,null,null,null,null,null,null,null,null,{"$error":"#N/A"},{"$error":"#N/A"},{"$error":"#N/A"},{"$error":"#N/A"},{"$error":"#N/A"}]
[null,null,null,null,null,null,null,null,null,null,{"$error":"#N/A"},{"$error":"#N/A"},{"$error":"#N/A"},{"$error":"#N/A"},{"$error":"#N/A"}]
[null,null,null,null,null,null,null,null,null,null,{"$error":"#N/A"},{"$error":"#N/A"},{"$error":"#N/A"},{"$error":"#N/A"},{"$error":"#N/A"}]
[null,null,null,null,null,null,null,null,null,null,{"$error":"#N/A"},{"$error":"#N/A"},{"$error":"#N/A"},{"$error":"#N/A"},{"$error":"#N/A"}]
[null,null,null,null,null,null,null,null,null,null,{"$error":"#N/A"},{"$error":"#N/A"},{"$error":"#N/A"},{"$error":"#N/A"},{"$error":"#N/A"}]
[null,null,null,null,null,null,null,null,null,null,{"$error":"#N/A"},{"$error":"#N/A"},{"$error":"#N/A"},{"$error":"#N/A"},{"$error":"#N/A"}]
[null,null,null,null,null,null,null,null,null,null,{"$error":"#N/A"},{"$error":"#N/A"},{"$error":"#N/A"},{"$error":"#N/A"},{"$error":"#N/A"}]
[null,null,null,null,null,null,null,null,null,null,{"$error":"#N/A"},{"$error":"#N/A"},{"$error":"#N/A"},{"$f":"IF(ISBLANK(K17419),\"\",$G$13*K17419+$H$13)","v":{"$error":"#N/A"}},{"$error":"#N/A"}]
[null,null,null,null,null,null,null,null,null,null,{"$error":"#N/A"},{"$error":"#N/A"},{"$error":"#N/A"},{"$error":"#N/A"},{"$error":"#N/A"}]
[null,null,null,null,null,null,null,null,null,null,{"$error":"#N/A"},{"$error":"#N/A"},{"$error":"#N/A"},{"$error":"#N/A"},{"$error":"#N/A"}]
[null,null,null,null,null,null,null,null,null,null,{"$error":"#N/A"},{"$error":"#N/A"},{"$error":"#N/A"},{"$error":"#N/A"},{"$error":"#N/A"}]
[null,null,null,null,null,null,null,null,null,null,{"$error":"#N/A"},{"$error":"#N/A"},{"$error":"#N/A"},{"$error":"#N/A"},{"$error":"#N/A"}]
[null,null,null,null,null,null,null,null,null,null,{"$error":"#N/A"},{"$error":"#N/A"},{"$error":"#N/A"},{"$error":"#N/A"},{"$error":"#N/A"}]
[null,null,null,null,null,null,null,null,null,null,{"$error":"#N/A"},{"$error":"#N/A"},{"$error":"#N/A"},{"$error":"#N/A"},{"$error":"#N/A"}]
[null,null,null,null,null,null,null,null,null,null,{"$error":"#N/A"},{"$error":"#N/A"},{"$error":"#N/A"},{"$error":"#N/A"},{"$error":"#N/A"}]
[null,null,null,null,null,null,null,null,null,null,{"$error":"#N/A"},{"$error":"#N/A"},{"$error":"#N/A"},{"$f":"IF(ISBLANK(K17611),\"\",$G$13*K17611+$H$13)","v":{"$error":"#N/A"}},{"$error":"#N/A"}]
[null,null,null,null,null,null,null,null,null,null,{"$error":"#N/A"},{"$error":"#N/A"},{"$error":"#N/A"},{"$error":"#N/A"},{"$error":"#N/A"}]
[null,null,null,null,null,null,null,null,null,null,{"$error":"#N/A"},{"$error":"#N/A"},{"$error":"#N/A"},{"$error":"#N/A"},{"$error":"#N/A"}]
[null,null,null,null,null,null,null,null,null,null,{"$error":"#N/A"},{"$error":"#N/A"},{"$error":"#N/A"},{"$error":"#N/A"},{"$error":"#N/A"}]
[null,null,null,null,null,null,null,null,null,null,{"$error":"#N/A"},{"$error":"#N/A"},{"$error":"#N/A"},{"$error":"#N/A"},{"$error":"#N/A"}]
[null,null,null,null,null,null,null,null,null,null,{"$error":"#N/A"},{"$error":"#N/A"},{"$error":"#N/A"},{"$error":"#N/A"},{"$error":"#N/A"}]
[null,null,null,null,null,null,null,null,null,null,{"$error":"#N/A"},{"$error":"#N/A"},{"$error":"#N/A"},{"$error":"#N/A"},{"$error":"#N/A"}]
[null,null,null,null,null,null,null,null,null,null,{"$error":"#N/A"},{"$error":"#N/A"},{"$error":"#N/A"},{"$error":"#N/A"},{"$error":"#N/A"}]
[null,null,null,null,null,null,null,null,null,null,{"$error":"#N/A"},{"$error":"#N/A"},{"$error":"#N/A"},{"$error":"#N/A"},{"$error":"#N/A"}]
[null,null,null,null,null,null,null,null,null,null,{"$error":"#N/A"},{"$error":"#N/A"},{"$error":"#N/A"},{"$error":"#N/A"},{"$error":"#N/A"}]
[null,null,null,null,null,null,null,null,null,null,{"$error":"#N/A"},{"$error":"#N/A"},{"$error":"#N/A"},{"$error":"#N/A"},{"$error":"#N/A"}]
[null,null,null,null,null,null,null,null,null,null,{"$error":"#N/A"},{"$error":"#N/A"},{"$error":"#N/A"},{"$error":"#N/A"},{"$error":"#N/A"}]
[null,null,null,null,null,null,null,null,null,null,{"$error":"#N/A"},{"$error":"#N/A"},{"$error":"#N/A"},{"$error":"#N/A"},{"$error":"#N/A"}]
[null,null,null,null,null,null,null,null,null,null,{"$error":"#N/A"},{"$error":"#N/A"},{"$error":"#N/A"},{"$error":"#N/A"},{"$error":"#N/A"}]
[null,null,null,null,null,null,null,null,null,null,{"$error":"#N/A"},{"$error":"#N/A"},{"$error":"#N/A"},{"$error":"#N/A"},{"$error":"#N/A"}]
[null,null,null,null,null,null,null,null,null,null,{"$error":"#N/A"},{"$error":"#N/A"},{"$error":"#N/A"},{"$error":"#N/A"},{"$error":"#N/A"}]
[null,null,null,null,null,null,null,null,null,null,{"$error":"#N/A"},{"$error":"#N/A"},{"$error":"#N/A"},{"$error":"#N/A"},{"$error":"#N/A"}]
[null,null,null,null,null,null,null,null,null,null,{"$error":"#N/A"},{"$error":"#N/A"},{"$error":"#N/A"},{"$error":"#N/A"},{"$error":"#N/A"}]
[null,null,null,null,null,null,null,null,null,null,{"$error":"#N/A"},{"$error":"#N/A"},{"$error":"#N/A"},{"$error":"#N/A"},{"$error":"#N/A"}]
[null,null,null,null,null,null,null,null,null,null,{"$error":"#N/A"},{"$error":"#N/A"},{"$error":"#N/A"},{"$error":"#N/A"},{"$error":"#N/A"}]
[null,null,null,null,null,null,null,null,null,null,{"$error":"#N/A"},{"$error":"#N/A"},{"$error":"#N/A"},{"$error":"#N/A"},{"$error":"#N/A"}]
[null,null,null,null,null,null,null,null,null,null,{"$error":"#N/A"},{"$error":"#N/A"},{"$error":"#N/A"},{"$error":"#N/A"},{"$error":"#N/A"}]
[null,null,null,null,null,null,null,null,null,null,{"$error":"#N/A"},{"$error":"#N/A"},{"$error":"#N/A"},{"$error":"#N/A"},{"$error":"#N/A"}]
[null,null,null,null,null,null,null,null,null,null,{"$error":"#N/A"},{"$error":"#N/A"},{"$error":"#N/A"},{"$error":"#N/A"},{"$error":"#N/A"}]
[null,null,null,null,null,null,null,null,null,null,{"$error":"#N/A"},{"$error":"#N/A"},{"$error":"#N/A"},{"$error":"#N/A"},{"$error":"#N/A"}]
[null,null,null,null,null,null,null,null,null,null,{"$error":"#N/A"},{"$error":"#N/A"},{"$error":"#N/A"},{"$error":"#N/A"},{"$error":"#N/A"}]
[null,null,null,null,null,null,null,null,null,null,{"$error":"#N/A"},{"$error":"#N/A"},{"$error":"#N/A"},{"$error":"#N/A"},{"$error":"#N/A"}]
[null,null,null,null,null,null,null,null,null,null,{"$error":"#N/A"},{"$error":"#N/A"},{"$error":"#N/A"},{"$error":"#N/A"},{"$error":"#N/A"}]
[null,null,null,null,null,null,null,null,null,null,{"$error":"#N/A"},{"$error":"#N/A"},{"$error":"#N/A"},{"$error":"#N/A"},{"$error":"#N/A"}]
[null,null,null,null,null,null,null,null,null,null,{"$error":"#N/A"},{"$error":"#N/A"},{"$error":"#N/A"},{"$error":"#N/A"},{"$error":"#N/A"}]
[null,null,null,null,null,null,null,null,null,null,{"$error":"#N/A"},{"$error":"#N/A"},{"$error":"#N/A"},{"$error":"#N/A"},{"$error":"#N/A"}]
[null,null,null,null,null,null,null,null,null,null,{"$error":"#N/A"},{"$error":"#N/A"},{"$error":"#N/A"},{"$error":"#N/A"},{"$error":"#N/A"}]
[null,null,null,null,null,null,null,null,null,null,{"$f":"IF(K18379+$G$19<=$G$18,K18379+$G$19,NA())","v":{"$error":"#N/A"}},{"$error":"#N/A"},{"$error":"#N/A"},{"$error":"#N/A"},{"$error":"#N/A"}]
[null,null,null,null,null,null,null,null,null,null,{"$error":"#N/A"},{"$error":"#N/A"},{"$error":"#N/A"},{"$error":"#N/A"},{"$error":"#N/A"}]
[null,null,null,null,null,null,null,null,null,null,{"$error":"#N/A"},{"$error":"#N/A"},{"$error":"#N/A"},{"$error":"#N/A"},{"$error":"#N/A"}]
[null,null,null,null,null,null,null,null,null,null,{"$error":"#N/A"},{"$error":"#N/A"},{"$error":"#N/A"},{"$error":"#N/A"},{"$error":"#N/A"}]
[null,null,null,null,null,null,null,null,null,null,{"$error":"#N/A"},{"$error":"#N/A"},{"$error":"#N/A"},{"$error":"#N/A"},{"$error":"#N/A"}]
[null,null,null,null,null,null,null,null,null,null,{"$error":"#N/A"},{"$f":"IF(ISBLANK(K18509),\"\",$G$11*K18509+$H$11)","v":{"$error":"#N/A"}},{"$f":"IF(ISBLANK(L18509),\"\",$G$12*K18509+$H$12)","v":{"$error":"#N/A"}},{"$error":"#N/A"},{"$f":"IF(ISBLANK(M18509),\"\",$G$14*K18509+$H$14)","v":{"$error":"#N/A"}}]
[null,null,null,null,null,null,null,null,null,null,{"$error":"#N/A"},{"$error":"#N/A"},{"$error":"#N/A"},{"$error":"#N/A"},{"$error":"#N/A"}]
[null,null,null,null,null,null,null,null,null,null,{"$error":"#N/A"},{"$error":"#N/A"},{"$error":"#N/A"},{"$error":"#N/A"},{"$error":"#N/A"}]
[null,null,null,null,null,null,null,null,null,null,{"$error":"#N/A"},{"$error":"#N/A"},{"$error":"#N/A"},{"$error":"#N/A"},{"$error":"#N/A"}]
[null,null,null,null,null,null,null,null,null,null,{"$error":"#N/A"},{"$error":"#N/A"},{"$error":"#N/A"},{"$error":"#N/A"},{"$error":"#N/A"}]
[null,null,null,null,null,null,null,null,null,null,{"$error":"#N/A"},{"$error":"#N/A"},{"$error":"#N/A"},{"$error":"#N/A"},{"$error":"#N/A"}]
[null,null,null,null,null,null,null,null,null,null,{"$error":"#N/A"},{"$error":"#N/A"},{"$error":"#N/A"},{"$error":"#N/A"},{"$error":"#N/A"}]
[null,null,null,null,null,null,null,null,null,null,{"$error":"#N/A"},{"$error":"#N/A"},{"$error":"#N/A"},{"$error":"#N/A"},{"$error":"#N/A"}]
[null,null,null,null,null,null,null,null,null,null,{"$error":"#N/A"},{"$error":"#N/A"},{"$error":"#N/A"},{"$error":"#N/A"},{"$error":"#N/A"}]
[null,null,null,null,null,null,null,null,null,null,{"$error":"#N/A"},{"$error":"#N/A"},{"$error":"#N/A"},{"$error":"#N/A"},{"$error":"#N/A"}]
[null,null,null,null,null,null,null,null,null,null,{"$error":"#N/A"},{"$error":"#N/A"},{"$error":"#N/A"},{"$error":"#N/A"},{"$error":"#N/A"}]
[null,null,null,null,null,null,null,null,null,null,{"$error":"#N/A"},{"$error":"#N/A"},{"$error":"#N/A"},{"$error":"#N/A"},{"$error":"#N/A"}]
[null,null,null,null,null,null,null,null,null,null,{"$error":"#N/A"},{"$error":"#N/A"},{"$error":"#N/A"},{"$error":"#N/A"},{"$error":"#N/A"}]
[null,null,null,null,null,null,null,null,null,null,{"$error":"#N/A"},{"$error":"#N/A"},{"$error":"#N/A"},{"$error":"#N/A"},{"$error":"#N/A"}]
[null,null,null,null,null,null,null,null,null,null,{"$error":"#N/A"},{"$error":"#N/A"},{"$error":"#N/A"},{"$error":"#N/A"},{"$error":"#N/A"}]
[null,null,null,null,null,null,null,null,null,null,{"$error":"#N/A"},{"$error":"#N/A"},{"$error":"#N/A"},{"$error":"#N/A"},{"$error":"#N/A"}]
[null,null,null,null,null,null,null,null,null,null,{"$error":"#N/A"},{"$error":"#N/A"},{"$error":"#N/A"},{"$error":"#N/A"},{"$error":"#N/A"}]
[null,null,null,null,null,null,null,null,null,null,{"$error":"#N/A"},{"$error":"#N/A"},{"$error":"#N/A"},{"$error":"#N/A"},{"$error":"#N/A"}]
[null,null,null,null,null,null,null,null,null,null,{"$error":"#N/A"},{"$error":"#N/A"},{"$error":"#N/A"},{"$error":"#N/A"},{"$error":"#N/A"}]
[null,null,null,null,null,null,null,null,null,null,{"$f":"IF(K18955+$G$19<=$G$18,K18955+$G$19,NA())","v":{"$error":"#N/A"}},{"$error":"#N/A"},{"$error":"#N/A"},{"$error":"#N/A"},{"$error":"#N/A"}]
[null,null,null,null,null,null,null,null,null,null,{"$error":"#N/A"},{"$error":"#N/A"},{"$error":"#N/A"},{"$error":"#N/A"},{"$error":"#N/A"}]
[null,null,null,null,null,null,null,null,null,null,{"$error":"#N/A"},{"$error":"#N/A"},{"$error":"#N/A"},{"$error":"#N/A"},{"$error":"#N/A"}]
[null,null,null,null,null,null,null,null,null,null,{"$error":"#N/A"},{"$error":"#N/A"},{"$error":"#N/A"},{"$error":"#N/A"},{"$error":"#N/A"}]
[null,null,null,null,null,null,null,null,null,null,{"$error":"#N/A"},{"$error":"#N/A"},{"$error":"#N/A"},{"$error":"#N/A"},{"$error":"#N/A"}]
[null,null,null,null,null,null,null,null,null,null,{"$error":"#N/A"},{"$error":"#N/A"},{"$error":"#N/A"},{"$error":"#N/A"},{"$error":"#N/A"}]
[null,null,null,null,null,null,null,null,null,null,{"$error":"#N/A"},{"$error":"#N/A"},{"$error":"#N/A"},{"$error":"#N/A"},{"$error":"#N/A"}]
[null,null,null,null,null,null,null,null,null,null,{"$error":"#N/A"},{"$error":"#N/A"},{"$error":"#N/A"},{"$error":"#N/A"},{"$error":"#N/A"}]
[null,null,null,null,null,null,null,null,null,null,{"$error":"#N/A"},{"$error":"#N/A"},{"$error":"#N/A"},{"$error":"#N/A"},{"$error":"#N/A"}]
[null,null,null,null,null,null,null,null,null,null,{"$error":"#N/A"},{"$error":"#N/A"},{"$error":"#N/A"},{"$error":"#N/A"},{"$error":"#N/A"}]
[null,null,null,null,null,null,null,null,null,null,{"$error":"#N/A"},{"$error":"#N/A"},{"$error":"#N/A"},{"$error":"#N/A"},{"$error":"#N/A"}]
[null,null,null,null,null,null,null,null,null,null,{"$f":"IF(K19211+$G$19<=$G$18,K19211+$G$19,NA())","v":{"$error":"#N/A"}},{"$error":"#N/A"},{"$error":"#N/A"},{"$error":"#N/A"},{"$error":"#N/A"}]
[null,null,null,null,null,null,null,null,null,null,{"$error":"#N/A"},{"$error":"#N/A"},{"$error":"#N/A"},{"$error":"#N/A"},{"$error":"#N/A"}]
[null,null,null,null,null,null,null,null,null,null,{"$error":"#N/A"},{"$error":"#N/A"},{"$error":"#N/A"},{"$error":"#N/A"},{"$error":"#N/A"}]
[null,null,null,null,null,null,null,null,null,null,{"$error":"#N/A"},{"$error":"#N/A"},{"$error":"#N/A"},{"$error":"#N/A"},{"$error":"#N/A"}]
[null,null,null,null,null,null,null,null,null,null,{"$error":"#N/A"},{"$error":"#N/A"},{"$error":"#N/A"},{"$error":"#N/A"},{"$error":"#N/A"}]
[null,null,null,null,null,null,null,null,null,null,{"$error":"#N/A"},{"$error":"#N/A"},{"$error":"#N/A"},{"$error":"#N/A"},{"$error":"#N/A"}]
[null,null,null,null,null,null,null,null,null,null,{"$error":"#N/A"},{"$error":"#N/A"},{"$error":"#N/A"},{"$error":"#N/A"},{"$error":"#N/A"}]
[null,null,null,null,null,null,null,null,null,null,{"$error":"#N/A"},{"$error":"#N/A"},{"$error":"#N/A"},{"$error":"#N/A"},{"$error":"#N/A"}]
[null,null,null,null,null,null,null,null,null,null,{"$error":"#N/A"},{"$error":"#N/A"},{"$error":"#N/A"},{"$error":"#N/A"},{"$error":"#N/A"}]
[null,null,null,null,null,null,null,null,null,null,{"$error":"#N/A"},{"$error":"#N/A"},{"$error":"#N/A"},{"$error":"#N/A"},{"$error":"#N/A"}]
[null,null,null,null,null,null,null,null,null,null,{"$error":"#N/A"},{"$error":"#N/A"},{"$error":"#N/A"},{"$error":"#N/A"},{"$error":"#N/A"}]
[null,null,null,null,null,null,null,null,null,null,{"$f":"IF(K19467+$G$19<=$G$18,K19467+$G$19,NA())","v":{"$error":"#N/A"}},{"$error":"#N/A"},{"$error":"#N/A"},{"$error":"#N/A"},{"$error":"#N/A"}]
[null,null,null,null,null,null,null,null,null,null,{"$error":"#N/A"},{"$error":"#N/A"},{"$error":"#N/A"},{"$error":"#N/A"},{"$error":"#N/A"}]
[null,null,null,null,null,null,null,null,null,null,{"$error":"#N/A"},{"$error":"#N/A"},{"$error":"#N/A"},{"$error":"#N/A"},{"$error":"#N/A"}]
[null,null,null,null,null,null,null,null,null,null,{"$error":"#N/A"},{"$error":"#N/A"},{"$error":"#N/A"},{"$error":"#N/A"},{"$error":"#N/A"}]
[null,null,null,null,null,null,null,null,null,null,{"$error":"#N/A"},{"$error":"#N/A"},{"$error":"#N/A"},{"$error":"#N/A"},{"$error":"#N/A"}]
[null,null,null,null,null,null,null,null,null,null,{"$error":"#N/A"},{"$error":"#N/A"},{"$error":"#N/A"},{"$error":"#N/A"},{"$error":"#N/A"}]
[null,null,null,null,null,null,null,null,null,null,{"$error":"#N/A"},{"$error":"#N/A"},{"$error":"#N/A"},{"$error":"#N/A"},{"$error":"#N/A"}]
[null,null,null,null,null,null,null,null,null,null,{"$error":"#N/A"},{"$error":"#N/A"},{"$error":"#N/A"},{"$error":"#N/A"},{"$error":"#N/A"}]
[null,null,null,null,null,null,null,null,null,null,{"$error":"#N/A"},{"$error":"#N/A"},{"$error":"#N/A"},{"$error":"#N/A"},{"$error":"#N/A"}]
[null,null,null,null,null,null,null,null,null,null,{"$error":"#N/A"},{"$error":"#N/A"},{"$error":"#N/A"},{"$error":"#N/A"},{"$error":"#N/A"}]
[null,null,null,null,null,null,null,null,null,null,{"$error":"#N/A"},{"$error":"#N/A"},{"$error":"#N/A"},{"$error":"#N/A"},{"$error":"#N/A"}]
[null,null,null,null,null,null,null,null,null,null,{"$error":"#N/A"},{"$error":"#N/A"},{"$error":"#N/A"},{"$error":"#N/A"},{"$error":"#N/A"}]
[null,null,null,null,null,null,null,null,null,null,{"$error":"#N/A"},{"$error":"#N/A"},{"$error":"#N/A"},{"$error":"#N/A"},{"$error":"#N/A"}]
[null,null,null,null,null,null,null,null,null,null,{"$error":"#N/A"},{"$error":"#N/A"},{"$error":"#N/A"},{"$error":"#N/A"},{"$error":"#N/A"}]
[null,null,null,null,null,null,null,null,null,null,{"$error":"#N/A"},{"$error":"#N/A"},{"$error":"#N/A"},{"$error":"#N/A"},{"$error":"#N/A"}]
[null,null,null,null,null,null,null,null,null,null,{"$error":"#N/A"},{"$error":"#N/A"},{"$error":"#N/A"},{"$error":"#N/A"},{"$error":"#N/A"}]
[null,null,null,null,null,null,null,null,null,null,{"$error":"#N/A"},{"$error":"#N/A"},{"$error":"#N/A"},{"$error":"#N/A"},{"$error":"#N/A"}]
[null,null,null,null,null,null,null,null,null,null,{"$error":"#N/A"},{"$error":"#N/A"},{"$error":"#N/A"},{"$error":"#N/A"},{"$error":"#N/A"}]
[null,null,null,null,null,null,null,null,null,null,{"$error":"#N/A"},{"$error":"#N/A"},{"$error":"#N/A"},{"$error":"#N/A"},{"$error":"#N/A"}]
[null,null,null,null,null,null,null,null,null,null,{"$error":"#N/A"},{"$error":"#N/A"},{"$error":"#N/A"},{"$error":"#N/A"},{"$error":"#N/A"}]
[null,null,null,null,null,null,null,null,null,null,{"$error":"#N/A"},{"$error":"#N/A"},{"$error":"#N/A"},{"$error":"#N/A"},{"$error":"#N/A"}]
[null,null,null,null,null,null,null,null,null,null,{"$error":"#N/A"},{"$error":"#N/A"},{"$error":"#N/A"},{"$error":"#N/A"},{"$error":"#N/A"}]
[null,null,null,null,null,null,null,null,null,null,{"$error":"#N/A"},{"$error":"#N/A"},{"$error":"#N/A"},{"$error":"#N/A"},{"$error":"#N/A"}]
[null,null,null,null,null,null,null,null,null,null,{"$error":"#N/A"},{"$error":"#N/A"},{"$error":"#N/A"},{"$error":"#N/A"},{"$error":"#N/A"}]
[null,null,null,null,null,null,null,null,null,null,{"$error":"#N/A"},{"$error":"#N/A"},{"$error":"#N/A"},{"$error":"#N/A"},{"$error":"#N/A"}]
[null,null,null,null,null,null,null,null,null,null,{"$error":"#N/A"},{"$error":"#N/A"},{"$error":"#N/A"},{"$error":"#N/A"},{"$error":"#N/A"}]
[null,null,null,null,null,null,null,null,null,null,{"$error":"#N/A"},{"$error":"#N/A"},{"$error":"#N/A"},{"$error":"#N/A"},{"$error":"#N/A"}]
[null,null,null,null,null,null,null,null,null,null,{"$error":"#N/A"},{"$error":"#N/A"},{"$error":"#N/A"},{"$error":"#N/A"},{"$error":"#N/A"}]
[null,null,null,null,null,null,null,null,null,null,{"$error":"#N/A"},{"$error":"#N/A"},{"$error":"#N/A"},{"$error":"#N/A"},{"$error":"#N/A"}]
[null,null,null,null,null,null,null,null,null,null,{"$error":"#N/A"},{"$error":"#N/A"},{"$error":"#N/A"},{"$error":"#N/A"},{"$error":"#N/A"}]
[null,null,null,null,null,null,null,null,null,null,{"$error":"#N/A"},{"$error":"#N/A"},{"$error":"#N/A"},{"$error":"#N/A"},{"$error":"#N/A"}]
[null,null,null,null,null,null,null,null,null,null,{"$error":"#N/A"},{"$error":"#N/A"},{"$error":"#N/A"},{"$error":"#N/A"},{"$error":"#N/A"}]
[null,null,null,null,null,null,null,null,null,null,{"$error":"#N/A"},{"$error":"#N/A"},{"$error":"#N/A"},{"$error":"#N/A"},{"$error":"#N/A"}]
[null,null,null,null,null,null,null,null,null,null,{"$error":"#N/A"},{"$error":"#N/A"},{"$error":"#N/A"},{"$error":"#N/A"},{"$error":"#N/A"}]
[null,null,null,null,null,null,null,null,null,null,{"$error":"#N/A"},{"$error":"#N/A"},{"$error":"#N/A"},{"$error":"#N/A"},{"$error":"#N/A"}]
[null,null,null,null,null,null,null,null,null,null,{"$error":"#N/A"},{"$error":"#N/A"},{"$error":"#N/A"},{"$error":"#N/A"},{"$error":"#N/A"}]
[null,null,null,null,null,null,null,null,null,null,{"$error":"#N/A"},{"$error":"#N/A"},{"$error":"#N/A"},{"$error":"#N/A"},{"$error":"#N/A"}]
[null,null,null,null,null,null,null,null,null,null,{"$error":"#N/A"},{"$error":"#N/A"},{"$error":"#N/A"},{"$error":"#N/A"},{"$error":"#N/A"}]
[null,null,null,null,null,null,null,null,null,null,{"$error":"#N/A"},{"$error":"#N/A"},{"$error":"#N/A"},{"$error":"#N/A"},{"$error":"#N/A"}]
[null,null,null,null,null,null,null,null,null,null,{"$error":"#N/A"},{"$error":"#N/A"},{"$error":"#N/A"},{"$error":"#N/A"},{"$error":"#N/A"}]
[null,null,null,null,null,null,null,null,null,null,{"$error":"#N/A"},{"$error":"#N/A"},{"$error":"#N/A"},{"$error":"#N/A"},{"$error":"#N/A"}]
[null,null,null,null,null,null,null,null,null,null,{"$error":"#N/A"},{"$error":"#N/A"},{"$error":"#N/A"},{"$error":"#N/A"},{"$error":"#N/A"}]
[null,null,null,null,null,null,null,null,null,null,{"$error":"#N/A"},{"$error":"#N/A"},{"$error":"#N/A"},{"$error":"#N/A"},{"$error":"#N/A"}]
[null,null,null,null,null,null,null,null,null,null,{"$error":"#N/A"},{"$error":"#N/A"},{"$error":"#N/A"},{"$error":"#N/A"},{"$error":"#N/A"}]
[null,null,null,null,null,null,null,null,null,null,{"$error":"#N/A"},{"$error":"#N/A"},{"$error":"#N/A"},{"$error":"#N/A"},{"$error":"#N/A"}]
[null,null,null,null,null,null,null,null,null,null,{"$error":"#N/A"},{"$error":"#N/A"},{"$error":"#N/A"},{"$error":"#N/A"},{"$error":"#N/A"}]
[null,null,null,null,null,null,null,null,null,null,{"$error":"#N/A"},{"$error":"#N/A"},{"$error":"#N/A"},{"$error":"#N/A"},{"$error":"#N/A"}]
[null,null,null,null,null,null,null,null,null,null,{"$error":"#N/A"},{"$error":"#N/A"},{"$error":"#N/A"},{"$error":"#N/A"},{"$error":"#N/A"}]
[null,null,null,null,null,null,null,null,null,null,{"$error":"#N/A"},{"$error":"#N/A"},{"$error":"#N/A"},{"$error":"#N/A"},{"$error":"#N/A"}]
[null,null,null,null,null,null,null,null,null,null,{"$error":"#N/A"},{"$error":"#N/A"},{"$error":"#N/A"},{"$error":"#N/A"},{"$error":"#N/A"}]
[null,null,null,null,null,null,null,null,null,null,{"$error":"#N/A"},{"$error":"#N/A"},{"$error":"#N/A"},{"$error":"#N/A"},{"$error":"#N/A"}]
[null,null,null,null,null,null,null,null,null,null,{"$error":"#N/A"},{"$error":"#N/A"},{"$error":"#N/A"},{"$error":"#N/A"},{"$error":"#N/A"}]
[null,null,null,null,null,null,null,null,null,null,{"$error":"#N/A"},{"$error":"#N/A"},{"$error":"#N/A"},{"$error":"#N/A"},{"$error":"#N/A"}]
[null,null,null,null,null,null,null,null,null,null,{"$error":"#N/A"},{"$error":"#N/A"},{"$error":"#N/A"},{"$error":"#N/A"},{"$error":"#N/A"}]
[null,null,null,null,null,null,null,null,null,null,{"$error":"#N/A"},{"$error":"#N/A"},{"$error":"#N/A"},{"$error":"#N/A"},{"$error":"#N/A"}]
[null,null,null,null,null,null,null,null,null,null,{"$error":"#N/A"},{"$error":"#N/A"},{"$error":"#N/A"},{"$error":"#N/A"},{"$error":"#N/A"}]
[null,null,null,null,null,null,null,null,null,null,{"$error":"#N/A"},{"$error":"#N/A"},{"$error":"#N/A"},{"$error":"#N/A"},{"$error":"#N/A"}]
[null,null,null,null,null,null,null,null,null,null,{"$error":"#N/A"},{"$error":"#N/A"},{"$error":"#N/A"},{"$error":"#N/A"},{"$error":"#N/A"}]
[null,null,null,null,null,null,null,null,null,null,{"$error":"#N/A"},{"$error":"#N/A"},{"$error":"#N/A"},{"$error":"#N/A"},{"$error":"#N/A"}]
[null,null,null,null,null,null,null,null,null,null,{"$error":"#N/A"},{"$error":"#N/A"},{"$error":"#N/A"},{"$error":"#N/A"},{"$error":"#N/A"}]
[null,null,null,null,null,null,null,null,null,null,{"$error":"#N/A"},{"$error":"#N/A"},{"$error":"#N/A"},{"$error":"#N/A"},{"$error":"#N/A"}]
[null,null,null,null,null,null,null,null,null,null,{"$error":"#N/A"},{"$error":"#N/A"},{"$error":"#N/A"},{"$error":"#N/A"},{"$error":"#N/A"}]
[null,null,null,null,null,null,null,null,null,null,{"$error":"#N/A"},{"$error":"#N/A"},{"$error":"#N/A"},{"$error":"#N/A"},{"$error":"#N/A"}]
[null,null,null,null,null,null,null,null,null,null,{"$error":"#N/A"},{"$error":"#N/A"},{"$error":"#N/A"},{"$error":"#N/A"},{"$error":"#N/A"}]
[null,null,null,null,null,null,null,null,null,null,{"$error":"#N/A"},{"$error":"#N/A"},{"$error":"#N/A"},{"$error":"#N/A"},{"$error":"#N/A"}]
[null,null,null,null,null,null,null,null,null,null,{"$error":"#N/A"},{"$error":"#N/A"},{"$error":"#N/A"},{"$error":"#N/A"},{"$error":"#N/A"}]
[null,null,null,null,null,null,null,null,null,null,{"$error":"#N/A"},{"$error":"#N/A"},{"$error":"#N/A"},{"$error":"#N/A"},{"$error":"#N/A"}]
[null,null,null,null,null,null,null,null,null,null,{"$error":"#N/A"},{"$error":"#N/A"},{"$error":"#N/A"},{"$error":"#N/A"},{"$error":"#N/A"}]
[null,null,null,null,null,null,null,null,null,null,{"$error":"#N/A"},{"$error":"#N/A"},{"$error":"#N/A"},{"$error":"#N/A"},{"$error":"#N/A"}]
[null,null,null,null,null,null,null,null,null,null,{"$error":"#N/A"},{"$error":"#N/A"},{"$error":"#N/A"},{"$error":"#N/A"},{"$error":"#N/A"}]
[null,null,null,null,null,null,null,null,null,null,{"$error":"#N/A"},{"$error":"#N/A"},{"$error":"#N/A"},{"$error":"#N/A"},{"$error":"#N/A"}]
[null,null,null,null,null,null,null,null,null,null,{"$error":"#N/A"},{"$error":"#N/A"},{"$error":"#N/A"},{"$error":"#N/A"},{"$error":"#N/A"}]
[null,null,null,null,null,null,null,null,null,null,{"$error":"#N/A"},{"$error":"#N/A"},{"$error":"#N/A"},{"$error":"#N/A"},{"$error":"#N/A"}]
[null,null,null,null,null,null,null,null,null,null,{"$error":"#N/A"},{"$error":"#N/A"},{"$error":"#N/A"},{"$error":"#N/A"},{"$error":"#N/A"}]
[null,null,null,null,null,null,null,null,null,null,{"$error":"#N/A"},{"$error":"#N/A"},{"$error":"#N/A"},{"$error":"#N/A"},{"$error":"#N/A"}]
[null,null,null,null,null,null,null,null,null,null,{"$error":"#N/A"},{"$f":"IF(ISBLANK(K21261),\"\",$G$11*K21261+$H$11)","v":{"$error":"#N/A"}},{"$f":"IF(ISBLANK(L21261),\"\",$G$12*K21261+$H$12)","v":{"$error":"#N/A"}},{"$error":"#N/A"},{"$f":"IF(ISBLANK(M21261),\"\",$G$14*K21261+$H$14)","v":{"$error":"#N/A"}}]
[null,null,null,null,null,null,null,null,null,null,{"$error":"#N/A"},{"$error":"#N/A"},{"$error":"#N/A"},{"$error":"#N/A"},{"$error":"#N/A"}]
[null,null,null,null,null,null,null,null,null,null,{"$error":"#N/A"},{"$error":"#N/A"},{"$error":"#N/A"},{"$error":"#N/A"},{"$error":"#N/A"}]
[null,null,null,null,null,null,null,null,null,null,{"$error":"#N/A"},{"$error":"#N/A"},{"$error":"#N/A"},{"$error":"#N/A"},{"$error":"#N/A"}]
[null,null,null,null,null,null,null,null,null,null,{"$error":"#N/A"},{"$error":"#N/A"},{"$error":"#N/A"},{"$error":"#N/A"},{"$error":"#N/A"}]
[null,null,null,null,null,null,null,null,null,null,{"$error":"#N/A"},{"$error":"#N/A"},{"$error":"#N/A"},{"$error":"#N/A"},{"$error":"#N/A"}]
[null,null,null,null,null,null,null,null,null,null,{"$error":"#N/A"},{"$error":"#N/A"},{"$error":"#N/A"},{"$error":"#N/A"},{"$error":"#N/A"}]
[null,null,null,null,null,null,null,null,null,null,{"$error":"#N/A"},{"$error":"#N/A"},{"$error":"#N/A"},{"$error":"#N/A"},{"$error":"#N/A"}]
[null,null,null,null,null,null,null,null,null,null,{"$error":"#N/A"},{"$error":"#N/A"},{"$error":"#N/A"},{"$f":"IF(ISBLANK(K21451),\"\",$G$13*K21451+$H$13)","v":{"$error":"#N/A"}},{"$error":"#N/A"}]
[null,null,null,null,null,null,null,null,null,null,{"$error":"#N/A"},{"$error":"#N/A"},{"$error":"#N/A"},{"$error":"#N/A"},{"$error":"#N/A"}]
[null,null,null,null,null,null,null,null,null,null,{"$error":"#N/A"},{"$error":"#N/A"},{"$error":"#N/A"},{"$error":"#N/A"},{"$error":"#N/A"}]
[null,null,null,null,null,null,null,null,null,null,{"$error":"#N/A"},{"$f":"IF(ISBLANK(K21517),\"\",$G$11*K21517+$H$11)","v":{"$error":"#N/A"}},{"$f":"IF(ISBLANK(L21517),\"\",$G$12*K21517+$H$12)","v":{"$error":"#N/A"}},{"$error":"#N/A"},{"$f":"IF(ISBLANK(M21517),\"\",$G$14*K21517+$H$14)","v":{"$error":"#N/A"}}]
[null,null,null,null,null,null,null,null,null,null,{"$error":"#N/A"},{"$error":"#N/A"},{"$error":"#N/A"},{"$error":"#N/A"},{"$error":"#N/A"}]
[null,null,null,null,null,null,null,null,null,null,{"$error":"#N/A"},{"$error":"#N/A"},{"$error":"#N/A"},{"$error":"#N/A"},{"$error":"#N/A"}]
[null,null,null,null,null,null,null,null,null,null,{"$error":"#N/A"},{"$f":"IF(ISBLANK(K21581),\"\",$G$11*K21581+$H$11)","v":{"$error":"#N/A"}},{"$f":"IF(ISBLANK(L21581),\"\",$G$12*K21581+$H$12)","v":{"$error":"#N/A"}},{"$error":"#N/A"},{"$f":"IF(ISBLANK(M21581),\"\",$G$14*K21581+$H$14)","v":{"$error":"#N/A"}}]
[null,null,null,null,null,null,null,null,null,null,{"$error":"#N/A"},{"$error":"#N/A"},{"$error":"#N/A"},{"$error":"#N/A"},{"$error":"#N/A"}]
[null,null,null,null,null,null,null,null,null,null,{"$error":"#N/A"},{"$error":"#N/A"},{"$error":"#N/A"},{"$error":"#N/A"},{"$error":"#N/A"}]
[null,null,null,null,null,null,null,null,null,null,{"$error":"#N/A"},{"$error":"#N/A"},{"$error":"#N/A"},{"$error":"#N/A"},{"$error":"#N/A"}]
[null,null,null,null,null,null,null,null,null,null,{"$error":"#N/A"},{"$error":"#N/A"},{"$error":"#N/A"},{"$error":"#N/A"},{"$error":"#N/A"}]
[null,null,null,null,null,null,null,null,null,null,{"$error":"#N/A"},{"$error":"#N/A"},{"$error":"#N/A"},{"$f":"IF(ISBLANK(K21707),\"\",$G$13*K21707+$H$13)","v":{"$error":"#N/A"}},{"$error":"#N/A"}]
[null,null,null,null,null,null,null,null,null,null,{"$error":"#N/A"},{"$error":"#N/A"},{"$error":"#N/A"},{"$error":"#N/A"},{"$error":"#N/A"}]
[null,null,null,null,null,null,null,null,null,null,{"$error":"#N/A"},{"$error":"#N/A"},{"$error":"#N/A"},{"$error":"#N/A"},{"$error":"#N/A"}]
[null,null,null,null,null,null,null,null,null,null,{"$error":"#N/A"},{"$error":"#N/A"},{"$error":"#N/A"},{"$error":"#N/A"},{"$error":"#N/A"}]
[null,null,null,null,null,null,null,null,null,null,{"$error":"#N/A"},{"$error":"#N/A"},{"$error":"#N/A"},{"$error":"#N/A"},{"$error":"#N/A"}]
[null,null,null,null,null,null,null,null,null,null,{"$error":"#N/A"},{"$error":"#N/A"},{"$error":"#N/A"},{"$error":"#N/A"},{"$error":"#N/A"}]
[null,null,null,null,null,null,null,null,null,null,{"$error":"#N/A"},{"$error":"#N/A"},{"$error":"#N/A"},{"$error":"#N/A"},{"$error":"#N/A"}]
[null,null,null,null,null,null,null,null,null,null,{"$error":"#N/A"},{"$error":"#N/A"},{"$error":"#N/A"},{"$error":"#N/A"},{"$error":"#N/A"}]
[null,null,null,null,null,null,null,null,null,null,{"$error":"#N/A"},{"$error":"#N/A"},{"$error":"#N/A"},{"$error":"#N/A"},{"$error":"#N/A"}]
[null,null,null,null,null,null,null,null,null,null,{"$error":"#N/A"},{"$error":"#N/A"},{"$error":"#N/A"},{"$error":"#N/A"},{"$error":"#N/A"}]
[null,null,null,null,null,null,null,null,null,null,{"$error":"#N/A"},{"$error":"#N/A"},{"$error":"#N/A"},{"$error":"#N/A"},{"$error":"#N/A"}]
[null,null,null,null,null,null,null,null,null,null,{"$error":"#N/A"},{"$error":"#N/A"},{"$error":"#N/A"},{"$error":"#N/A"},{"$error":"#N/A"}]
[null,null,null,null,null,null,null,null,null,null,{"$error":"#N/A"},{"$error":"#N/A"},{"$error":"#N/A"},{"$error":"#N/A"},{"$error":"#N/A"}]
[null,null,null,null,null,null,null,null,null,null,{"$error":"#N/A"},{"$error":"#N/A"},{"$error":"#N/A"},{"$error":"#N/A"},{"$error":"#N/A"}]
[null,null,null,null,null,null,null,null,null,null,{"$error":"#N/A"},{"$error":"#N/A"},{"$error":"#N/A"},{"$error":"#N/A"},{"$error":"#N/A"}]
[null,null,null,null,null,null,null,null,null,null,{"$error":"#N/A"},{"$error":"#N/A"},{"$error":"#N/A"},{"$error":"#N/A"},{"$error":"#N/A"}]
[null,null,null,null,null,null,null,null,null,null,{"$error":"#N/A"},{"$error":"#N/A"},{"$error":"#N/A"},{"$error":"#N/A"},{"$error":"#N/A"}]
[null,null,null,null,null,null,null,null,null,null,{"$error":"#N/A"},{"$error":"#N/A"},{"$error":"#N/A"},{"$error":"#N/A"},{"$error":"#N/A"}]
[null,null,null,null,null,null,null,null,null,null,{"$error":"#N/A"},{"$error":"#N/A"},{"$error":"#N/A"},{"$error":"#N/A"},{"$error":"#N/A"}]
[null,null,null,null,null,null,null,null,null,null,{"$error":"#N/A"},{"$error":"#N/A"},{"$error":"#N/A"},{"$error":"#N/A"},{"$error":"#N/A"}]
[null,null,null,null,null,null,null,null,null,null,{"$error":"#N/A"},{"$error":"#N/A"},{"$error":"#N/A"},{"$error":"#N/A"},{"$error":"#N/A"}]
[null,null,null,null,null,null,null,null,null,null,{"$error":"#N/A"},{"$error":"#N/A"},{"$error":"#N/A"},{"$error":"#N/A"},{"$error":"#N/A"}]
[null,null,null,null,null,null,null,null,null,null,{"$error":"#N/A"},{"$error":"#N/A"},{"$error":"#N/A"},{"$error":"#N/A"},{"$error":"#N/A"}]
[null,null,null,null,null,null,null,null,null,null,{"$error":"#N/A"},{"$error":"#N/A"},{"$error":"#N/A"},{"$error":"#N/A"},{"$error":"#N/A"}]
[null,null,null,null,null,null,null,null,null,null,{"$error":"#N/A"},{"$error":"#N/A"},{"$error":"#N/A"},{"$error":"#N/A"},{"$error":"#N/A"}]
[null,null,null,null,null,null,null,null,null,null,{"$error":"#N/A"},{"$error":"#N/A"},{"$error":"#N/A"},{"$error":"#N/A"},{"$error":"#N/A"}]
[null,null,null,null,null,null,null,null,null,null,{"$error":"#N/A"},{"$error":"#N/A"},{"$error":"#N/A"},{"$error":"#N/A"},{"$error":"#N/A"}]
[null,null,null,null,null,null,null,null,null,null,{"$error":"#N/A"},{"$error":"#N/A"},{"$error":"#N/A"},{"$error":"#N/A"},{"$error":"#N/A"}]
[null,null,null,null,null,null,null,null,null,null,{"$error":"#N/A"},{"$error":"#N/A"},{"$error":"#N/A"},{"$error":"#N/A"},{"$error":"#N/A"}]
[null,null,null,null,null,null,null,null,null,null,{"$error":"#N/A"},{"$error":"#N/A"},{"$error":"#N/A"},{"$error":"#N/A"},{"$error":"#N/A"}]
[null,null,null,null,null,null,null,null,null,null,{"$error":"#N/A"},{"$error":"#N/A"},{"$error":"#N/A"},{"$error":"#N/A"},{"$error":"#N/A"}]
[null,null,null,null,null,null,null,null,null,null,{"$error":"#N/A"},{"$error":"#N/A"},{"$error":"#N/A"},{"$error":"#N/A"},{"$error":"#N/A"}]
[null,null,null,null,null,null,null,null,null,null,{"$f":"IF(K22475+$G$19<=$G$18,K22475+$G$19,NA())","v":{"$error":"#N/A"}},{"$error":"#N/A"},{"$error":"#N/A"},{"$error":"#N/A"},{"$error":"#N/A"}]
[null,null,null,null,null,null,null,null,null,null,{"$error":"#N/A"},{"$error":"#N/A"},{"$error":"#N/A"},{"$error":"#N/A"},{"$error":"#N/A"}]
[null,null,null,null,null,null,null,null,null,null,{"$error":"#N/A"},{"$error":"#N/A"},{"$error":"#N/A"},{"$error":"#N/A"},{"$error":"#N/A"}]
[null,null,null,null,null,null,null,null,null,null,{"$error":"#N/A"},{"$error":"#N/A"},{"$error":"#N/A"},{"$error":"#N/A"},{"$error":"#N/A"}]
[null,null,null,null,null,null,null,null,null,null,{"$error":"#N/A"},{"$error":"#N/A"},{"$error":"#N/A"},{"$error":"#N/A"},{"$error":"#N/A"}]
[null,null,null,null,null,null,null,null,null,null,{"$error":"#N/A"},{"$error":"#N/A"},{"$error":"#N/A"},{"$error":"#N/A"},{"$error":"#N/A"}]
[null,null,null,null,null,null,null,null,null,null,{"$error":"#N/A"},{"$error":"#N/A"},{"$error":"#N/A"},{"$error":"#N/A"},{"$error":"#N/A"}]
[null,null,null,null,null,null,null,null,null,null,{"$error":"#N/A"},{"$error":"#N/A"},{"$error":"#N/A"},{"$error":"#N/A"},{"$error":"#N/A"}]
[null,null,null,null,null,null,null,null,null,null,{"$error":"#N/A"},{"$error":"#N/A"},{"$error":"#N/A"},{"$error":"#N/A"},{"$error":"#N/A"}]
[null,null,null,null,null,null,null,null,null,null,{"$error":"#N/A"},{"$error":"#N/A"},{"$error":"#N/A"},{"$error":"#N/A"},{"$error":"#N/A"}]
[null,null,null,null,null,null,null,null,null,null,{"$error":"#N/A"},{"$error":"#N/A"},{"$error":"#N/A"},{"$error":"#N/A"},{"$error":"#N/A"}]
[null,null,null,null,null,null,null,null,null,null,{"$error":"#N/A"},{"$error":"#N/A"},{"$error":"#N/A"},{"$error":"#N/A"},{"$error":"#N/A"}]
[null,null,null,null,null,null,null,null,null,null,{"$error":"#N/A"},{"$error":"#N/A"},{"$error":"#N/A"},{"$error":"#N/A"},{"$error":"#N/A"}]
[null,null,null,null,null,null,null,null,null,null,{"$error":"#N/A"},{"$error":"#N/A"},{"$error":"#N/A"},{"$error":"#N/A"},{"$error":"#N/A"}]
[null,null,null,null,null,null,null,null,null,null,{"$error":"#N/A"},{"$error":"#N/A"},{"$error":"#N/A"},{"$error":"#N/A"},{"$error":"#N/A"}]
[null,null,null,null,null,null,null,null,null,null,{"$error":"#N/A"},{"$error":"#N/A"},{"$error":"#N/A"},{"$error":"#N/A"},{"$error":"#N/A"}]
[null,null,null,null,null,null,null,null,null,null,{"$error":"#N/A"},{"$error":"#N/A"},{"$error":"#N/A"},{"$error":"#N/A"},{"$error":"#N/A"}]
[null,null,null,null,null,null,null,null,null,null,{"$error":"#N/A"},{"$error":"#N/A"},{"$error":"#N/A"},{"$error":"#N/A"},{"$error":"#N/A"}]
[null,null,null,null,null,null,null,null,null,null,{"$error":"#N/A"},{"$error":"#N/A"},{"$error":"#N/A"},{"$error":"#N/A"},{"$error":"#N/A"}]
[null,null,null,null,null,null,null,null,null,null,{"$error":"#N/A"},{"$error":"#N/A"},{"$error":"#N/A"},{"$error":"#N/A"},{"$error":"#N/A"}]
[null,null,null,null,null,null,null,null,null,null,{"$error":"#N/A"},{"$error":"#N/A"},{"$error":"#N/A"},{"$error":"#N/A"},{"$error":"#N/A"}]
[null,null,null,null,null,null,null,null,null,null,{"$error":"#N/A"},{"$error":"#N/A"},{"$error":"#N/A"},{"$error":"#N/A"},{"$error":"#N/A"}]
[null,null,null,null,null,null,null,null,null,null,{"$error":"#N/A"},{"$error":"#N/A"},{"$error":"#N/A"},{"$error":"#N/A"},{"$error":"#N/A"}]
[null,null,null,null,null,null,null,null,null,null,{"$error":"#N/A"},{"$error":"#N/A"},{"$error":"#N/A"},{"$error":"#N/A"},{"$error":"#N/A"}]
[null,null,null,null,null,null,null,null,null,null,{"$error":"#N/A"},{"$error":"#N/A"},{"$error":"#N/A"},{"$error":"#N/A"},{"$error":"#N/A"}]
[null,null,null,null,null,null,null,null,null,null,{"$error":"#N/A"},{"$error":"#N/A"},{"$error":"#N/A"},{"$error":"#N/A"},{"$error":"#N/A"}]
[null,null,null,null,null,null,null,null,null,null,{"$error":"#N/A"},{"$error":"#N/A"},{"$error":"#N/A"},{"$error":"#N/A"},{"$error":"#N/A"}]
[null,null,null,null,null,null,null,null,null,null,{"$error":"#N/A"},{"$error":"#N/A"},{"$error":"#N/A"},{"$error":"#N/A"},{"$error":"#N/A"}]
[null,null,null,null,null,null,null,null,null,null,{"$error":"#N/A"},{"$error":"#N/A"},{"$error":"#N/A"},{"$error":"#N/A"},{"$error":"#N/A"}]
[null,null,null,null,null,null,null,null,null,null,{"$error":"#N/A"},{"$error":"#N/A"},{"$error":"#N/A"},{"$error":"#N/A"},{"$error":"#N/A"}]
[null,null,null,null,null,null,null,null,null,null,{"$error":"#N/A"},{"$error":"#N/A"},{"$error":"#N/A"},{"$error":"#N/A"},{"$error":"#N/A"}]
[null,null,null,null,null,null,null,null,null,null,{"$error":"#N/A"},{"$error":"#N/A"},{"$error":"#N/A"},{"$error":"#N/A"},{"$error":"#N/A"}]
[null,null,null,null,null,null,null,null,null,null,{"$error":"#N/A"},{"$error":"#N/A"},{"$error":"#N/A"},{"$error":"#N/A"},{"$error":"#N/A"}]
[null,null,null,null,null,null,null,null,null,null,{"$error":"#N/A"},{"$error":"#N/A"},{"$error":"#N/A"},{"$error":"#N/A"},{"$error":"#N/A"}]
[null,null,null,null,null,null,null,null,null,null,{"$error":"#N/A"},{"$error":"#N/A"},{"$error":"#N/A"},{"$error":"#N/A"},{"$error":"#N/A"}]
[null,null,null,null,null,null,null,null,null,null,{"$error":"#N/A"},{"$error":"#N/A"},{"$error":"#N/A"},{"$error":"#N/A"},{"$error":"#N/A"}]
[null,null,null,null,null,null,null,null,null,null,{"$error":"#N/A"},{"$error":"#N/A"},{"$error":"#N/A"},{"$error":"#N/A"},{"$error":"#N/A"}]
[null,null,null,null,null,null,null,null,null,null,{"$error":"#N/A"},{"$error":"#N/A"},{"$error":"#N/A"},{"$error":"#N/A"},{"$error":"#N/A"}]
[null,null,null,null,null,null,null,null,null,null,{"$error":"#N/A"},{"$error":"#N/A"},{"$error":"#N/A"},{"$error":"#N/A"},{"$error":"#N/A"}]
[null,null,null,null,null,null,null,null,null,null,{"$error":"#N/A"},{"$error":"#N/A"},{"$error":"#N/A"},{"$error":"#N/A"},{"$error":"#N/A"}]
[null,null,null,null,null,null,null,null,null,null,{"$error":"#N/A"},{"$error":"#N/A"},{"$error":"#N/A"},{"$error":"#N/A"},{"$error":"#N/A"}]
[null,null,null,null,null,null,null,null,null,null,{"$error":"#N/A"},{"$error":"#N/A"},{"$error":"#N/A"},{"$error":"#N/A"},{"$error":"#N/A"}]
[null,null,null,null,null,null,null,null,null,null,{"$error":"#N/A"},{"$error":"#N/A"},{"$error":"#N/A"},{"$error":"#N/A"},{"$error":"#N/A"}]
[null,null,null,null,null,null,null,null,null,null,{"$error":"#N/A"},{"$error":"#N/A"},{"$error":"#N/A"},{"$error":"#N/A"},{"$error":"#N/A"}]
[null,null,null,null,null,null,null,null,null,null,{"$error":"#N/A"},{"$error":"#N/A"},{"$error":"#N/A"},{"$error":"#N/A"},{"$error":"#N/A"}]
[null,null,null,null,null,null,null,null,null,null,{"$error":"#N/A"},{"$error":"#N/A"},{"$error":"#N/A"},{"$error":"#N/A"},{"$error":"#N/A"}]
[null,null,null,null,null,null,null,null,null,null,{"$error":"#N/A"},{"$error":"#N/A"},{"$error":"#N/A"},{"$error":"#N/A"},{"$error":"#N/A"}]
[null,null,null,null,null,null,null,null,null,null,{"$error":"#N/A"},{"$error":"#N/A"},{"$error":"#N/A"},{"$error":"#N/A"},{"$error":"#N/A"}]
[null,null,null,null,null,null,null,null,null,null,{"$error":"#N/A"},{"$error":"#N/A"},{"$error":"#N/A"},{"$error":"#N/A"},{"$error":"#N/A"}]
[null,null,null,null,null,null,null,null,null,null,{"$error":"#N/A"},{"$error":"#N/A"},{"$error":"#N/A"},{"$error":"#N/A"},{"$error":"#N/A"}]
[null,null,null,null,null,null,null,null,null,null,{"$error":"#N/A"},{"$error":"#N/A"},{"$error":"#N/A"},{"$error":"#N/A"},{"$error":"#N/A"}]
[null,null,null,null,null,null,null,null,null,null,{"$error":"#N/A"},{"$error":"#N/A"},{"$error":"#N/A"},{"$error":"#N/A"},{"$error":"#N/A"}]
[null,null,null,null,null,null,null,null,null,null,{"$error":"#N/A"},{"$error":"#N/A"},{"$error":"#N/A"},{"$error":"#N/A"},{"$error":"#N/A"}]
[null,null,null,null,null,null,null,null,null,null,{"$error":"#N/A"},{"$error":"#N/A"},{"$error":"#N/A"},{"$error":"#N/A"},{"$error":"#N/A"}]
[null,null,null,null,null,null,null,null,null,null,{"$f":"IF(K23755+$G$19<=$G$18,K23755+$G$19,NA())","v":{"$error":"#N/A"}},{"$error":"#N/A"},{"$error":"#N/A"},{"$error":"#N/A"},{"$error":"#N/A"}]
[null,null,null,null,null,null,null,null,null,null,{"$error":"#N/A"},{"$error":"#N/A"},{"$error":"#N/A"},{"$error":"#N/A"},{"$error":"#N/A"}]
[null,null,null,null,null,null,null,null,null,null,{"$error":"#N/A"},{"$error":"#N/A"},{"$error":"#N/A"},{"$error":"#N/A"},{"$error":"#N/A"}]
[null,null,null,null,null,null,null,null,null,null,{"$error":"#N/A"},{"$error":"#N/A"},{"$error":"#N/A"},{"$error":"#N/A"},{"$error":"#N/A"}]
[null,null,null,null,null,null,null,null,null,null,{"$error":"#N/A"},{"$error":"#N/A"},{"$error":"#N/A"},{"$error":"#N/A"},{"$error":"#N/A"}]
[null,null,null,null,null,null,null,null,null,null,{"$error":"#N/A"},{"$error":"#N/A"},{"$error":"#N/A"},{"$error":"#N/A"},{"$error":"#N/A"}]
[null,null,null,null,null,null,null,null,null,null,{"$error":"#N/A"},{"$error":"#N/A"},{"$error":"#N/A"},{"$error":"#N/A"},{"$error":"#N/A"}]
[null,null,null,null,null,null,null,null,null,null,{"$error":"#N/A"},{"$error":"#N/A"},{"$error":"#N/A"},{"$error":"#N/A"},{"$error":"#N/A"}]
[null,null,null,null,null,null,null,null,null,null,{"$error":"#N/A"},{"$error":"#N/A"},{"$error":"#N/A"},{"$error":"#N/A"},{"$error":"#N/A"}]
[null,null,null,null,null,null,null,null,null,null,{"$error":"#N/A"},{"$error":"#N/A"},{"$error":"#N/A"},{"$error":"#N/A"},{"$error":"#N/A"}]
[null,null,null,null,null,null,null,null,null,null,{"$error":"#N/A"},{"$error":"#N/A"},{"$error":"#N/A"},{"$error":"#N/A"},{"$error":"#N/A"}]
[null,null,null,null,null,null,null,null,null,null,{"$error":"#N/A"},{"$error":"#N/A"},{"$error":"#N/A"},{"$error":"#N/A"},{"$error":"#N/A"}]
[null,null,null,null,null,null,null,null,null,null,{"$error":"#N/A"},{"$error":"#N/A"},{"$error":"#N/A"},{"$error":"#N/A"},{"$error":"#N/A"}]
[null,null,null,null,null,null,null,null,null,null,{"$error":"#N/A"},{"$error":"#N/A"},{"$error":"#N/A"},{"$error":"#N/A"},{"$error":"#N/A"}]
[null,null,null,null,null,null,null,null,null,null,{"$error":"#N/A"},{"$error":"#N/A"},{"$error":"#N/A"},{"$error":"#N/A"},{"$error":"#N/A"}]
[null,null,null,null,null,null,null,null,null,null,{"$error":"#N/A"},{"$error":"#N/A"},{"$error":"#N/A"},{"$error":"#N/A"},{"$error":"#N/A"}]
[null,null,null,null,null,null,null,null,null,null,{"$error":"#N/A"},{"$error":"#N/A"},{"$error":"#N/A"},{"$error":"#N/A"},{"$error":"#N/A"}]
[null,null,null,null,null,null,null,null,null,null,{"$error":"#N/A"},{"$error":"#N/A"},{"$error":"#N/A"},{"$error":"#N/A"},{"$error":"#N/A"}]
[null,null,null,null,null,null,null,null,null,null,{"$error":"#N/A"},{"$error":"#N/A"},{"$error":"#N/A"},{"$error":"#N/A"},{"$error":"#N/A"}]
[null,null,null,null,null,null,null,null,null,null,{"$error":"#N/A"},{"$error":"#N/A"},{"$error":"#N/A"},{"$error":"#N/A"},{"$error":"#N/A"}]
[null,null,null,null,null,null,null,null,null,null,{"$error":"#N/A"},{"$error":"#N/A"},{"$error":"#N/A"},{"$error":"#N/A"},{"$error":"#N/A"}]
[null,null,null,null,null,null,null,null,null,null,{"$error":"#N/A"},{"$error":"#N/A"},{"$error":"#N/A"},{"$error":"#N/A"},{"$error":"#N/A"}]
[null,null,null,null,null,null,null,null,null,null,{"$error":"#N/A"},{"$f":"IF(ISBLANK(K24269),\"\",$G$11*K24269+$H$11)","v":{"$error":"#N/A"}},{"$f":"IF(ISBLANK(L24269),\"\",$G$12*K24269+$H$12)","v":{"$error":"#N/A"}},{"$error":"#N/A"},{"$f":"IF(ISBLANK(M24269),\"\",$G$14*K24269+$H$14)","v":{"$error":"#N/A"}}]
[null,null,null,null,null,null,null,null,null,null,{"$error":"#N/A"},{"$error":"#N/A"},{"$error":"#N/A"},{"$error":"#N/A"},{"$error":"#N/A"}]
[null,null,null,null,null,null,null,null,null,null,{"$error":"#N/A"},{"$error":"#N/A"},{"$error":"#N/A"},{"$error":"#N/A"},{"$error":"#N/A"}]
[null,null,null,null,null,null,null,null,null,null,{"$error":"#N/A"},{"$error":"#N/A"},{"$error":"#N/A"},{"$error":"#N/A"},{"$error":"#N/A"}]
[null,null,null,null,null,null,null,null,null,null,{"$error":"#N/A"},{"$error":"#N/A"},{"$error":"#N/A"},{"$error":"#N/A"},{"$error":"#N/A"}]
[null,null,null,null,null,null,null,null,null,null,{"$error":"#N/A"},{"$error":"#N/A"},{"$error":"#N/A"},{"$error":"#N/A"},{"$error":"#N/A"}]
[null,null,null,null,null,null,null,null,null,null,{"$error":"#N/A"},{"$error":"#N/A"},{"$error":"#N/A"},{"$error":"#N/A"},{"$error":"#N/A"}]
[null,null,null,null,null,null,null,null,null,null,{"$error":"#N/A"},{"$error":"#N/A"},{"$error":"#N/A"},{"$error":"#N/A"},{"$error":"#N/A"}]
[null,null,null,null,null,null,null,null,null,null,{"$error":"#N/A"},{"$error":"#N/A"},{"$error":"#N/A"},{"$f":"IF(ISBLANK(K24459),\"\",$G$13*K24459+$H$13)","v":{"$error":"#N/A"}},{"$error":"#N/A"}]
[null,null,null,null,null,null,null,null,null,null,{"$error":"#N/A"},{"$error":"#N/A"},{"$error":"#N/A"},{"$error":"#N/A"},{"$error":"#N/A"}]
[null,null,null,null,null,null,null,null,null,null,{"$error":"#N/A"},{"$error":"#N/A"},{"$error":"#N/A"},{"$error":"#N/A"},{"$error":"#N/A"}]
[null,null,null,null,null,null,null,null,null,null,{"$error":"#N/A"},{"$error":"#N/A"},{"$error":"#N/A"},{"$error":"#N/A"},{"$error":"#N/A"}]
[null,null,null,null,null,null,null,null,null,null,{"$error":"#N/A"},{"$error":"#N/A"},{"$error":"#N/A"},{"$error":"#N/A"},{"$error":"#N/A"}]
[null,null,null,null,null,null,null,null,null,null,{"$error":"#N/A"},{"$error":"#N/A"},{"$error":"#N/A"},{"$error":"#N/A"},{"$error":"#N/A"}]
[null,null,null,null,null,null,null,null,null,null,{"$error":"#N/A"},{"$error":"#N/A"},{"$error":"#N/A"},{"$error":"#N/A"},{"$error":"#N/A"}]
[null,null,null,null,null,null,null,null,null,null,{"$error":"#N/A"},{"$error":"#N/A"},{"$error":"#N/A"},{"$error":"#N/A"},{"$error":"#N/A"}]
[null,null,null,null,null,null,null,null,null,null,{"$error":"#N/A"},{"$error":"#N/A"},{"$error":"#N/A"},{"$error":"#N/A"},{"$error":"#N/A"}]
[null,null,null,null,null,null,null,null,null,null,{"$error":"#N/A"},{"$error":"#N/A"},{"$error":"#N/A"},{"$error":"#N/A"},{"$error":"#N/A"}]
[null,null,null,null,null,null,null,null,null,null,{"$error":"#N/A"},{"$error":"#N/A"},{"$error":"#N/A"},{"$error":"#N/A"},{"$error":"#N/A"}]
[null,null,null,null,null,null,null,null,null,null,{"$error":"#N/A"},{"$error":"#N/A"},{"$error":"#N/A"},{"$error":"#N/A"},{"$error":"#N/A"}]
[null,null,null,null,null,null,null,null,null,null,{"$error":"#N/A"},{"$error":"#N/A"},{"$error":"#N/A"},{"$error":"#N/A"},{"$error":"#N/A"}]
[null,null,null,null,null,null,null,null,null,null,{"$error":"#N/A"},{"$error":"#N/A"},{"$error":"#N/A"},{"$error":"#N/A"},{"$error":"#N/A"}]
[null,null,null,null,null,null,null,null,null,null,{"$error":"#N/A"},{"$error":"#N/A"},{"$error":"#N/A"},{"$error":"#N/A"},{"$error":"#N/A"}]
[null,null,null,null,null,null,null,null,null,null,{"$error":"#N/A"},{"$error":"#N/A"},{"$error":"#N/A"},{"$error":"#N/A"},{"$error":"#N/A"}]
[null,null,null,null,null,null,null,null,null,null,{"$error":"#N/A"},{"$error":"#N/A"},{"$error":"#N/A"},{"$error":"#N/A"},{"$error":"#N/A"}]
[null,null,null,null,null,null,null,null,null,null,{"$error":"#N/A"},{"$error":"#N/A"},{"$error":"#N/A"},{"$error":"#N/A"},{"$error":"#N/A"}]
[null,null,null,null,null,null,null,null,null,null,{"$error":"#N/A"},{"$error":"#N/A"},{"$error":"#N/A"},{"$error":"#N/A"},{"$error":"#N/A"}]
[null,null,null,null,null,null,null,null,null,null,{"$error":"#N/A"},{"$error":"#N/A"},{"$error":"#N/A"},{"$error":"#N/A"},{"$error":"#N/A"}]
[null,null,null,null,null,null,null,null,null,null,{"$error":"#N/A"},{"$error":"#N/A"},{"$error":"#N/A"},{"$error":"#N/A"},{"$error":"#N/A"}]
[null,null,null,null,null,null,null,null,null,null,{"$error":"#N/A"},{"$error":"#N/A"},{"$error":"#N/A"},{"$error":"#N/A"},{"$error":"#N/A"}]
[null,null,null,null,null,null,null,null,null,null,{"$error":"#N/A"},{"$error":"#N/A"},{"$error":"#N/A"},{"$error":"#N/A"},{"$error":"#N/A"}]
[null,null,null,null,null,null,null,null,null,null,{"$error":"#N/A"},{"$error":"#N/A"},{"$error":"#N/A"},{"$error":"#N/A"},{"$error":"#N/A"}]
[null,null,null,null,null,null,null,null,null,null,{"$error":"#N/A"},{"$error":"#N/A"},{"$error":"#N/A"},{"$error":"#N/A"},{"$error":"#N/A"}]
[null,null,null,null,null,null,null,null,null,null,{"$error":"#N/A"},{"$error":"#N/A"},{"$error":"#N/A"},{"$error":"#N/A"},{"$error":"#N/A"}]
[null,null,null,null,null,null,null,null,null,null,{"$error":"#N/A"},{"$error":"#N/A"},{"$error":"#N/A"},{"$error":"#N/A"},{"$error":"#N/A"}]
[null,null,null,null,null,null,null,null,null,null,{"$error":"#N/A"},{"$error":"#N/A"},{"$error":"#N/A"},{"$error":"#N/A"},{"$error":"#N/A"}]
[null,null,null,null,null,null,null,null,null,null,{"$error":"#N/A"},{"$error":"#N/A"},{"$error":"#N/A"},{"$error":"#N/A"},{"$error":"#N/A"}]
[null,null,null,null,null,null,null,null,null,null,{"$error":"#N/A"},{"$error":"#N/A"},{"$error":"#N/A"},{"$error":"#N/A"},{"$error":"#N/A"}]
[null,null,null,null,null,null,null,null,null,null,{"$error":"#N/A"},{"$error":"#N/A"},{"$error":"#N/A"},{"$error":"#N/A"},{"$error":"#N/A"}]
[null,null,null,null,null,null,null,null,null,null,{"$error":"#N/A"},{"$error":"#N/A"},{"$error":"#N/A"},{"$error":"#N/A"},{"$error":"#N/A"}]
[null,null,null,null,null,null,null,null,null,null,{"$error":"#N/A"},{"$error":"#N/A"},{"$error":"#N/A"},{"$error":"#N/A"},{"$error":"#N/A"}]
[null,null,null,null,null,null,null,null,null,null,{"$error":"#N/A"},{"$error":"#N/A"},{"$error":"#N/A"},{"$error":"#N/A"},{"$error":"#N/A"}]
[null,null,null,null,null,null,null,null,null,null,{"$error":"#N/A"},{"$error":"#N/A"},{"$error":"#N/A"},{"$error":"#N/A"},{"$error":"#N/A"}]
[null,null,null,null,null,null,null,null,null,null,{"$error":"#N/A"},{"$error":"#N/A"},{"$error":"#N/A"},{"$error":"#N/A"},{"$error":"#N/A"}]
[null,null,null,null,null,null,null,null,null,null,{"$error":"#N/A"},{"$error":"#N/A"},{"$error":"#N/A"},{"$error":"#N/A"},{"$error":"#N/A"}]
[null,null,null,null,null,null,null,null,null,null,{"$error":"#N/A"},{"$error":"#N/A"},{"$error":"#N/A"},{"$error":"#N/A"},{"$error":"#N/A"}]
[null,null,null,null,null,null,null,null,null,null,{"$f":"IF(K25355+$G$19<=$G$18,K25355+$G$19,NA())","v":{"$error":"#N/A"}},{"$error":"#N/A"},{"$error":"#N/A"},{"$error":"#N/A"},{"$error":"#N/A"}]
[null,null,null,null,null,null,null,null,null,null,{"$error":"#N/A"},{"$error":"#N/A"},{"$error":"#N/A"},{"$error":"#N/A"},{"$error":"#N/A"}]
[null,null,null,null,null,null,null,null,null,null,{"$error":"#N/A"},{"$error":"#N/A"},{"$error":"#N/A"},{"$error":"#N/A"},{"$error":"#N/A"}]
[null,null,null,null,null,null,null,null,null,null,{"$error":"#N/A"},{"$error":"#N/A"},{"$error":"#N/A"},{"$error":"#N/A"},{"$error":"#N/A"}]
[null,null,null,null,null,null,null,null,null,null,{"$error":"#N/A"},{"$error":"#N/A"},{"$error":"#N/A"},{"$error":"#N/A"},{"$error":"#N/A"}]
[null,null,null,null,null,null,null,null,null,null,{"$error":"#N/A"},{"$error":"#N/A"},{"$error":"#N/A"},{"$error":"#N/A"},{"$error":"#N/A"}]
[null,null,null,null,null,null,null,null,null,null,{"$error":"#N/A"},{"$error":"#N/A"},{"$error":"#N/A"},{"$error":"#N/A"},{"$error":"#N/A"}]
[null,null,null,null,null,null,null,null,null,null,{"$error":"#N/A"},{"$error":"#N/A"},{"$error":"#N/A"},{"$error":"#N/A"},{"$error":"#N/A"}]
[null,null,null,null,null,null,null,null,null,null,{"$error":"#N/A"},{"$error":"#N/A"},{"$error":"#N/A"},{"$error":"#N/A"},{"$error":"#N/A"}]
[null,null,null,null,null,null,null,null,null,null,{"$error":"#N/A"},{"$error":"#N/A"},{"$error":"#N/A"},{"$error":"#N/A"},{"$error":"#N/A"}]
[null,null,null,null,null,null,null,null,null,null,{"$error":"#N/A"},{"$error":"#N/A"},{"$error":"#N/A"},{"$error":"#N/A"},{"$error":"#N/A"}]
[null,null,null,null,null,null,null,null,null,null,{"$error":"#N/A"},{"$error":"#N/A"},{"$error":"#N/A"},{"$error":"#N/A"},{"$error":"#N/A"}]
[null,null,null,null,null,null,null,null,null,null,{"$error":"#N/A"},{"$error":"#N/A"},{"$error":"#N/A"},{"$error":"#N/A"},{"$error":"#N/A"}]
[null,null,null,null,null,null,null,null,null,null,{"$error":"#N/A"},{"$error":"#N/A"},{"$error":"#N/A"},{"$error":"#N/A"},{"$error":"#N/A"}]
[null,null,null,null,null,null,null,null,null,null,{"$error":"#N/A"},{"$error":"#N/A"},{"$error":"#N/A"},{"$error":"#N/A"},{"$error":"#N/A"}]
[null,null,null,null,null,null,null,null,null,null,{"$error":"#N/A"},{"$error":"#N/A"},{"$error":"#N/A"},{"$error":"#N/A"},{"$error":"#N/A"}]
[null,null,null,null,null,null,null,null,null,null,{"$error":"#N/A"},{"$error":"#N/A"},{"$error":"#N/A"},{"$error":"#N/A"},{"$error":"#N/A"}]
[null,null,null,null,null,null,null,null,null,null,{"$error":"#N/A"},{"$error":"#N/A"},{"$error":"#N/A"},{"$error":"#N/A"},{"$error":"#N/A"}]
[null,null,null,null,null,null,null,null,null,null,{"$error":"#N/A"},{"$error":"#N/A"},{"$error":"#N/A"},{"$error":"#N/A"},{"$error":"#N/A"}]
[null,null,null,null,null,null,null,null,null,null,{"$error":"#N/A"},{"$error":"#N/A"},{"$error":"#N/A"},{"$error":"#N/A"},{"$error":"#N/A"}]
[null,null,null,null,null,null,null,null,null,null,{"$error":"#N/A"},{"$error":"#N/A"},{"$error":"#N/A"},{"$error":"#N/A"},{"$error":"#N/A"}]
[null,null,null,null,null,null,null,null,null,null,{"$error":"#N/A"},{"$error":"#N/A"},{"$error":"#N/A"},{"$error":"#N/A"},{"$error":"#N/A"}]
[null,null,null,null,null,null,null,null,null,null,{"$error":"#N/A"},{"$error":"#N/A"},{"$error":"#N/A"},{"$error":"#N/A"},{"$error":"#N/A"}]
[null,null,null,null,null,null,null,null,null,null,{"$error":"#N/A"},{"$error":"#N/A"},{"$error":"#N/A"},{"$error":"#N/A"},{"$error":"#N/A"}]
[null,null,null,null,null,null,null,null,null,null,{"$error":"#N/A"},{"$error":"#N/A"},{"$error":"#N/A"},{"$error":"#N/A"},{"$error":"#N/A"}]
[null,null,null,null,null,null,null,null,null,null,{"$error":"#N/A"},{"$error":"#N/A"},{"$error":"#N/A"},{"$error":"#N/A"},{"$error":"#N/A"}]
[null,null,null,null,null,null,null,null,null,null,{"$error":"#N/A"},{"$error":"#N/A"},{"$error":"#N/A"},{"$error":"#N/A"},{"$error":"#N/A"}]
[null,null,null,null,null,null,null,null,null,null,{"$error":"#N/A"},{"$error":"#N/A"},{"$error":"#N/A"},{"$error":"#N/A"},{"$error":"#N/A"}]
[null,null,null,null,null,null,null,null,null,null,{"$error":"#N/A"},{"$error":"#N/A"},{"$error":"#N/A"},{"$error":"#N/A"},{"$error":"#N/A"}]
[null,null,null,null,null,null,null,null,null,null,{"$error":"#N/A"},{"$error":"#N/A"},{"$error":"#N/A"},{"$error":"#N/A"},{"$error":"#N/A"}]
[null,null,null,null,null,null,null,null,null,null,{"$error":"#N/A"},{"$error":"#N/A"},{"$error":"#N/A"},{"$error":"#N/A"},{"$error":"#N/A"}]
[null,null,null,null,null,null,null,null,null,null,{"$error":"#N/A"},{"$error":"#N/A"},{"$error":"#N/A"},{"$error":"#N/A"},{"$error":"#N/A"}]
[null,null,null,null,null,null,null,null,null,null,{"$error":"#N/A"},{"$error":"#N/A"},{"$error":"#N/A"},{"$error":"#N/A"},{"$error":"#N/A"}]
[null,null,null,null,null,null,null,null,null,null,{"$error":"#N/A"},{"$error":"#N/A"},{"$error":"#N/A"},{"$error":"#N/A"},{"$error":"#N/A"}]
[null,null,null,null,null,null,null,null,null,null,{"$error":"#N/A"},{"$error":"#N/A"},{"$error":"#N/A"},{"$error":"#N/A"},{"$error":"#N/A"}]
[null,null,null,null,null,null,null,null,null,null,{"$error":"#N/A"},{"$error":"#N/A"},{"$error":"#N/A"},{"$error":"#N/A"},{"$error":"#N/A"}]
[null,null,null,null,null,null,null,null,null,null,{"$error":"#N/A"},{"$error":"#N/A"},{"$error":"#N/A"},{"$error":"#N/A"},{"$error":"#N/A"}]
[null,null,null,null,null,null,null,null,null,null,{"$error":"#N/A"},{"$error":"#N/A"},{"$error":"#N/A"},{"$f":"IF(ISBLANK(K26251),\"\",$G$13*K26251+$H$13)","v":{"$error":"#N/A"}},{"$error":"#N/A"}]
[null,null,null,null,null,null,null,null,null,null,{"$error":"#N/A"},{"$error":"#N/A"},{"$error":"#N/A"},{"$error":"#N/A"},{"$error":"#N/A"}]
[null,null,null,null,null,null,null,null,null,null,{"$error":"#N/A"},{"$error":"#N/A"},{"$error":"#N/A"},{"$error":"#N/A"},{"$error":"#N/A"}]
[null,null,null,null,null,null,null,null,null,null,{"$error":"#N/A"},{"$error":"#N/A"},{"$error":"#N/A"},{"$error":"#N/A"},{"$error":"#N/A"}]
[null,null,null,null,null,null,null,null,null,null,{"$error":"#N/A"},{"$error":"#N/A"},{"$error":"#N/A"},{"$error":"#N/A"},{"$error":"#N/A"}]
[null,null,null,null,null,null,null,null,null,null,{"$error":"#N/A"},{"$error":"#N/A"},{"$error":"#N/A"},{"$error":"#N/A"},{"$error":"#N/A"}]
[null,null,null,null,null,null,null,null,null,null,{"$error":"#N/A"},{"$error":"#N/A"},{"$error":"#N/A"},{"$error":"#N/A"},{"$error":"#N/A"}]
[null,null,null,null,null,null,null,null,null,null,{"$error":"#N/A"},{"$error":"#N/A"},{"$error":"#N/A"},{"$error":"#N/A"},{"$error":"#N/A"}]
[null,null,null,null,null,null,null,null,null,null,{"$error":"#N/A"},{"$error":"#N/A"},{"$error":"#N/A"},{"$error":"#N/A"},{"$error":"#N/A"}]
[null,null,null,null,null,null,null,null,null,null,{"$error":"#N/A"},{"$error":"#N/A"},{"$error":"#N/A"},{"$error":"#N/A"},{"$error":"#N/A"}]
[null,null,null,null,null,null,null,null,null,null,{"$error":"#N/A"},{"$error":"#N/A"},{"$error":"#N/A"},{"$error":"#N/A"},{"$error":"#N/A"}]
[null,null,null,null,null,null,null,null,null,null,{"$f":"IF(K26507+$G$19<=$G$18,K26507+$G$19,NA())","v":{"$error":"#N/A"}},{"$error":"#N/A"},{"$error":"#N/A"},{"$error":"#N/A"},{"$error":"#N/A"}]
[null,null,null,null,null,null,null,null,null,null,{"$error":"#N/A"},{"$error":"#N/A"},{"$error":"#N/A"},{"$error":"#N/A"},{"$error":"#N/A"}]
[null,null,null,null,null,null,null,null,null,null,{"$error":"#N/A"},{"$error":"#N/A"},{"$error":"#N/A"},{"$error":"#N/A"},{"$error":"#N/A"}]
[null,null,null,null,null,null,null,null,null,null,{"$error":"#N/A"},{"$error":"#N/A"},{"$error":"#N/A"},{"$error":"#N/A"},{"$error":"#N/A"}]
[null,null,null,null,null,null,null,null,null,null,{"$error":"#N/A"},{"$error":"#N/A"},{"$error":"#N/A"},{"$error":"#N/A"},{"$error":"#N/A"}]
[null,null,null,null,null,null,null,null,null,null,{"$error":"#N/A"},{"$error":"#N/A"},{"$error":"#N/A"},{"$error":"#N/A"},{"$error":"#N/A"}]
[null,null,null,null,null,null,null,null,null,null,{"$error":"#N/A"},{"$error":"#N/A"},{"$error":"#N/A"},{"$error":"#N/A"},{"$error":"#N/A"}]
[null,null,null,null,null,null,null,null,null,null,{"$error":"#N/A"},{"$error":"#N/A"},{"$error":"#N/A"},{"$error":"#N/A"},{"$error":"#N/A"}]
[null,null,null,null,null,null,null,null,null,null,{"$error":"#N/A"},{"$error":"#N/A"},{"$error":"#N/A"},{"$error":"#N/A"},{"$error":"#N/A"}]
[null,null,null,null,null,null,null,null,null,null,{"$error":"#N/A"},{"$error":"#N/A"},{"$error":"#N/A"},{"$error":"#N/A"},{"$error":"#N/A"}]
[null,null,null,null,null,null,null,null,null,null,{"$error":"#N/A"},{"$error":"#N/A"},{"$error":"#N/A"},{"$error":"#N/A"},{"$error":"#N/A"}]
[null,null,null,null,null,null,null,null,null,null,{"$error":"#N/A"},{"$error":"#N/A"},{"$error":"#N/A"},{"$error":"#N/A"},{"$error":"#N/A"}]
[null,null,null,null,null,null,null,null,null,null,{"$error":"#N/A"},{"$error":"#N/A"},{"$error":"#N/A"},{"$error":"#N/A"},{"$error":"#N/A"}]
[null,null,null,null,null,null,null,null,null,null,{"$error":"#N/A"},{"$error":"#N/A"},{"$error":"#N/A"},{"$error":"#N/A"},{"$error":"#N/A"}]
[null,null,null,null,null,null,null,null,null,null,{"$error":"#N/A"},{"$error":"#N/A"},{"$error":"#N/A"},{"$error":"#N/A"},{"$error":"#N/A"}]
[null,null,null,null,null,null,null,null,null,null,{"$error":"#N/A"},{"$error":"#N/A"},{"$error":"#N/A"},{"$error":"#N/A"},{"$error":"#N/A"}]
[null,null,null,null,null,null,null,null,null,null,{"$error":"#N/A"},{"$error":"#N/A"},{"$error":"#N/A"},{"$error":"#N/A"},{"$error":"#N/A"}]
[null,null,null,null,null,null,null,null,null,null,{"$error":"#N/A"},{"$error":"#N/A"},{"$error":"#N/A"},{"$error":"#N/A"},{"$error":"#N/A"}]
[null,null,null,null,null,null,null,null,null,null,{"$error":"#N/A"},{"$error":"#N/A"},{"$error":"#N/A"},{"$error":"#N/A"},{"$error":"#N/A"}]
[null,null,null,null,null,null,null,null,null,null,{"$error":"#N/A"},{"$error":"#N/A"},{"$error":"#N/A"},{"$error":"#N/A"},{"$error":"#N/A"}]
[null,null,null,null,null,null,null,null,null,null,{"$error":"#N/A"},{"$error":"#N/A"},{"$error":"#N/A"},{"$error":"#N/A"},{"$error":"#N/A"}]
[null,null,null,null,null,null,null,null,null,null,{"$error":"#N/A"},{"$error":"#N/A"},{"$error":"#N/A"},{"$error":"#N/A"},{"$error":"#N/A"}]
[null,null,null,null,null,null,null,null,null,null,{"$f":"IF(K27019+$G$19<=$G$18,K27019+$G$19,NA())","v":{"$error":"#N/A"}},{"$error":"#N/A"},{"$error":"#N/A"},{"$error":"#N/A"},{"$error":"#N/A"}]
[null,null,null,null,null,null,null,null,null,null,{"$error":"#N/A"},{"$error":"#N/A"},{"$error":"#N/A"},{"$error":"#N/A"},{"$error":"#N/A"}]
[null,null,null,null,null,null,null,null,null,null,{"$error":"#N/A"},{"$error":"#N/A"},{"$error":"#N/A"},{"$error":"#N/A"},{"$error":"#N/A"}]
[null,null,null,null,null,null,null,null,null,null,{"$error":"#N/A"},{"$error":"#N/A"},{"$error":"#N/A"},{"$error":"#N/A"},{"$error":"#N/A"}]
[null,null,null,null,null,null,null,null,null,null,{"$error":"#N/A"},{"$error":"#N/A"},{"$error":"#N/A"},{"$error":"#N/A"},{"$error":"#N/A"}]
[null,null,null,null,null,null,null,null,null,null,{"$error":"#N/A"},{"$error":"#N/A"},{"$error":"#N/A"},{"$error":"#N/A"},{"$error":"#N/A"}]
[null,null,null,null,null,null,null,null,null,null,{"$error":"#N/A"},{"$error":"#N/A"},{"$error":"#N/A"},{"$error":"#N/A"},{"$error":"#N/A"}]
[null,null,null,null,null,null,null,null,null,null,{"$error":"#N/A"},{"$error":"#N/A"},{"$error":"#N/A"},{"$error":"#N/A"},{"$error":"#N/A"}]
[null,null,null,null,null,null,null,null,null,null,{"$error":"#N/A"},{"$error":"#N/A"},{"$error":"#N/A"},{"$error":"#N/A"},{"$error":"#N/A"}]
[null,null,null,null,null,null,null,null,null,null,{"$error":"#N/A"},{"$error":"#N/A"},{"$error":"#N/A"},{"$error":"#N/A"},{"$error":"#N/A"}]
[null,null,null,null,null,null,null,null,null,null,{"$error":"#N/A"},{"$error":"#N/A"},{"$error":"#N/A"},{"$error":"#N/A"},{"$error":"#N/A"}]
[null,null,null,null,null,null,null,null,null,null,{"$error":"#N/A"},{"$error":"#N/A"},{"$error":"#N/A"},{"$error":"#N/A"},{"$error":"#N/A"}]
[null,null,null,null,null,null,null,null,null,null,{"$error":"#N/A"},{"$error":"#N/A"},{"$error":"#N/A"},{"$error":"#N/A"},{"$error":"#N/A"}]
[null,null,null,null,null,null,null,null,null,null,{"$error":"#N/A"},{"$error":"#N/A"},{"$error":"#N/A"},{"$error":"#N/A"},{"$error":"#N/A"}]
[null,null,null,null,null,null,null,null,null,null,{"$error":"#N/A"},{"$error":"#N/A"},{"$error":"#N/A"},{"$error":"#N/A"},{"$error":"#N/A"}]
[null,null,null,null,null,null,null,null,null,null,{"$error":"#N/A"},{"$error":"#N/A"},{"$error":"#N/A"},{"$error":"#N/A"},{"$error":"#N/A"}]
[null,null,null,null,null,null,null,null,null,null,{"$error":"#N/A"},{"$error":"#N/A"},{"$error":"#N/A"},{"$error":"#N/A"},{"$error":"#N/A"}]
[null,null,null,null,null,null,null,null,null,null,{"$error":"#N/A"},{"$error":"#N/A"},{"$error":"#N/A"},{"$error":"#N/A"},{"$error":"#N/A"}]
[null,null,null,null,null,null,null,null,null,null,{"$error":"#N/A"},{"$error":"#N/A"},{"$error":"#N/A"},{"$error":"#N/A"},{"$error":"#N/A"}]
[null,null,null,null,null,null,null,null,null,null,{"$error":"#N/A"},{"$error":"#N/A"},{"$error":"#N/A"},{"$error":"#N/A"},{"$error":"#N/A"}]
[null,null,null,null,null,null,null,null,null,null,{"$error":"#N/A"},{"$error":"#N/A"},{"$error":"#N/A"},{"$error":"#N/A"},{"$error":"#N/A"}]
[null,null,null,null,null,null,null,null,null,null,{"$error":"#N/A"},{"$error":"#N/A"},{"$error":"#N/A"},{"$error":"#N/A"},{"$error":"#N/A"}]
[null,null,null,null,null,null,null,null,null,null,{"$error":"#N/A"},{"$error":"#N/A"},{"$error":"#N/A"},{"$error":"#N/A"},{"$error":"#N/A"}]
[null,null,null,null,null,null,null,null,null,null,{"$error":"#N/A"},{"$error":"#N/A"},{"$error":"#N/A"},{"$error":"#N/A"},{"$error":"#N/A"}]
[null,null,null,null,null,null,null,null,null,null,{"$error":"#N/A"},{"$error":"#N/A"},{"$error":"#N/A"},{"$error":"#N/A"},{"$error":"#N/A"}]
[null,null,null,null,null,null,null,null,null,null,{"$error":"#N/A"},{"$error":"#N/A"},{"$error":"#N/A"},{"$error":"#N/A"},{"$error":"#N/A"}]
[null,null,null,null,null,null,null,null,null,null,{"$error":"#N/A"},{"$error":"#N/A"},{"$error":"#N/A"},{"$error":"#N/A"},{"$error":"#N/A"}]
[null,null,null,null,null,null,null,null,null,null,{"$error":"#N/A"},{"$error":"#N/A"},{"$error":"#N/A"},{"$error":"#N/A"},{"$error":"#N/A"}]
[null,null,null,null,null,null,null,null,null,null,{"$error":"#N/A"},{"$error":"#N/A"},{"$error":"#N/A"},{"$error":"#N/A"},{"$error":"#N/A"}]
[null,null,null,null,null,null,null,null,null,null,{"$error":"#N/A"},{"$error":"#N/A"},{"$error":"#N/A"},{"$error":"#N/A"},{"$error":"#N/A"}]
[null,null,null,null,null,null,null,null,null,null,{"$error":"#N/A"},{"$error":"#N/A"},{"$error":"#N/A"},{"$error":"#N/A"},{"$error":"#N/A"}]
[null,null,null,null,null,null,null,null,null,null,{"$error":"#N/A"},{"$error":"#N/A"},{"$error":"#N/A"},{"$error":"#N/A"},{"$error":"#N/A"}]
[null,null,null,null,null,null,null,null,null,null,{"$error":"#N/A"},{"$error":"#N/A"},{"$error":"#N/A"},{"$error":"#N/A"},{"$error":"#N/A"}]
[null,null,null,null,null,null,null,null,null,null,{"$error":"#N/A"},{"$error":"#N/A"},{"$error":"#N/A"},{"$error":"#N/A"},{"$error":"#N/A"}]
[null,null,null,null,null,null,null,null,null,null,{"$error":"#N/A"},{"$error":"#N/A"},{"$error":"#N/A"},{"$error":"#N/A"},{"$error":"#N/A"}]
[null,null,null,null,null,null,null,null,null,null,{"$error":"#N/A"},{"$error":"#N/A"},{"$error":"#N/A"},{"$error":"#N/A"},{"$error":"#N/A"}]
[null,null,null,null,null,null,null,null,null,null,{"$error":"#N/A"},{"$error":"#N/A"},{"$error":"#N/A"},{"$error":"#N/A"},{"$error":"#N/A"}]
[null,null,null,null,null,null,null,null,null,null,{"$error":"#N/A"},{"$error":"#N/A"},{"$error":"#N/A"},{"$error":"#N/A"},{"$error":"#N/A"}]
[null,null,null,null,null,null,null,null,null,null,{"$error":"#N/A"},{"$error":"#N/A"},{"$error":"#N/A"},{"$error":"#N/A"},{"$error":"#N/A"}]
[null,null,null,null,null,null,null,null,null,null,{"$error":"#N/A"},{"$error":"#N/A"},{"$error":"#N/A"},{"$error":"#N/A"},{"$error":"#N/A"}]
[null,null,null,null,null,null,null,null,null,null,{"$error":"#N/A"},{"$error":"#N/A"},{"$error":"#N/A"},{"$error":"#N/A"},{"$error":"#N/A"}]
[null,null,null,null,null,null,null,null,null,null,{"$error":"#N/A"},{"$error":"#N/A"},{"$error":"#N/A"},{"$error":"#N/A"},{"$error":"#N/A"}]
[null,null,null,null,null,null,null,null,null,null,{"$error":"#N/A"},{"$error":"#N/A"},{"$error":"#N/A"},{"$error":"#N/A"},{"$error":"#N/A"}]
[null,null,null,null,null,null,null,null,null,null,{"$error":"#N/A"},{"$error":"#N/A"},{"$error":"#N/A"},{"$error":"#N/A"},{"$error":"#N/A"}]
[null,null,null,null,null,null,null,null,null,null,{"$error":"#N/A"},{"$error":"#N/A"},{"$error":"#N/A"},{"$error":"#N/A"},{"$error":"#N/A"}]
[null,null,null,null,null,null,null,null,null,null,{"$error":"#N/A"},{"$error":"#N/A"},{"$error":"#N/A"},{"$error":"#N/A"},{"$error":"#N/A"}]
[null,null,null,null,null,null,null,null,null,null,{"$error":"#N/A"},{"$error":"#N/A"},{"$error":"#N/A"},{"$error":"#N/A"},{"$error":"#N/A"}]
[null,null,null,null,null,null,null,null,null,null,{"$error":"#N/A"},{"$error":"#N/A"},{"$error":"#N/A"},{"$error":"#N/A"},{"$error":"#N/A"}]
[null,null,null,null,null,null,null,null,null,null,{"$error":"#N/A"},{"$error":"#N/A"},{"$error":"#N/A"},{"$error":"#N/A"},{"$error":"#N/A"}]
[null,null,null,null,null,null,null,null,null,null,{"$error":"#N/A"},{"$error":"#N/A"},{"$error":"#N/A"},{"$error":"#N/A"},{"$error":"#N/A"}]
[null,null,null,null,null,null,null,null,null,null,{"$error":"#N/A"},{"$error":"#N/A"},{"$error":"#N/A"},{"$error":"#N/A"},{"$error":"#N/A"}]
[null,null,null,null,null,null,null,null,null,null,{"$error":"#N/A"},{"$error":"#N/A"},{"$error":"#N/A"},{"$error":"#N/A"},{"$error":"#N/A"}]
[null,null,null,null,null,null,null,null,null,null,{"$error":"#N/A"},{"$error":"#N/A"},{"$error":"#N/A"},{"$error":"#N/A"},{"$error":"#N/A"}]
[null,null,null,null,null,null,null,null,null,null,{"$error":"#N/A"},{"$error":"#N/A"},{"$error":"#N/A"},{"$error":"#N/A"},{"$error":"#N/A"}]
[null,null,null,null,null,null,null,null,null,null,{"$error":"#N/A"},{"$error":"#N/A"},{"$error":"#N/A"},{"$error":"#N/A"},{"$error":"#N/A"}]
[null,null,null,null,null,null,null,null,null,null,{"$error":"#N/A"},{"$error":"#N/A"},{"$error":"#N/A"},{"$error":"#N/A"},{"$error":"#N/A"}]
[null,null,null,null,null,null,null,null,null,null,{"$error":"#N/A"},{"$error":"#N/A"},{"$error":"#N/A"},{"$error":"#N/A"},{"$error":"#N/A"}]
[null,null,null,null,null,null,null,null,null,null,{"$error":"#N/A"},{"$error":"#N/A"},{"$error":"#N/A"},{"$error":"#N/A"},{"$error":"#N/A"}]
[null,null,null,null,null,null,null,null,null,null,{"$error":"#N/A"},{"$error":"#N/A"},{"$error":"#N/A"},{"$error":"#N/A"},{"$error":"#N/A"}]
[null,null,null,null,null,null,null,null,null,null,{"$error":"#N/A"},{"$error":"#N/A"},{"$error":"#N/A"},{"$error":"#N/A"},{"$error":"#N/A"}]
[null,null,null,null,null,null,null,null,null,null,{"$error":"#N/A"},{"$error":"#N/A"},{"$error":"#N/A"},{"$error":"#N/A"},{"$error":"#N/A"}]
[null,null,null,null,null,null,null,null,null,null,{"$error":"#N/A"},{"$error":"#N/A"},{"$error":"#N/A"},{"$error":"#N/A"},{"$error":"#N/A"}]
[null,null,null,null,null,null,null,null,null,null,{"$error":"#N/A"},{"$error":"#N/A"},{"$error":"#N/A"},{"$error":"#N/A"},{"$error":"#N/A"}]
[null,null,null,null,null,null,null,null,null,null,{"$error":"#N/A"},{"$error":"#N/A"},{"$error":"#N/A"},{"$error":"#N/A"},{"$error":"#N/A"}]
[null,null,null,null,null,null,null,null,null,null,{"$error":"#N/A"},{"$f":"IF(ISBLANK(K28557),\"\",$G$11*K28557+$H$11)","v":{"$error":"#N/A"}},{"$f":"IF(ISBLANK(L28557),\"\",$G$12*K28557+$H$12)","v":{"$error":"#N/A"}},{"$error":"#N/A"},{"$f":"IF(ISBLANK(M28557),\"\",$G$14*K28557+$H$14)","v":{"$error":"#N/A"}}]
[null,null,null,null,null,null,null,null,null,null,{"$error":"#N/A"},{"$error":"#N/A"},{"$error":"#N/A"},{"$error":"#N/A"},{"$error":"#N/A"}]
[null,null,null,null,null,null,null,null,null,null,{"$error":"#N/A"},{"$error":"#N/A"},{"$error":"#N/A"},{"$error":"#N/A"},{"$error":"#N/A"}]
[null,null,null,null,null,null,null,null,null,null,{"$error":"#N/A"},{"$error":"#N/A"},{"$error":"#N/A"},{"$error":"#N/A"},{"$error":"#N/A"}]
[null,null,null,null,null,null,null,null,null,null,{"$error":"#N/A"},{"$error":"#N/A"},{"$error":"#N/A"},{"$error":"#N/A"},{"$error":"#N/A"}]
[null,null,null,null,null,null,null,null,null,null,{"$error":"#N/A"},{"$error":"#N/A"},{"$error":"#N/A"},{"$error":"#N/A"},{"$error":"#N/A"}]
[null,null,null,null,null,null,null,null,null,null,{"$error":"#N/A"},{"$error":"#N/A"},{"$error":"#N/A"},{"$error":"#N/A"},{"$error":"#N/A"}]
[null,null,null,null,null,null,null,null,null,null,{"$error":"#N/A"},{"$error":"#N/A"},{"$error":"#N/A"},{"$error":"#N/A"},{"$error":"#N/A"}]
[null,null,null,null,null,null,null,null,null,null,{"$error":"#N/A"},{"$error":"#N/A"},{"$error":"#N/A"},{"$f":"IF(ISBLANK(K28747),\"\",$G$13*K28747+$H$13)","v":{"$error":"#N/A"}},{"$error":"#N/A"}]
[null,null,null,null,null,null,null,null,null,null,{"$error":"#N/A"},{"$error":"#N/A"},{"$error":"#N/A"},{"$error":"#N/A"},{"$error":"#N/A"}]
[null,null,null,null,null,null,null,null,null,null,{"$error":"#N/A"},{"$error":"#N/A"},{"$error":"#N/A"},{"$error":"#N/A"},{"$error":"#N/A"}]
[null,null,null,null,null,null,null,null,null,null,{"$error":"#N/A"},{"$f":"IF(ISBLANK(K28813),\"\",$G$11*K28813+$H$11)","v":{"$error":"#N/A"}},{"$f":"IF(ISBLANK(L28813),\"\",$G$12*K28813+$H$12)","v":{"$error":"#N/A"}},{"$error":"#N/A"},{"$f":"IF(ISBLANK(M28813),\"\",$G$14*K28813+$H$14)","v":{"$error":"#N/A"}}]
[null,null,null,null,null,null,null,null,null,null,{"$error":"#N/A"},{"$error":"#N/A"},{"$error":"#N/A"},{"$error":"#N/A"},{"$error":"#N/A"}]
[null,null,null,null,null,null,null,null,null,null,{"$error":"#N/A"},{"$error":"#N/A"},{"$error":"#N/A"},{"$error":"#N/A"},{"$error":"#N/A"}]
[null,null,null,null,null,null,null,null,null,null,{"$error":"#N/A"},{"$error":"#N/A"},{"$error":"#N/A"},{"$error":"#N/A"},{"$error":"#N/A"}]
[null,null,null,null,null,null,null,null,null,null,{"$error":"#N/A"},{"$error":"#N/A"},{"$error":"#N/A"},{"$error":"#N/A"},{"$error":"#N/A"}]
[null,null,null,null,null,null,null,null,null,null,{"$error":"#N/A"},{"$error":"#N/A"},{"$error":"#N/A"},{"$error":"#N/A"},{"$error":"#N/A"}]
[null,null,null,null,null,null,null,null,null,null,{"$error":"#N/A"},{"$error":"#N/A"},{"$error":"#N/A"},{"$error":"#N/A"},{"$error":"#N/A"}]
[null,null,null,null,null,null,null,null,null,null,{"$error":"#N/A"},{"$error":"#N/A"},{"$error":"#N/A"},{"$error":"#N/A"},{"$error":"#N/A"}]
[null,null,null,null,null,null,null,null,null,null,{"$error":"#N/A"},{"$error":"#N/A"},{"$error":"#N/A"},{"$f":"IF(ISBLANK(K29003),\"\",$G$13*K29003+$H$13)","v":{"$error":"#N/A"}},{"$error":"#N/A"}]
[null,null,null,null,null,null,null,null,null,null,{"$error":"#N/A"},{"$error":"#N/A"},{"$error":"#N/A"},{"$error":"#N/A"},{"$error":"#N/A"}]
[null,null,null,null,null,null,null,null,null,null,{"$error":"#N/A"},{"$error":"#N/A"},{"$error":"#N/A"},{"$error":"#N/A"},{"$error":"#N/A"}]
[null,null,null,null,null,null,null,null,null,null,{"$error":"#N/A"},{"$error":"#N/A"},{"$error":"#N/A"},{"$error":"#N/A"},{"$error":"#N/A"}]
[null,null,null,null,null,null,null,null,null,null,{"$error":"#N/A"},{"$error":"#N/A"},{"$error":"#N/A"},{"$error":"#N/A"},{"$error":"#N/A"}]
[null,null,null,null,null,null,null,null,null,null,{"$error":"#N/A"},{"$error":"#N/A"},{"$error":"#N/A"},{"$error":"#N/A"},{"$error":"#N/A"}]
[null,null,null,null,null,null,null,null,null,null,{"$error":"#N/A"},{"$error":"#N/A"},{"$error":"#N/A"},{"$f":"IF(ISBLANK(K29131),\"\",$G$13*K29131+$H$13)","v":{"$error":"#N/A"}},{"$error":"#N/A"}]
[null,null,null,null,null,null,null,null,null,null,{"$error":"#N/A"},{"$error":"#N/A"},{"$error":"#N/A"},{"$error":"#N/A"},{"$error":"#N/A"}]
[null,null,null,null,null,null,null,null,null,null,{"$error":"#N/A"},{"$error":"#N/A"},{"$error":"#N/A"},{"$error":"#N/A"},{"$error":"#N/A"}]
[null,null,null,null,null,null,null,null,null,null,{"$error":"#N/A"},{"$error":"#N/A"},{"$error":"#N/A"},{"$error":"#N/A"},{"$error":"#N/A"}]
[null,null,null,null,null,null,null,null,null,null,{"$error":"#N/A"},{"$error":"#N/A"},{"$error":"#N/A"},{"$error":"#N/A"},{"$error":"#N/A"}]
[null,null,null,null,null,null,null,null,null,null,{"$error":"#N/A"},{"$error":"#N/A"},{"$error":"#N/A"},{"$error":"#N/A"},{"$error":"#N/A"}]
[null,null,null,null,null,null,null,null,null,null,{"$error":"#N/A"},{"$error":"#N/A"},{"$error":"#N/A"},{"$error":"#N/A"},{"$error":"#N/A"}]
[null,null,null,null,null,null,null,null,null,null,{"$error":"#N/A"},{"$error":"#N/A"},{"$error":"#N/A"},{"$error":"#N/A"},{"$error":"#N/A"}]
[null,null,null,null,null,null,null,null,null,null,{"$error":"#N/A"},{"$error":"#N/A"},{"$error":"#N/A"},{"$error":"#N/A"},{"$error":"#N/A"}]
[null,null,null,null,null,null,null,null,null,null,{"$error":"#N/A"},{"$error":"#N/A"},{"$error":"#N/A"},{"$error":"#N/A"},{"$error":"#N/A"}]
[null,null,null,null,null,null,null,null,null,null,{"$error":"#N/A"},{"$error":"#N/A"},{"$error":"#N/A"},{"$error":"#N/A"},{"$error":"#N/A"}]
[null,null,null,null,null,null,null,null,null,null,{"$error":"#N/A"},{"$error":"#N/A"},{"$error":"#N/A"},{"$error":"#N/A"},{"$error":"#N/A"}]
[null,null,null,null,null,null,null,null,null,null,{"$error":"#N/A"},{"$error":"#N/A"},{"$error":"#N/A"},{"$error":"#N/A"},{"$error":"#N/A"}]
[null,null,null,null,null,null,null,null,null,null,{"$error":"#N/A"},{"$error":"#N/A"},{"$error":"#N/A"},{"$error":"#N/A"},{"$error":"#N/A"}]
[null,null,null,null,null,null,null,null,null,null,{"$error":"#N/A"},{"$error":"#N/A"},{"$error":"#N/A"},{"$error":"#N/A"},{"$error":"#N/A"}]
[null,null,null,null,null,null,null,null,null,null,{"$error":"#N/A"},{"$error":"#N/A"},{"$error":"#N/A"},{"$error":"#N/A"},{"$error":"#N/A"}]
[null,null,null,null,null,null,null,null,null,null,{"$error":"#N/A"},{"$error":"#N/A"},{"$error":"#N/A"},{"$error":"#N/A"},{"$error":"#N/A"}]
[null,null,null,null,null,null,null,null,null,null,{"$error":"#N/A"},{"$error":"#N/A"},{"$error":"#N/A"},{"$error":"#N/A"},{"$error":"#N/A"}]
[null,null,null,null,null,null,null,null,null,null,{"$error":"#N/A"},{"$error":"#N/A"},{"$error":"#N/A"},{"$error":"#N/A"},{"$error":"#N/A"}]
[null,null,null,null,null,null,null,null,null,null,{"$error":"#N/A"},{"$error":"#N/A"},{"$error":"#N/A"},{"$error":"#N/A"},{"$error":"#N/A"}]
[null,null,null,null,null,null,null,null,null,null,{"$error":"#N/A"},{"$error":"#N/A"},{"$error":"#N/A"},{"$error":"#N/A"},{"$error":"#N/A"}]
[null,null,null,null,null,null,null,null,null,null,{"$error":"#N/A"},{"$error":"#N/A"},{"$error":"#N/A"},{"$error":"#N/A"},{"$error":"#N/A"}]
[null,null,null,null,null,null,null,null,null,null,{"$error":"#N/A"},{"$error":"#N/A"},{"$error":"#N/A"},{"$error":"#N/A"},{"$error":"#N/A"}]
[null,null,null,null,null,null,null,null,null,null,{"$error":"#N/A"},{"$error":"#N/A"},{"$error":"#N/A"},{"$error":"#N/A"},{"$error":"#N/A"}]
[null,null,null,null,null,null,null,null,null,null,{"$error":"#N/A"},{"$error":"#N/A"},{"$error":"#N/A"},{"$error":"#N/A"},{"$error":"#N/A"}]
[null,null,null,null,null,null,null,null,null,null,{"$error":"#N/A"},{"$error":"#N/A"},{"$error":"#N/A"},{"$error":"#N/A"},{"$error":"#N/A"}]
[null,null,null,null,null,null,null,null,null,null,{"$error":"#N/A"},{"$error":"#N/A"},{"$error":"#N/A"},{"$error":"#N/A"},{"$error":"#N/A"}]
[null,null,null,null,null,null,null,null,null,null,{"$error":"#N/A"},{"$error":"#N/A"},{"$error":"#N/A"},{"$error":"#N/A"},{"$error":"#N/A"}]
[null,null,null,null,null,null,null,null,null,null,{"$error":"#N/A"},{"$error":"#N/A"},{"$error":"#N/A"},{"$error":"#N/A"},{"$error":"#N/A"}]
[null,null,null,null,null,null,null,null,null,null,{"$error":"#N/A"},{"$error":"#N/A"},{"$error":"#N/A"},{"$error":"#N/A"},{"$error":"#N/A"}]
[null,null,null,null,null,null,null,null,null,null,{"$error":"#N/A"},{"$error":"#N/A"},{"$error":"#N/A"},{"$error":"#N/A"},{"$error":"#N/A"}]
[null,null,null,null,null,null,null,null,null,null,{"$error":"#N/A"},{"$error":"#N/A"},{"$error":"#N/A"},{"$error":"#N/A"},{"$error":"#N/A"}]
[null,null,null,null,null,null,null,null,null,null,{"$error":"#N/A"},{"$error":"#N/A"},{"$error":"#N/A"},{"$error":"#N/A"},{"$error":"#N/A"}]
[null,null,null,null,null,null,null,null,null,null,{"$error":"#N/A"},{"$error":"#N/A"},{"$error":"#N/A"},{"$error":"#N/A"},{"$error":"#N/A"}]
[null,null,null,null,null,null,null,null,null,null,{"$error":"#N/A"},{"$error":"#N/A"},{"$error":"#N/A"},{"$error":"#N/A"},{"$error":"#N/A"}]
[null,null,null,null,null,null,null,null,null,null,{"$error":"#N/A"},{"$error":"#N/A"},{"$error":"#N/A"},{"$error":"#N/A"},{"$error":"#N/A"}]
[null,null,null,null,null,null,null,null,null,null,{"$error":"#N/A"},{"$error":"#N/A"},{"$error":"#N/A"},{"$error":"#N/A"},{"$error":"#N/A"}]
[null,null,null,null,null,null,null,null,null,null,{"$error":"#N/A"},{"$error":"#N/A"},{"$error":"#N/A"},{"$error":"#N/A"},{"$error":"#N/A"}]
[null,null,null,null,null,null,null,null,null,null,{"$error":"#N/A"},{"$error":"#N/A"},{"$error":"#N/A"},{"$error":"#N/A"},{"$error":"#N/A"}]
[null,null,null,null,null,null,null,null,null,null,{"$error":"#N/A"},{"$error":"#N/A"},{"$error":"#N/A"},{"$error":"#N/A"},{"$error":"#N/A"}]
[null,null,null,null,null,null,null,null,null,null,{"$error":"#N/A"},{"$error":"#N/A"},{"$error":"#N/A"},{"$error":"#N/A"},{"$error":"#N/A"}]
[null,null,null,null,null,null,null,null,null,null,{"$error":"#N/A"},{"$error":"#N/A"},{"$error":"#N/A"},{"$error":"#N/A"},{"$error":"#N/A"}]
[null,null,null,null,null,null,null,null,null,null,{"$error":"#N/A"},{"$error":"#N/A"},{"$error":"#N/A"},{"$error":"#N/A"},{"$error":"#N/A"}]
[null,null,null,null,null,null,null,null,null,null,{"$error":"#N/A"},{"$error":"#N/A"},{"$error":"#N/A"},{"$error":"#N/A"},{"$error":"#N/A"}]
[null,null,null,null,null,null,null,null,null,null,{"$error":"#N/A"},{"$error":"#N/A"},{"$error":"#N/A"},{"$error":"#N/A"},{"$error":"#N/A"}]
[null,null,null,null,null,null,null,null,null,null,{"$error":"#N/A"},{"$error":"#N/A"},{"$error":"#N/A"},{"$error":"#N/A"},{"$error":"#N/A"}]
[null,null,null,null,null,null,null,null,null,null,{"$error":"#N/A"},{"$error":"#N/A"},{"$error":"#N/A"},{"$error":"#N/A"},{"$error":"#N/A"}]
[null,null,null,null,null,null,null,null,null,null,{"$error":"#N/A"},{"$error":"#N/A"},{"$error":"#N/A"},{"$error":"#N/A"},{"$error":"#N/A"}]
[null,null,null,null,null,null,null,null,null,null,{"$error":"#N/A"},{"$error":"#N/A"},{"$error":"#N/A"},{"$error":"#N/A"},{"$error":"#N/A"}]
[null,null,null,null,null,null,null,null,null,null,{"$error":"#N/A"},{"$error":"#N/A"},{"$error":"#N/A"},{"$error":"#N/A"},{"$error":"#N/A"}]
[null,null,null,null,null,null,null,null,null,null,{"$error":"#N/A"},{"$error":"#N/A"},{"$error":"#N/A"},{"$error":"#N/A"},{"$error":"#N/A"}]
[null,null,null,null,null,null,null,null,null,null,{"$error":"#N/A"},{"$error":"#N/A"},{"$error":"#N/A"},{"$error":"#N/A"},{"$error":"#N/A"}]
[null,null,null,null,null,null,null,null,null,null,{"$error":"#N/A"},{"$error":"#N/A"},{"$error":"#N/A"},{"$error":"#N/A"},{"$error":"#N/A"}]
[null,null,null,null,null,null,null,null,null,null,{"$error":"#N/A"},{"$error":"#N/A"},{"$error":"#N/A"},{"$error":"#N/A"},{"$error":"#N/A"}]
[null,null,null,null,null,null,null,null,null,null,{"$error":"#N/A"},{"$error":"#N/A"},{"$error":"#N/A"},{"$error":"#N/A"},{"$error":"#N/A"}]
[null,null,null,null,null,null,null,null,null,null,{"$error":"#N/A"},{"$error":"#N/A"},{"$error":"#N/A"},{"$error":"#N/A"},{"$error":"#N/A"}]
[null,null,null,null,null,null,null,null,null,null,{"$error":"#N/A"},{"$error":"#N/A"},{"$error":"#N/A"},{"$error":"#N/A"},{"$error":"#N/A"}]
[null,null,null,null,null,null,null,null,null,null,{"$error":"#N/A"},{"$error":"#N/A"},{"$error":"#N/A"},{"$error":"#N/A"},{"$error":"#N/A"}]
[null,null,null,null,null,null,null,null,null,null,{"$error":"#N/A"},{"$error":"#N/A"},{"$error":"#N/A"},{"$error":"#N/A"},{"$error":"#N/A"}]
[null,null,null,null,null,null,null,null,null,null,{"$error":"#N/A"},{"$error":"#N/A"},{"$error":"#N/A"},{"$error":"#N/A"},{"$error":"#N/A"}]
[null,null,null,null,null,null,null,null,null,null,{"$error":"#N/A"},{"$error":"#N/A"},{"$error":"#N/A"},{"$error":"#N/A"},{"$error":"#N/A"}]
[null,null,null,null,null,null,null,null,null,null,{"$error":"#N/A"},{"$error":"#N/A"},{"$error":"#N/A"},{"$error":"#N/A"},{"$error":"#N/A"}]
[null,null,null,null,null,null,null,null,null,null,{"$error":"#N/A"},{"$error":"#N/A"},{"$error":"#N/A"},{"$error":"#N/A"},{"$error":"#N/A"}]
[null,null,null,null,null,null,null,null,null,null,{"$error":"#N/A"},{"$error":"#N/A"},{"$error":"#N/A"},{"$error":"#N/A"},{"$error":"#N/A"}]
[null,null,null,null,null,null,null,null,null,null,{"$error":"#N/A"},{"$error":"#N/A"},{"$error":"#N/A"},{"$error":"#N/A"},{"$error":"#N/A"}]
[null,null,null,null,null,null,null,null,null,null,{"$error":"#N/A"},{"$error":"#N/A"},{"$error":"#N/A"},{"$error":"#N/A"},{"$error":"#N/A"}]
[null,null,null,null,null,null,null,null,null,null,{"$error":"#N/A"},{"$error":"#N/A"},{"$error":"#N/A"},{"$error":"#N/A"},{"$error":"#N/A"}]
[null,null,null,null,null,null,null,null,null,null,{"$error":"#N/A"},{"$error":"#N/A"},{"$error":"#N/A"},{"$error":"#N/A"},{"$error":"#N/A"}]
[null,null,null,null,null,null,null,null,null,null,{"$error":"#N/A"},{"$error":"#N/A"},{"$error":"#N/A"},{"$error":"#N/A"},{"$error":"#N/A"}]
[null,null,null,null,null,null,null,null,null,null,{"$error":"#N/A"},{"$error":"#N/A"},{"$error":"#N/A"},{"$error":"#N/A"},{"$error":"#N/A"}]
[null,null,null,null,null,null,null,null,null,null,{"$error":"#N/A"},{"$error":"#N/A"},{"$error":"#N/A"},{"$error":"#N/A"},{"$error":"#N/A"}]
[null,null,null,null,null,null,null,null,null,null,{"$error":"#N/A"},{"$error":"#N/A"},{"$error":"#N/A"},{"$error":"#N/A"},{"$error":"#N/A"}]
[null,null,null,null,null,null,null,null,null,null,{"$error":"#N/A"},{"$error":"#N/A"},{"$error":"#N/A"},{"$error":"#N/A"},{"$error":"#N/A"}]
[null,null,null,null,null,null,null,null,null,null,{"$error":"#N/A"},{"$error":"#N/A"},{"$error":"#N/A"},{"$error":"#N/A"},{"$error":"#N/A"}]
[null,null,null,null,null,null,null,null,null,null,{"$error":"#N/A"},{"$error":"#N/A"},{"$error":"#N/A"},{"$error":"#N/A"},{"$error":"#N/A"}]
[null,null,null,null,null,null,null,null,null,null,{"$error":"#N/A"},{"$error":"#N/A"},{"$error":"#N/A"},{"$error":"#N/A"},{"$error":"#N/A"}]
[null,null,null,null,null,null,null,null,null,null,{"$error":"#N/A"},{"$error":"#N/A"},{"$error":"#N/A"},{"$error":"#N/A"},{"$error":"#N/A"}]
[null,null,null,null,null,null,null,null,null,null,{"$error":"#N/A"},{"$error":"#N/A"},{"$error":"#N/A"},{"$error":"#N/A"},{"$error":"#N/A"}]
[null,null,null,null,null,null,null,null,null,null,{"$error":"#N/A"},{"$error":"#N/A"},{"$error":"#N/A"},{"$error":"#N/A"},{"$error":"#N/A"}]
[null,null,null,null,null,null,null,null,null,null,{"$error":"#N/A"},{"$error":"#N/A"},{"$error":"#N/A"},{"$error":"#N/A"},{"$error":"#N/A"}]
[null,null,null,null,null,null,null,null,null,null,{"$f":"IF(K31051+$G$19<=$G$18,K31051+$G$19,NA())","v":{"$error":"#N/A"}},{"$error":"#N/A"},{"$error":"#N/A"},{"$error":"#N/A"},{"$error":"#N/A"}]
[null,null,null,null,null,null,null,null,null,null,{"$error":"#N/A"},{"$f":"IF(ISBLANK(K31053),\"\",$G$11*K31053+$H$11)","v":{"$error":"#N/A"}},{"$f":"IF(ISBLANK(L31053),\"\",$G$12*K31053+$H$12)","v":{"$error":"#N/A"}},{"$error":"#N/A"},{"$f":"IF(ISBLANK(M31053),\"\",$G$14*K31053+$H$14)","v":{"$error":"#N/A"}}]
[null,null,null,null,null,null,null,null,null,null,{"$error":"#N/A"},{"$error":"#N/A"},{"$error":"#N/A"},{"$error":"#N/A"},{"$error":"#N/A"}]
[null,null,null,null,null,null,null,null,null,null,{"$error":"#N/A"},{"$error":"#N/A"},{"$error":"#N/A"},{"$error":"#N/A"},{"$error":"#N/A"}]
[null,null,null,null,null,null,null,null,null,null,{"$error":"#N/A"},{"$error":"#N/A"},{"$error":"#N/A"},{"$error":"#N/A"},{"$error":"#N/A"}]
[null,null,null,null,null,null,null,null,null,null,{"$error":"#N/A"},{"$error":"#N/A"},{"$error":"#N/A"},{"$error":"#N/A"},{"$error":"#N/A"}]
[null,null,null,null,null,null,null,null,null,null,{"$error":"#N/A"},{"$error":"#N/A"},{"$error":"#N/A"},{"$error":"#N/A"},{"$error":"#N/A"}]
[null,null,null,null,null,null,null,null,null,null,{"$error":"#N/A"},{"$error":"#N/A"},{"$error":"#N/A"},{"$error":"#N/A"},{"$error":"#N/A"}]
[null,null,null,null,null,null,null,null,null,null,{"$error":"#N/A"},{"$error":"#N/A"},{"$error":"#N/A"},{"$error":"#N/A"},{"$error":"#N/A"}]
[null,null,null,null,null,null,null,null,null,null,{"$error":"#N/A"},{"$error":"#N/A"},{"$error":"#N/A"},{"$f":"IF(ISBLANK(K31243),\"\",$G$13*K31243+$H$13)","v":{"$error":"#N/A"}},{"$error":"#N/A"}]
[null,null,null,null,null,null,null,null,null,null,{"$error":"#N/A"},{"$error":"#N/A"},{"$error":"#N/A"},{"$error":"#N/A"},{"$error":"#N/A"}]
[null,null,null,null,null,null,null,null,null,null,{"$f":"IF(K31307+$G$19<=$G$18,K31307+$G$19,NA())","v":{"$error":"#N/A"}},{"$error":"#N/A"},{"$error":"#N/A"},{"$error":"#N/A"},{"$error":"#N/A"}]
[null,null,null,null,null,null,null,null,null,null,{"$error":"#N/A"},{"$error":"#N/A"},{"$error":"#N/A"},{"$error":"#N/A"},{"$error":"#N/A"}]
[null,null,null,null,null,null,null,null,null,null,{"$error":"#N/A"},{"$error":"#N/A"},{"$error":"#N/A"},{"$error":"#N/A"},{"$error":"#N/A"}]
[null,null,null,null,null,null,null,null,null,null,{"$error":"#N/A"},{"$error":"#N/A"},{"$error":"#N/A"},{"$error":"#N/A"},{"$error":"#N/A"}]
[null,null,null,null,null,null,null,null,null,null,{"$error":"#N/A"},{"$error":"#N/A"},{"$error":"#N/A"},{"$error":"#N/A"},{"$error":"#N/A"}]
[null,null,null,null,null,null,null,null,null,null,{"$error":"#N/A"},{"$error":"#N/A"},{"$error":"#N/A"},{"$error":"#N/A"},{"$error":"#N/A"}]
[null,null,null,null,null,null,null,null,null,null,{"$error":"#N/A"},{"$error":"#N/A"},{"$error":"#N/A"},{"$error":"#N/A"},{"$error":"#N/A"}]
[null,null,null,null,null,null,null,null,null,null,{"$error":"#N/A"},{"$error":"#N/A"},{"$error":"#N/A"},{"$error":"#N/A"},{"$error":"#N/A"}]
[null,null,null,null,null,null,null,null,null,null,{"$error":"#N/A"},{"$error":"#N/A"},{"$error":"#N/A"},{"$error":"#N/A"},{"$error":"#N/A"}]
[null,null,null,null,null,null,null,null,null,null,{"$error":"#N/A"},{"$error":"#N/A"},{"$error":"#N/A"},{"$error":"#N/A"},{"$error":"#N/A"}]
[null,null,null,null,null,null,null,null,null,null,{"$error":"#N/A"},{"$error":"#N/A"},{"$error":"#N/A"},{"$error":"#N/A"},{"$error":"#N/A"}]
[null,null,null,null,null,null,null,null,null,null,{"$error":"#N/A"},{"$error":"#N/A"},{"$error":"#N/A"},{"$error":"#N/A"},{"$error":"#N/A"}]
[null,null,null,null,null,null,null,null,null,null,{"$error":"#N/A"},{"$error":"#N/A"},{"$error":"#N/A"},{"$error":"#N/A"},{"$error":"#N/A"}]
[null,null,null,null,null,null,null,null,null,null,{"$error":"#N/A"},{"$error":"#N/A"},{"$error":"#N/A"},{"$error":"#N/A"},{"$error":"#N/A"}]
[null,null,null,null,null,null,null,null,null,null,{"$error":"#N/A"},{"$error":"#N/A"},{"$error":"#N/A"},{"$error":"#N/A"},{"$error":"#N/A"}]
[null,null,null,null,null,null,null,null,null,null,{"$error":"#N/A"},{"$error":"#N/A"},{"$error":"#N/A"},{"$error":"#N/A"},{"$error":"#N/A"}]
[null,null,null,null,null,null,null,null,null,null,{"$error":"#N/A"},{"$error":"#N/A"},{"$error":"#N/A"},{"$error":"#N/A"},{"$error":"#N/A"}]
[null,null,null,null,null,null,null,null,null,null,{"$error":"#N/A"},{"$error":"#N/A"},{"$error":"#N/A"},{"$error":"#N/A"},{"$error":"#N/A"}]
[null,null,null,null,null,null,null,null,null,null,{"$error":"#N/A"},{"$error":"#N/A"},{"$error":"#N/A"},{"$error":"#N/A"},{"$error":"#N/A"}]
[null,null,null,null,null,null,null,null,null,null,{"$error":"#N/A"},{"$error":"#N/A"},{"$error":"#N/A"},{"$error":"#N/A"},{"$error":"#N/A"}]
[null,null,null,null,null,null,null,null,null,null,{"$error":"#N/A"},{"$error":"#N/A"},{"$error":"#N/A"},{"$error":"#N/A"},{"$error":"#N/A"}]
[null,null,null,null,null,null,null,null,null,null,{"$error":"#N/A"},{"$error":"#N/A"},{"$error":"#N/A"},{"$error":"#N/A"},{"$error":"#N/A"}]
[null,null,null,null,null,null,null,null,null,null,{"$error":"#N/A"},{"$error":"#N/A"},{"$error":"#N/A"},{"$error":"#N/A"},{"$error":"#N/A"}]
[null,null,null,null,null,null,null,null,null,null,{"$error":"#N/A"},{"$error":"#N/A"},{"$error":"#N/A"},{"$error":"#N/A"},{"$error":"#N/A"}]
[null,null,null,null,null,null,null,null,null,null,{"$error":"#N/A"},{"$error":"#N/A"},{"$error":"#N/A"},{"$error":"#N/A"},{"$error":"#N/A"}]
[null,null,null,null,null,null,null,null,null,null,{"$error":"#N/A"},{"$error":"#N/A"},{"$error":"#N/A"},{"$error":"#N/A"},{"$error":"#N/A"}]
[null,null,null,null,null,null,null,null,null,null,{"$error":"#N/A"},{"$error":"#N/A"},{"$error":"#N/A"},{"$error":"#N/A"},{"$error":"#N/A"}]
[null,null,null,null,null,null,null,null,null,null,{"$error":"#N/A"},{"$error":"#N/A"},{"$error":"#N/A"},{"$error":"#N/A"},{"$error":"#N/A"}]
[null,null,null,null,null,null,null,null,null,null,{"$error":"#N/A"},{"$error":"#N/A"},{"$error":"#N/A"},{"$error":"#N/A"},{"$error":"#N/A"}]
[null,null,null,null,null,null,null,null,null,null,{"$error":"#N/A"},{"$error":"#N/A"},{"$error":"#N/A"},{"$error":"#N/A"},{"$error":"#N/A"}]
[null,null,null,null,null,null,null,null,null,null,{"$error":"#N/A"},{"$error":"#N/A"},{"$error":"#N/A"},{"$error":"#N/A"},{"$error":"#N/A"}]
[null,null,null,null,null,null,null,null,null,null,{"$error":"#N/A"},{"$error":"#N/A"},{"$error":"#N/A"},{"$error":"#N/A"},{"$error":"#N/A"}]
[null,null,null,null,null,null,null,null,null,null,{"$error":"#N/A"},{"$error":"#N/A"},{"$error":"#N/A"},{"$error":"#N/A"},{"$error":"#N/A"}]
[null,null,null,null,null,null,null,null,null,null,{"$error":"#N/A"},{"$error":"#N/A"},{"$error":"#N/A"},{"$error":"#N/A"},{"$error":"#N/A"}]
[null,null,null,null,null,null,null,null,null,null,{"$error":"#N/A"},{"$error":"#N/A"},{"$error":"#N/A"},{"$error":"#N/A"},{"$error":"#N/A"}]
[null,null,null,null,null,null,null,null,null,null,{"$error":"#N/A"},{"$error":"#N/A"},{"$error":"#N/A"},{"$error":"#N/A"},{"$error":"#N/A"}]
[null,null,null,null,null,null,null,null,null,null,{"$error":"#N/A"},{"$error":"#N/A"},{"$error":"#N/A"},{"$error":"#N/A"},{"$error":"#N/A"}]
[null,null,null,null,null,null,null,null,null,null,{"$error":"#N/A"},{"$error":"#N/A"},{"$error":"#N/A"},{"$error":"#N/A"},{"$error":"#N/A"}]
[null,null,null,null,null,null,null,null,null,null,{"$error":"#N/A"},{"$error":"#N/A"},{"$error":"#N/A"},{"$error":"#N/A"},{"$error":"#N/A"}]
[null,null,null,null,null,null,null,null,null,null,{"$error":"#N/A"},{"$error":"#N/A"},{"$error":"#N/A"},{"$error":"#N/A"},{"$error":"#N/A"}]
[null,null,null,null,null,null,null,null,null,null,{"$error":"#N/A"},{"$error":"#N/A"},{"$error":"#N/A"},{"$error":"#N/A"},{"$error":"#N/A"}]
[null,null,null,null,null,null,null,null,null,null,{"$error":"#N/A"},{"$error":"#N/A"},{"$error":"#N/A"},{"$error":"#N/A"},{"$error":"#N/A"}]
[null,null,null,null,null,null,null,null,null,null,{"$error":"#N/A"},{"$error":"#N/A"},{"$error":"#N/A"},{"$error":"#N/A"},{"$error":"#N/A"}]
[null,null,null,null,null,null,null,null,null,null,{"$error":"#N/A"},{"$error":"#N/A"},{"$error":"#N/A"},{"$error":"#N/A"},{"$error":"#N/A"}]
[null,null,null,null,null,null,null,null,null,null,{"$error":"#N/A"},{"$error":"#N/A"},{"$error":"#N/A"},{"$error":"#N/A"},{"$error":"#N/A"}]
[null,null,null,null,null,null,null,null,null,null,{"$error":"#N/A"},{"$error":"#N/A"},{"$error":"#N/A"},{"$error":"#N/A"},{"$error":"#N/A"}]
[null,null,null,null,null,null,null,null,null,null,{"$error":"#N/A"},{"$error":"#N/A"},{"$error":"#N/A"},{"$error":"#N/A"},{"$error":"#N/A"}]
[null,null,null,null,null,null,null,null,null,null,{"$error":"#N/A"},{"$error":"#N/A"},{"$error":"#N/A"},{"$error":"#N/A"},{"$error":"#N/A"}]
[null,null,null,null,null,null,null,null,null,null,{"$error":"#N/A"},{"$error":"#N/A"},{"$error":"#N/A"},{"$error":"#N/A"},{"$error":"#N/A"}]
[null,null,null,null,null,null,null,null,null,null,{"$error":"#N/A"},{"$error":"#N/A"},{"$error":"#N/A"},{"$error":"#N/A"},{"$error":"#N/A"}]
[null,null,null,null,null,null,null,null,null,null,{"$error":"#N/A"},{"$error":"#N/A"},{"$error":"#N/A"},{"$error":"#N/A"},{"$error":"#N/A"}]
[null,null,null,null,null,null,null,null,null,null,{"$error":"#N/A"},{"$error":"#N/A"},{"$error":"#N/A"},{"$error":"#N/A"},{"$error":"#N/A"}]
[null,null,null,null,null,null,null,null,null,null,{"$error":"#N/A"},{"$error":"#N/A"},{"$error":"#N/A"},{"$error":"#N/A"},{"$error":"#N/A"}]
[null,null,null,null,null,null,null,null,null,null,{"$error":"#N/A"},{"$error":"#N/A"},{"$error":"#N/A"},{"$error":"#N/A"},{"$error":"#N/A"}]
[null,null,null,null,null,null,null,null,null,null,{"$error":"#N/A"},{"$error":"#N/A"},{"$error":"#N/A"},{"$error":"#N/A"},{"$error":"#N/A"}]
[null,null,null,null,null,null,null,null,null,null,{"$error":"#N/A"},{"$error":"#N/A"},{"$error":"#N/A"},{"$error":"#N/A"},{"$error":"#N/A"}]
[null,null,null,null,null,null,null,null,null,null,{"$error":"#N/A"},{"$error":"#N/A"},{"$error":"#N/A"},{"$error":"#N/A"},{"$error":"#N/A"}]
[null,null,null,null,null,null,null,null,null,null,{"$error":"#N/A"},{"$error":"#N/A"},{"$error":"#N/A"},{"$error":"#N/A"},{"$error":"#N/A"}]
[null,null,null,null,null,null,null,null,null,null,{"$error":"#N/A"},{"$error":"#N/A"},{"$error":"#N/A"},{"$error":"#N/A"},{"$error":"#N/A"}]
[null,null,null,null,null,null,null,null,null,null,{"$error":"#N/A"},{"$error":"#N/A"},{"$error":"#N/A"},{"$error":"#N/A"},{"$error":"#N/A"}]
[null,null,null,null,null,null,null,null,null,null,{"$error":"#N/A"},{"$error":"#N/A"},{"$error":"#N/A"},{"$error":"#N/A"},{"$error":"#N/A"}]
[null,null,null,null,null,null,null,null,null,null,{"$error":"#N/A"},{"$error":"#N/A"},{"$error":"#N/A"},{"$error":"#N/A"},{"$error":"#N/A"}]
[null,null,null,null,null,null,null,null,null,null,{"$error":"#N/A"},{"$error":"#N/A"},{"$error":"#N/A"},{"$error":"#N/A"},{"$error":"#N/A"}]
[null,null,null,null,null,null,null,null,null,null,{"$error":"#N/A"},{"$error":"#N/A"},{"$error":"#N/A"},{"$error":"#N/A"},{"$error":"#N/A"}]
[null,null,null,null,null,null,null,null,null,null,{"$error":"#N/A"},{"$error":"#N/A"},{"$error":"#N/A"},{"$error":"#N/A"},{"$error":"#N/A"}]
[null,null,null,null,null,null,null,null,null,null,{"$error":"#N/A"},{"$error":"#N/A"},{"$error":"#N/A"},{"$error":"#N/A"},{"$error":"#N/A"}]
[null,null,null,null,null,null,null,null,null,null,{"$error":"#N/A"},{"$error":"#N/A"},{"$error":"#N/A"},{"$error":"#N/A"},{"$error":"#N/A"}]
[null,null,null,null,null,null,null,null,null,null,{"$error":"#N/A"},{"$error":"#N/A"},{"$error":"#N/A"},{"$error":"#N/A"},{"$error":"#N/A"}]
[null,null,null,null,null,null,null,null,null,null,{"$error":"#N/A"},{"$error":"#N/A"},{"$error":"#N/A"},{"$error":"#N/A"},{"$error":"#N/A"}]
[null,null,null,null,null,null,null,null,null,null,{"$error":"#N/A"},{"$error":"#N/A"},{"$error":"#N/A"},{"$error":"#N/A"},{"$error":"#N/A"}]
[null,null,null,null,null,null,null,null,null,null,{"$error":"#N/A"},{"$error":"#N/A"},{"$error":"#N/A"},{"$error":"#N/A"},{"$error":"#N/A"}]
[null,null,null,null,null,null,null,null,null,null,{"$error":"#N/A"},{"$error":"#N/A"},{"$error":"#N/A"},{"$error":"#N/A"},{"$error":"#N/A"}]
[null,null,null,null,null,null,null,null,null,null,{"$error":"#N/A"},{"$error":"#N/A"},{"$error":"#N/A"},{"$error":"#N/A"},{"$error":"#N/A"}]
[null,null,null,null,null,null,null,null,null,null,{"$error":"#N/A"},{"$error":"#N/A"},{"$error":"#N/A"},{"$error":"#N/A"},{"$error":"#N/A"}]
[null,null,null,null,null,null,null,null,null,null,{"$error":"#N/A"},{"$error":"#N/A"},{"$error":"#N/A"},{"$error":"#N/A"},{"$error":"#N/A"}]
[null,null,null,null,null,null,null,null,null,null,{"$error":"#N/A"},{"$error":"#N/A"},{"$error":"#N/A"},{"$error":"#N/A"},{"$error":"#N/A"}]
[null,null,null,null,null,null,null,null,null,null,{"$error":"#N/A"},{"$error":"#N/A"},{"$error":"#N/A"},{"$error":"#N/A"},{"$error":"#N/A"}]
[null,null,null,null,null,null,null,null,null,null,{"$error":"#N/A"},{"$error":"#N/A"},{"$error":"#N/A"},{"$error":"#N/A"},{"$error":"#N/A"}]
[null,null,null,null,null,null,null,null,null,null,{"$error":"#N/A"},{"$error":"#N/A"},{"$error":"#N/A"},{"$error":"#N/A"},{"$error":"#N/A"}]
[null,null,null,null,null,null,null,null,null,null,{"$error":"#N/A"},{"$error":"#N/A"},{"$error":"#N/A"},{"$error":"#N/A"},{"$error":"#N/A"}]
[null,null,null,null,null,null,null,null,null,null,{"$error":"#N/A"},{"$error":"#N/A"},{"$error":"#N/A"},{"$error":"#N/A"},{"$error":"#N/A"}]
[null,null,null,null,null,null,null,null,null,null,{"$error":"#N/A"},{"$error":"#N/A"},{"$error":"#N/A"},{"$f":"IF(ISBLANK(K33227),\"\",$G$13*K33227+$H$13)","v":{"$error":"#N/A"}},{"$error":"#N/A"}]
[null,null,null,null,null,null,null,null,null,null,{"$error":"#N/A"},{"$error":"#N/A"},{"$error":"#N/A"},{"$error":"#N/A"},{"$error":"#N/A"}]
[null,null,null,null,null,null,null,null,null,null,{"$error":"#N/A"},{"$error":"#N/A"},{"$error":"#N/A"},{"$error":"#N/A"},{"$error":"#N/A"}]
[null,null,null,null,null,null,null,null,null,null,{"$f":"IF(K33291+$G$19<=$G$18,K33291+$G$19,NA())","v":{"$error":"#N/A"}},{"$error":"#N/A"},{"$error":"#N/A"},{"$error":"#N/A"},{"$error":"#N/A"}]
[null,null,null,null,null,null,null,null,null,null,{"$error":"#N/A"},{"$error":"#N/A"},{"$error":"#N/A"},{"$error":"#N/A"},{"$error":"#N/A"}]
[null,null,null,null,null,null,null,null,null,null,{"$error":"#N/A"},{"$error":"#N/A"},{"$error":"#N/A"},{"$error":"#N/A"},{"$error":"#N/A"}]
[null,null,null,null,null,null,null,null,null,null,{"$error":"#N/A"},{"$error":"#N/A"},{"$error":"#N/A"},{"$error":"#N/A"},{"$error":"#N/A"}]
[null,null,null,null,null,null,null,null,null,null,{"$error":"#N/A"},{"$error":"#N/A"},{"$error":"#N/A"},{"$error":"#N/A"},{"$error":"#N/A"}]
[null,null,null,null,null,null,null,null,null,null,{"$error":"#N/A"},{"$error":"#N/A"},{"$error":"#N/A"},{"$error":"#N/A"},{"$error":"#N/A"}]
[null,null,null,null,null,null,null,null,null,null,{"$error":"#N/A"},{"$error":"#N/A"},{"$error":"#N/A"},{"$error":"#N/A"},{"$error":"#N/A"}]
[null,null,null,null,null,null,null,null,null,null,{"$error":"#N/A"},{"$error":"#N/A"},{"$error":"#N/A"},{"$error":"#N/A"},{"$error":"#N/A"}]
[null,null,null,null,null,null,null,null,null,null,{"$error":"#N/A"},{"$error":"#N/A"},{"$error":"#N/A"},{"$error":"#N/A"},{"$error":"#N/A"}]
[null,null,null,null,null,null,null,null,null,null,{"$error":"#N/A"},{"$error":"#N/A"},{"$error":"#N/A"},{"$error":"#N/A"},{"$error":"#N/A"}]
[null,null,null,null,null,null,null,null,null,null,{"$error":"#N/A"},{"$error":"#N/A"},{"$error":"#N/A"},{"$error":"#N/A"},{"$error":"#N/A"}]
[null,null,null,null,null,null,null,null,null,null,{"$f":"IF(K33547+$G$19<=$G$18,K33547+$G$19,NA())","v":{"$error":"#N/A"}},{"$error":"#N/A"},{"$error":"#N/A"},{"$error":"#N/A"},{"$error":"#N/A"}]
[null,null,null,null,null,null,null,null,null,null,{"$error":"#N/A"},{"$error":"#N/A"},{"$error":"#N/A"},{"$error":"#N/A"},{"$error":"#N/A"}]
[null,null,null,null,null,null,null,null,null,null,{"$error":"#N/A"},{"$error":"#N/A"},{"$error":"#N/A"},{"$error":"#N/A"},{"$error":"#N/A"}]
[null,null,null,null,null,null,null,null,null,null,{"$error":"#N/A"},{"$error":"#N/A"},{"$error":"#N/A"},{"$error":"#N/A"},{"$error":"#N/A"}]
[null,null,null,null,null,null,null,null,null,null,{"$error":"#N/A"},{"$error":"#N/A"},{"$error":"#N/A"},{"$error":"#N/A"},{"$error":"#N/A"}]
[null,null,null,null,null,null,null,null,null,null,{"$error":"#N/A"},{"$error":"#N/A"},{"$error":"#N/A"},{"$error":"#N/A"},{"$error":"#N/A"}]
[null,null,null,null,null,null,null,null,null,null,{"$error":"#N/A"},{"$error":"#N/A"},{"$error":"#N/A"},{"$error":"#N/A"},{"$error":"#N/A"}]
[null,null,null,null,null,null,null,null,null,null,{"$error":"#N/A"},{"$error":"#N/A"},{"$error":"#N/A"},{"$error":"#N/A"},{"$error":"#N/A"}]
[null,null,null,null,null,null,null,null,null,null,{"$error":"#N/A"},{"$error":"#N/A"},{"$error":"#N/A"},{"$error":"#N/A"},{"$error":"#N/A"}]
[null,null,null,null,null,null,null,null,null,null,{"$error":"#N/A"},{"$error":"#N/A"},{"$error":"#N/A"},{"$error":"#N/A"},{"$error":"#N/A"}]
[null,null,null,null,null,null,null,null,null,null,{"$error":"#N/A"},{"$error":"#N/A"},{"$error":"#N/A"},{"$error":"#N/A"},{"$error":"#N/A"}]
[null,null,null,null,null,null,null,null,null,null,{"$error":"#N/A"},{"$error":"#N/A"},{"$error":"#N/A"},{"$error":"#N/A"},{"$error":"#N/A"}]
[null,null,null,null,null,null,null,null,null,null,{"$error":"#N/A"},{"$error":"#N/A"},{"$error":"#N/A"},{"$error":"#N/A"},{"$error":"#N/A"}]
[null,null,null,null,null,null,null,null,null,null,{"$error":"#N/A"},{"$error":"#N/A"},{"$error":"#N/A"},{"$error":"#N/A"},{"$error":"#N/A"}]
[null,null,null,null,null,null,null,null,null,null,{"$error":"#N/A"},{"$error":"#N/A"},{"$error":"#N/A"},{"$error":"#N/A"},{"$error":"#N/A"}]
[null,null,null,null,null,null,null,null,null,null,{"$error":"#N/A"},{"$error":"#N/A"},{"$error":"#N/A"},{"$error":"#N/A"},{"$error":"#N/A"}]
[null,null,null,null,null,null,null,null,null,null,{"$error":"#N/A"},{"$error":"#N/A"},{"$error":"#N/A"},{"$error":"#N/A"},{"$error":"#N/A"}]
[null,null,null,null,null,null,null,null,null,null,{"$error":"#N/A"},{"$error":"#N/A"},{"$error":"#N/A"},{"$error":"#N/A"},{"$error":"#N/A"}]
[null,null,null,null,null,null,null,null,null,null,{"$f":"IF(K33995+$G$19<=$G$18,K33995+$G$19,NA())","v":{"$error":"#N/A"}},{"$error":"#N/A"},{"$error":"#N/A"},{"$error":"#N/A"},{"$error":"#N/A"}]
[null,null,null,null,null,null,null,null,null,null,{"$error":"#N/A"},{"$error":"#N/A"},{"$error":"#N/A"},{"$error":"#N/A"},{"$error":"#N/A"}]
[null,null,null,null,null,null,null,null,null,null,{"$error":"#N/A"},{"$error":"#N/A"},{"$error":"#N/A"},{"$error":"#N/A"},{"$error":"#N/A"}]
[null,null,null,null,null,null,null,null,null,null,{"$error":"#N/A"},{"$error":"#N/A"},{"$error":"#N/A"},{"$error":"#N/A"},{"$error":"#N/A"}]
[null,null,null,null,null,null,null,null,null,null,{"$error":"#N/A"},{"$error":"#N/A"},{"$error":"#N/A"},{"$error":"#N/A"},{"$error":"#N/A"}]
[null,null,null,null,null,null,null,null,null,null,{"$error":"#N/A"},{"$error":"#N/A"},{"$error":"#N/A"},{"$error":"#N/A"},{"$error":"#N/A"}]
[null,null,null,null,null,null,null,null,null,null,{"$error":"#N/A"},{"$error":"#N/A"},{"$error":"#N/A"},{"$error":"#N/A"},{"$error":"#N/A"}]
[null,null,null,null,null,null,null,null,null,null,{"$error":"#N/A"},{"$error":"#N/A"},{"$error":"#N/A"},{"$error":"#N/A"},{"$error":"#N/A"}]
[null,null,null,null,null,null,null,null,null,null,{"$error":"#N/A"},{"$error":"#N/A"},{"$error":"#N/A"},{"$error":"#N/A"},{"$error":"#N/A"}]
[null,null,null,null,null,null,null,null,null,null,{"$error":"#N/A"},{"$error":"#N/A"},{"$error":"#N/A"},{"$error":"#N/A"},{"$error":"#N/A"}]
[null,null,null,null,null,null,null,null,null,null,{"$error":"#N/A"},{"$error":"#N/A"},{"$error":"#N/A"},{"$error":"#N/A"},{"$error":"#N/A"}]
[null,null,null,null,null,null,null,null,null,null,{"$error":"#N/A"},{"$error":"#N/A"},{"$error":"#N/A"},{"$error":"#N/A"},{"$error":"#N/A"}]
[null,null,null,null,null,null,null,null,null,null,{"$error":"#N/A"},{"$error":"#N/A"},{"$error":"#N/A"},{"$error":"#N/A"},{"$error":"#N/A"}]
[null,null,null,null,null,null,null,null,null,null,{"$error":"#N/A"},{"$error":"#N/A"},{"$error":"#N/A"},{"$error":"#N/A"},{"$error":"#N/A"}]
[null,null,null,null,null,null,null,null,null,null,{"$error":"#N/A"},{"$error":"#N/A"},{"$error":"#N/A"},{"$error":"#N/A"},{"$error":"#N/A"}]
[null,null,null,null,null,null,null,null,null,null,{"$error":"#N/A"},{"$error":"#N/A"},{"$error":"#N/A"},{"$error":"#N/A"},{"$error":"#N/A"}]
[null,null,null,null,null,null,null,null,null,null,{"$error":"#N/A"},{"$error":"#N/A"},{"$error":"#N/A"},{"$error":"#N/A"},{"$error":"#N/A"}]
[null,null,null,null,null,null,null,null,null,null,{"$error":"#N/A"},{"$error":"#N/A"},{"$error":"#N/A"},{"$error":"#N/A"},{"$error":"#N/A"}]
[null,null,null,null,null,null,null,null,null,null,{"$error":"#N/A"},{"$error":"#N/A"},{"$error":"#N/A"},{"$error":"#N/A"},{"$error":"#N/A"}]
[null,null,null,null,null,null,null,null,null,null,{"$error":"#N/A"},{"$error":"#N/A"},{"$error":"#N/A"},{"$error":"#N/A"},{"$error":"#N/A"}]
[null,null,null,null,null,null,null,null,null,null,{"$error":"#N/A"},{"$error":"#N/A"},{"$error":"#N/A"},{"$error":"#N/A"},{"$error":"#N/A"}]
[null,null,null,null,null,null,null,null,null,null,{"$error":"#N/A"},{"$error":"#N/A"},{"$error":"#N/A"},{"$error":"#N/A"},{"$error":"#N/A"}]
[null,null,null,null,null,null,null,null,null,null,{"$error":"#N/A"},{"$error":"#N/A"},{"$error":"#N/A"},{"$error":"#N/A"},{"$error":"#N/A"}]
[null,null,null,null,null,null,null,null,null,null,{"$error":"#N/A"},{"$error":"#N/A"},{"$error":"#N/A"},{"$error":"#N/A"},{"$error":"#N/A"}]
[null,null,null,null,null,null,null,null,null,null,{"$error":"#N/A"},{"$error":"#N/A"},{"$error":"#N/A"},{"$error":"#N/A"},{"$error":"#N/A"}]
[null,null,null,null,null,null,null,null,null,null,{"$error":"#N/A"},{"$error":"#N/A"},{"$error":"#N/A"},{"$error":"#N/A"},{"$error":"#N/A"}]
[null,null,null,null,null,null,null,null,null,null,{"$error":"#N/A"},{"$error":"#N/A"},{"$error":"#N/A"},{"$error":"#N/A"},{"$error":"#N/A"}]
[null,null,null,null,null,null,null,null,null,null,{"$error":"#N/A"},{"$error":"#N/A"},{"$error":"#N/A"},{"$error":"#N/A"},{"$error":"#N/A"}]
[null,null,null,null,null,null,null,null,null,null,{"$error":"#N/A"},{"$error":"#N/A"},{"$error":"#N/A"},{"$error":"#N/A"},{"$error":"#N/A"}]
[null,null,null,null,null,null,null,null,null,null,{"$error":"#N/A"},{"$error":"#N/A"},{"$error":"#N/A"},{"$error":"#N/A"},{"$error":"#N/A"}]
[null,null,null,null,null,null,null,null,null,null,{"$error":"#N/A"},{"$error":"#N/A"},{"$error":"#N/A"},{"$error":"#N/A"},{"$error":"#N/A"}]
[null,null,null,null,null,null,null,null,null,null,{"$error":"#N/A"},{"$error":"#N/A"},{"$error":"#N/A"},{"$error":"#N/A"},{"$error":"#N/A"}]
[null,null,null,null,null,null,null,null,null,null,{"$error":"#N/A"},{"$error":"#N/A"},{"$error":"#N/A"},{"$error":"#N/A"},{"$error":"#N/A"}]
[null,null,null,null,null,null,null,null,null,null,{"$error":"#N/A"},{"$error":"#N/A"},{"$error":"#N/A"},{"$error":"#N/A"},{"$error":"#N/A"}]
[null,null,null,null,null,null,null,null,null,null,{"$error":"#N/A"},{"$error":"#N/A"},{"$error":"#N/A"},{"$error":"#N/A"},{"$error":"#N/A"}]
[null,null,null,null,null,null,null,null,null,null,{"$error":"#N/A"},{"$error":"#N/A"},{"$error":"#N/A"},{"$error":"#N/A"},{"$error":"#N/A"}]
[null,null,null,null,null,null,null,null,null,null,{"$error":"#N/A"},{"$error":"#N/A"},{"$error":"#N/A"},{"$error":"#N/A"},{"$error":"#N/A"}]
[null,null,null,null,null,null,null,null,null,null,{"$error":"#N/A"},{"$error":"#N/A"},{"$error":"#N/A"},{"$error":"#N/A"},{"$error":"#N/A"}]
[null,null,null,null,null,null,null,null,null,null,{"$error":"#N/A"},{"$error":"#N/A"},{"$error":"#N/A"},{"$error":"#N/A"},{"$error":"#N/A"}]
[null,null,null,null,null,null,null,null,null,null,{"$error":"#N/A"},{"$error":"#N/A"},{"$error":"#N/A"},{"$error":"#N/A"},{"$error":"#N/A"}]
[null,null,null,null,null,null,null,null,null,null,{"$error":"#N/A"},{"$error":"#N/A"},{"$error":"#N/A"},{"$error":"#N/A"},{"$error":"#N/A"}]
[null,null,null,null,null,null,null,null,null,null,{"$error":"#N/A"},{"$error":"#N/A"},{"$error":"#N/A"},{"$error":"#N/A"},{"$error":"#N/A"}]
[null,null,null,null,null,null,null,null,null,null,{"$error":"#N/A"},{"$error":"#N/A"},{"$error":"#N/A"},{"$error":"#N/A"},{"$error":"#N/A"}]
[null,null,null,null,null,null,null,null,null,null,{"$error":"#N/A"},{"$error":"#N/A"},{"$error":"#N/A"},{"$error":"#N/A"},{"$error":"#N/A"}]
[null,null,null,null,null,null,null,null,null,null,{"$error":"#N/A"},{"$error":"#N/A"},{"$error":"#N/A"},{"$error":"#N/A"},{"$error":"#N/A"}]
[null,null,null,null,null,null,null,null,null,null,{"$error":"#N/A"},{"$error":"#N/A"},{"$error":"#N/A"},{"$error":"#N/A"},{"$error":"#N/A"}]
[null,null,null,null,null,null,null,null,null,null,{"$error":"#N/A"},{"$error":"#N/A"},{"$error":"#N/A"},{"$error":"#N/A"},{"$error":"#N/A"}]
[null,null,null,null,null,null,null,null,null,null,{"$error":"#N/A"},{"$error":"#N/A"},{"$error":"#N/A"},{"$error":"#N/A"},{"$error":"#N/A"}]
[null,null,null,null,null,null,null,null,null,null,{"$error":"#N/A"},{"$error":"#N/A"},{"$error":"#N/A"},{"$error":"#N/A"},{"$error":"#N/A"}]
[null,null,null,null,null,null,null,null,null,null,{"$error":"#N/A"},{"$error":"#N/A"},{"$error":"#N/A"},{"$error":"#N/A"},{"$error":"#N/A"}]
[null,null,null,null,null,null,null,null,null,null,{"$error":"#N/A"},{"$error":"#N/A"},{"$error":"#N/A"},{"$error":"#N/A"},{"$error":"#N/A"}]
[null,null,null,null,null,null,null,null,null,null,{"$error":"#N/A"},{"$error":"#N/A"},{"$error":"#N/A"},{"$error":"#N/A"},{"$error":"#N/A"}]
[null,null,null,null,null,null,null,null,null,null,{"$error":"#N/A"},{"$error":"#N/A"},{"$error":"#N/A"},{"$error":"#N/A"},{"$error":"#N/A"}]
[null,null,null,null,null,null,null,null,null,null,{"$error":"#N/A"},{"$error":"#N/A"},{"$error":"#N/A"},{"$error":"#N/A"},{"$error":"#N/A"}]
[null,null,null,null,null,null,null,null,null,null,{"$error":"#N/A"},{"$error":"#N/A"},{"$error":"#N/A"},{"$error":"#N/A"},{"$error":"#N/A"}]
[null,null,null,null,null,null,null,null,null,null,{"$error":"#N/A"},{"$error":"#N/A"},{"$error":"#N/A"},{"$error":"#N/A"},{"$error":"#N/A"}]
[null,null,null,null,null,null,null,null,null,null,{"$error":"#N/A"},{"$error":"#N/A"},{"$error":"#N/A"},{"$error":"#N/A"},{"$error":"#N/A"}]
[null,null,null,null,null,null,null,null,null,null,{"$error":"#N/A"},{"$error":"#N/A"},{"$error":"#N/A"},{"$error":"#N/A"},{"$error":"#N/A"}]
[null,null,null,null,null,null,null,null,null,null,{"$error":"#N/A"},{"$error":"#N/A"},{"$error":"#N/A"},{"$error":"#N/A"},{"$error":"#N/A"}]
[null,null,null,null,null,null,null,null,null,null,{"$error":"#N/A"},{"$error":"#N/A"},{"$error":"#N/A"},{"$error":"#N/A"},{"$error":"#N/A"}]
[null,null,null,null,null,null,null,null,null,null,{"$error":"#N/A"},{"$error":"#N/A"},{"$error":"#N/A"},{"$error":"#N/A"},{"$error":"#N/A"}]
[null,null,null,null,null,null,null,null,null,null,{"$error":"#N/A"},{"$error":"#N/A"},{"$error":"#N/A"},{"$error":"#N/A"},{"$error":"#N/A"}]
[null,null,null,null,null,null,null,null,null,null,{"$error":"#N/A"},{"$error":"#N/A"},{"$error":"#N/A"},{"$error":"#N/A"},{"$error":"#N/A"}]
[null,null,null,null,null,null,null,null,null,null,{"$error":"#N/A"},{"$error":"#N/A"},{"$error":"#N/A"},{"$error":"#N/A"},{"$error":"#N/A"}]
[null,null,null,null,null,null,null,null,null,null,{"$error":"#N/A"},{"$error":"#N/A"},{"$error":"#N/A"},{"$error":"#N/A"},{"$error":"#N/A"}]
[null,null,null,null,null,null,null,null,null,null,{"$error":"#N/A"},{"$error":"#N/A"},{"$error":"#N/A"},{"$error":"#N/A"},{"$error":"#N/A"}]
[null,null,null,null,null,null,null,null,null,null,{"$error":"#N/A"},{"$error":"#N/A"},{"$error":"#N/A"},{"$error":"#N/A"},{"$error":"#N/A"}]
[null,null,null,null,null,null,null,null,null,null,{"$error":"#N/A"},{"$error":"#N/A"},{"$error":"#N/A"},{"$error":"#N/A"},{"$error":"#N/A"}]
[null,null,null,null,null,null,null,null,null,null,{"$error":"#N/A"},{"$f":"IF(ISBLANK(K35597),\"\",$G$11*K35597+$H$11)","v":{"$error":"#N/A"}},{"$f":"IF(ISBLANK(L35597),\"\",$G$12*K35597+$H$12)","v":{"$error":"#N/A"}},{"$error":"#N/A"},{"$f":"IF(ISBLANK(M35597),\"\",$G$14*K35597+$H$14)","v":{"$error":"#N/A"}}]
[null,null,null,null,null,null,null,null,null,null,{"$error":"#N/A"},{"$error":"#N/A"},{"$error":"#N/A"},{"$error":"#N/A"},{"$error":"#N/A"}]
[null,null,null,null,null,null,null,null,null,null,{"$error":"#N/A"},{"$error":"#N/A"},{"$error":"#N/A"},{"$error":"#N/A"},{"$error":"#N/A"}]
[null,null,null,null,null,null,null,null,null,null,{"$error":"#N/A"},{"$error":"#N/A"},{"$error":"#N/A"},{"$error":"#N/A"},{"$error":"#N/A"}]
[null,null,null,null,null,null,null,null,null,null,{"$error":"#N/A"},{"$error":"#N/A"},{"$error":"#N/A"},{"$error":"#N/A"},{"$error":"#N/A"}]
[null,null,null,null,null,null,null,null,null,null,{"$error":"#N/A"},{"$error":"#N/A"},{"$error":"#N/A"},{"$error":"#N/A"},{"$error":"#N/A"}]
[null,null,null,null,null,null,null,null,null,null,{"$error":"#N/A"},{"$error":"#N/A"},{"$error":"#N/A"},{"$error":"#N/A"},{"$error":"#N/A"}]
[null,null,null,null,null,null,null,null,null,null,{"$error":"#N/A"},{"$error":"#N/A"},{"$error":"#N/A"},{"$error":"#N/A"},{"$error":"#N/A"}]
[null,null,null,null,null,null,null,null,null,null,{"$error":"#N/A"},{"$error":"#N/A"},{"$error":"#N/A"},{"$f":"IF(ISBLANK(K35787),\"\",$G$13*K35787+$H$13)","v":{"$error":"#N/A"}},{"$error":"#N/A"}]
[null,null,null,null,null,null,null,null,null,null,{"$error":"#N/A"},{"$error":"#N/A"},{"$error":"#N/A"},{"$error":"#N/A"},{"$error":"#N/A"}]
[null,null,null,null,null,null,null,null,null,null,{"$error":"#N/A"},{"$error":"#N/A"},{"$error":"#N/A"},{"$error":"#N/A"},{"$error":"#N/A"}]
[null,null,null,null,null,null,null,null,null,null,{"$error":"#N/A"},{"$f":"IF(ISBLANK(K35853),\"\",$G$11*K35853+$H$11)","v":{"$error":"#N/A"}},{"$f":"IF(ISBLANK(L35853),\"\",$G$12*K35853+$H$12)","v":{"$error":"#N/A"}},{"$error":"#N/A"},{"$f":"IF(ISBLANK(M35853),\"\",$G$14*K35853+$H$14)","v":{"$error":"#N/A"}}]
[null,null,null,null,null,null,null,null,null,null,{"$error":"#N/A"},{"$error":"#N/A"},{"$error":"#N/A"},{"$error":"#N/A"},{"$error":"#N/A"}]
[null,null,null,null,null,null,null,null,null,null,{"$error":"#N/A"},{"$error":"#N/A"},{"$error":"#N/A"},{"$error":"#N/A"},{"$error":"#N/A"}]
[null,null,null,null,null,null,null,null,null,null,{"$error":"#N/A"},{"$error":"#N/A"},{"$error":"#N/A"},{"$error":"#N/A"},{"$error":"#N/A"}]
[null,null,null,null,null,null,null,null,null,null,{"$error":"#N/A"},{"$error":"#N/A"},{"$error":"#N/A"},{"$error":"#N/A"},{"$error":"#N/A"}]
[null,null,null,null,null,null,null,null,null,null,{"$error":"#N/A"},{"$error":"#N/A"},{"$error":"#N/A"},{"$error":"#N/A"},{"$error":"#N/A"}]
[null,null,null,null,null,null,null,null,null,null,{"$error":"#N/A"},{"$error":"#N/A"},{"$error":"#N/A"},{"$error":"#N/A"},{"$error":"#N/A"}]
[null,null,null,null,null,null,null,null,null,null,{"$error":"#N/A"},{"$error":"#N/A"},{"$error":"#N/A"},{"$error":"#N/A"},{"$error":"#N/A"}]
[null,null,null,null,null,null,null,null,null,null,{"$error":"#N/A"},{"$error":"#N/A"},{"$error":"#N/A"},{"$f":"IF(ISBLANK(K36043),\"\",$G$13*K36043+$H$13)","v":{"$error":"#N/A"}},{"$error":"#N/A"}]
[null,null,null,null,null,null,null,null,null,null,{"$error":"#N/A"},{"$error":"#N/A"},{"$error":"#N/A"},{"$error":"#N/A"},{"$error":"#N/A"}]
[null,null,null,null,null,null,null,null,null,null,{"$error":"#N/A"},{"$error":"#N/A"},{"$error":"#N/A"},{"$error":"#N/A"},{"$error":"#N/A"}]
[null,null,null,null,null,null,null,null,null,null,{"$error":"#N/A"},{"$error":"#N/A"},{"$error":"#N/A"},{"$error":"#N/A"},{"$error":"#N/A"}]
[null,null,null,null,null,null,null,null,null,null,{"$error":"#N/A"},{"$error":"#N/A"},{"$error":"#N/A"},{"$error":"#N/A"},{"$error":"#N/A"}]
[null,null,null,null,null,null,null,null,null,null,{"$error":"#N/A"},{"$error":"#N/A"},{"$error":"#N/A"},{"$error":"#N/A"},{"$error":"#N/A"}]
[null,null,null,null,null,null,null,null,null,null,{"$error":"#N/A"},{"$error":"#N/A"},{"$error":"#N/A"},{"$error":"#N/A"},{"$error":"#N/A"}]
[null,null,null,null,null,null,null,null,null,null,{"$error":"#N/A"},{"$error":"#N/A"},{"$error":"#N/A"},{"$error":"#N/A"},{"$error":"#N/A"}]
[null,null,null,null,null,null,null,null,null,null,{"$error":"#N/A"},{"$error":"#N/A"},{"$error":"#N/A"},{"$error":"#N/A"},{"$error":"#N/A"}]
[null,null,null,null,null,null,null,null,null,null,{"$error":"#N/A"},{"$error":"#N/A"},{"$error":"#N/A"},{"$error":"#N/A"},{"$error":"#N/A"}]
[null,null,null,null,null,null,null,null,null,null,{"$error":"#N/A"},{"$error":"#N/A"},{"$error":"#N/A"},{"$error":"#N/A"},{"$error":"#N/A"}]
[null,null,null,null,null,null,null,null,null,null,{"$error":"#N/A"},{"$error":"#N/A"},{"$error":"#N/A"},{"$error":"#N/A"},{"$error":"#N/A"}]
[null,null,null,null,null,null,null,null,null,null,{"$error":"#N/A"},{"$error":"#N/A"},{"$error":"#N/A"},{"$error":"#N/A"},{"$error":"#N/A"}]
[null,null,null,null,null,null,null,null,null,null,{"$error":"#N/A"},{"$error":"#N/A"},{"$error":"#N/A"},{"$error":"#N/A"},{"$error":"#N/A"}]
[null,null,null,null,null,null,null,null,null,null,{"$error":"#N/A"},{"$error":"#N/A"},{"$error":"#N/A"},{"$error":"#N/A"},{"$error":"#N/A"}]
[null,null,null,null,null,null,null,null,null,null,{"$error":"#N/A"},{"$error":"#N/A"},{"$error":"#N/A"},{"$error":"#N/A"},{"$error":"#N/A"}]
[null,null,null,null,null,null,null,null,null,null,{"$error":"#N/A"},{"$error":"#N/A"},{"$error":"#N/A"},{"$error":"#N/A"},{"$error":"#N/A"}]
[null,null,null,null,null,null,null,null,null,null,{"$error":"#N/A"},{"$error":"#N/A"},{"$error":"#N/A"},{"$error":"#N/A"},{"$error":"#N/A"}]
[null,null,null,null,null,null,null,null,null,null,{"$error":"#N/A"},{"$error":"#N/A"},{"$error":"#N/A"},{"$error":"#N/A"},{"$error":"#N/A"}]
[null,null,null,null,null,null,null,null,null,null,{"$error":"#N/A"},{"$error":"#N/A"},{"$error":"#N/A"},{"$error":"#N/A"},{"$error":"#N/A"}]
[null,null,null,null,null,null,null,null,null,null,{"$error":"#N/A"},{"$error":"#N/A"},{"$error":"#N/A"},{"$error":"#N/A"},{"$error":"#N/A"}]
[null,null,null,null,null,null,null,null,null,null,{"$error":"#N/A"},{"$error":"#N/A"},{"$error":"#N/A"},{"$error":"#N/A"},{"$error":"#N/A"}]
[null,null,null,null,null,null,null,null,null,null,{"$error":"#N/A"},{"$error":"#N/A"},{"$error":"#N/A"},{"$error":"#N/A"},{"$error":"#N/A"}]
[null,null,null,null,null,null,null,null,null,null,{"$error":"#N/A"},{"$error":"#N/A"},{"$error":"#N/A"},{"$error":"#N/A"},{"$error":"#N/A"}]
[null,null,null,null,null,null,null,null,null,null,{"$error":"#N/A"},{"$error":"#N/A"},{"$error":"#N/A"},{"$error":"#N/A"},{"$error":"#N/A"}]
[null,null,null,null,null,null,null,null,null,null,{"$error":"#N/A"},{"$error":"#N/A"},{"$error":"#N/A"},{"$error":"#N/A"},{"$error":"#N/A"}]
[null,null,null,null,null,null,null,null,null,null,{"$error":"#N/A"},{"$error":"#N/A"},{"$error":"#N/A"},{"$error":"#N/A"},{"$error":"#N/A"}]
[null,null,null,null,null,null,null,null,null,null,{"$error":"#N/A"},{"$error":"#N/A"},{"$error":"#N/A"},{"$error":"#N/A"},{"$error":"#N/A"}]
[null,null,null,null,null,null,null,null,null,null,{"$error":"#N/A"},{"$error":"#N/A"},{"$error":"#N/A"},{"$error":"#N/A"},{"$error":"#N/A"}]
[null,null,null,null,null,null,null,null,null,null,{"$error":"#N/A"},{"$error":"#N/A"},{"$error":"#N/A"},{"$error":"#N/A"},{"$error":"#N/A"}]
[null,null,null,null,null,null,null,null,null,null,{"$error":"#N/A"},{"$error":"#N/A"},{"$error":"#N/A"},{"$error":"#N/A"},{"$error":"#N/A"}]
[null,null,null,null,null,null,null,null,null,null,{"$error":"#N/A"},{"$error":"#N/A"},{"$error":"#N/A"},{"$error":"#N/A"},{"$error":"#N/A"}]
[null,null,null,null,null,null,null,null,null,null,{"$error":"#N/A"},{"$error":"#N/A"},{"$error":"#N/A"},{"$error":"#N/A"},{"$error":"#N/A"}]
[null,null,null,null,null,null,null,null,null,null,{"$error":"#N/A"},{"$error":"#N/A"},{"$error":"#N/A"},{"$error":"#N/A"},{"$error":"#N/A"}]
[null,null,null,null,null,null,null,null,null,null,{"$error":"#N/A"},{"$error":"#N/A"},{"$error":"#N/A"},{"$error":"#N/A"},{"$error":"#N/A"}]
[null,null,null,null,null,null,null,null,null,null,{"$error":"#N/A"},{"$error":"#N/A"},{"$error":"#N/A"},{"$error":"#N/A"},{"$error":"#N/A"}]
[null,null,null,null,null,null,null,null,null,null,{"$error":"#N/A"},{"$error":"#N/A"},{"$error":"#N/A"},{"$error":"#N/A"},{"$error":"#N/A"}]
[null,null,null,null,null,null,null,null,null,null,{"$error":"#N/A"},{"$error":"#N/A"},{"$error":"#N/A"},{"$error":"#N/A"},{"$error":"#N/A"}]
[null,null,null,null,null,null,null,null,null,null,{"$error":"#N/A"},{"$error":"#N/A"},{"$error":"#N/A"},{"$error":"#N/A"},{"$error":"#N/A"}]
[null,null,null,null,null,null,null,null,null,null,{"$error":"#N/A"},{"$error":"#N/A"},{"$error":"#N/A"},{"$error":"#N/A"},{"$error":"#N/A"}]
[null,null,null,null,null,null,null,null,null,null,{"$error":"#N/A"},{"$error":"#N/A"},{"$error":"#N/A"},{"$error":"#N/A"},{"$error":"#N/A"}]
[null,null,null,null,null,null,null,null,null,null,{"$error":"#N/A"},{"$error":"#N/A"},{"$error":"#N/A"},{"$error":"#N/A"},{"$error":"#N/A"}]
[null,null,null,null,null,null,null,null,null,null,{"$error":"#N/A"},{"$error":"#N/A"},{"$error":"#N/A"},{"$error":"#N/A"},{"$error":"#N/A"}]
[null,null,null,null,null,null,null,null,null,null,{"$error":"#N/A"},{"$error":"#N/A"},{"$error":"#N/A"},{"$error":"#N/A"},{"$error":"#N/A"}]
[null,null,null,null,null,null,null,null,null,null,{"$error":"#N/A"},{"$error":"#N/A"},{"$error":"#N/A"},{"$error":"#N/A"},{"$error":"#N/A"}]
[null,null,null,null,null,null,null,null,null,null,{"$error":"#N/A"},{"$error":"#N/A"},{"$error":"#N/A"},{"$error":"#N/A"},{"$error":"#N/A"}]
[null,null,null,null,null,null,null,null,null,null,{"$error":"#N/A"},{"$error":"#N/A"},{"$error":"#N/A"},{"$error":"#N/A"},{"$error":"#N/A"}]
[null,null,null,null,null,null,null,null,null,null,{"$error":"#N/A"},{"$error":"#N/A"},{"$error":"#N/A"},{"$error":"#N/A"},{"$error":"#N/A"}]
[null,null,null,null,null,null,null,null,null,null,{"$error":"#N/A"},{"$f":"IF(ISBLANK(K37197),\"\",$G$11*K37197+$H$11)","v":{"$error":"#N/A"}},{"$f":"IF(ISBLANK(L37197),\"\",$G$12*K37197+$H$12)","v":{"$error":"#N/A"}},{"$error":"#N/A"},{"$f":"IF(ISBLANK(M37197),\"\",$G$14*K37197+$H$14)","v":{"$error":"#N/A"}}]
[null,null,null,null,null,null,null,null,null,null,{"$error":"#N/A"},{"$error":"#N/A"},{"$error":"#N/A"},{"$error":"#N/A"},{"$error":"#N/A"}]
[null,null,null,null,null,null,null,null,null,null,{"$error":"#N/A"},{"$error":"#N/A"},{"$error":"#N/A"},{"$error":"#N/A"},{"$error":"#N/A"}]
[null,null,null,null,null,null,null,null,null,null,{"$error":"#N/A"},{"$error":"#N/A"},{"$error":"#N/A"},{"$error":"#N/A"},{"$error":"#N/A"}]
[null,null,null,null,null,null,null,null,null,null,{"$error":"#N/A"},{"$error":"#N/A"},{"$error":"#N/A"},{"$error":"#N/A"},{"$error":"#N/A"}]
[null,null,null,null,null,null,null,null,null,null,{"$error":"#N/A"},{"$error":"#N/A"},{"$error":"#N/A"},{"$error":"#N/A"},{"$error":"#N/A"}]
[null,null,null,null,null,null,null,null,null,null,{"$error":"#N/A"},{"$error":"#N/A"},{"$error":"#N/A"},{"$error":"#N/A"},{"$error":"#N/A"}]
[null,null,null,null,null,null,null,null,null,null,{"$error":"#N/A"},{"$error":"#N/A"},{"$error":"#N/A"},{"$error":"#N/A"},{"$error":"#N/A"}]
[null,null,null,null,null,null,null,null,null,null,{"$error":"#N/A"},{"$error":"#N/A"},{"$error":"#N/A"},{"$error":"#N/A"},{"$error":"#N/A"}]
[null,null,null,null,null,null,null,null,null,null,{"$error":"#N/A"},{"$error":"#N/A"},{"$error":"#N/A"},{"$error":"#N/A"},{"$error":"#N/A"}]
[null,null,null,null,null,null,null,null,null,null,{"$error":"#N/A"},{"$error":"#N/A"},{"$error":"#N/A"},{"$error":"#N/A"},{"$error":"#N/A"}]
[null,null,null,null,null,null,null,null,null,null,{"$error":"#N/A"},{"$error":"#N/A"},{"$error":"#N/A"},{"$error":"#N/A"},{"$error":"#N/A"}]
[null,null,null,null,null,null,null,null,null,null,{"$error":"#N/A"},{"$error":"#N/A"},{"$error":"#N/A"},{"$error":"#N/A"},{"$error":"#N/A"}]
[null,null,null,null,null,null,null,null,null,null,{"$error":"#N/A"},{"$error":"#N/A"},{"$error":"#N/A"},{"$error":"#N/A"},{"$error":"#N/A"}]
[null,null,null,null,null,null,null,null,null,null,{"$error":"#N/A"},{"$error":"#N/A"},{"$error":"#N/A"},{"$error":"#N/A"},{"$error":"#N/A"}]
[null,null,null,null,null,null,null,null,null,null,{"$error":"#N/A"},{"$error":"#N/A"},{"$error":"#N/A"},{"$error":"#N/A"},{"$error":"#N/A"}]
[null,null,null,null,null,null,null,null,null,null,{"$error":"#N/A"},{"$error":"#N/A"},{"$error":"#N/A"},{"$error":"#N/A"},{"$error":"#N/A"}]
[null,null,null,null,null,null,null,null,null,null,{"$error":"#N/A"},{"$error":"#N/A"},{"$error":"#N/A"},{"$error":"#N/A"},{"$error":"#N/A"}]
[null,null,null,null,null,null,null,null,null,null,{"$error":"#N/A"},{"$error":"#N/A"},{"$error":"#N/A"},{"$error":"#N/A"},{"$error":"#N/A"}]
[null,null,null,null,null,null,null,null,null,null,{"$error":"#N/A"},{"$error":"#N/A"},{"$error":"#N/A"},{"$error":"#N/A"},{"$error":"#N/A"}]
[null,null,null,null,null,null,null,null,null,null,{"$error":"#N/A"},{"$error":"#N/A"},{"$error":"#N/A"},{"$error":"#N/A"},{"$error":"#N/A"}]
[null,null,null,null,null,null,null,null,null,null,{"$error":"#N/A"},{"$error":"#N/A"},{"$error":"#N/A"},{"$error":"#N/A"},{"$error":"#N/A"}]
[null,null,null,null,null,null,null,null,null,null,{"$error":"#N/A"},{"$error":"#N/A"},{"$error":"#N/A"},{"$error":"#N/A"},{"$error":"#N/A"}]
[null,null,null,null,null,null,null,null,null,null,{"$error":"#N/A"},{"$error":"#N/A"},{"$error":"#N/A"},{"$error":"#N/A"},{"$error":"#N/A"}]
[null,null,null,null,null,null,null,null,null,null,{"$error":"#N/A"},{"$error":"#N/A"},{"$error":"#N/A"},{"$error":"#N/A"},{"$error":"#N/A"}]
[null,null,null,null,null,null,null,null,null,null,{"$error":"#N/A"},{"$error":"#N/A"},{"$error":"#N/A"},{"$error":"#N/A"},{"$error":"#N/A"}]
[null,null,null,null,null,null,null,null,null,null,{"$error":"#N/A"},{"$error":"#N/A"},{"$error":"#N/A"},{"$error":"#N/A"},{"$error":"#N/A"}]
[null,null,null,null,null,null,null,null,null,null,{"$f":"IF(K37835+$G$19<=$G$18,K37835+$G$19,NA())","v":{"$error":"#N/A"}},{"$error":"#N/A"},{"$error":"#N/A"},{"$error":"#N/A"},{"$error":"#N/A"}]
[null,null,null,null,null,null,null,null,null,null,{"$error":"#N/A"},{"$error":"#N/A"},{"$error":"#N/A"},{"$error":"#N/A"},{"$error":"#N/A"}]
[null,null,null,null,null,null,null,null,null,null,{"$error":"#N/A"},{"$error":"#N/A"},{"$error":"#N/A"},{"$error":"#N/A"},{"$error":"#N/A"}]
[null,null,null,null,null,null,null,null,null,null,{"$error":"#N/A"},{"$error":"#N/A"},{"$error":"#N/A"},{"$error":"#N/A"},{"$error":"#N/A"}]
[null,null,null,null,null,null,null,null,null,null,{"$error":"#N/A"},{"$error":"#N/A"},{"$error":"#N/A"},{"$error":"#N/A"},{"$error":"#N/A"}]
[null,null,null,null,null,null,null,null,null,null,{"$error":"#N/A"},{"$error":"#N/A"},{"$error":"#N/A"},{"$error":"#N/A"},{"$error":"#N/A"}]
[null,null,null,null,null,null,null,null,null,null,{"$error":"#N/A"},{"$error":"#N/A"},{"$error":"#N/A"},{"$error":"#N/A"},{"$error":"#N/A"}]
[null,null,null,null,null,null,null,null,null,null,{"$error":"#N/A"},{"$error":"#N/A"},{"$error":"#N/A"},{"$error":"#N/A"},{"$error":"#N/A"}]
[null,null,null,null,null,null,null,null,null,null,{"$error":"#N/A"},{"$error":"#N/A"},{"$error":"#N/A"},{"$error":"#N/A"},{"$error":"#N/A"}]
[null,null,null,null,null,null,null,null,null,null,{"$error":"#N/A"},{"$error":"#N/A"},{"$error":"#N/A"},{"$error":"#N/A"},{"$error":"#N/A"}]
[null,null,null,null,null,null,null,null,null,null,{"$error":"#N/A"},{"$error":"#N/A"},{"$error":"#N/A"},{"$error":"#N/A"},{"$error":"#N/A"}]
[null,null,null,null,null,null,null,null,null,null,{"$f":"IF(K38091+$G$19<=$G$18,K38091+$G$19,NA())","v":{"$error":"#N/A"}},{"$error":"#N/A"},{"$error":"#N/A"},{"$error":"#N/A"},{"$error":"#N/A"}]
[null,null,null,null,null,null,null,null,null,null,{"$error":"#N/A"},{"$error":"#N/A"},{"$error":"#N/A"},{"$error":"#N/A"},{"$error":"#N/A"}]
[null,null,null,null,null,null,null,null,null,null,{"$error":"#N/A"},{"$error":"#N/A"},{"$error":"#N/A"},{"$error":"#N/A"},{"$error":"#N/A"}]
[null,null,null,null,null,null,null,null,null,null,{"$error":"#N/A"},{"$error":"#N/A"},{"$error":"#N/A"},{"$error":"#N/A"},{"$error":"#N/A"}]
[null,null,null,null,null,null,null,null,null,null,{"$error":"#N/A"},{"$error":"#N/A"},{"$error":"#N/A"},{"$error":"#N/A"},{"$error":"#N/A"}]
[null,null,null,null,null,null,null,null,null,null,{"$error":"#N/A"},{"$error":"#N/A"},{"$error":"#N/A"},{"$error":"#N/A"},{"$error":"#N/A"}]
[null,null,null,null,null,null,null,null,null,null,{"$error":"#N/A"},{"$error":"#N/A"},{"$error":"#N/A"},{"$error":"#N/A"},{"$error":"#N/A"}]
[null,null,null,null,null,null,null,null,null,null,{"$error":"#N/A"},{"$error":"#N/A"},{"$error":"#N/A"},{"$error":"#N/A"},{"$error":"#N/A"}]
[null,null,null,null,null,null,null,null,null,null,{"$error":"#N/A"},{"$error":"#N/A"},{"$error":"#N/A"},{"$error":"#N/A"},{"$error":"#N/A"}]
[null,null,null,null,null,null,null,null,null,null,{"$error":"#N/A"},{"$error":"#N/A"},{"$error":"#N/A"},{"$error":"#N/A"},{"$error":"#N/A"}]
[null,null,null,null,null,null,null,null,null,null,{"$error":"#N/A"},{"$error":"#N/A"},{"$error":"#N/A"},{"$error":"#N/A"},{"$error":"#N/A"}]
[null,null,null,null,null,null,null,null,null,null,{"$error":"#N/A"},{"$error":"#N/A"},{"$error":"#N/A"},{"$error":"#N/A"},{"$error":"#N/A"}]
[null,null,null,null,null,null,null,null,null,null,{"$error":"#N/A"},{"$error":"#N/A"},{"$error":"#N/A"},{"$error":"#N/A"},{"$error":"#N/A"}]
[null,null,null,null,null,null,null,null,null,null,{"$error":"#N/A"},{"$error":"#N/A"},{"$error":"#N/A"},{"$error":"#N/A"},{"$error":"#N/A"}]
[null,null,null,null,null,null,null,null,null,null,{"$error":"#N/A"},{"$error":"#N/A"},{"$error":"#N/A"},{"$error":"#N/A"},{"$error":"#N/A"}]
[null,null,null,null,null,null,null,null,null,null,{"$error":"#N/A"},{"$error":"#N/A"},{"$error":"#N/A"},{"$error":"#N/A"},{"$error":"#N/A"}]
[null,null,null,null,null,null,null,null,null,null,{"$error":"#N/A"},{"$error":"#N/A"},{"$error":"#N/A"},{"$error":"#N/A"},{"$error":"#N/A"}]
[null,null,null,null,null,null,null,null,null,null,{"$error":"#N/A"},{"$error":"#N/A"},{"$error":"#N/A"},{"$error":"#N/A"},{"$error":"#N/A"}]
[null,null,null,null,null,null,null,null,null,null,{"$error":"#N/A"},{"$error":"#N/A"},{"$error":"#N/A"},{"$error":"#N/A"},{"$error":"#N/A"}]
[null,null,null,null,null,null,null,null,null,null,{"$error":"#N/A"},{"$error":"#N/A"},{"$error":"#N/A"},{"$error":"#N/A"},{"$error":"#N/A"}]
[null,null,null,null,null,null,null,null,null,null,{"$error":"#N/A"},{"$error":"#N/A"},{"$error":"#N/A"},{"$error":"#N/A"},{"$error":"#N/A"}]
[null,null,null,null,null,null,null,null,null,null,{"$error":"#N/A"},{"$error":"#N/A"},{"$error":"#N/A"},{"$error":"#N/A"},{"$error":"#N/A"}]
[null,null,null,null,null,null,null,null,null,null,{"$error":"#N/A"},{"$error":"#N/A"},{"$error":"#N/A"},{"$error":"#N/A"},{"$error":"#N/A"}]
[null,null,null,null,null,null,null,null,null,null,{"$error":"#N/A"},{"$error":"#N/A"},{"$error":"#N/A"},{"$error":"#N/A"},{"$error":"#N/A"}]
[null,null,null,null,null,null,null,null,null,null,{"$error":"#N/A"},{"$error":"#N/A"},{"$error":"#N/A"},{"$error":"#N/A"},{"$error":"#N/A"}]
[null,null,null,null,null,null,null,null,null,null,{"$error":"#N/A"},{"$error":"#N/A"},{"$error":"#N/A"},{"$error":"#N/A"},{"$error":"#N/A"}]
[null,null,null,null,null,null,null,null,null,null,{"$error":"#N/A"},{"$error":"#N/A"},{"$error":"#N/A"},{"$error":"#N/A"},{"$error":"#N/A"}]
[null,null,null,null,null,null,null,null,null,null,{"$error":"#N/A"},{"$error":"#N/A"},{"$error":"#N/A"},{"$error":"#N/A"},{"$error":"#N/A"}]
[null,null,null,null,null,null,null,null,null,null,{"$error":"#N/A"},{"$error":"#N/A"},{"$error":"#N/A"},{"$error":"#N/A"},{"$error":"#N/A"}]
[null,null,null,null,null,null,null,null,null,null,{"$error":"#N/A"},{"$error":"#N/A"},{"$error":"#N/A"},{"$error":"#N/A"},{"$error":"#N/A"}]
[null,null,null,null,null,null,null,null,null,null,{"$error":"#N/A"},{"$error":"#N/A"},{"$error":"#N/A"},{"$error":"#N/A"},{"$error":"#N/A"}]
[null,null,null,null,null,null,null,null,null,null,{"$error":"#N/A"},{"$error":"#N/A"},{"$error":"#N/A"},{"$error":"#N/A"},{"$error":"#N/A"}]
[null,null,null,null,null,null,null,null,null,null,{"$error":"#N/A"},{"$f":"IF(ISBLANK(K38861),\"\",$G$11*K38861+$H$11)","v":{"$error":"#N/A"}},{"$f":"IF(ISBLANK(L38861),\"\",$G$12*K38861+$H$12)","v":{"$error":"#N/A"}},{"$error":"#N/A"},{"$f":"IF(ISBLANK(M38861),\"\",$G$14*K38861+$H$14)","v":{"$error":"#N/A"}}]
[null,null,null,null,null,null,null,null,null,null,{"$error":"#N/A"},{"$error":"#N/A"},{"$error":"#N/A"},{"$error":"#N/A"},{"$error":"#N/A"}]
[null,null,null,null,null,null,null,null,null,null,{"$error":"#N/A"},{"$error":"#N/A"},{"$error":"#N/A"},{"$error":"#N/A"},{"$error":"#N/A"}]
[null,null,null,null,null,null,null,null,null,null,{"$error":"#N/A"},{"$error":"#N/A"},{"$error":"#N/A"},{"$error":"#N/A"},{"$error":"#N/A"}]
[null,null,null,null,null,null,null,null,null,null,{"$error":"#N/A"},{"$error":"#N/A"},{"$error":"#N/A"},{"$error":"#N/A"},{"$error":"#N/A"}]
[null,null,null,null,null,null,null,null,null,null,{"$error":"#N/A"},{"$error":"#N/A"},{"$error":"#N/A"},{"$error":"#N/A"},{"$error":"#N/A"}]
[null,null,null,null,null,null,null,null,null,null,{"$error":"#N/A"},{"$error":"#N/A"},{"$error":"#N/A"},{"$error":"#N/A"},{"$error":"#N/A"}]
[null,null,null,null,null,null,null,null,null,null,{"$error":"#N/A"},{"$error":"#N/A"},{"$error":"#N/A"},{"$error":"#N/A"},{"$error":"#N/A"}]
[null,null,null,null,null,null,null,null,null,null,{"$error":"#N/A"},{"$error":"#N/A"},{"$error":"#N/A"},{"$error":"#N/A"},{"$error":"#N/A"}]
[null,null,null,null,null,null,null,null,null,null,{"$error":"#N/A"},{"$error":"#N/A"},{"$error":"#N/A"},{"$error":"#N/A"},{"$error":"#N/A"}]
[null,null,null,null,null,null,null,null,null,null,{"$error":"#N/A"},{"$error":"#N/A"},{"$error":"#N/A"},{"$error":"#N/A"},{"$error":"#N/A"}]
[null,null,null,null,null,null,null,null,null,null,{"$error":"#N/A"},{"$error":"#N/A"},{"$error":"#N/A"},{"$error":"#N/A"},{"$error":"#N/A"}]
[null,null,null,null,null,null,null,null,null,null,{"$error":"#N/A"},{"$error":"#N/A"},{"$error":"#N/A"},{"$error":"#N/A"},{"$error":"#N/A"}]
[null,null,null,null,null,null,null,null,null,null,{"$error":"#N/A"},{"$error":"#N/A"},{"$error":"#N/A"},{"$error":"#N/A"},{"$error":"#N/A"}]
[null,null,null,null,null,null,null,null,null,null,{"$error":"#N/A"},{"$error":"#N/A"},{"$error":"#N/A"},{"$error":"#N/A"},{"$error":"#N/A"}]
[null,null,null,null,null,null,null,null,null,null,{"$error":"#N/A"},{"$error":"#N/A"},{"$error":"#N/A"},{"$error":"#N/A"},{"$error":"#N/A"}]
[null,null,null,null,null,null,null,null,null,null,{"$error":"#N/A"},{"$error":"#N/A"},{"$error":"#N/A"},{"$error":"#N/A"},{"$error":"#N/A"}]
[null,null,null,null,null,null,null,null,null,null,{"$error":"#N/A"},{"$error":"#N/A"},{"$error":"#N/A"},{"$error":"#N/A"},{"$error":"#N/A"}]
[null,null,null,null,null,null,null,null,null,null,{"$error":"#N/A"},{"$error":"#N/A"},{"$error":"#N/A"},{"$error":"#N/A"},{"$error":"#N/A"}]
[null,null,null,null,null,null,null,null,null,null,{"$error":"#N/A"},{"$error":"#N/A"},{"$error":"#N/A"},{"$error":"#N/A"},{"$error":"#N/A"}]
[null,null,null,null,null,null,null,null,null,null,{"$error":"#N/A"},{"$error":"#N/A"},{"$error":"#N/A"},{"$error":"#N/A"},{"$error":"#N/A"}]
[null,null,null,null,null,null,null,null,null,null,{"$error":"#N/A"},{"$error":"#N/A"},{"$error":"#N/A"},{"$error":"#N/A"},{"$error":"#N/A"}]
[null,null,null,null,null,null,null,null,null,null,{"$error":"#N/A"},{"$error":"#N/A"},{"$error":"#N/A"},{"$error":"#N/A"},{"$error":"#N/A"}]
[null,null,null,null,null,null,null,null,null,null,{"$error":"#N/A"},{"$error":"#N/A"},{"$error":"#N/A"},{"$error":"#N/A"},{"$error":"#N/A"}]
[null,null,null,null,null,null,null,null,null,null,{"$error":"#N/A"},{"$error":"#N/A"},{"$error":"#N/A"},{"$error":"#N/A"},{"$error":"#N/A"}]
[null,null,null,null,null,null,null,null,null,null,{"$error":"#N/A"},{"$error":"#N/A"},{"$error":"#N/A"},{"$error":"#N/A"},{"$error":"#N/A"}]
[null,null,null,null,null,null,null,null,null,null,{"$error":"#N/A"},{"$error":"#N/A"},{"$error":"#N/A"},{"$error":"#N/A"},{"$error":"#N/A"}]
[null,null,null,null,null,null,null,null,null,null,{"$error":"#N/A"},{"$error":"#N/A"},{"$error":"#N/A"},{"$error":"#N/A"},{"$error":"#N/A"}]
[null,null,null,null,null,null,null,null,null,null,{"$error":"#N/A"},{"$error":"#N/A"},{"$error":"#N/A"},{"$error":"#N/A"},{"$error":"#N/A"}]
[null,null,null,null,null,null,null,null,null,null,{"$error":"#N/A"},{"$error":"#N/A"},{"$error":"#N/A"},{"$error":"#N/A"},{"$error":"#N/A"}]
[null,null,null,null,null,null,null,null,null,null,{"$error":"#N/A"},{"$error":"#N/A"},{"$error":"#N/A"},{"$error":"#N/A"},{"$error":"#N/A"}]
[null,null,null,null,null,null,null,null,null,null,{"$error":"#N/A"},{"$error":"#N/A"},{"$error":"#N/A"},{"$error":"#N/A"},{"$error":"#N/A"}]
[null,null,null,null,null,null,null,null,null,null,{"$error":"#N/A"},{"$error":"#N/A"},{"$error":"#N/A"},{"$error":"#N/A"},{"$error":"#N/A"}]
[null,null,null,null,null,null,null,null,null,null,{"$error":"#N/A"},{"$error":"#N/A"},{"$error":"#N/A"},{"$error":"#N/A"},{"$error":"#N/A"}]
[null,null,null,null,null,null,null,null,null,null,{"$error":"#N/A"},{"$error":"#N/A"},{"$error":"#N/A"},{"$error":"#N/A"},{"$error":"#N/A"}]
[null,null,null,null,null,null,null,null,null,null,{"$error":"#N/A"},{"$error":"#N/A"},{"$error":"#N/A"},{"$error":"#N/A"},{"$error":"#N/A"}]
[null,null,null,null,null,null,null,null,null,null,{"$error":"#N/A"},{"$error":"#N/A"},{"$error":"#N/A"},{"$error":"#N/A"},{"$error":"#N/A"}]
[null,null,null,null,null,null,null,null,null,null,{"$error":"#N/A"},{"$error":"#N/A"},{"$error":"#N/A"},{"$error":"#N/A"},{"$error":"#N/A"}]
[null,null,null,null,null,null,null,null,null,null,{"$error":"#N/A"},{"$error":"#N/A"},{"$error":"#N/A"},{"$error":"#N/A"},{"$error":"#N/A"}]
[null,null,null,null,null,null,null,null,null,null,{"$error":"#N/A"},{"$error":"#N/A"},{"$error":"#N/A"},{"$error":"#N/A"},{"$error":"#N/A"}]
[null,null,null,null,null,null,null,null,null,null,{"$error":"#N/A"},{"$error":"#N/A"},{"$error":"#N/A"},{"$error":"#N/A"},{"$error":"#N/A"}]
[null,null,null,null,null,null,null,null,null,null,{"$error":"#N/A"},{"$error":"#N/A"},{"$error":"#N/A"},{"$error":"#N/A"},{"$error":"#N/A"}]
[null,null,null,null,null,null,null,null,null,null,{"$error":"#N/A"},{"$error":"#N/A"},{"$error":"#N/A"},{"$error":"#N/A"},{"$error":"#N/A"}]
[null,null,null,null,null,null,null,null,null,null,{"$error":"#N/A"},{"$error":"#N/A"},{"$error":"#N/A"},{"$error":"#N/A"},{"$error":"#N/A"}]
[null,null,null,null,null,null,null,null,null,null,{"$error":"#N/A"},{"$error":"#N/A"},{"$error":"#N/A"},{"$error":"#N/A"},{"$error":"#N/A"}]
[null,null,null,null,null,null,null,null,null,null,{"$error":"#N/A"},{"$error":"#N/A"},{"$error":"#N/A"},{"$error":"#N/A"},{"$error":"#N/A"}]
[null,null,null,null,null,null,null,null,null,null,{"$error":"#N/A"},{"$error":"#N/A"},{"$error":"#N/A"},{"$error":"#N/A"},{"$error":"#N/A"}]
[null,null,null,null,null,null,null,null,null,null,{"$error":"#N/A"},{"$error":"#N/A"},{"$error":"#N/A"},{"$error":"#N/A"},{"$error":"#N/A"}]
[null,null,null,null,null,null,null,null,null,null,{"$error":"#N/A"},{"$error":"#N/A"},{"$error":"#N/A"},{"$error":"#N/A"},{"$error":"#N/A"}]
[null,null,null,null,null,null,null,null,null,null,{"$error":"#N/A"},{"$error":"#N/A"},{"$error":"#N/A"},{"$error":"#N/A"},{"$error":"#N/A"}]
[null,null,null,null,null,null,null,null,null,null,{"$error":"#N/A"},{"$error":"#N/A"},{"$error":"#N/A"},{"$error":"#N/A"},{"$error":"#N/A"}]
[null,null,null,null,null,null,null,null,null,null,{"$error":"#N/A"},{"$error":"#N/A"},{"$error":"#N/A"},{"$error":"#N/A"},{"$error":"#N/A"}]
[null,null,null,null,null,null,null,null,null,null,{"$error":"#N/A"},{"$error":"#N/A"},{"$error":"#N/A"},{"$error":"#N/A"},{"$error":"#N/A"}]
[null,null,null,null,null,null,null,null,null,null,{"$error":"#N/A"},{"$error":"#N/A"},{"$error":"#N/A"},{"$error":"#N/A"},{"$error":"#N/A"}]
[null,null,null,null,null,null,null,null,null,null,{"$error":"#N/A"},{"$f":"IF(ISBLANK(K40141),\"\",$G$11*K40141+$H$11)","v":{"$error":"#N/A"}},{"$f":"IF(ISBLANK(L40141),\"\",$G$12*K40141+$H$12)","v":{"$error":"#N/A"}},{"$error":"#N/A"},{"$f":"IF(ISBLANK(M40141),\"\",$G$14*K40141+$H$14)","v":{"$error":"#N/A"}}]
[null,null,null,null,null,null,null,null,null,null,{"$error":"#N/A"},{"$error":"#N/A"},{"$error":"#N/A"},{"$error":"#N/A"},{"$error":"#N/A"}]
[null,null,null,null,null,null,null,null,null,null,{"$error":"#N/A"},{"$error":"#N/A"},{"$error":"#N/A"},{"$error":"#N/A"},{"$error":"#N/A"}]
[null,null,null,null,null,null,null,null,null,null,{"$error":"#N/A"},{"$error":"#N/A"},{"$error":"#N/A"},{"$error":"#N/A"},{"$error":"#N/A"}]
[null,null,null,null,null,null,null,null,null,null,{"$error":"#N/A"},{"$error":"#N/A"},{"$error":"#N/A"},{"$error":"#N/A"},{"$error":"#N/A"}]
[null,null,null,null,null,null,null,null,null,null,{"$error":"#N/A"},{"$error":"#N/A"},{"$error":"#N/A"},{"$error":"#N/A"},{"$error":"#N/A"}]
[null,null,null,null,null,null,null,null,null,null,{"$error":"#N/A"},{"$error":"#N/A"},{"$error":"#N/A"},{"$error":"#N/A"},{"$error":"#N/A"}]
[null,null,null,null,null,null,null,null,null,null,{"$error":"#N/A"},{"$error":"#N/A"},{"$error":"#N/A"},{"$error":"#N/A"},{"$error":"#N/A"}]
[null,null,null,null,null,null,null,null,null,null,{"$error":"#N/A"},{"$error":"#N/A"},{"$error":"#N/A"},{"$f":"IF(ISBLANK(K40331),\"\",$G$13*K40331+$H$13)","v":{"$error":"#N/A"}},{"$error":"#N/A"}]
[null,null,null,null,null,null,null,null,null,null,{"$error":"#N/A"},{"$error":"#N/A"},{"$error":"#N/A"},{"$error":"#N/A"},{"$error":"#N/A"}]
[null,null,null,null,null,null,null,null,null,null,{"$error":"#N/A"},{"$error":"#N/A"},{"$error":"#N/A"},{"$error":"#N/A"},{"$error":"#N/A"}]
[null,null,null,null,null,null,null,null,null,null,{"$error":"#N/A"},{"$error":"#N/A"},{"$error":"#N/A"},{"$error":"#N/A"},{"$error":"#N/A"}]
[null,null,null,null,null,null,null,null,null,null,{"$error":"#N/A"},{"$error":"#N/A"},{"$error":"#N/A"},{"$error":"#N/A"},{"$error":"#N/A"}]
[null,null,null,null,null,null,null,null,null,null,{"$error":"#N/A"},{"$error":"#N/A"},{"$error":"#N/A"},{"$error":"#N/A"},{"$error":"#N/A"}]
[null,null,null,null,null,null,null,null,null,null,{"$error":"#N/A"},{"$error":"#N/A"},{"$error":"#N/A"},{"$error":"#N/A"},{"$error":"#N/A"}]
[null,null,null,null,null,null,null,null,null,null,{"$error":"#N/A"},{"$error":"#N/A"},{"$error":"#N/A"},{"$error":"#N/A"},{"$error":"#N/A"}]
[null,null,null,null,null,null,null,null,null,null,{"$error":"#N/A"},{"$error":"#N/A"},{"$error":"#N/A"},{"$error":"#N/A"},{"$error":"#N/A"}]
[null,null,null,null,null,null,null,null,null,null,{"$error":"#N/A"},{"$error":"#N/A"},{"$error":"#N/A"},{"$error":"#N/A"},{"$error":"#N/A"}]
[null,null,null,null,null,null,null,null,null,null,{"$error":"#N/A"},{"$error":"#N/A"},{"$error":"#N/A"},{"$error":"#N/A"},{"$error":"#N/A"}]
[null,null,null,null,null,null,null,null,null,null,{"$error":"#N/A"},{"$error":"#N/A"},{"$error":"#N/A"},{"$error":"#N/A"},{"$error":"#N/A"}]
[null,null,null,null,null,null,null,null,null,null,{"$error":"#N/A"},{"$error":"#N/A"},{"$error":"#N/A"},{"$error":"#N/A"},{"$error":"#N/A"}]
[null,null,null,null,null,null,null,null,null,null,{"$error":"#N/A"},{"$error":"#N/A"},{"$error":"#N/A"},{"$error":"#N/A"},{"$error":"#N/A"}]
[null,null,null,null,null,null,null,null,null,null,{"$error":"#N/A"},{"$error":"#N/A"},{"$error":"#N/A"},{"$error":"#N/A"},{"$error":"#N/A"}]
[null,null,null,null,null,null,null,null,null,null,{"$error":"#N/A"},{"$error":"#N/A"},{"$error":"#N/A"},{"$error":"#N/A"},{"$error":"#N/A"}]
[null,null,null,null,null,null,null,null,null,null,{"$error":"#N/A"},{"$error":"#N/A"},{"$error":"#N/A"},{"$error":"#N/A"},{"$error":"#N/A"}]
[null,null,null,null,null,null,null,null,null,null,{"$error":"#N/A"},{"$error":"#N/A"},{"$error":"#N/A"},{"$error":"#N/A"},{"$error":"#N/A"}]
[null,null,null,null,null,null,null,null,null,null,{"$error":"#N/A"},{"$error":"#N/A"},{"$error":"#N/A"},{"$error":"#N/A"},{"$error":"#N/A"}]
[null,null,null,null,null,null,null,null,null,null,{"$error":"#N/A"},{"$error":"#N/A"},{"$error":"#N/A"},{"$error":"#N/A"},{"$error":"#N/A"}]
[null,null,null,null,null,null,null,null,null,null,{"$error":"#N/A"},{"$error":"#N/A"},{"$error":"#N/A"},{"$error":"#N/A"},{"$error":"#N/A"}]
[null,null,null,null,null,null,null,null,null,null,{"$error":"#N/A"},{"$error":"#N/A"},{"$error":"#N/A"},{"$error":"#N/A"},{"$error":"#N/A"}]
[null,null,null,null,null,null,null,null,null,null,{"$f":"IF(K40843+$G$19<=$G$18,K40843+$G$19,NA())","v":{"$error":"#N/A"}},{"$error":"#N/A"},{"$error":"#N/A"},{"$error":"#N/A"},{"$error":"#N/A"}]
[null,null,null,null,null,null,null,null,null,null,{"$error":"#N/A"},{"$error":"#N/A"},{"$error":"#N/A"},{"$error":"#N/A"},{"$error":"#N/A"}]
[null,null,null,null,null,null,null,null,null,null,{"$error":"#N/A"},{"$error":"#N/A"},{"$error":"#N/A"},{"$error":"#N/A"},{"$error":"#N/A"}]
[null,null,null,null,null,null,null,null,null,null,{"$error":"#N/A"},{"$error":"#N/A"},{"$error":"#N/A"},{"$error":"#N/A"},{"$error":"#N/A"}]
[null,null,null,null,null,null,null,null,null,null,{"$error":"#N/A"},{"$error":"#N/A"},{"$error":"#N/A"},{"$error":"#N/A"},{"$error":"#N/A"}]
[null,null,null,null,null,null,null,null,null,null,{"$f":"IF(K40971+$G$19<=$G$18,K40971+$G$19,NA())","v":{"$error":"#N/A"}},{"$error":"#N/A"},{"$error":"#N/A"},{"$error":"#N/A"},{"$error":"#N/A"}]
[null,null,null,null,null,null,null,null,null,null,{"$error":"#N/A"},{"$error":"#N/A"},{"$error":"#N/A"},{"$error":"#N/A"},{"$error":"#N/A"}]
[null,null,null,null,null,null,null,null,null,null,{"$error":"#N/A"},{"$error":"#N/A"},{"$error":"#N/A"},{"$error":"#N/A"},{"$error":"#N/A"}]
[null,null,null,null,null,null,null,null,null,null,{"$error":"#N/A"},{"$error":"#N/A"},{"$error":"#N/A"},{"$error":"#N/A"},{"$error":"#N/A"}]
[null,null,null,null,null,null,null,null,null,null,{"$error":"#N/A"},{"$error":"#N/A"},{"$error":"#N/A"},{"$error":"#N/A"},{"$error":"#N/A"}]
[null,null,null,null,null,null,null,null,null,null,{"$error":"#N/A"},{"$error":"#N/A"},{"$error":"#N/A"},{"$error":"#N/A"},{"$error":"#N/A"}]
[null,null,null,null,null,null,null,null,null,null,{"$error":"#N/A"},{"$error":"#N/A"},{"$error":"#N/A"},{"$error":"#N/A"},{"$error":"#N/A"}]
[null,null,null,null,null,null,null,null,null,null,{"$error":"#N/A"},{"$error":"#N/A"},{"$error":"#N/A"},{"$error":"#N/A"},{"$error":"#N/A"}]
[null,null,null,null,null,null,null,null,null,null,{"$error":"#N/A"},{"$error":"#N/A"},{"$error":"#N/A"},{"$error":"#N/A"},{"$error":"#N/A"}]
[null,null,null,null,null,null,null,null,null,null,{"$error":"#N/A"},{"$error":"#N/A"},{"$error":"#N/A"},{"$error":"#N/A"},{"$error":"#N/A"}]
[null,null,null,null,null,null,null,null,null,null,{"$error":"#N/A"},{"$error":"#N/A"},{"$error":"#N/A"},{"$error":"#N/A"},{"$error":"#N/A"}]
[null,null,null,null,null,null,null,null,null,null,{"$error":"#N/A"},{"$error":"#N/A"},{"$error":"#N/A"},{"$error":"#N/A"},{"$error":"#N/A"}]
[null,null,null,null,null,null,null,null,null,null,{"$error":"#N/A"},{"$error":"#N/A"},{"$error":"#N/A"},{"$error":"#N/A"},{"$error":"#N/A"}]
[null,null,null,null,null,null,null,null,null,null,{"$error":"#N/A"},{"$error":"#N/A"},{"$error":"#N/A"},{"$error":"#N/A"},{"$error":"#N/A"}]
[null,null,null,null,null,null,null,null,null,null,{"$error":"#N/A"},{"$error":"#N/A"},{"$error":"#N/A"},{"$error":"#N/A"},{"$error":"#N/A"}]
[null,null,null,null,null,null,null,null,null,null,{"$error":"#N/A"},{"$error":"#N/A"},{"$error":"#N/A"},{"$error":"#N/A"},{"$error":"#N/A"}]
[null,null,null,null,null,null,null,null,null,null,{"$error":"#N/A"},{"$error":"#N/A"},{"$error":"#N/A"},{"$error":"#N/A"},{"$error":"#N/A"}]
[null,null,null,null,null,null,null,null,null,null,{"$error":"#N/A"},{"$error":"#N/A"},{"$error":"#N/A"},{"$error":"#N/A"},{"$error":"#N/A"}]
[null,null,null,null,null,null,null,null,null,null,{"$error":"#N/A"},{"$error":"#N/A"},{"$error":"#N/A"},{"$error":"#N/A"},{"$error":"#N/A"}]
[null,null,null,null,null,null,null,null,null,null,{"$error":"#N/A"},{"$error":"#N/A"},{"$error":"#N/A"},{"$error":"#N/A"},{"$error":"#N/A"}]
[null,null,null,null,null,null,null,null,null,null,{"$error":"#N/A"},{"$error":"#N/A"},{"$error":"#N/A"},{"$error":"#N/A"},{"$error":"#N/A"}]
[null,null,null,null,null,null,null,null,null,null,{"$error":"#N/A"},{"$error":"#N/A"},{"$error":"#N/A"},{"$error":"#N/A"},{"$error":"#N/A"}]
[null,null,null,null,null,null,null,null,null,null,{"$error":"#N/A"},{"$error":"#N/A"},{"$error":"#N/A"},{"$error":"#N/A"},{"$error":"#N/A"}]
[null,null,null,null,null,null,null,null,null,null,{"$error":"#N/A"},{"$error":"#N/A"},{"$error":"#N/A"},{"$error":"#N/A"},{"$error":"#N/A"}]
[null,null,null,null,null,null,null,null,null,null,{"$error":"#N/A"},{"$error":"#N/A"},{"$error":"#N/A"},{"$error":"#N/A"},{"$error":"#N/A"}]
[null,null,null,null,null,null,null,null,null,null,{"$error":"#N/A"},{"$error":"#N/A"},{"$error":"#N/A"},{"$error":"#N/A"},{"$error":"#N/A"}]
[null,null,null,null,null,null,null,null,null,null,{"$error":"#N/A"},{"$error":"#N/A"},{"$error":"#N/A"},{"$error":"#N/A"},{"$error":"#N/A"}]
[null,null,null,null,null,null,null,null,null,null,{"$error":"#N/A"},{"$error":"#N/A"},{"$error":"#N/A"},{"$error":"#N/A"},{"$error":"#N/A"}]
[null,null,null,null,null,null,null,null,null,null,{"$error":"#N/A"},{"$error":"#N/A"},{"$error":"#N/A"},{"$error":"#N/A"},{"$error":"#N/A"}]
[null,null,null,null,null,null,null,null,null,null,{"$error":"#N/A"},{"$error":"#N/A"},{"$error":"#N/A"},{"$error":"#N/A"},{"$error":"#N/A"}]
[null,null,null,null,null,null,null,null,null,null,{"$error":"#N/A"},{"$error":"#N/A"},{"$error":"#N/A"},{"$error":"#N/A"},{"$error":"#N/A"}]
[null,null,null,null,null,null,null,null,null,null,{"$error":"#N/A"},{"$error":"#N/A"},{"$error":"#N/A"},{"$error":"#N/A"},{"$error":"#N/A"}]
[null,null,null,null,null,null,null,null,null,null,{"$error":"#N/A"},{"$error":"#N/A"},{"$error":"#N/A"},{"$error":"#N/A"},{"$error":"#N/A"}]
[null,null,null,null,null,null,null,null,null,null,{"$error":"#N/A"},{"$error":"#N/A"},{"$error":"#N/A"},{"$error":"#N/A"},{"$error":"#N/A"}]
[null,null,null,null,null,null,null,null,null,null,{"$error":"#N/A"},{"$error":"#N/A"},{"$error":"#N/A"},{"$error":"#N/A"},{"$error":"#N/A"}]
[null,null,null,null,null,null,null,null,null,null,{"$error":"#N/A"},{"$error":"#N/A"},{"$error":"#N/A"},{"$error":"#N/A"},{"$error":"#N/A"}]
[null,null,null,null,null,null,null,null,null,null,{"$error":"#N/A"},{"$error":"#N/A"},{"$error":"#N/A"},{"$error":"#N/A"},{"$error":"#N/A"}]
[null,null,null,null,null,null,null,null,null,null,{"$error":"#N/A"},{"$error":"#N/A"},{"$error":"#N/A"},{"$error":"#N/A"},{"$error":"#N/A"}]
[null,null,null,null,null,null,null,null,null,null,{"$error":"#N/A"},{"$error":"#N/A"},{"$error":"#N/A"},{"$error":"#N/A"},{"$error":"#N/A"}]
[null,null,null,null,null,null,null,null,null,null,{"$error":"#N/A"},{"$error":"#N/A"},{"$error":"#N/A"},{"$error":"#N/A"},{"$error":"#N/A"}]
[null,null,null,null,null,null,null,null,null,null,{"$error":"#N/A"},{"$error":"#N/A"},{"$error":"#N/A"},{"$error":"#N/A"},{"$error":"#N/A"}]
[null,null,null,null,null,null,null,null,null,null,{"$error":"#N/A"},{"$error":"#N/A"},{"$error":"#N/A"},{"$error":"#N/A"},{"$error":"#N/A"}]
[null,null,null,null,null,null,null,null,null,null,{"$error":"#N/A"},{"$error":"#N/A"},{"$error":"#N/A"},{"$error":"#N/A"},{"$error":"#N/A"}]
[null,null,null,null,null,null,null,null,null,null,{"$error":"#N/A"},{"$error":"#N/A"},{"$error":"#N/A"},{"$error":"#N/A"},{"$error":"#N/A"}]
[null,null,null,null,null,null,null,null,null,null,{"$error":"#N/A"},{"$error":"#N/A"},{"$error":"#N/A"},{"$error":"#N/A"},{"$error":"#N/A"}]
[null,null,null,null,null,null,null,null,null,null,{"$error":"#N/A"},{"$error":"#N/A"},{"$error":"#N/A"},{"$error":"#N/A"},{"$error":"#N/A"}]
[null,null,null,null,null,null,null,null,null,null,{"$error":"#N/A"},{"$error":"#N/A"},{"$error":"#N/A"},{"$error":"#N/A"},{"$error":"#N/A"}]
[null,null,null,null,null,null,null,null,null,null,{"$error":"#N/A"},{"$error":"#N/A"},{"$error":"#N/A"},{"$error":"#N/A"},{"$error":"#N/A"}]
[null,null,null,null,null,null,null,null,null,null,{"$error":"#N/A"},{"$error":"#N/A"},{"$error":"#N/A"},{"$error":"#N/A"},{"$error":"#N/A"}]
[null,null,null,null,null,null,null,null,null,null,{"$error":"#N/A"},{"$error":"#N/A"},{"$error":"#N/A"},{"$error":"#N/A"},{"$error":"#N/A"}]
[null,null,null,null,null,null,null,null,null,null,{"$error":"#N/A"},{"$error":"#N/A"},{"$error":"#N/A"},{"$error":"#N/A"},{"$error":"#N/A"}]
[null,null,null,null,null,null,null,null,null,null,{"$error":"#N/A"},{"$error":"#N/A"},{"$error":"#N/A"},{"$error":"#N/A"},{"$error":"#N/A"}]
[null,null,null,null,null,null,null,null,null,null,{"$error":"#N/A"},{"$error":"#N/A"},{"$error":"#N/A"},{"$error":"#N/A"},{"$error":"#N/A"}]
[null,null,null,null,null,null,null,null,null,null,{"$error":"#N/A"},{"$error":"#N/A"},{"$error":"#N/A"},{"$error":"#N/A"},{"$error":"#N/A"}]
[null,null,null,null,null,null,null,null,null,null,{"$error":"#N/A"},{"$error":"#N/A"},{"$error":"#N/A"},{"$error":"#N/A"},{"$error":"#N/A"}]
[null,null,null,null,null,null,null,null,null,null,{"$error":"#N/A"},{"$error":"#N/A"},{"$error":"#N/A"},{"$error":"#N/A"},{"$error":"#N/A"}]
[null,null,null,null,null,null,null,null,null,null,{"$error":"#N/A"},{"$error":"#N/A"},{"$error":"#N/A"},{"$error":"#N/A"},{"$error":"#N/A"}]
[null,null,null,null,null,null,null,null,null,null,{"$error":"#N/A"},{"$error":"#N/A"},{"$error":"#N/A"},{"$error":"#N/A"},{"$error":"#N/A"}]
[null,null,null,null,null,null,null,null,null,null,{"$error":"#N/A"},{"$error":"#N/A"},{"$error":"#N/A"},{"$error":"#N/A"},{"$error":"#N/A"}]
[null,null,null,null,null,null,null,null,null,null,{"$error":"#N/A"},{"$error":"#N/A"},{"$error":"#N/A"},{"$error":"#N/A"},{"$error":"#N/A"}]
[null,null,null,null,null,null,null,null,null,null,{"$error":"#N/A"},{"$error":"#N/A"},{"$error":"#N/A"},{"$error":"#N/A"},{"$error":"#N/A"}]
[null,null,null,null,null,null,null,null,null,null,{"$error":"#N/A"},{"$error":"#N/A"},{"$error":"#N/A"},{"$error":"#N/A"},{"$error":"#N/A"}]
[null,null,null,null,null,null,null,null,null,null,{"$error":"#N/A"},{"$error":"#N/A"},{"$error":"#N/A"},{"$error":"#N/A"},{"$error":"#N/A"}]
[null,null,null,null,null,null,null,null,null,null,{"$error":"#N/A"},{"$error":"#N/A"},{"$error":"#N/A"},{"$error":"#N/A"},{"$error":"#N/A"}]
[null,null,null,null,null,null,null,null,null,null,{"$error":"#N/A"},{"$error":"#N/A"},{"$error":"#N/A"},{"$error":"#N/A"},{"$error":"#N/A"}]
[null,null,null,null,null,null,null,null,null,null,{"$error":"#N/A"},{"$error":"#N/A"},{"$error":"#N/A"},{"$error":"#N/A"},{"$error":"#N/A"}]
[null,null,null,null,null,null,null,null,null,null,{"$error":"#N/A"},{"$error":"#N/A"},{"$error":"#N/A"},{"$error":"#N/A"},{"$error":"#N/A"}]
[null,null,null,null,null,null,null,null,null,null,{"$error":"#N/A"},{"$error":"#N/A"},{"$error":"#N/A"},{"$error":"#N/A"},{"$error":"#N/A"}]
[null,null,null,null,null,null,null,null,null,null,{"$error":"#N/A"},{"$error":"#N/A"},{"$error":"#N/A"},{"$error":"#N/A"},{"$error":"#N/A"}]
[null,null,null,null,null,null,null,null,null,null,{"$error":"#N/A"},{"$error":"#N/A"},{"$error":"#N/A"},{"$error":"#N/A"},{"$error":"#N/A"}]
[null,null,null,null,null,null,null,null,null,null,{"$f":"IF(K42635+$G$19<=$G$18,K42635+$G$19,NA())","v":{"$error":"#N/A"}},{"$error":"#N/A"},{"$error":"#N/A"},{"$error":"#N/A"},{"$error":"#N/A"}]
[null,null,null,null,null,null,null,null,null,null,{"$error":"#N/A"},{"$error":"#N/A"},{"$error":"#N/A"},{"$error":"#N/A"},{"$error":"#N/A"}]
[null,null,null,null,null,null,null,null,null,null,{"$error":"#N/A"},{"$error":"#N/A"},{"$error":"#N/A"},{"$error":"#N/A"},{"$error":"#N/A"}]
[null,null,null,null,null,null,null,null,null,null,{"$error":"#N/A"},{"$error":"#N/A"},{"$error":"#N/A"},{"$error":"#N/A"},{"$error":"#N/A"}]
[null,null,null,null,null,null,null,null,null,null,{"$error":"#N/A"},{"$error":"#N/A"},{"$error":"#N/A"},{"$error":"#N/A"},{"$error":"#N/A"}]
[null,null,null,null,null,null,null,null,null,null,{"$error":"#N/A"},{"$error":"#N/A"},{"$error":"#N/A"},{"$error":"#N/A"},{"$error":"#N/A"}]
[null,null,null,null,null,null,null,null,null,null,{"$error":"#N/A"},{"$error":"#N/A"},{"$error":"#N/A"},{"$error":"#N/A"},{"$error":"#N/A"}]
[null,null,null,null,null,null,null,null,null,null,{"$error":"#N/A"},{"$error":"#N/A"},{"$error":"#N/A"},{"$error":"#N/A"},{"$error":"#N/A"}]
[null,null,null,null,null,null,null,null,null,null,{"$error":"#N/A"},{"$error":"#N/A"},{"$error":"#N/A"},{"$error":"#N/A"},{"$error":"#N/A"}]
[null,null,null,null,null,null,null,null,null,null,{"$error":"#N/A"},{"$error":"#N/A"},{"$error":"#N/A"},{"$error":"#N/A"},{"$error":"#N/A"}]
[null,null,null,null,null,null,null,null,null,null,{"$error":"#N/A"},{"$error":"#N/A"},{"$error":"#N/A"},{"$error":"#N/A"},{"$error":"#N/A"}]
[null,null,null,null,null,null,null,null,null,null,{"$error":"#N/A"},{"$f":"IF(ISBLANK(K42893),\"\",$G$11*K42893+$H$11)","v":{"$error":"#N/A"}},{"$f":"IF(ISBLANK(L42893),\"\",$G$12*K42893+$H$12)","v":{"$error":"#N/A"}},{"$error":"#N/A"},{"$f":"IF(ISBLANK(M42893),\"\",$G$14*K42893+$H$14)","v":{"$error":"#N/A"}}]
[null,null,null,null,null,null,null,null,null,null,{"$error":"#N/A"},{"$error":"#N/A"},{"$error":"#N/A"},{"$error":"#N/A"},{"$error":"#N/A"}]
[null,null,null,null,null,null,null,null,null,null,{"$error":"#N/A"},{"$error":"#N/A"},{"$error":"#N/A"},{"$error":"#N/A"},{"$error":"#N/A"}]
[null,null,null,null,null,null,null,null,null,null,{"$error":"#N/A"},{"$error":"#N/A"},{"$error":"#N/A"},{"$error":"#N/A"},{"$error":"#N/A"}]
[null,null,null,null,null,null,null,null,null,null,{"$error":"#N/A"},{"$error":"#N/A"},{"$error":"#N/A"},{"$error":"#N/A"},{"$error":"#N/A"}]
[null,null,null,null,null,null,null,null,null,null,{"$error":"#N/A"},{"$error":"#N/A"},{"$error":"#N/A"},{"$error":"#N/A"},{"$error":"#N/A"}]
[null,null,null,null,null,null,null,null,null,null,{"$error":"#N/A"},{"$error":"#N/A"},{"$error":"#N/A"},{"$error":"#N/A"},{"$error":"#N/A"}]
[null,null,null,null,null,null,null,null,null,null,{"$error":"#N/A"},{"$error":"#N/A"},{"$error":"#N/A"},{"$error":"#N/A"},{"$error":"#N/A"}]
[null,null,null,null,null,null,null,null,null,null,{"$error":"#N/A"},{"$error":"#N/A"},{"$error":"#N/A"},{"$f":"IF(ISBLANK(K43083),\"\",$G$13*K43083+$H$13)","v":{"$error":"#N/A"}},{"$error":"#N/A"}]
[null,null,null,null,null,null,null,null,null,null,{"$error":"#N/A"},{"$error":"#N/A"},{"$error":"#N/A"},{"$error":"#N/A"},{"$error":"#N/A"}]
[null,null,null,null,null,null,null,null,null,null,{"$error":"#N/A"},{"$error":"#N/A"},{"$error":"#N/A"},{"$error":"#N/A"},{"$error":"#N/A"}]
[null,null,null,null,null,null,null,null,null,null,{"$error":"#N/A"},{"$f":"IF(ISBLANK(K43149),\"\",$G$11*K43149+$H$11)","v":{"$error":"#N/A"}},{"$f":"IF(ISBLANK(L43149),\"\",$G$12*K43149+$H$12)","v":{"$error":"#N/A"}},{"$error":"#N/A"},{"$f":"IF(ISBLANK(M43149),\"\",$G$14*K43149+$H$14)","v":{"$error":"#N/A"}}]
[null,null,null,null,null,null,null,null,null,null,{"$error":"#N/A"},{"$error":"#N/A"},{"$error":"#N/A"},{"$error":"#N/A"},{"$error":"#N/A"}]
[null,null,null,null,null,null,null,null,null,null,{"$error":"#N/A"},{"$error":"#N/A"},{"$error":"#N/A"},{"$error":"#N/A"},{"$error":"#N/A"}]
[null,null,null,null,null,null,null,null,null,null,{"$error":"#N/A"},{"$error":"#N/A"},{"$error":"#N/A"},{"$error":"#N/A"},{"$error":"#N/A"}]
[null,null,null,null,null,null,null,null,null,null,{"$error":"#N/A"},{"$error":"#N/A"},{"$error":"#N/A"},{"$error":"#N/A"},{"$error":"#N/A"}]
[null,null,null,null,null,null,null,null,null,null,{"$error":"#N/A"},{"$error":"#N/A"},{"$error":"#N/A"},{"$error":"#N/A"},{"$error":"#N/A"}]
[null,null,null,null,null,null,null,null,null,null,{"$error":"#N/A"},{"$error":"#N/A"},{"$error":"#N/A"},{"$error":"#N/A"},{"$error":"#N/A"}]
[null,null,null,null,null,null,null,null,null,null,{"$error":"#N/A"},{"$error":"#N/A"},{"$error":"#N/A"},{"$error":"#N/A"},{"$error":"#N/A"}]
[null,null,null,null,null,null,null,null,null,null,{"$error":"#N/A"},{"$error":"#N/A"},{"$error":"#N/A"},{"$f":"IF(ISBLANK(K43339),\"\",$G$13*K43339+$H$13)","v":{"$error":"#N/A"}},{"$error":"#N/A"}]
[null,null,null,null,null,null,null,null,null,null,{"$error":"#N/A"},{"$error":"#N/A"},{"$error":"#N/A"},{"$error":"#N/A"},{"$error":"#N/A"}]
[null,null,null,null,null,null,null,null,null,null,{"$error":"#N/A"},{"$error":"#N/A"},{"$error":"#N/A"},{"$error":"#N/A"},{"$error":"#N/A"}]
[null,null,null,null,null,null,null,null,null,null,{"$error":"#N/A"},{"$f":"IF(ISBLANK(K43405),\"\",$G$11*K43405+$H$11)","v":{"$error":"#N/A"}},{"$f":"IF(ISBLANK(L43405),\"\",$G$12*K43405+$H$12)","v":{"$error":"#N/A"}},{"$error":"#N/A"},{"$f":"IF(ISBLANK(M43405),\"\",$G$14*K43405+$H$14)","v":{"$error":"#N/A"}}]
[null,null,null,null,null,null,null,null,null,null,{"$error":"#N/A"},{"$error":"#N/A"},{"$error":"#N/A"},{"$error":"#N/A"},{"$error":"#N/A"}]
[null,null,null,null,null,null,null,null,null,null,{"$error":"#N/A"},{"$error":"#N/A"},{"$error":"#N/A"},{"$error":"#N/A"},{"$error":"#N/A"}]
[null,null,null,null,null,null,null,null,null,null,{"$error":"#N/A"},{"$error":"#N/A"},{"$error":"#N/A"},{"$error":"#N/A"},{"$error":"#N/A"}]
[null,null,null,null,null,null,null,null,null,null,{"$error":"#N/A"},{"$error":"#N/A"},{"$error":"#N/A"},{"$error":"#N/A"},{"$error":"#N/A"}]
[null,null,null,null,null,null,null,null,null,null,{"$error":"#N/A"},{"$error":"#N/A"},{"$error":"#N/A"},{"$error":"#N/A"},{"$error":"#N/A"}]
[null,null,null,null,null,null,null,null,null,null,{"$error":"#N/A"},{"$error":"#N/A"},{"$error":"#N/A"},{"$error":"#N/A"},{"$error":"#N/A"}]
[null,null,null,null,null,null,null,null,null,null,{"$error":"#N/A"},{"$error":"#N/A"},{"$error":"#N/A"},{"$error":"#N/A"},{"$error":"#N/A"}]
[null,null,null,null,null,null,null,null,null,null,{"$error":"#N/A"},{"$error":"#N/A"},{"$error":"#N/A"},{"$error":"#N/A"},{"$error":"#N/A"}]
[null,null,null,null,null,null,null,null,null,null,{"$error":"#N/A"},{"$error":"#N/A"},{"$error":"#N/A"},{"$error":"#N/A"},{"$error":"#N/A"}]
[null,null,null,null,null,null,null,null,null,null,{"$error":"#N/A"},{"$error":"#N/A"},{"$error":"#N/A"},{"$error":"#N/A"},{"$error":"#N/A"}]
[null,null,null,null,null,null,null,null,null,null,{"$error":"#N/A"},{"$error":"#N/A"},{"$error":"#N/A"},{"$error":"#N/A"},{"$error":"#N/A"}]
[null,null,null,null,null,null,null,null,null,null,{"$error":"#N/A"},{"$error":"#N/A"},{"$error":"#N/A"},{"$error":"#N/A"},{"$error":"#N/A"}]
[null,null,null,null,null,null,null,null,null,null,{"$error":"#N/A"},{"$error":"#N/A"},{"$error":"#N/A"},{"$error":"#N/A"},{"$error":"#N/A"}]
[null,null,null,null,null,null,null,null,null,null,{"$error":"#N/A"},{"$error":"#N/A"},{"$error":"#N/A"},{"$error":"#N/A"},{"$error":"#N/A"}]
[null,null,null,null,null,null,null,null,null,null,{"$error":"#N/A"},{"$error":"#N/A"},{"$error":"#N/A"},{"$error":"#N/A"},{"$error":"#N/A"}]
[null,null,null,null,null,null,null,null,null,null,{"$error":"#N/A"},{"$error":"#N/A"},{"$error":"#N/A"},{"$error":"#N/A"},{"$error":"#N/A"}]
[null,null,null,null,null,null,null,null,null,null,{"$error":"#N/A"},{"$error":"#N/A"},{"$error":"#N/A"},{"$error":"#N/A"},{"$error":"#N/A"}]
[null,null,null,null,null,null,null,null,null,null,{"$error":"#N/A"},{"$error":"#N/A"},{"$error":"#N/A"},{"$error":"#N/A"},{"$error":"#N/A"}]
[null,null,null,null,null,null,null,null,null,null,{"$error":"#N/A"},{"$error":"#N/A"},{"$error":"#N/A"},{"$error":"#N/A"},{"$error":"#N/A"}]
[null,null,null,null,null,null,null,null,null,null,{"$error":"#N/A"},{"$error":"#N/A"},{"$error":"#N/A"},{"$error":"#N/A"},{"$error":"#N/A"}]
[null,null,null,null,null,null,null,null,null,null,{"$error":"#N/A"},{"$error":"#N/A"},{"$error":"#N/A"},{"$error":"#N/A"},{"$error":"#N/A"}]
[null,null,null,null,null,null,null,null,null,null,{"$error":"#N/A"},{"$error":"#N/A"},{"$error":"#N/A"},{"$error":"#N/A"},{"$error":"#N/A"}]
[null,null,null,null,null,null,null,null,null,null,{"$error":"#N/A"},{"$error":"#N/A"},{"$error":"#N/A"},{"$error":"#N/A"},{"$error":"#N/A"}]
[null,null,null,null,null,null,null,null,null,null,{"$error":"#N/A"},{"$error":"#N/A"},{"$error":"#N/A"},{"$error":"#N/A"},{"$error":"#N/A"}]
[null,null,null,null,null,null,null,null,null,null,{"$error":"#N/A"},{"$error":"#N/A"},{"$error":"#N/A"},{"$error":"#N/A"},{"$error":"#N/A"}]
[null,null,null,null,null,null,null,null,null,null,{"$error":"#N/A"},{"$error":"#N/A"},{"$error":"#N/A"},{"$error":"#N/A"},{"$error":"#N/A"}]
[null,null,null,null,null,null,null,null,null,null,{"$error":"#N/A"},{"$error":"#N/A"},{"$error":"#N/A"},{"$error":"#N/A"},{"$error":"#N/A"}]
[null,null,null,null,null,null,null,null,null,null,{"$error":"#N/A"},{"$error":"#N/A"},{"$error":"#N/A"},{"$error":"#N/A"},{"$error":"#N/A"}]
[null,null,null,null,null,null,null,null,null,null,{"$error":"#N/A"},{"$error":"#N/A"},{"$error":"#N/A"},{"$error":"#N/A"},{"$error":"#N/A"}]
[null,null,null,null,null,null,null,null,null,null,{"$error":"#N/A"},{"$error":"#N/A"},{"$error":"#N/A"},{"$error":"#N/A"},{"$error":"#N/A"}]
[null,null,null,null,null,null,null,null,null,null,{"$error":"#N/A"},{"$error":"#N/A"},{"$error":"#N/A"},{"$error":"#N/A"},{"$error":"#N/A"}]
[null,null,null,null,null,null,null,null,null,null,{"$error":"#N/A"},{"$f":"IF(ISBLANK(K44173),\"\",$G$11*K44173+$H$11)","v":{"$error":"#N/A"}},{"$f":"IF(ISBLANK(L44173),\"\",$G$12*K44173+$H$12)","v":{"$error":"#N/A"}},{"$error":"#N/A"},{"$f":"IF(ISBLANK(M44173),\"\",$G$14*K44173+$H$14)","v":{"$error":"#N/A"}}]
[null,null,null,null,null,null,null,null,null,null,{"$error":"#N/A"},{"$error":"#N/A"},{"$error":"#N/A"},{"$error":"#N/A"},{"$error":"#N/A"}]
[null,null,null,null,null,null,null,null,null,null,{"$error":"#N/A"},{"$error":"#N/A"},{"$error":"#N/A"},{"$error":"#N/A"},{"$error":"#N/A"}]
[null,null,null,null,null,null,null,null,null,null,{"$error":"#N/A"},{"$error":"#N/A"},{"$error":"#N/A"},{"$error":"#N/A"},{"$error":"#N/A"}]
[null,null,null,null,null,null,null,null,null,null,{"$error":"#N/A"},{"$error":"#N/A"},{"$error":"#N/A"},{"$error":"#N/A"},{"$error":"#N/A"}]
[null,null,null,null,null,null,null,null,null,null,{"$error":"#N/A"},{"$error":"#N/A"},{"$error":"#N/A"},{"$error":"#N/A"},{"$error":"#N/A"}]
[null,null,null,null,null,null,null,null,null,null,{"$error":"#N/A"},{"$error":"#N/A"},{"$error":"#N/A"},{"$error":"#N/A"},{"$error":"#N/A"}]
[null,null,null,null,null,null,null,null,null,null,{"$error":"#N/A"},{"$error":"#N/A"},{"$error":"#N/A"},{"$error":"#N/A"},{"$error":"#N/A"}]
[null,null,null,null,null,null,null,null,null,null,{"$error":"#N/A"},{"$error":"#N/A"},{"$error":"#N/A"},{"$error":"#N/A"},{"$error":"#N/A"}]
[null,null,null,null,null,null,null,null,null,null,{"$error":"#N/A"},{"$error":"#N/A"},{"$error":"#N/A"},{"$error":"#N/A"},{"$error":"#N/A"}]
[null,null,null,null,null,null,null,null,null,null,{"$error":"#N/A"},{"$error":"#N/A"},{"$error":"#N/A"},{"$error":"#N/A"},{"$error":"#N/A"}]
[null,null,null,null,null,null,null,null,null,null,{"$error":"#N/A"},{"$error":"#N/A"},{"$error":"#N/A"},{"$error":"#N/A"},{"$error":"#N/A"}]
[null,null,null,null,null,null,null,null,null,null,{"$error":"#N/A"},{"$error":"#N/A"},{"$error":"#N/A"},{"$error":"#N/A"},{"$error":"#N/A"}]
[null,null,null,null,null,null,null,null,null,null,{"$error":"#N/A"},{"$error":"#N/A"},{"$error":"#N/A"},{"$error":"#N/A"},{"$error":"#N/A"}]
[null,null,null,null,null,null,null,null,null,null,{"$error":"#N/A"},{"$error":"#N/A"},{"$error":"#N/A"},{"$error":"#N/A"},{"$error":"#N/A"}]
[null,null,null,null,null,null,null,null,null,null,{"$error":"#N/A"},{"$error":"#N/A"},{"$error":"#N/A"},{"$error":"#N/A"},{"$error":"#N/A"}]
[null,null,null,null,null,null,null,null,null,null,{"$error":"#N/A"},{"$error":"#N/A"},{"$error":"#N/A"},{"$error":"#N/A"},{"$error":"#N/A"}]
[null,null,null,null,null,null,null,null,null,null,{"$error":"#N/A"},{"$error":"#N/A"},{"$error":"#N/A"},{"$error":"#N/A"},{"$error":"#N/A"}]
[null,null,null,null,null,null,null,null,null,null,{"$error":"#N/A"},{"$error":"#N/A"},{"$error":"#N/A"},{"$error":"#N/A"},{"$error":"#N/A"}]
[null,null,null,null,null,null,null,null,null,null,{"$error":"#N/A"},{"$error":"#N/A"},{"$error":"#N/A"},{"$error":"#N/A"},{"$error":"#N/A"}]
[null,null,null,null,null,null,null,null,null,null,{"$error":"#N/A"},{"$error":"#N/A"},{"$error":"#N/A"},{"$error":"#N/A"},{"$error":"#N/A"}]
[null,null,null,null,null,null,null,null,null,null,{"$error":"#N/A"},{"$f":"IF(ISBLANK(K44685),\"\",$G$11*K44685+$H$11)","v":{"$error":"#N/A"}},{"$f":"IF(ISBLANK(L44685),\"\",$G$12*K44685+$H$12)","v":{"$error":"#N/A"}},{"$error":"#N/A"},{"$f":"IF(ISBLANK(M44685),\"\",$G$14*K44685+$H$14)","v":{"$error":"#N/A"}}]
[null,null,null,null,null,null,null,null,null,null,{"$error":"#N/A"},{"$error":"#N/A"},{"$error":"#N/A"},{"$error":"#N/A"},{"$error":"#N/A"}]
[null,null,null,null,null,null,null,null,null,null,{"$error":"#N/A"},{"$error":"#N/A"},{"$error":"#N/A"},{"$error":"#N/A"},{"$error":"#N/A"}]
[null,null,null,null,null,null,null,null,null,null,{"$error":"#N/A"},{"$error":"#N/A"},{"$error":"#N/A"},{"$error":"#N/A"},{"$error":"#N/A"}]
[null,null,null,null,null,null,null,null,null,null,{"$error":"#N/A"},{"$error":"#N/A"},{"$error":"#N/A"},{"$error":"#N/A"},{"$error":"#N/A"}]
[null,null,null,null,null,null,null,null,null,null,{"$error":"#N/A"},{"$error":"#N/A"},{"$error":"#N/A"},{"$error":"#N/A"},{"$error":"#N/A"}]
[null,null,null,null,null,null,null,null,null,null,{"$error":"#N/A"},{"$error":"#N/A"},{"$error":"#N/A"},{"$error":"#N/A"},{"$error":"#N/A"}]
[null,null,null,null,null,null,null,null,null,null,{"$error":"#N/A"},{"$error":"#N/A"},{"$error":"#N/A"},{"$error":"#N/A"},{"$error":"#N/A"}]
[null,null,null,null,null,null,null,null,null,null,{"$error":"#N/A"},{"$error":"#N/A"},{"$error":"#N/A"},{"$error":"#N/A"},{"$error":"#N/A"}]
[null,null,null,null,null,null,null,null,null,null,{"$error":"#N/A"},{"$error":"#N/A"},{"$error":"#N/A"},{"$error":"#N/A"},{"$error":"#N/A"}]
[null,null,null,null,null,null,null,null,null,null,{"$error":"#N/A"},{"$error":"#N/A"},{"$error":"#N/A"},{"$error":"#N/A"},{"$error":"#N/A"}]
[null,null,null,null,null,null,null,null,null,null,{"$error":"#N/A"},{"$error":"#N/A"},{"$error":"#N/A"},{"$error":"#N/A"},{"$error":"#N/A"}]
[null,null,null,null,null,null,null,null,null,null,{"$error":"#N/A"},{"$error":"#N/A"},{"$error":"#N/A"},{"$error":"#N/A"},{"$error":"#N/A"}]
[null,null,null,null,null,null,null,null,null,null,{"$error":"#N/A"},{"$error":"#N/A"},{"$error":"#N/A"},{"$error":"#N/A"},{"$error":"#N/A"}]
[null,null,null,null,null,null,null,null,null,null,{"$error":"#N/A"},{"$error":"#N/A"},{"$error":"#N/A"},{"$error":"#N/A"},{"$error":"#N/A"}]
[null,null,null,null,null,null,null,null,null,null,{"$error":"#N/A"},{"$error":"#N/A"},{"$error":"#N/A"},{"$error":"#N/A"},{"$error":"#N/A"}]
[null,null,null,null,null,null,null,null,null,null,{"$error":"#N/A"},{"$error":"#N/A"},{"$error":"#N/A"},{"$error":"#N/A"},{"$error":"#N/A"}]
[null,null,null,null,null,null,null,null,null,null,{"$error":"#N/A"},{"$error":"#N/A"},{"$error":"#N/A"},{"$error":"#N/A"},{"$error":"#N/A"}]
[null,null,null,null,null,null,null,null,null,null,{"$error":"#N/A"},{"$error":"#N/A"},{"$error":"#N/A"},{"$error":"#N/A"},{"$error":"#N/A"}]
[null,null,null,null,null,null,null,null,null,null,{"$f":"IF(K45131+$G$19<=$G$18,K45131+$G$19,NA())","v":{"$error":"#N/A"}},{"$error":"#N/A"},{"$error":"#N/A"},{"$error":"#N/A"},{"$error":"#N/A"}]
[null,null,null,null,null,null,null,null,null,null,{"$error":"#N/A"},{"$error":"#N/A"},{"$error":"#N/A"},{"$error":"#N/A"},{"$error":"#N/A"}]
[null,null,null,null,null,null,null,null,null,null,{"$error":"#N/A"},{"$error":"#N/A"},{"$error":"#N/A"},{"$error":"#N/A"},{"$error":"#N/A"}]
[null,null,null,null,null,null,null,null,null,null,{"$error":"#N/A"},{"$error":"#N/A"},{"$error":"#N/A"},{"$error":"#N/A"},{"$error":"#N/A"}]
[null,null,null,null,null,null,null,null,null,null,{"$error":"#N/A"},{"$error":"#N/A"},{"$error":"#N/A"},{"$error":"#N/A"},{"$error":"#N/A"}]
[null,null,null,null,null,null,null,null,null,null,{"$error":"#N/A"},{"$error":"#N/A"},{"$error":"#N/A"},{"$error":"#N/A"},{"$error":"#N/A"}]
[null,null,null,null,null,null,null,null,null,null,{"$error":"#N/A"},{"$error":"#N/A"},{"$error":"#N/A"},{"$error":"#N/A"},{"$error":"#N/A"}]
[null,null,null,null,null,null,null,null,null,null,{"$error":"#N/A"},{"$error":"#N/A"},{"$error":"#N/A"},{"$error":"#N/A"},{"$error":"#N/A"}]
[null,null,null,null,null,null,null,null,null,null,{"$error":"#N/A"},{"$error":"#N/A"},{"$error":"#N/A"},{"$error":"#N/A"},{"$error":"#N/A"}]
[null,null,null,null,null,null,null,null,null,null,{"$error":"#N/A"},{"$error":"#N/A"},{"$error":"#N/A"},{"$error":"#N/A"},{"$error":"#N/A"}]
[null,null,null,null,null,null,null,null,null,null,{"$error":"#N/A"},{"$error":"#N/A"},{"$error":"#N/A"},{"$error":"#N/A"},{"$error":"#N/A"}]
[null,null,null,null,null,null,null,null,null,null,{"$f":"IF(K45387+$G$19<=$G$18,K45387+$G$19,NA())","v":{"$error":"#N/A"}},{"$error":"#N/A"},{"$error":"#N/A"},{"$error":"#N/A"},{"$error":"#N/A"}]
[null,null,null,null,null,null,null,null,null,null,{"$error":"#N/A"},{"$error":"#N/A"},{"$error":"#N/A"},{"$error":"#N/A"},{"$error":"#N/A"}]
[null,null,null,null,null,null,null,null,null,null,{"$error":"#N/A"},{"$error":"#N/A"},{"$error":"#N/A"},{"$error":"#N/A"},{"$error":"#N/A"}]
[null,null,null,null,null,null,null,null,null,null,{"$error":"#N/A"},{"$error":"#N/A"},{"$error":"#N/A"},{"$error":"#N/A"},{"$error":"#N/A"}]
[null,null,null,null,null,null,null,null,null,null,{"$error":"#N/A"},{"$error":"#N/A"},{"$error":"#N/A"},{"$error":"#N/A"},{"$error":"#N/A"}]
[null,null,null,null,null,null,null,null,null,null,{"$error":"#N/A"},{"$error":"#N/A"},{"$error":"#N/A"},{"$error":"#N/A"},{"$error":"#N/A"}]
[null,null,null,null,null,null,null,null,null,null,{"$error":"#N/A"},{"$error":"#N/A"},{"$error":"#N/A"},{"$error":"#N/A"},{"$error":"#N/A"}]
[null,null,null,null,null,null,null,null,null,null,{"$error":"#N/A"},{"$error":"#N/A"},{"$error":"#N/A"},{"$error":"#N/A"},{"$error":"#N/A"}]
[null,null,null,null,null,null,null,null,null,null,{"$error":"#N/A"},{"$error":"#N/A"},{"$error":"#N/A"},{"$error":"#N/A"},{"$error":"#N/A"}]
[null,null,null,null,null,null,null,null,null,null,{"$error":"#N/A"},{"$error":"#N/A"},{"$error":"#N/A"},{"$error":"#N/A"},{"$error":"#N/A"}]
[null,null,null,null,null,null,null,null,null,null,{"$error":"#N/A"},{"$error":"#N/A"},{"$error":"#N/A"},{"$error":"#N/A"},{"$error":"#N/A"}]
[null,null,null,null,null,null,null,null,null,null,{"$f":"IF(K45643+$G$19<=$G$18,K45643+$G$19,NA())","v":{"$error":"#N/A"}},{"$error":"#N/A"},{"$error":"#N/A"},{"$error":"#N/A"},{"$error":"#N/A"}]
[null,null,null,null,null,null,null,null,null,null,{"$error":"#N/A"},{"$error":"#N/A"},{"$error":"#N/A"},{"$error":"#N/A"},{"$error":"#N/A"}]
[null,null,null,null,null,null,null,null,null,null,{"$error":"#N/A"},{"$error":"#N/A"},{"$error":"#N/A"},{"$error":"#N/A"},{"$error":"#N/A"}]
[null,null,null,null,null,null,null,null,null,null,{"$error":"#N/A"},{"$error":"#N/A"},{"$error":"#N/A"},{"$error":"#N/A"},{"$error":"#N/A"}]
[null,null,null,null,null,null,null,null,null,null,{"$error":"#N/A"},{"$error":"#N/A"},{"$error":"#N/A"},{"$error":"#N/A"},{"$error":"#N/A"}]
[null,null,null,null,null,null,null,null,null,null,{"$error":"#N/A"},{"$error":"#N/A"},{"$error":"#N/A"},{"$error":"#N/A"},{"$error":"#N/A"}]
[null,null,null,null,null,null,null,null,null,null,{"$error":"#N/A"},{"$error":"#N/A"},{"$error":"#N/A"},{"$error":"#N/A"},{"$error":"#N/A"}]
[null,null,null,null,null,null,null,null,null,null,{"$error":"#N/A"},{"$error":"#N/A"},{"$error":"#N/A"},{"$error":"#N/A"},{"$error":"#N/A"}]
[null,null,null,null,null,null,null,null,null,null,{"$error":"#N/A"},{"$error":"#N/A"},{"$error":"#N/A"},{"$error":"#N/A"},{"$error":"#N/A"}]
[null,null,null,null,null,null,null,null,null,null,{"$error":"#N/A"},{"$error":"#N/A"},{"$error":"#N/A"},{"$error":"#N/A"},{"$error":"#N/A"}]
[null,null,null,null,null,null,null,null,null,null,{"$error":"#N/A"},{"$error":"#N/A"},{"$error":"#N/A"},{"$error":"#N/A"},{"$error":"#N/A"}]
[null,null,null,null,null,null,null,null,null,null,{"$error":"#N/A"},{"$error":"#N/A"},{"$error":"#N/A"},{"$error":"#N/A"},{"$error":"#N/A"}]
[null,null,null,null,null,null,null,null,null,null,{"$error":"#N/A"},{"$error":"#N/A"},{"$error":"#N/A"},{"$error":"#N/A"},{"$error":"#N/A"}]
[null,null,null,null,null,null,null,null,null,null,{"$error":"#N/A"},{"$error":"#N/A"},{"$error":"#N/A"},{"$error":"#N/A"},{"$error":"#N/A"}]
[null,null,null,null,null,null,null,null,null,null,{"$error":"#N/A"},{"$error":"#N/A"},{"$error":"#N/A"},{"$error":"#N/A"},{"$error":"#N/A"}]
[null,null,null,null,null,null,null,null,null,null,{"$error":"#N/A"},{"$error":"#N/A"},{"$error":"#N/A"},{"$error":"#N/A"},{"$error":"#N/A"}]
[null,null,null,null,null,null,null,null,null,null,{"$error":"#N/A"},{"$error":"#N/A"},{"$error":"#N/A"},{"$error":"#N/A"},{"$error":"#N/A"}]
[null,null,null,null,null,null,null,null,null,null,{"$error":"#N/A"},{"$error":"#N/A"},{"$error":"#N/A"},{"$error":"#N/A"},{"$error":"#N/A"}]
[null,null,null,null,null,null,null,null,null,null,{"$error":"#N/A"},{"$error":"#N/A"},{"$error":"#N/A"},{"$error":"#N/A"},{"$error":"#N/A"}]
[null,null,null,null,null,null,null,null,null,null,{"$error":"#N/A"},{"$error":"#N/A"},{"$error":"#N/A"},{"$f":"IF(ISBLANK(K46091),\"\",$G$13*K46091+$H$13)","v":{"$error":"#N/A"}},{"$error":"#N/A"}]
[null,null,null,null,null,null,null,null,null,null,{"$error":"#N/A"},{"$error":"#N/A"},{"$error":"#N/A"},{"$error":"#N/A"},{"$error":"#N/A"}]
[null,null,null,null,null,null,null,null,null,null,{"$error":"#N/A"},{"$error":"#N/A"},{"$error":"#N/A"},{"$error":"#N/A"},{"$error":"#N/A"}]
[null,null,null,null,null,null,null,null,null,null,{"$error":"#N/A"},{"$error":"#N/A"},{"$error":"#N/A"},{"$error":"#N/A"},{"$error":"#N/A"}]
[null,null,null,null,null,null,null,null,null,null,{"$error":"#N/A"},{"$error":"#N/A"},{"$error":"#N/A"},{"$error":"#N/A"},{"$error":"#N/A"}]
[null,null,null,null,null,null,null,null,null,null,{"$error":"#N/A"},{"$error":"#N/A"},{"$error":"#N/A"},{"$error":"#N/A"},{"$error":"#N/A"}]
[null,null,null,null,null,null,null,null,null,null,{"$error":"#N/A"},{"$error":"#N/A"},{"$error":"#N/A"},{"$error":"#N/A"},{"$error":"#N/A"}]
[null,null,null,null,null,null,null,null,null,null,{"$error":"#N/A"},{"$error":"#N/A"},{"$error":"#N/A"},{"$error":"#N/A"},{"$error":"#N/A"}]
[null,null,null,null,null,null,null,null,null,null,{"$error":"#N/A"},{"$error":"#N/A"},{"$error":"#N/A"},{"$error":"#N/A"},{"$error":"#N/A"}]
[null,null,null,null,null,null,null,null,null,null,{"$error":"#N/A"},{"$error":"#N/A"},{"$error":"#N/A"},{"$error":"#N/A"},{"$error":"#N/A"}]
[null,null,null,null,null,null,null,null,null,null,{"$error":"#N/A"},{"$error":"#N/A"},{"$error":"#N/A"},{"$error":"#N/A"},{"$error":"#N/A"}]
[null,null,null,null,null,null,null,null,null,null,{"$error":"#N/A"},{"$error":"#N/A"},{"$error":"#N/A"},{"$error":"#N/A"},{"$error":"#N/A"}]
[null,null,null,null,null,null,null,null,null,null,{"$error":"#N/A"},{"$error":"#N/A"},{"$error":"#N/A"},{"$error":"#N/A"},{"$error":"#N/A"}]
[null,null,null,null,null,null,null,null,null,null,{"$error":"#N/A"},{"$error":"#N/A"},{"$error":"#N/A"},{"$error":"#N/A"},{"$error":"#N/A"}]
[null,null,null,null,null,null,null,null,null,null,{"$error":"#N/A"},{"$error":"#N/A"},{"$error":"#N/A"},{"$error":"#N/A"},{"$error":"#N/A"}]
[null,null,null,null,null,null,null,null,null,null,{"$error":"#N/A"},{"$error":"#N/A"},{"$error":"#N/A"},{"$error":"#N/A"},{"$error":"#N/A"}]
[null,null,null,null,null,null,null,null,null,null,{"$error":"#N/A"},{"$error":"#N/A"},{"$error":"#N/A"},{"$error":"#N/A"},{"$error":"#N/A"}]
[null,null,null,null,null,null,null,null,null,null,{"$error":"#N/A"},{"$error":"#N/A"},{"$error":"#N/A"},{"$error":"#N/A"},{"$error":"#N/A"}]
[null,null,null,null,null,null,null,null,null,null,{"$error":"#N/A"},{"$error":"#N/A"},{"$error":"#N/A"},{"$error":"#N/A"},{"$error":"#N/A"}]
[null,null,null,null,null,null,null,null,null,null,{"$error":"#N/A"},{"$error":"#N/A"},{"$error":"#N/A"},{"$error":"#N/A"},{"$error":"#N/A"}]
[null,null,null,null,null,null,null,null,null,null,{"$error":"#N/A"},{"$error":"#N/A"},{"$error":"#N/A"},{"$error":"#N/A"},{"$error":"#N/A"}]
[null,null,null,null,null,null,null,null,null,null,{"$error":"#N/A"},{"$error":"#N/A"},{"$error":"#N/A"},{"$error":"#N/A"},{"$error":"#N/A"}]
[null,null,null,null,null,null,null,null,null,null,{"$error":"#N/A"},{"$error":"#N/A"},{"$error":"#N/A"},{"$error":"#N/A"},{"$error":"#N/A"}]
[null,null,null,null,null,null,null,null,null,null,{"$error":"#N/A"},{"$error":"#N/A"},{"$error":"#N/A"},{"$error":"#N/A"},{"$error":"#N/A"}]
[null,null,null,null,null,null,null,null,null,null,{"$error":"#N/A"},{"$error":"#N/A"},{"$error":"#N/A"},{"$error":"#N/A"},{"$error":"#N/A"}]
[null,null,null,null,null,null,null,null,null,null,{"$error":"#N/A"},{"$error":"#N/A"},{"$error":"#N/A"},{"$error":"#N/A"},{"$error":"#N/A"}]
[null,null,null,null,null,null,null,null,null,null,{"$error":"#N/A"},{"$error":"#N/A"},{"$error":"#N/A"},{"$error":"#N/A"},{"$error":"#N/A"}]
[null,null,null,null,null,null,null,null,null,null,{"$error":"#N/A"},{"$error":"#N/A"},{"$error":"#N/A"},{"$error":"#N/A"},{"$error":"#N/A"}]
[null,null,null,null,null,null,null,null,null,null,{"$error":"#N/A"},{"$error":"#N/A"},{"$error":"#N/A"},{"$error":"#N/A"},{"$error":"#N/A"}]
[null,null,null,null,null,null,null,null,null,null,{"$error":"#N/A"},{"$error":"#N/A"},{"$error":"#N/A"},{"$error":"#N/A"},{"$error":"#N/A"}]
[null,null,null,null,null,null,null,null,null,null,{"$error":"#N/A"},{"$error":"#N/A"},{"$error":"#N/A"},{"$error":"#N/A"},{"$error":"#N/A"}]
[null,null,null,null,null,null,null,null,null,null,{"$error":"#N/A"},{"$error":"#N/A"},{"$error":"#N/A"},{"$error":"#N/A"},{"$error":"#N/A"}]
[null,null,null,null,null,null,null,null,null,null,{"$error":"#N/A"},{"$error":"#N/A"},{"$error":"#N/A"},{"$error":"#N/A"},{"$error":"#N/A"}]
[null,null,null,null,null,null,null,null,null,null,{"$error":"#N/A"},{"$error":"#N/A"},{"$error":"#N/A"},{"$error":"#N/A"},{"$error":"#N/A"}]
[null,null,null,null,null,null,null,null,null,null,{"$error":"#N/A"},{"$error":"#N/A"},{"$error":"#N/A"},{"$error":"#N/A"},{"$error":"#N/A"}]
[null,null,null,null,null,null,null,null,null,null,{"$error":"#N/A"},{"$error":"#N/A"},{"$error":"#N/A"},{"$error":"#N/A"},{"$error":"#N/A"}]
[null,null,null,null,null,null,null,null,null,null,{"$error":"#N/A"},{"$error":"#N/A"},{"$error":"#N/A"},{"$error":"#N/A"},{"$error":"#N/A"}]
[null,null,null,null,null,null,null,null,null,null,{"$error":"#N/A"},{"$error":"#N/A"},{"$error":"#N/A"},{"$error":"#N/A"},{"$error":"#N/A"}]
[null,null,null,null,null,null,null,null,null,null,{"$error":"#N/A"},{"$error":"#N/A"},{"$error":"#N/A"},{"$error":"#N/A"},{"$error":"#N/A"}]
[null,null,null,null,null,null,null,null,null,null,{"$error":"#N/A"},{"$error":"#N/A"},{"$error":"#N/A"},{"$error":"#N/A"},{"$error":"#N/A"}]
[null,null,null,null,null,null,null,null,null,null,{"$error":"#N/A"},{"$error":"#N/A"},{"$error":"#N/A"},{"$error":"#N/A"},{"$error":"#N/A"}]
[null,null,null,null,null,null,null,null,null,null,{"$error":"#N/A"},{"$error":"#N/A"},{"$error":"#N/A"},{"$error":"#N/A"},{"$error":"#N/A"}]
[null,null,null,null,null,null,null,null,null,null,{"$error":"#N/A"},{"$error":"#N/A"},{"$error":"#N/A"},{"$error":"#N/A"},{"$error":"#N/A"}]
[null,null,null,null,null,null,null,null,null,null,{"$error":"#N/A"},{"$error":"#N/A"},{"$error":"#N/A"},{"$error":"#N/A"},{"$error":"#N/A"}]
[null,null,null,null,null,null,null,null,null,null,{"$error":"#N/A"},{"$error":"#N/A"},{"$error":"#N/A"},{"$error":"#N/A"},{"$error":"#N/A"}]
[null,null,null,null,null,null,null,null,null,null,{"$error":"#N/A"},{"$f":"IF(ISBLANK(K47181),\"\",$G$11*K47181+$H$11)","v":{"$error":"#N/A"}},{"$f":"IF(ISBLANK(L47181),\"\",$G$12*K47181+$H$12)","v":{"$error":"#N/A"}},{"$error":"#N/A"},{"$f":"IF(ISBLANK(M47181),\"\",$G$14*K47181+$H$14)","v":{"$error":"#N/A"}}]
[null,null,null,null,null,null,null,null,null,null,{"$error":"#N/A"},{"$error":"#N/A"},{"$error":"#N/A"},{"$error":"#N/A"},{"$error":"#N/A"}]
[null,null,null,null,null,null,null,null,null,null,{"$error":"#N/A"},{"$error":"#N/A"},{"$error":"#N/A"},{"$error":"#N/A"},{"$error":"#N/A"}]
[null,null,null,null,null,null,null,null,null,null,{"$error":"#N/A"},{"$error":"#N/A"},{"$error":"#N/A"},{"$error":"#N/A"},{"$error":"#N/A"}]
[null,null,null,null,null,null,null,null,null,null,{"$error":"#N/A"},{"$error":"#N/A"},{"$error":"#N/A"},{"$error":"#N/A"},{"$error":"#N/A"}]
[null,null,null,null,null,null,null,null,null,null,{"$error":"#N/A"},{"$error":"#N/A"},{"$error":"#N/A"},{"$error":"#N/A"},{"$error":"#N/A"}]
[null,null,null,null,null,null,null,null,null,null,{"$error":"#N/A"},{"$error":"#N/A"},{"$error":"#N/A"},{"$error":"#N/A"},{"$error":"#N/A"}]
[null,null,null,null,null,null,null,null,null,null,{"$error":"#N/A"},{"$error":"#N/A"},{"$error":"#N/A"},{"$error":"#N/A"},{"$error":"#N/A"}]
[null,null,null,null,null,null,null,null,null,null,{"$error":"#N/A"},{"$error":"#N/A"},{"$error":"#N/A"},{"$f":"IF(ISBLANK(K47371),\"\",$G$13*K47371+$H$13)","v":{"$error":"#N/A"}},{"$error":"#N/A"}]
[null,null,null,null,null,null,null,null,null,null,{"$error":"#N/A"},{"$error":"#N/A"},{"$error":"#N/A"},{"$error":"#N/A"},{"$error":"#N/A"}]
[null,null,null,null,null,null,null,null,null,null,{"$error":"#N/A"},{"$error":"#N/A"},{"$error":"#N/A"},{"$error":"#N/A"},{"$error":"#N/A"}]
[null,null,null,null,null,null,null,null,null,null,{"$error":"#N/A"},{"$f":"IF(ISBLANK(K47437),\"\",$G$11*K47437+$H$11)","v":{"$error":"#N/A"}},{"$f":"IF(ISBLANK(L47437),\"\",$G$12*K47437+$H$12)","v":{"$error":"#N/A"}},{"$error":"#N/A"},{"$f":"IF(ISBLANK(M47437),\"\",$G$14*K47437+$H$14)","v":{"$error":"#N/A"}}]
[null,null,null,null,null,null,null,null,null,null,{"$error":"#N/A"},{"$error":"#N/A"},{"$error":"#N/A"},{"$error":"#N/A"},{"$error":"#N/A"}]
[null,null,null,null,null,null,null,null,null,null,{"$error":"#N/A"},{"$error":"#N/A"},{"$error":"#N/A"},{"$error":"#N/A"},{"$error":"#N/A"}]
[null,null,null,null,null,null,null,null,null,null,{"$error":"#N/A"},{"$error":"#N/A"},{"$error":"#N/A"},{"$error":"#N/A"},{"$error":"#N/A"}]
[null,null,null,null,null,null,null,null,null,null,{"$error":"#N/A"},{"$error":"#N/A"},{"$error":"#N/A"},{"$error":"#N/A"},{"$error":"#N/A"}]
[null,null,null,null,null,null,null,null,null,null,{"$error":"#N/A"},{"$error":"#N/A"},{"$error":"#N/A"},{"$error":"#N/A"},{"$error":"#N/A"}]
[null,null,null,null,null,null,null,null,null,null,{"$error":"#N/A"},{"$error":"#N/A"},{"$error":"#N/A"},{"$error":"#N/A"},{"$error":"#N/A"}]
[null,null,null,null,null,null,null,null,null,null,{"$error":"#N/A"},{"$error":"#N/A"},{"$error":"#N/A"},{"$error":"#N/A"},{"$error":"#N/A"}]
[null,null,null,null,null,null,null,null,null,null,{"$error":"#N/A"},{"$error":"#N/A"},{"$error":"#N/A"},{"$f":"IF(ISBLANK(K47627),\"\",$G$13*K47627+$H$13)","v":{"$error":"#N/A"}},{"$error":"#N/A"}]
[null,null,null,null,null,null,null,null,null,null,{"$error":"#N/A"},{"$error":"#N/A"},{"$error":"#N/A"},{"$error":"#N/A"},{"$error":"#N/A"}]
[null,null,null,null,null,null,null,null,null,null,{"$error":"#N/A"},{"$error":"#N/A"},{"$error":"#N/A"},{"$error":"#N/A"},{"$error":"#N/A"}]
[null,null,null,null,null,null,null,null,null,null,{"$error":"#N/A"},{"$f":"IF(ISBLANK(K47693),\"\",$G$11*K47693+$H$11)","v":{"$error":"#N/A"}},{"$f":"IF(ISBLANK(L47693),\"\",$G$12*K47693+$H$12)","v":{"$error":"#N/A"}},{"$error":"#N/A"},{"$f":"IF(ISBLANK(M47693),\"\",$G$14*K47693+$H$14)","v":{"$error":"#N/A"}}]
[null,null,null,null,null,null,null,null,null,null,{"$error":"#N/A"},{"$error":"#N/A"},{"$error":"#N/A"},{"$error":"#N/A"},{"$error":"#N/A"}]
[null,null,null,null,null,null,null,null,null,null,{"$error":"#N/A"},{"$error":"#N/A"},{"$error":"#N/A"},{"$error":"#N/A"},{"$error":"#N/A"}]
[null,null,null,null,null,null,null,null,null,null,{"$error":"#N/A"},{"$error":"#N/A"},{"$error":"#N/A"},{"$error":"#N/A"},{"$error":"#N/A"}]
[null,null,null,null,null,null,null,null,null,null,{"$error":"#N/A"},{"$error":"#N/A"},{"$error":"#N/A"},{"$error":"#N/A"},{"$error":"#N/A"}]
[null,null,null,null,null,null,null,null,null,null,{"$error":"#N/A"},{"$error":"#N/A"},{"$error":"#N/A"},{"$error":"#N/A"},{"$error":"#N/A"}]
[null,null,null,null,null,null,null,null,null,null,{"$error":"#N/A"},{"$error":"#N/A"},{"$error":"#N/A"},{"$error":"#N/A"},{"$error":"#N/A"}]
[null,null,null,null,null,null,null,null,null,null,{"$error":"#N/A"},{"$error":"#N/A"},{"$error":"#N/A"},{"$error":"#N/A"},{"$error":"#N/A"}]
[null,null,null,null,null,null,null,null,null,null,{"$error":"#N/A"},{"$error":"#N/A"},{"$error":"#N/A"},{"$f":"IF(ISBLANK(K47883),\"\",$G$13*K47883+$H$13)","v":{"$error":"#N/A"}},{"$error":"#N/A"}]
[null,null,null,null,null,null,null,null,null,null,{"$error":"#N/A"},{"$error":"#N/A"},{"$error":"#N/A"},{"$error":"#N/A"},{"$error":"#N/A"}]
[null,null,null,null,null,null,null,null,null,null,{"$error":"#N/A"},{"$error":"#N/A"},{"$error":"#N/A"},{"$error":"#N/A"},{"$error":"#N/A"}]
[null,null,null,null,null,null,null,null,null,null,{"$f":"IF(K47947+$G$19<=$G$18,K47947+$G$19,NA())","v":{"$error":"#N/A"}},{"$error":"#N/A"},{"$error":"#N/A"},{"$error":"#N/A"},{"$error":"#N/A"}]
[null,null,null,null,null,null,null,null,null,null,{"$error":"#N/A"},{"$error":"#N/A"},{"$error":"#N/A"},{"$error":"#N/A"},{"$error":"#N/A"}]
[null,null,null,null,null,null,null,null,null,null,{"$error":"#N/A"},{"$error":"#N/A"},{"$error":"#N/A"},{"$error":"#N/A"},{"$error":"#N/A"}]
[null,null,null,null,null,null,null,null,null,null,{"$error":"#N/A"},{"$error":"#N/A"},{"$error":"#N/A"},{"$error":"#N/A"},{"$error":"#N/A"}]
[null,null,null,null,null,null,null,null,null,null,{"$error":"#N/A"},{"$error":"#N/A"},{"$error":"#N/A"},{"$error":"#N/A"},{"$error":"#N/A"}]
[null,null,null,null,null,null,null,null,null,null,{"$error":"#N/A"},{"$error":"#N/A"},{"$error":"#N/A"},{"$error":"#N/A"},{"$error":"#N/A"}]
[null,null,null,null,null,null,null,null,null,null,{"$error":"#N/A"},{"$error":"#N/A"},{"$error":"#N/A"},{"$error":"#N/A"},{"$error":"#N/A"}]
[null,null,null,null,null,null,null,null,null,null,{"$error":"#N/A"},{"$error":"#N/A"},{"$error":"#N/A"},{"$error":"#N/A"},{"$error":"#N/A"}]
[null,null,null,null,null,null,null,null,null,null,{"$error":"#N/A"},{"$error":"#N/A"},{"$error":"#N/A"},{"$error":"#N/A"},{"$error":"#N/A"}]
[null,null,null,null,null,null,null,null,null,null,{"$error":"#N/A"},{"$error":"#N/A"},{"$error":"#N/A"},{"$error":"#N/A"},{"$error":"#N/A"}]
[null,null,null,null,null,null,null,null,null,null,{"$error":"#N/A"},{"$error":"#N/A"},{"$error":"#N/A"},{"$error":"#N/A"},{"$error":"#N/A"}]
[null,null,null,null,null,null,null,null,null,null,{"$error":"#N/A"},{"$error":"#N/A"},{"$error":"#N/A"},{"$error":"#N/A"},{"$error":"#N/A"}]
[null,null,null,null,null,null,null,null,null,null,{"$error":"#N/A"},{"$error":"#N/A"},{"$error":"#N/A"},{"$error":"#N/A"},{"$error":"#N/A"}]
[null,null,null,null,null,null,null,null,null,null,{"$error":"#N/A"},{"$error":"#N/A"},{"$error":"#N/A"},{"$error":"#N/A"},{"$error":"#N/A"}]
[null,null,null,null,null,null,null,null,null,null,{"$error":"#N/A"},{"$error":"#N/A"},{"$error":"#N/A"},{"$error":"#N/A"},{"$error":"#N/A"}]
[null,null,null,null,null,null,null,null,null,null,{"$error":"#N/A"},{"$error":"#N/A"},{"$error":"#N/A"},{"$error":"#N/A"},{"$error":"#N/A"}]
[null,null,null,null,null,null,null,null,null,null,{"$error":"#N/A"},{"$error":"#N/A"},{"$error":"#N/A"},{"$error":"#N/A"},{"$error":"#N/A"}]
[null,null,null,null,null,null,null,null,null,null,{"$error":"#N/A"},{"$error":"#N/A"},{"$error":"#N/A"},{"$error":"#N/A"},{"$error":"#N/A"}]
[null,null,null,null,null,null,null,null,null,null,{"$error":"#N/A"},{"$error":"#N/A"},{"$error":"#N/A"},{"$error":"#N/A"},{"$error":"#N/A"}]
[null,null,null,null,null,null,null,null,null,null,{"$f":"IF(K48395+$G$19<=$G$18,K48395+$G$19,NA())","v":{"$error":"#N/A"}},{"$error":"#N/A"},{"$error":"#N/A"},{"$error":"#N/A"},{"$error":"#N/A"}]
[null,null,null,null,null,null,null,null,null,null,{"$error":"#N/A"},{"$error":"#N/A"},{"$error":"#N/A"},{"$error":"#N/A"},{"$error":"#N/A"}]
[null,null,null,null,null,null,null,null,null,null,{"$error":"#N/A"},{"$error":"#N/A"},{"$error":"#N/A"},{"$error":"#N/A"},{"$error":"#N/A"}]
[null,null,null,null,null,null,null,null,null,null,{"$error":"#N/A"},{"$error":"#N/A"},{"$error":"#N/A"},{"$error":"#N/A"},{"$error":"#N/A"}]
[null,null,null,null,null,null,null,null,null,null,{"$error":"#N/A"},{"$error":"#N/A"},{"$error":"#N/A"},{"$error":"#N/A"},{"$error":"#N/A"}]
[null,null,null,null,null,null,null,null,null,null,{"$error":"#N/A"},{"$error":"#N/A"},{"$error":"#N/A"},{"$error":"#N/A"},{"$error":"#N/A"}]
[null,null,null,null,null,null,null,null,null,null,{"$error":"#N/A"},{"$error":"#N/A"},{"$error":"#N/A"},{"$error":"#N/A"},{"$error":"#N/A"}]
[null,null,null,null,null,null,null,null,null,null,{"$error":"#N/A"},{"$error":"#N/A"},{"$error":"#N/A"},{"$error":"#N/A"},{"$error":"#N/A"}]
[null,null,null,null,null,null,null,null,null,null,{"$error":"#N/A"},{"$error":"#N/A"},{"$error":"#N/A"},{"$error":"#N/A"},{"$error":"#N/A"}]
[null,null,null,null,null,null,null,null,null,null,{"$error":"#N/A"},{"$error":"#N/A"},{"$error":"#N/A"},{"$error":"#N/A"},{"$error":"#N/A"}]
[null,null,null,null,null,null,null,null,null,null,{"$error":"#N/A"},{"$error":"#N/A"},{"$error":"#N/A"},{"$error":"#N/A"},{"$error":"#N/A"}]
[null,null,null,null,null,null,null,null,null,null,{"$error":"#N/A"},{"$error":"#N/A"},{"$error":"#N/A"},{"$error":"#N/A"},{"$error":"#N/A"}]
[null,null,null,null,null,null,null,null,null,null,{"$error":"#N/A"},{"$error":"#N/A"},{"$error":"#N/A"},{"$error":"#N/A"},{"$error":"#N/A"}]
[null,null,null,null,null,null,null,null,null,null,{"$error":"#N/A"},{"$error":"#N/A"},{"$error":"#N/A"},{"$error":"#N/A"},{"$error":"#N/A"}]
[null,null,null,null,null,null,null,null,null,null,{"$error":"#N/A"},{"$error":"#N/A"},{"$error":"#N/A"},{"$error":"#N/A"},{"$error":"#N/A"}]
[null,null,null,null,null,null,null,null,null,null,{"$error":"#N/A"},{"$error":"#N/A"},{"$error":"#N/A"},{"$error":"#N/A"},{"$error":"#N/A"}]
[null,null,null,null,null,null,null,null,null,null,{"$error":"#N/A"},{"$error":"#N/A"},{"$error":"#N/A"},{"$error":"#N/A"},{"$error":"#N/A"}]
[null,null,null,null,null,null,null,null,null,null,{"$error":"#N/A"},{"$error":"#N/A"},{"$error":"#N/A"},{"$error":"#N/A"},{"$error":"#N/A"}]
[null,null,null,null,null,null,null,null,null,null,{"$error":"#N/A"},{"$error":"#N/A"},{"$error":"#N/A"},{"$f":"IF(ISBLANK(K48843),\"\",$G$13*K48843+$H$13)","v":{"$error":"#N/A"}},{"$error":"#N/A"}]
[null,null,null,null,null,null,null,null,null,null,{"$error":"#N/A"},{"$error":"#N/A"},{"$error":"#N/A"},{"$error":"#N/A"},{"$error":"#N/A"}]
[null,null,null,null,null,null,null,null,null,null,{"$error":"#N/A"},{"$error":"#N/A"},{"$error":"#N/A"},{"$error":"#N/A"},{"$error":"#N/A"}]
[null,null,null,null,null,null,null,null,null,null,{"$error":"#N/A"},{"$error":"#N/A"},{"$error":"#N/A"},{"$error":"#N/A"},{"$error":"#N/A"}]
[null,null,null,null,null,null,null,null,null,null,{"$error":"#N/A"},{"$error":"#N/A"},{"$error":"#N/A"},{"$error":"#N/A"},{"$error":"#N/A"}]
[null,null,null,null,null,null,null,null,null,null,{"$error":"#N/A"},{"$error":"#N/A"},{"$error":"#N/A"},{"$error":"#N/A"},{"$error":"#N/A"}]
[null,null,null,null,null,null,null,null,null,null,{"$error":"#N/A"},{"$error":"#N/A"},{"$error":"#N/A"},{"$error":"#N/A"},{"$error":"#N/A"}]
[null,null,null,null,null,null,null,null,null,null,{"$error":"#N/A"},{"$error":"#N/A"},{"$error":"#N/A"},{"$error":"#N/A"},{"$error":"#N/A"}]
[null,null,null,null,null,null,null,null,null,null,{"$error":"#N/A"},{"$error":"#N/A"},{"$error":"#N/A"},{"$error":"#N/A"},{"$error":"#N/A"}]
[null,null,null,null,null,null,null,null,null,null,{"$error":"#N/A"},{"$error":"#N/A"},{"$error":"#N/A"},{"$error":"#N/A"},{"$error":"#N/A"}]
[null,null,null,null,null,null,null,null,null,null,{"$error":"#N/A"},{"$error":"#N/A"},{"$error":"#N/A"},{"$error":"#N/A"},{"$error":"#N/A"}]
[null,null,null,null,null,null,null,null,null,null,{"$error":"#N/A"},{"$error":"#N/A"},{"$error":"#N/A"},{"$error":"#N/A"},{"$error":"#N/A"}]
[null,null,null,null,null,null,null,null,null,null,{"$error":"#N/A"},{"$error":"#N/A"},{"$error":"#N/A"},{"$error":"#N/A"},{"$error":"#N/A"}]
[null,null,null,null,null,null,null,null,null,null,{"$error":"#N/A"},{"$error":"#N/A"},{"$error":"#N/A"},{"$error":"#N/A"},{"$error":"#N/A"}]
[null,null,null,null,null,null,null,null,null,null,{"$error":"#N/A"},{"$error":"#N/A"},{"$error":"#N/A"},{"$error":"#N/A"},{"$error":"#N/A"}]
[null,null,null,null,null,null,null,null,null,null,{"$error":"#N/A"},{"$error":"#N/A"},{"$error":"#N/A"},{"$error":"#N/A"},{"$error":"#N/A"}]
[null,null,null,null,null,null,null,null,null,null,{"$error":"#N/A"},{"$error":"#N/A"},{"$error":"#N/A"},{"$error":"#N/A"},{"$error":"#N/A"}]
[null,null,null,null,null,null,null,null,null,null,{"$error":"#N/A"},{"$error":"#N/A"},{"$error":"#N/A"},{"$error":"#N/A"},{"$error":"#N/A"}]
[null,null,null,null,null,null,null,null,null,null,{"$error":"#N/A"},{"$error":"#N/A"},{"$error":"#N/A"},{"$error":"#N/A"},{"$error":"#N/A"}]
[null,null,null,null,null,null,null,null,null,null,{"$error":"#N/A"},{"$error":"#N/A"},{"$error":"#N/A"},{"$error":"#N/A"},{"$error":"#N/A"}]
[null,null,null,null,null,null,null,null,null,null,{"$error":"#N/A"},{"$error":"#N/A"},{"$error":"#N/A"},{"$error":"#N/A"},{"$error":"#N/A"}]
[null,null,null,null,null,null,null,null,null,null,{"$error":"#N/A"},{"$error":"#N/A"},{"$error":"#N/A"},{"$error":"#N/A"},{"$error":"#N/A"}]
[null,null,null,null,null,null,null,null,null,null,{"$error":"#N/A"},{"$error":"#N/A"},{"$error":"#N/A"},{"$error":"#N/A"},{"$error":"#N/A"}]
[null,null,null,null,null,null,null,null,null,null,{"$error":"#N/A"},{"$error":"#N/A"},{"$error":"#N/A"},{"$error":"#N/A"},{"$error":"#N/A"}]
[null,null,null,null,null,null,null,null,null,null,{"$error":"#N/A"},{"$error":"#N/A"},{"$error":"#N/A"},{"$error":"#N/A"},{"$error":"#N/A"}]
[null,null,null,null,null,null,null,null,null,null,{"$error":"#N/A"},{"$error":"#N/A"},{"$error":"#N/A"},{"$error":"#N/A"},{"$error":"#N/A"}]
[null,null,null,null,null,null,null,null,null,null,{"$error":"#N/A"},{"$error":"#N/A"},{"$error":"#N/A"},{"$error":"#N/A"},{"$error":"#N/A"}]
[null,null,null,null,null,null,null,null,null,null,{"$error":"#N/A"},{"$error":"#N/A"},{"$error":"#N/A"},{"$error":"#N/A"},{"$error":"#N/A"}]
[null,null,null,null,null,null,null,null,null,null,{"$error":"#N/A"},{"$error":"#N/A"},{"$error":"#N/A"},{"$error":"#N/A"},{"$error":"#N/A"}]
[null,null,null,null,null,null,null,null,null,null,{"$error":"#N/A"},{"$error":"#N/A"},{"$error":"#N/A"},{"$error":"#N/A"},{"$error":"#N/A"}]
[null,null,null,null,null,null,null,null,null,null,{"$error":"#N/A"},{"$error":"#N/A"},{"$error":"#N/A"},{"$error":"#N/A"},{"$error":"#N/A"}]
[null,null,null,null,null,null,null,null,null,null,{"$error":"#N/A"},{"$error":"#N/A"},{"$error":"#N/A"},{"$error":"#N/A"},{"$error":"#N/A"}]
[null,null,null,null,null,null,null,null,null,null,{"$error":"#N/A"},{"$error":"#N/A"},{"$error":"#N/A"},{"$error":"#N/A"},{"$error":"#N/A"}]
[null,null,null,null,null,null,null,null,null,null,{"$error":"#N/A"},{"$error":"#N/A"},{"$error":"#N/A"},{"$error":"#N/A"},{"$error":"#N/A"}]
[null,null,null,null,null,null,null,null,null,null,{"$error":"#N/A"},{"$error":"#N/A"},{"$error":"#N/A"},{"$error":"#N/A"},{"$error":"#N/A"}]
[null,null,null,null,null,null,null,null,null,null,{"$error":"#N/A"},{"$error":"#N/A"},{"$error":"#N/A"},{"$error":"#N/A"},{"$error":"#N/A"}]
[null,null,null,null,null,null,null,null,null,null,{"$error":"#N/A"},{"$error":"#N/A"},{"$error":"#N/A"},{"$error":"#N/A"},{"$error":"#N/A"}]
[null,null,null,null,null,null,null,null,null,null,{"$error":"#N/A"},{"$error":"#N/A"},{"$error":"#N/A"},{"$error":"#N/A"},{"$error":"#N/A"}]
[null,null,null,null,null,null,null,null,null,null,{"$error":"#N/A"},{"$error":"#N/A"},{"$error":"#N/A"},{"$error":"#N/A"},{"$error":"#N/A"}]
[null,null,null,null,null,null,null,null,null,null,{"$error":"#N/A"},{"$error":"#N/A"},{"$error":"#N/A"},{"$error":"#N/A"},{"$error":"#N/A"}]
[null,null,null,null,null,null,null,null,null,null,{"$error":"#N/A"},{"$error":"#N/A"},{"$error":"#N/A"},{"$error":"#N/A"},{"$error":"#N/A"}]
[null,null,null,null,null,null,null,null,null,null,{"$error":"#N/A"},{"$error":"#N/A"},{"$error":"#N/A"},{"$error":"#N/A"},{"$error":"#N/A"}]
[null,null,null,null,null,null,null,null,null,null,{"$error":"#N/A"},{"$error":"#N/A"},{"$error":"#N/A"},{"$error":"#N/A"},{"$error":"#N/A"}]
[null,null,null,null,null,null,null,null,null,null,{"$error":"#N/A"},{"$error":"#N/A"},{"$error":"#N/A"},{"$error":"#N/A"},{"$error":"#N/A"}]
[null,null,null,null,null,null,null,null,null,null,{"$error":"#N/A"},{"$error":"#N/A"},{"$error":"#N/A"},{"$error":"#N/A"},{"$error":"#N/A"}]
[null,null,null,null,null,null,null,null,null,null,{"$error":"#N/A"},{"$error":"#N/A"},{"$error":"#N/A"},{"$error":"#N/A"},{"$error":"#N/A"}]
[null,null,null,null,null,null,null,null,null,null,{"$error":"#N/A"},{"$error":"#N/A"},{"$error":"#N/A"},{"$error":"#N/A"},{"$error":"#N/A"}]
[null,null,null,null,null,null,null,null,null,null,{"$error":"#N/A"},{"$error":"#N/A"},{"$error":"#N/A"},{"$error":"#N/A"},{"$error":"#N/A"}]
[null,null,null,null,null,null,null,null,null,null,{"$error":"#N/A"},{"$error":"#N/A"},{"$error":"#N/A"},{"$error":"#N/A"},{"$error":"#N/A"}]
[null,null,null,null,null,null,null,null,null,null,{"$error":"#N/A"},{"$error":"#N/A"},{"$error":"#N/A"},{"$error":"#N/A"},{"$error":"#N/A"}]
[null,null,null,null,null,null,null,null,null,null,{"$error":"#N/A"},{"$error":"#N/A"},{"$error":"#N/A"},{"$error":"#N/A"},{"$error":"#N/A"}]
[null,null,null,null,null,null,null,null,null,null,{"$error":"#N/A"},{"$error":"#N/A"},{"$error":"#N/A"},{"$error":"#N/A"},{"$error":"#N/A"}]
[null,null,null,null,null,null,null,null,null,null,{"$error":"#N/A"},{"$error":"#N/A"},{"$error":"#N/A"},{"$error":"#N/A"},{"$error":"#N/A"}]
[null,null,null,null,null,null,null,null,null,null,{"$error":"#N/A"},{"$error":"#N/A"},{"$error":"#N/A"},{"$error":"#N/A"},{"$error":"#N/A"}]
[null,null,null,null,null,null,null,null,null,null,{"$error":"#N/A"},{"$error":"#N/A"},{"$error":"#N/A"},{"$error":"#N/A"},{"$error":"#N/A"}]
[null,null,null,null,null,null,null,null,null,null,{"$error":"#N/A"},{"$error":"#N/A"},{"$error":"#N/A"},{"$error":"#N/A"},{"$error":"#N/A"}]
[null,null,null,null,null,null,null,null,null,null,{"$error":"#N/A"},{"$error":"#N/A"},{"$error":"#N/A"},{"$error":"#N/A"},{"$error":"#N/A"}]
[null,null,null,null,null,null,null,null,null,null,{"$error":"#N/A"},{"$error":"#N/A"},{"$error":"#N/A"},{"$error":"#N/A"},{"$error":"#N/A"}]
[null,null,null,null,null,null,null,null,null,null,{"$error":"#N/A"},{"$error":"#N/A"},{"$error":"#N/A"},{"$error":"#N/A"},{"$error":"#N/A"}]
[null,null,null,null,null,null,null,null,null,null,{"$error":"#N/A"},{"$error":"#N/A"},{"$error":"#N/A"},{"$error":"#N/A"},{"$error":"#N/A"}]
[null,null,null,null,null,null,null,null,null,null,{"$error":"#N/A"},{"$error":"#N/A"},{"$error":"#N/A"},{"$error":"#N/A"},{"$error":"#N/A"}]
[null,null,null,null,null,null,null,null,null,null,{"$error":"#N/A"},{"$error":"#N/A"},{"$error":"#N/A"},{"$error":"#N/A"},{"$error":"#N/A"}]
[null,null,null,null,null,null,null,null,null,null,{"$error":"#N/A"},{"$error":"#N/A"},{"$error":"#N/A"},{"$error":"#N/A"},{"$error":"#N/A"}]
[null,null,null,null,null,null,null,null,null,null,{"$error":"#N/A"},{"$error":"#N/A"},{"$error":"#N/A"},{"$error":"#N/A"},{"$error":"#N/A"}]
[null,null,null,null,null,null,null,null,null,null,{"$error":"#N/A"},{"$error":"#N/A"},{"$error":"#N/A"},{"$error":"#N/A"},{"$error":"#N/A"}]
[null,null,null,null,null,null,null,null,null,null,{"$error":"#N/A"},{"$error":"#N/A"},{"$error":"#N/A"},{"$f":"IF(ISBLANK(K49547),\"\",$G$13*K49547+$H$13)","v":{"$error":"#N/A"}},{"$error":"#N/A"}]
[null,null,null,null,null,null,null,null,null,null,{"$f":"IF(K49547+$G$19<=$G$18,K49547+$G$19,NA())","v":{"$error":"#N/A"}},{"$error":"#N/A"},{"$error":"#N/A"},{"$error":"#N/A"},{"$error":"#N/A"}]
[null,null,null,null,null,null,null,null,null,null,{"$error":"#N/A"},{"$f":"IF(ISBLANK(K49549),\"\",$G$11*K49549+$H$11)","v":{"$error":"#N/A"}},{"$f":"IF(ISBLANK(L49549),\"\",$G$12*K49549+$H$12)","v":{"$error":"#N/A"}},{"$error":"#N/A"},{"$f":"IF(ISBLANK(M49549),\"\",$G$14*K49549+$H$14)","v":{"$error":"#N/A"}}]
[null,null,null,null,null,null,null,null,null,null,{"$error":"#N/A"},{"$error":"#N/A"},{"$error":"#N/A"},{"$error":"#N/A"},{"$error":"#N/A"}]
[null,null,null,null,null,null,null,null,null,null,{"$error":"#N/A"},{"$error":"#N/A"},{"$error":"#N/A"},{"$error":"#N/A"},{"$error":"#N/A"}]
[null,null,null,null,null,null,null,null,null,null,{"$error":"#N/A"},{"$error":"#N/A"},{"$error":"#N/A"},{"$error":"#N/A"},{"$error":"#N/A"}]
[null,null,null,null,null,null,null,null,null,null,{"$error":"#N/A"},{"$error":"#N/A"},{"$error":"#N/A"},{"$error":"#N/A"},{"$error":"#N/A"}]
[null,null,null,null,null,null,null,null,null,null,{"$error":"#N/A"},{"$error":"#N/A"},{"$error":"#N/A"},{"$error":"#N/A"},{"$error":"#N/A"}]
[null,null,null,null,null,null,null,null,null,null,{"$error":"#N/A"},{"$error":"#N/A"},{"$error":"#N/A"},{"$error":"#N/A"},{"$error":"#N/A"}]
[null,null,null,null,null,null,null,null,null,null,{"$error":"#N/A"},{"$error":"#N/A"},{"$error":"#N/A"},{"$error":"#N/A"},{"$error":"#N/A"}]
[null,null,null,null,null,null,null,null,null,null,{"$error":"#N/A"},{"$error":"#N/A"},{"$error":"#N/A"},{"$error":"#N/A"},{"$error":"#N/A"}]
[null,null,null,null,null,null,null,null,null,null,{"$error":"#N/A"},{"$error":"#N/A"},{"$error":"#N/A"},{"$error":"#N/A"},{"$error":"#N/A"}]
[null,null,null,null,null,null,null,null,null,null,{"$error":"#N/A"},{"$error":"#N/A"},{"$error":"#N/A"},{"$error":"#N/A"},{"$error":"#N/A"}]
[null,null,null,null,null,null,null,null,null,null,{"$error":"#N/A"},{"$error":"#N/A"},{"$error":"#N/A"},{"$error":"#N/A"},{"$error":"#N/A"}]
[null,null,null,null,null,null,null,null,null,null,{"$error":"#N/A"},{"$error":"#N/A"},{"$error":"#N/A"},{"$error":"#N/A"},{"$error":"#N/A"}]
[null,null,null,null,null,null,null,null,null,null,{"$error":"#N/A"},{"$error":"#N/A"},{"$error":"#N/A"},{"$error":"#N/A"},{"$error":"#N/A"}]
[null,null,null,null,null,null,null,null,null,null,{"$error":"#N/A"},{"$error":"#N/A"},{"$error":"#N/A"},{"$error":"#N/A"},{"$error":"#N/A"}]
[null,null,null,null,null,null,null,null,null,null,{"$error":"#N/A"},{"$error":"#N/A"},{"$error":"#N/A"},{"$error":"#N/A"},{"$error":"#N/A"}]
[null,null,null,null,null,null,null,null,null,null,{"$error":"#N/A"},{"$error":"#N/A"},{"$error":"#N/A"},{"$error":"#N/A"},{"$error":"#N/A"}]
[null,null,null,null,null,null,null,null,null,null,{"$error":"#N/A"},{"$error":"#N/A"},{"$error":"#N/A"},{"$error":"#N/A"},{"$error":"#N/A"}]
[null,null,null,null,null,null,null,null,null,null,{"$error":"#N/A"},{"$error":"#N/A"},{"$error":"#N/A"},{"$error":"#N/A"},{"$error":"#N/A"}]
[null,null,null,null,null,null,null,null,null,null,{"$error":"#N/A"},{"$error":"#N/A"},{"$error":"#N/A"},{"$error":"#N/A"},{"$error":"#N/A"}]
[null,null,null,null,null,null,null,null,null,null,{"$error":"#N/A"},{"$error":"#N/A"},{"$error":"#N/A"},{"$error":"#N/A"},{"$error":"#N/A"}]
[null,null,null,null,null,null,null,null,null,null,{"$error":"#N/A"},{"$error":"#N/A"},{"$error":"#N/A"},{"$error":"#N/A"},{"$error":"#N/A"}]
[null,null,null,null,null,null,null,null,null,null,{"$error":"#N/A"},{"$error":"#N/A"},{"$error":"#N/A"},{"$error":"#N/A"},{"$error":"#N/A"}]
[null,null,null,null,null,null,null,null,null,null,{"$error":"#N/A"},{"$error":"#N/A"},{"$error":"#N/A"},{"$error":"#N/A"},{"$error":"#N/A"}]
[null,null,null,null,null,null,null,null,null,null,{"$error":"#N/A"},{"$error":"#N/A"},{"$error":"#N/A"},{"$error":"#N/A"},{"$error":"#N/A"}]
[null,null,null,null,null,null,null,null,null,null,{"$error":"#N/A"},{"$error":"#N/A"},{"$error":"#N/A"},{"$error":"#N/A"},{"$error":"#N/A"}]
[null,null,null,null,null,null,null,null,null,null,{"$error":"#N/A"},{"$error":"#N/A"},{"$error":"#N/A"},{"$error":"#N/A"},{"$error":"#N/A"}]
[null,null,null,null,null,null,null,null,null,null,{"$error":"#N/A"},{"$error":"#N/A"},{"$error":"#N/A"},{"$error":"#N/A"},{"$error":"#N/A"}]
[null,null,null,null,null,null,null,null,null,null,{"$error":"#N/A"},{"$error":"#N/A"},{"$error":"#N/A"},{"$error":"#N/A"},{"$error":"#N/A"}]
[null,null,null,null,null,null,null,null,null,null,{"$error":"#N/A"},{"$error":"#N/A"},{"$error":"#N/A"},{"$error":"#N/A"},{"$error":"#N/A"}]
[null,null,null,null,null,null,null,null,null,null,{"$error":"#N/A"},{"$error":"#N/A"},{"$error":"#N/A"},{"$error":"#N/A"},{"$error":"#N/A"}]
[null,null,null,null,null,null,null,null,null,null,{"$error":"#N/A"},{"$error":"#N/A"},{"$error":"#N/A"},{"$error":"#N/A"},{"$error":"#N/A"}]
[null,null,null,null,null,null,null,null,null,null,{"$error":"#N/A"},{"$error":"#N/A"},{"$error":"#N/A"},{"$error":"#N/A"},{"$error":"#N/A"}]
[null,null,null,null,null,null,null,null,null,null,{"$error":"#N/A"},{"$error":"#N/A"},{"$error":"#N/A"},{"$error":"#N/A"},{"$error":"#N/A"}]
[null,null,null,null,null,null,null,null,null,null,{"$error":"#N/A"},{"$error":"#N/A"},{"$error":"#N/A"},{"$error":"#N/A"},{"$error":"#N/A"}]
[null,null,null,null,null,null,null,null,null,null,{"$error":"#N/A"},{"$error":"#N/A"},{"$error":"#N/A"},{"$error":"#N/A"},{"$error":"#N/A"}]
[null,null,null,null,null,null,null,null,null,null,{"$error":"#N/A"},{"$error":"#N/A"},{"$error":"#N/A"},{"$error":"#N/A"},{"$error":"#N/A"}]
[null,null,null,null,null,null,null,null,null,null,{"$error":"#N/A"},{"$error":"#N/A"},{"$error":"#N/A"},{"$error":"#N/A"},{"$error":"#N/A"}]
[null,null,null,null,null,null,null,null,null,null,{"$error":"#N/A"},{"$error":"#N/A"},{"$error":"#N/A"},{"$error":"#N/A"},{"$error":"#N/A"}]
[null,null,null,null,null,null,null,null,null,null,{"$error":"#N/A"},{"$error":"#N/A"},{"$error":"#N/A"},{"$error":"#N/A"},{"$error":"#N/A"}]
[null,null,null,null,null,null,null,null,null,null,{"$error":"#N/A"},{"$error":"#N/A"},{"$error":"#N/A"},{"$error":"#N/A"},{"$error":"#N/A"}]
[null,null,null,null,null,null,null,null,null,null,{"$error":"#N/A"},{"$error":"#N/A"},{"$error":"#N/A"},{"$error":"#N/A"},{"$error":"#N/A"}]
[null,null,null,null,null,null,null,null,null,null,{"$error":"#N/A"},{"$error":"#N/A"},{"$error":"#N/A"},{"$error":"#N/A"},{"$error":"#N/A"}]
[null,null,null,null,null,null,null,null,null,null,{"$error":"#N/A"},{"$error":"#N/A"},{"$error":"#N/A"},{"$error":"#N/A"},{"$error":"#N/A"}]
[null,null,null,null,null,null,null,null,null,null,{"$error":"#N/A"},{"$error":"#N/A"},{"$error":"#N/A"},{"$error":"#N/A"},{"$error":"#N/A"}]
[null,null,null,null,null,null,null,null,null,null,{"$error":"#N/A"},{"$error":"#N/A"},{"$error":"#N/A"},{"$error":"#N/A"},{"$error":"#N/A"}]
[null,null,null,null,null,null,null,null,null,null,{"$error":"#N/A"},{"$error":"#N/A"},{"$error":"#N/A"},{"$error":"#N/A"},{"$error":"#N/A"}]
[null,null,null,null,null,null,null,null,null,null,{"$error":"#N/A"},{"$error":"#N/A"},{"$error":"#N/A"},{"$error":"#N/A"},{"$error":"#N/A"}]
[null,null,null,null,null,null,null,null,null,null,{"$error":"#N/A"},{"$error":"#N/A"},{"$error":"#N/A"},{"$error":"#N/A"},{"$error":"#N/A"}]
[null,null,null,null,null,null,null,null,null,null,{"$error":"#N/A"},{"$error":"#N/A"},{"$error":"#N/A"},{"$error":"#N/A"},{"$error":"#N/A"}]
[null,null,null,null,null,null,null,null,null,null,{"$error":"#N/A"},{"$error":"#N/A"},{"$error":"#N/A"},{"$error":"#N/A"},{"$error":"#N/A"}]
[null,null,null,null,null,null,null,null,null,null,{"$error":"#N/A"},{"$error":"#N/A"},{"$error":"#N/A"},{"$error":"#N/A"},{"$error":"#N/A"}]
[null,null,null,null,null,null,null,null,null,null,{"$error":"#N/A"},{"$error":"#N/A"},{"$error":"#N/A"},{"$error":"#N/A"},{"$error":"#N/A"}]
[null,null,null,null,null,null,null,null,null,null,{"$error":"#N/A"},{"$error":"#N/A"},{"$error":"#N/A"},{"$error":"#N/A"},{"$error":"#N/A"}]
[null,null,null,null,null,null,null,null,null,null,{"$error":"#N/A"},{"$error":"#N/A"},{"$error":"#N/A"},{"$error":"#N/A"},{"$error":"#N/A"}]
[null,null,null,null,null,null,null,null,null,null,{"$error":"#N/A"},{"$error":"#N/A"},{"$error":"#N/A"},{"$error":"#N/A"},{"$error":"#N/A"}]
[null,null,null,null,null,null,null,null,null,null,{"$error":"#N/A"},{"$error":"#N/A"},{"$error":"#N/A"},{"$error":"#N/A"},{"$error":"#N/A"}]
[null,null,null,null,null,null,null,null,null,null,{"$error":"#N/A"},{"$error":"#N/A"},{"$error":"#N/A"},{"$error":"#N/A"},{"$error":"#N/A"}]
[null,null,null,null,null,null,null,null,null,null,{"$error":"#N/A"},{"$error":"#N/A"},{"$error":"#N/A"},{"$error":"#N/A"},{"$error":"#N/A"}]
[null,null,null,null,null,null,null,null,null,null,{"$error":"#N/A"},{"$error":"#N/A"},{"$error":"#N/A"},{"$error":"#N/A"},{"$error":"#N/A"}]
[null,null,null,null,null,null,null,null,null,null,{"$error":"#N/A"},{"$error":"#N/A"},{"$error":"#N/A"},{"$error":"#N/A"},{"$error":"#N/A"}]
[null,null,null,null,null,null,null,null,null,null,{"$error":"#N/A"},{"$error":"#N/A"},{"$error":"#N/A"},{"$error":"#N/A"},{"$error":"#N/A"}]
[null,null,null,null,null,null,null,null,null,null,{"$error":"#N/A"},{"$error":"#N/A"},{"$error":"#N/A"},{"$f":"IF(ISBLANK(K49611),\"\",$G$13*K49611+$H$13)","v":{"$error":"#N/A"}},{"$error":"#N/A"}]
[null,null,null,null,null,null,null,null,null,null,{"$f":"IF(K49611+$G$19<=$G$18,K49611+$G$19,NA())","v":{"$error":"#N/A"}},{"$error":"#N/A"},{"$error":"#N/A"},{"$error":"#N/A"},{"$error":"#N/A"}]
[null,null,null,null,null,null,null,null,null,null,{"$error":"#N/A"},{"$f":"IF(ISBLANK(K49613),\"\",$G$11*K49613+$H$11)","v":{"$error":"#N/A"}},{"$f":"IF(ISBLANK(L49613),\"\",$G$12*K49613+$H$12)","v":{"$error":"#N/A"}},{"$error":"#N/A"},{"$f":"IF(ISBLANK(M49613),\"\",$G$14*K49613+$H$14)","v":{"$error":"#N/A"}}]
[null,null,null,null,null,null,null,null,null,null,{"$error":"#N/A"},{"$error":"#N/A"},{"$error":"#N/A"},{"$error":"#N/A"},{"$error":"#N/A"}]
[null,null,null,null,null,null,null,null,null,null,{"$error":"#N/A"},{"$error":"#N/A"},{"$error":"#N/A"},{"$error":"#N/A"},{"$error":"#N/A"}]
[null,null,null,null,null,null,null,null,null,null,{"$error":"#N/A"},{"$error":"#N/A"},{"$error":"#N/A"},{"$error":"#N/A"},{"$error":"#N/A"}]
[null,null,null,null,null,null,null,null,null,null,{"$error":"#N/A"},{"$error":"#N/A"},{"$error":"#N/A"},{"$error":"#N/A"},{"$error":"#N/A"}]
[null,null,null,null,null,null,null,null,null,null,{"$error":"#N/A"},{"$error":"#N/A"},{"$error":"#N/A"},{"$error":"#N/A"},{"$error":"#N/A"}]
[null,null,null,null,null,null,null,null,null,null,{"$error":"#N/A"},{"$error":"#N/A"},{"$error":"#N/A"},{"$error":"#N/A"},{"$error":"#N/A"}]
[null,null,null,null,null,null,null,null,null,null,{"$error":"#N/A"},{"$error":"#N/A"},{"$error":"#N/A"},{"$error":"#N/A"},{"$error":"#N/A"}]
[null,null,null,null,null,null,null,null,null,null,{"$error":"#N/A"},{"$error":"#N/A"},{"$error":"#N/A"},{"$error":"#N/A"},{"$error":"#N/A"}]
[null,null,null,null,null,null,null,null,null,null,{"$error":"#N/A"},{"$error":"#N/A"},{"$error":"#N/A"},{"$error":"#N/A"},{"$error":"#N/A"}]
[null,null,null,null,null,null,null,null,null,null,{"$error":"#N/A"},{"$error":"#N/A"},{"$error":"#N/A"},{"$error":"#N/A"},{"$error":"#N/A"}]
[null,null,null,null,null,null,null,null,null,null,{"$error":"#N/A"},{"$error":"#N/A"},{"$error":"#N/A"},{"$error":"#N/A"},{"$error":"#N/A"}]
[null,null,null,null,null,null,null,null,null,null,{"$error":"#N/A"},{"$error":"#N/A"},{"$error":"#N/A"},{"$error":"#N/A"},{"$error":"#N/A"}]
[null,null,null,null,null,null,null,null,null,null,{"$error":"#N/A"},{"$error":"#N/A"},{"$error":"#N/A"},{"$error":"#N/A"},{"$error":"#N/A"}]
[null,null,null,null,null,null,null,null,null,null,{"$error":"#N/A"},{"$error":"#N/A"},{"$error":"#N/A"},{"$error":"#N/A"},{"$error":"#N/A"}]
[null,null,null,null,null,null,null,null,null,null,{"$error":"#N/A"},{"$error":"#N/A"},{"$error":"#N/A"},{"$error":"#N/A"},{"$error":"#N/A"}]
[null,null,null,null,null,null,null,null,null,null,{"$error":"#N/A"},{"$error":"#N/A"},{"$error":"#N/A"},{"$error":"#N/A"},{"$error":"#N/A"}]
[null,null,null,null,null,null,null,null,null,null,{"$error":"#N/A"},{"$error":"#N/A"},{"$error":"#N/A"},{"$error":"#N/A"},{"$error":"#N/A"}]
[null,null,null,null,null,null,null,null,null,null,{"$error":"#N/A"},{"$error":"#N/A"},{"$error":"#N/A"},{"$error":"#N/A"},{"$error":"#N/A"}]
[null,null,null,null,null,null,null,null,null,null,{"$error":"#N/A"},{"$error":"#N/A"},{"$error":"#N/A"},{"$error":"#N/A"},{"$error":"#N/A"}]
[null,null,null,null,null,null,null,null,null,null,{"$error":"#N/A"},{"$error":"#N/A"},{"$error":"#N/A"},{"$error":"#N/A"},{"$error":"#N/A"}]
[null,null,null,null,null,null,null,null,null,null,{"$error":"#N/A"},{"$error":"#N/A"},{"$error":"#N/A"},{"$error":"#N/A"},{"$error":"#N/A"}]
[null,null,null,null,null,null,null,null,null,null,{"$error":"#N/A"},{"$error":"#N/A"},{"$error":"#N/A"},{"$error":"#N/A"},{"$error":"#N/A"}]
[null,null,null,null,null,null,null,null,null,null,{"$error":"#N/A"},{"$error":"#N/A"},{"$error":"#N/A"},{"$error":"#N/A"},{"$error":"#N/A"}]
[null,null,null,null,null,null,null,null,null,null,{"$error":"#N/A"},{"$error":"#N/A"},{"$error":"#N/A"},{"$error":"#N/A"},{"$error":"#N/A"}]
[null,null,null,null,null,null,null,null,null,null,{"$error":"#N/A"},{"$error":"#N/A"},{"$error":"#N/A"},{"$error":"#N/A"},{"$error":"#N/A"}]
[null,null,null,null,null,null,null,null,null,null,{"$error":"#N/A"},{"$error":"#N/A"},{"$error":"#N/A"},{"$error":"#N/A"},{"$error":"#N/A"}]
[null,null,null,null,null,null,null,null,null,null,{"$error":"#N/A"},{"$error":"#N/A"},{"$error":"#N/A"},{"$error":"#N/A"},{"$error":"#N/A"}]
[null,null,null,null,null,null,null,null,null,null,{"$error":"#N/A"},{"$error":"#N/A"},{"$error":"#N/A"},{"$error":"#N/A"},{"$error":"#N/A"}]
[null,null,null,null,null,null,null,null,null,null,{"$error":"#N/A"},{"$error":"#N/A"},{"$error":"#N/A"},{"$error":"#N/A"},{"$error":"#N/A"}]
[null,null,null,null,null,null,null,null,null,null,{"$error":"#N/A"},{"$error":"#N/A"},{"$error":"#N/A"},{"$error":"#N/A"},{"$error":"#N/A"}]
[null,null,null,null,null,null,null,null,null,null,{"$error":"#N/A"},{"$error":"#N/A"},{"$error":"#N/A"},{"$error":"#N/A"},{"$error":"#N/A"}]
[null,null,null,null,null,null,null,null,null,null,{"$error":"#N/A"},{"$error":"#N/A"},{"$error":"#N/A"},{"$error":"#N/A"},{"$error":"#N/A"}]
[null,null,null,null,null,null,null,null,null,null,{"$error":"#N/A"},{"$error":"#N/A"},{"$error":"#N/A"},{"$error":"#N/A"},{"$error":"#N/A"}]
[null,null,null,null,null,null,null,null,null,null,{"$error":"#N/A"},{"$error":"#N/A"},{"$error":"#N/A"},{"$error":"#N/A"},{"$error":"#N/A"}]
[null,null,null,null,null,null,null,null,null,null,{"$error":"#N/A"},{"$error":"#N/A"},{"$error":"#N/A"},{"$error":"#N/A"},{"$error":"#N/A"}]
[null,null,null,null,null,null,null,null,null,null,{"$error":"#N/A"},{"$error":"#N/A"},{"$error":"#N/A"},{"$error":"#N/A"},{"$error":"#N/A"}]
[null,null,null,null,null,null,null,null,null,null,{"$error":"#N/A"},{"$error":"#N/A"},{"$error":"#N/A"},{"$error":"#N/A"},{"$error":"#N/A"}]
[null,null,null,null,null,null,null,null,null,null,{"$error":"#N/A"},{"$error":"#N/A"},{"$error":"#N/A"},{"$error":"#N/A"},{"$error":"#N/A"}]
[null,null,null,null,null,null,null,null,null,null,{"$error":"#N/A"},{"$error":"#N/A"},{"$error":"#N/A"},{"$error":"#N/A"},{"$error":"#N/A"}]
[null,null,null,null,null,null,null,null,null,null,{"$error":"#N/A"},{"$error":"#N/A"},{"$error":"#N/A"},{"$error":"#N/A"},{"$error":"#N/A"}]
[null,null,null,null,null,null,null,null,null,null,{"$error":"#N/A"},{"$error":"#N/A"},{"$error":"#N/A"},{"$error":"#N/A"},{"$error":"#N/A"}]
[null,null,null,null,null,null,null,null,null,null,{"$error":"#N/A"},{"$error":"#N/A"},{"$error":"#N/A"},{"$error":"#N/A"},{"$error":"#N/A"}]
[null,null,null,null,null,null,null,null,null,null,{"$error":"#N/A"},{"$error":"#N/A"},{"$error":"#N/A"},{"$error":"#N/A"},{"$error":"#N/A"}]
[null,null,null,null,null,null,null,null,null,null,{"$error":"#N/A"},{"$error":"#N/A"},{"$error":"#N/A"},{"$error":"#N/A"},{"$error":"#N/A"}]
[null,null,null,null,null,null,null,null,null,null,{"$error":"#N/A"},{"$error":"#N/A"},{"$error":"#N/A"},{"$error":"#N/A"},{"$error":"#N/A"}]
[null,null,null,null,null,null,null,null,null,null,{"$error":"#N/A"},{"$error":"#N/A"},{"$error":"#N/A"},{"$error":"#N/A"},{"$error":"#N/A"}]
[null,null,null,null,null,null,null,null,null,null,{"$error":"#N/A"},{"$error":"#N/A"},{"$error":"#N/A"},{"$error":"#N/A"},{"$error":"#N/A"}]
[null,null,null,null,null,null,null,null,null,null,{"$error":"#N/A"},{"$error":"#N/A"},{"$error":"#N/A"},{"$error":"#N/A"},{"$error":"#N/A"}]
[null,null,null,null,null,null,null,null,null,null,{"$error":"#N/A"},{"$error":"#N/A"},{"$error":"#N/A"},{"$error":"#N/A"},{"$error":"#N/A"}]
[null,null,null,null,null,null,null,null,null,null,{"$error":"#N/A"},{"$error":"#N/A"},{"$error":"#N/A"},{"$error":"#N/A"},{"$error":"#N/A"}]
[null,null,null,null,null,null,null,null,null,null,{"$error":"#N/A"},{"$error":"#N/A"},{"$error":"#N/A"},{"$error":"#N/A"},{"$error":"#N/A"}]
[null,null,null,null,null,null,null,null,null,null,{"$error":"#N/A"},{"$error":"#N/A"},{"$error":"#N/A"},{"$error":"#N/A"},{"$error":"#N/A"}]
[null,null,null,null,null,null,null,null,null,null,{"$error":"#N/A"},{"$error":"#N/A"},{"$error":"#N/A"},{"$error":"#N/A"},{"$error":"#N/A"}]
[null,null,null,null,null,null,null,null,null,null,{"$error":"#N/A"},{"$error":"#N/A"},{"$error":"#N/A"},{"$error":"#N/A"},{"$error":"#N/A"}]
[null,null,null,null,null,null,null,null,null,null,{"$error":"#N/A"},{"$error":"#N/A"},{"$error":"#N/A"},{"$error":"#N/A"},{"$error":"#N/A"}]
[null,null,null,null,null,null,null,null,null,null,{"$error":"#N/A"},{"$error":"#N/A"},{"$error":"#N/A"},{"$error":"#N/A"},{"$error":"#N/A"}]
[null,null,null,null,null,null,null,null,null,null,{"$error":"#N/A"},{"$error":"#N/A"},{"$error":"#N/A"},{"$error":"#N/A"},{"$error":"#N/A"}]
[null,null,null,null,null,null,null,null,null,null,{"$error":"#N/A"},{"$error":"#N/A"},{"$error":"#N/A"},{"$error":"#N/A"},{"$error":"#N/A"}]
[null,null,null,null,null,null,null,null,null,null,{"$error":"#N/A"},{"$error":"#N/A"},{"$error":"#N/A"},{"$error":"#N/A"},{"$error":"#N/A"}]
[null,null,null,null,null,null,null,null,null,null,{"$error":"#N/A"},{"$error":"#N/A"},{"$error":"#N/A"},{"$error":"#N/A"},{"$error":"#N/A"}]
[null,null,null,null,null,null,null,null,null,null,{"$error":"#N/A"},{"$error":"#N/A"},{"$error":"#N/A"},{"$error":"#N/A"},{"$error":"#N/A"}]
[null,null,null,null,null,null,null,null,null,null,{"$error":"#N/A"},{"$error":"#N/A"},{"$error":"#N/A"},{"$f":"IF(ISBLANK(K49675),\"\",$G$13*K49675+$H$13)","v":{"$error":"#N/A"}},{"$error":"#N/A"}]
[null,null,null,null,null,null,null,null,null,null,{"$f":"IF(K49675+$G$19<=$G$18,K49675+$G$19,NA())","v":{"$error":"#N/A"}},{"$error":"#N/A"},{"$error":"#N/A"},{"$error":"#N/A"},{"$error":"#N/A"}]
[null,null,null,null,null,null,null,null,null,null,{"$error":"#N/A"},{"$f":"IF(ISBLANK(K49677),\"\",$G$11*K49677+$H$11)","v":{"$error":"#N/A"}},{"$f":"IF(ISBLANK(L49677),\"\",$G$12*K49677+$H$12)","v":{"$error":"#N/A"}},{"$error":"#N/A"},{"$f":"IF(ISBLANK(M49677),\"\",$G$14*K49677+$H$14)","v":{"$error":"#N/A"}}]
[null,null,null,null,null,null,null,null,null,null,{"$error":"#N/A"},{"$error":"#N/A"},{"$error":"#N/A"},{"$error":"#N/A"},{"$error":"#N/A"}]
[null,null,null,null,null,null,null,null,null,null,{"$error":"#N/A"},{"$error":"#N/A"},{"$error":"#N/A"},{"$error":"#N/A"},{"$error":"#N/A"}]
[null,null,null,null,null,null,null,null,null,null,{"$error":"#N/A"},{"$error":"#N/A"},{"$error":"#N/A"},{"$error":"#N/A"},{"$error":"#N/A"}]
[null,null,null,null,null,null,null,null,null,null,{"$error":"#N/A"},{"$error":"#N/A"},{"$error":"#N/A"},{"$error":"#N/A"},{"$error":"#N/A"}]
[null,null,null,null,null,null,null,null,null,null,{"$error":"#N/A"},{"$error":"#N/A"},{"$error":"#N/A"},{"$error":"#N/A"},{"$error":"#N/A"}]
[null,null,null,null,null,null,null,null,null,null,{"$error":"#N/A"},{"$error":"#N/A"},{"$error":"#N/A"},{"$error":"#N/A"},{"$error":"#N/A"}]
[null,null,null,null,null,null,null,null,null,null,{"$error":"#N/A"},{"$error":"#N/A"},{"$error":"#N/A"},{"$error":"#N/A"},{"$error":"#N/A"}]
[null,null,null,null,null,null,null,null,null,null,{"$error":"#N/A"},{"$error":"#N/A"},{"$error":"#N/A"},{"$error":"#N/A"},{"$error":"#N/A"}]
[null,null,null,null,null,null,null,null,null,null,{"$error":"#N/A"},{"$error":"#N/A"},{"$error":"#N/A"},{"$error":"#N/A"},{"$error":"#N/A"}]
[null,null,null,null,null,null,null,null,null,null,{"$error":"#N/A"},{"$error":"#N/A"},{"$error":"#N/A"},{"$error":"#N/A"},{"$error":"#N/A"}]
[null,null,null,null,null,null,null,null,null,null,{"$error":"#N/A"},{"$error":"#N/A"},{"$error":"#N/A"},{"$error":"#N/A"},{"$error":"#N/A"}]
[null,null,null,null,null,null,null,null,null,null,{"$error":"#N/A"},{"$error":"#N/A"},{"$error":"#N/A"},{"$error":"#N/A"},{"$error":"#N/A"}]
[null,null,null,null,null,null,null,null,null,null,{"$error":"#N/A"},{"$error":"#N/A"},{"$error":"#N/A"},{"$error":"#N/A"},{"$error":"#N/A"}]
[null,null,null,null,null,null,null,null,null,null,{"$error":"#N/A"},{"$error":"#N/A"},{"$error":"#N/A"},{"$error":"#N/A"},{"$error":"#N/A"}]
[null,null,null,null,null,null,null,null,null,null,{"$error":"#N/A"},{"$error":"#N/A"},{"$error":"#N/A"},{"$error":"#N/A"},{"$error":"#N/A"}]
[null,null,null,null,null,null,null,null,null,null,{"$error":"#N/A"},{"$error":"#N/A"},{"$error":"#N/A"},{"$error":"#N/A"},{"$error":"#N/A"}]
[null,null,null,null,null,null,null,null,null,null,{"$error":"#N/A"},{"$error":"#N/A"},{"$error":"#N/A"},{"$error":"#N/A"},{"$error":"#N/A"}]
[null,null,null,null,null,null,null,null,null,null,{"$error":"#N/A"},{"$error":"#N/A"},{"$error":"#N/A"},{"$error":"#N/A"},{"$error":"#N/A"}]
[null,null,null,null,null,null,null,null,null,null,{"$error":"#N/A"},{"$error":"#N/A"},{"$error":"#N/A"},{"$error":"#N/A"},{"$error":"#N/A"}]
[null,null,null,null,null,null,null,null,null,null,{"$error":"#N/A"},{"$error":"#N/A"},{"$error":"#N/A"},{"$error":"#N/A"},{"$error":"#N/A"}]
[null,null,null,null,null,null,null,null,null,null,{"$error":"#N/A"},{"$error":"#N/A"},{"$error":"#N/A"},{"$error":"#N/A"},{"$error":"#N/A"}]
[null,null,null,null,null,null,null,null,null,null,{"$error":"#N/A"},{"$error":"#N/A"},{"$error":"#N/A"},{"$error":"#N/A"},{"$error":"#N/A"}]
[null,null,null,null,null,null,null,null,null,null,{"$error":"#N/A"},{"$error":"#N/A"},{"$error":"#N/A"},{"$error":"#N/A"},{"$error":"#N/A"}]
[null,null,null,null,null,null,null,null,null,null,{"$error":"#N/A"},{"$error":"#N/A"},{"$error":"#N/A"},{"$error":"#N/A"},{"$error":"#N/A"}]
[null,null,null,null,null,null,null,null,null,null,{"$error":"#N/A"},{"$error":"#N/A"},{"$error":"#N/A"},{"$error":"#N/A"},{"$error":"#N/A"}]
[null,null,null,null,null,null,null,null,null,null,{"$error":"#N/A"},{"$error":"#N/A"},{"$error":"#N/A"},{"$error":"#N/A"},{"$error":"#N/A"}]
[null,null,null,null,null,null,null,null,null,null,{"$error":"#N/A"},{"$error":"#N/A"},{"$error":"#N/A"},{"$error":"#N/A"},{"$error":"#N/A"}]
[null,null,null,null,null,null,null,null,null,null,{"$error":"#N/A"},{"$error":"#N/A"},{"$error":"#N/A"},{"$error":"#N/A"},{"$error":"#N/A"}]
[null,null,null,null,null,null,null,null,null,null,{"$error":"#N/A"},{"$error":"#N/A"},{"$error":"#N/A"},{"$error":"#N/A"},{"$error":"#N/A"}]
[null,null,null,null,null,null,null,null,null,null,{"$error":"#N/A"},{"$error":"#N/A"},{"$error":"#N/A"},{"$error":"#N/A"},{"$error":"#N/A"}]
[null,null,null,null,null,null,null,null,null,null,{"$error":"#N/A"},{"$error":"#N/A"},{"$error":"#N/A"},{"$error":"#N/A"},{"$error":"#N/A"}]
[null,null,null,null,null,null,null,null,null,null,{"$error":"#N/A"},{"$error":"#N/A"},{"$error":"#N/A"},{"$error":"#N/A"},{"$error":"#N/A"}]
[null,null,null,null,null,null,null,null,null,null,{"$error":"#N/A"},{"$error":"#N/A"},{"$error":"#N/A"},{"$error":"#N/A"},{"$error":"#N/A"}]
[null,null,null,null,null,null,null,null,null,null,{"$error":"#N/A"},{"$error":"#N/A"},{"$error":"#N/A"},{"$error":"#N/A"},{"$error":"#N/A"}]
[null,null,null,null,null,null,null,null,null,null,{"$error":"#N/A"},{"$error":"#N/A"},{"$error":"#N/A"},{"$error":"#N/A"},{"$error":"#N/A"}]
[null,null,null,null,null,null,null,null,null,null,{"$error":"#N/A"},{"$error":"#N/A"},{"$error":"#N/A"},{"$error":"#N/A"},{"$error":"#N/A"}]
[null,null,null,null,null,null,null,null,null,null,{"$error":"#N/A"},{"$error":"#N/A"},{"$error":"#N/A"},{"$error":"#N/A"},{"$error":"#N/A"}]
[null,null,null,null,null,null,null,null,null,null,{"$error":"#N/A"},{"$error":"#N/A"},{"$error":"#N/A"},{"$error":"#N/A"},{"$error":"#N/A"}]
[null,null,null,null,null,null,null,null,null,null,{"$error":"#N/A"},{"$error":"#N/A"},{"$error":"#N/A"},{"$error":"#N/A"},{"$error":"#N/A"}]
[null,null,null,null,null,null,null,null,null,null,{"$error":"#N/A"},{"$error":"#N/A"},{"$error":"#N/A"},{"$error":"#N/A"},{"$error":"#N/A"}]
[null,null,null,null,null,null,null,null,null,null,{"$error":"#N/A"},{"$error":"#N/A"},{"$error":"#N/A"},{"$error":"#N/A"},{"$error":"#N/A"}]
[null,null,null,null,null,null,null,null,null,null,{"$error":"#N/A"},{"$error":"#N/A"},{"$error":"#N/A"},{"$error":"#N/A"},{"$error":"#N/A"}]
[null,null,null,null,null,null,null,null,null,null,{"$error":"#N/A"},{"$error":"#N/A"},{"$error":"#N/A"},{"$error":"#N/A"},{"$error":"#N/A"}]
[null,null,null,null,null,null,null,null,null,null,{"$error":"#N/A"},{"$error":"#N/A"},{"$error":"#N/A"},{"$error":"#N/A"},{"$error":"#N/A"}]
[null,null,null,null,null,null,null,null,null,null,{"$error":"#N/A"},{"$error":"#N/A"},{"$error":"#N/A"},{"$error":"#N/A"},{"$error":"#N/A"}]
[null,null,null,null,null,null,null,null,null,null,{"$error":"#N/A"},{"$error":"#N/A"},{"$error":"#N/A"},{"$error":"#N/A"},{"$error":"#N/A"}]
[null,null,null,null,null,null,null,null,null,null,{"$error":"#N/A"},{"$error":"#N/A"},{"$error":"#N/A"},{"$error":"#N/A"},{"$error":"#N/A"}]
[null,null,null,null,null,null,null,null,null,null,{"$error":"#N/A"},{"$error":"#N/A"},{"$error":"#N/A"},{"$error":"#N/A"},{"$error":"#N/A"}]
[null,null,null,null,null,null,null,null,null,null,{"$error":"#N/A"},{"$error":"#N/A"},{"$error":"#N/A"},{"$error":"#N/A"},{"$error":"#N/A"}]
[null,null,null,null,null,null,null,null,null,null,{"$error":"#N/A"},{"$error":"#N/A"},{"$error":"#N/A"},{"$error":"#N/A"},{"$error":"#N/A"}]
[null,null,null,null,null,null,null,null,null,null,{"$error":"#N/A"},{"$error":"#N/A"},{"$error":"#N/A"},{"$error":"#N/A"},{"$error":"#N/A"}]
[null,null,null,null,null,null,null,null,null,null,{"$error":"#N/A"},{"$error":"#N/A"},{"$error":"#N/A"},{"$error":"#N/A"},{"$error":"#N/A"}]
[null,null,null,null,null,null,null,null,null,null,{"$error":"#N/A"},{"$error":"#N/A"},{"$error":"#N/A"},{"$error":"#N/A"},{"$error":"#N/A"}]
[null,null,null,null,null,null,null,null,null,null,{"$error":"#N/A"},{"$error":"#N/A"},{"$error":"#N/A"},{"$error":"#N/A"},{"$error":"#N/A"}]
[null,null,null,null,null,null,null,null,null,null,{"$error":"#N/A"},{"$error":"#N/A"},{"$error":"#N/A"},{"$error":"#N/A"},{"$error":"#N/A"}]
[null,null,null,null,null,null,null,null,null,null,{"$error":"#N/A"},{"$error":"#N/A"},{"$error":"#N/A"},{"$error":"#N/A"},{"$error":"#N/A"}]
[null,null,null,null,null,null,null,null,null,null,{"$error":"#N/A"},{"$error":"#N/A"},{"$error":"#N/A"},{"$error":"#N/A"},{"$error":"#N/A"}]
[null,null,null,null,null,null,null,null,null,null,{"$error":"#N/A"},{"$error":"#N/A"},{"$error":"#N/A"},{"$error":"#N/A"},{"$error":"#N/A"}]
[null,null,null,null,null,null,null,null,null,null,{"$error":"#N/A"},{"$error":"#N/A"},{"$error":"#N/A"},{"$error":"#N/A"},{"$error":"#N/A"}]
[null,null,null,null,null,null,null,null,null,null,{"$error":"#N/A"},{"$error":"#N/A"},{"$error":"#N/A"},{"$error":"#N/A"},{"$error":"#N/A"}]
[null,null,null,null,null,null,null,null,null,null,{"$error":"#N/A"},{"$error":"#N/A"},{"$error":"#N/A"},{"$error":"#N/A"},{"$error":"#N/A"}]
[null,null,null,null,null,null,null,null,null,null,{"$error":"#N/A"},{"$error":"#N/A"},{"$error":"#N/A"},{"$f":"IF(ISBLANK(K49739),\"\",$G$13*K49739+$H$13)","v":{"$error":"#N/A"}},{"$error":"#N/A"}]
[null,null,null,null,null,null,null,null,null,null,{"$f":"IF(K49739+$G$19<=$G$18,K49739+$G$19,NA())","v":{"$error":"#N/A"}},{"$error":"#N/A"},{"$error":"#N/A"},{"$error":"#N/A"},{"$error":"#N/A"}]
[null,null,null,null,null,null,null,null,null,null,{"$error":"#N/A"},{"$f":"IF(ISBLANK(K49741),\"\",$G$11*K49741+$H$11)","v":{"$error":"#N/A"}},{"$f":"IF(ISBLANK(L49741),\"\",$G$12*K49741+$H$12)","v":{"$error":"#N/A"}},{"$error":"#N/A"},{"$f":"IF(ISBLANK(M49741),\"\",$G$14*K49741+$H$14)","v":{"$error":"#N/A"}}]
[null,null,null,null,null,null,null,null,null,null,{"$error":"#N/A"},{"$error":"#N/A"},{"$error":"#N/A"},{"$error":"#N/A"},{"$error":"#N/A"}]
[null,null,null,null,null,null,null,null,null,null,{"$error":"#N/A"},{"$error":"#N/A"},{"$error":"#N/A"},{"$error":"#N/A"},{"$error":"#N/A"}]
[null,null,null,null,null,null,null,null,null,null,{"$error":"#N/A"},{"$error":"#N/A"},{"$error":"#N/A"},{"$error":"#N/A"},{"$error":"#N/A"}]
[null,null,null,null,null,null,null,null,null,null,{"$error":"#N/A"},{"$error":"#N/A"},{"$error":"#N/A"},{"$error":"#N/A"},{"$error":"#N/A"}]
[null,null,null,null,null,null,null,null,null,null,{"$error":"#N/A"},{"$error":"#N/A"},{"$error":"#N/A"},{"$error":"#N/A"},{"$error":"#N/A"}]
[null,null,null,null,null,null,null,null,null,null,{"$error":"#N/A"},{"$error":"#N/A"},{"$error":"#N/A"},{"$error":"#N/A"},{"$error":"#N/A"}]
[null,null,null,null,null,null,null,null,null,null,{"$error":"#N/A"},{"$error":"#N/A"},{"$error":"#N/A"},{"$error":"#N/A"},{"$error":"#N/A"}]
[null,null,null,null,null,null,null,null,null,null,{"$error":"#N/A"},{"$error":"#N/A"},{"$error":"#N/A"},{"$error":"#N/A"},{"$error":"#N/A"}]
[null,null,null,null,null,null,null,null,null,null,{"$error":"#N/A"},{"$error":"#N/A"},{"$error":"#N/A"},{"$error":"#N/A"},{"$error":"#N/A"}]
[null,null,null,null,null,null,null,null,null,null,{"$error":"#N/A"},{"$error":"#N/A"},{"$error":"#N/A"},{"$error":"#N/A"},{"$error":"#N/A"}]
[null,null,null,null,null,null,null,null,null,null,{"$error":"#N/A"},{"$error":"#N/A"},{"$error":"#N/A"},{"$error":"#N/A"},{"$error":"#N/A"}]
[null,null,null,null,null,null,null,null,null,null,{"$error":"#N/A"},{"$error":"#N/A"},{"$error":"#N/A"},{"$error":"#N/A"},{"$error":"#N/A"}]
[null,null,null,null,null,null,null,null,null,null,{"$error":"#N/A"},{"$error":"#N/A"},{"$error":"#N/A"},{"$error":"#N/A"},{"$error":"#N/A"}]
[null,null,null,null,null,null,null,null,null,null,{"$error":"#N/A"},{"$error":"#N/A"},{"$error":"#N/A"},{"$error":"#N/A"},{"$error":"#N/A"}]
[null,null,null,null,null,null,null,null,null,null,{"$error":"#N/A"},{"$error":"#N/A"},{"$error":"#N/A"},{"$error":"#N/A"},{"$error":"#N/A"}]
[null,null,null,null,null,null,null,null,null,null,{"$error":"#N/A"},{"$error":"#N/A"},{"$error":"#N/A"},{"$error":"#N/A"},{"$error":"#N/A"}]
[null,null,null,null,null,null,null,null,null,null,{"$error":"#N/A"},{"$error":"#N/A"},{"$error":"#N/A"},{"$error":"#N/A"},{"$error":"#N/A"}]
[null,null,null,null,null,null,null,null,null,null,{"$error":"#N/A"},{"$error":"#N/A"},{"$error":"#N/A"},{"$error":"#N/A"},{"$error":"#N/A"}]
[null,null,null,null,null,null,null,null,null,null,{"$error":"#N/A"},{"$error":"#N/A"},{"$error":"#N/A"},{"$error":"#N/A"},{"$error":"#N/A"}]
[null,null,null,null,null,null,null,null,null,null,{"$error":"#N/A"},{"$error":"#N/A"},{"$error":"#N/A"},{"$error":"#N/A"},{"$error":"#N/A"}]
[null,null,null,null,null,null,null,null,null,null,{"$error":"#N/A"},{"$error":"#N/A"},{"$error":"#N/A"},{"$error":"#N/A"},{"$error":"#N/A"}]
[null,null,null,null,null,null,null,null,null,null,{"$error":"#N/A"},{"$error":"#N/A"},{"$error":"#N/A"},{"$error":"#N/A"},{"$error":"#N/A"}]
[null,null,null,null,null,null,null,null,null,null,{"$error":"#N/A"},{"$error":"#N/A"},{"$error":"#N/A"},{"$error":"#N/A"},{"$error":"#N/A"}]
[null,null,null,null,null,null,null,null,null,null,{"$error":"#N/A"},{"$error":"#N/A"},{"$error":"#N/A"},{"$error":"#N/A"},{"$error":"#N/A"}]
[null,null,null,null,null,null,null,null,null,null,{"$error":"#N/A"},{"$error":"#N/A"},{"$error":"#N/A"},{"$error":"#N/A"},{"$error":"#N/A"}]
[null,null,null,null,null,null,null,null,null,null,{"$error":"#N/A"},{"$error":"#N/A"},{"$error":"#N/A"},{"$error":"#N/A"},{"$error":"#N/A"}]
[null,null,null,null,null,null,null,null,null,null,{"$error":"#N/A"},{"$error":"#N/A"},{"$error":"#N/A"},{"$error":"#N/A"},{"$error":"#N/A"}]
[null,null,null,null,null,null,null,null,null,null,{"$error":"#N/A"},{"$error":"#N/A"},{"$error":"#N/A"},{"$error":"#N/A"},{"$error":"#N/A"}]
[null,null,null,null,null,null,null,null,null,null,{"$error":"#N/A"},{"$error":"#N/A"},{"$error":"#N/A"},{"$error":"#N/A"},{"$error":"#N/A"}]
[null,null,null,null,null,null,null,null,null,null,{"$error":"#N/A"},{"$error":"#N/A"},{"$error":"#N/A"},{"$error":"#N/A"},{"$error":"#N/A"}]
[null,null,null,null,null,null,null,null,null,null,{"$error":"#N/A"},{"$error":"#N/A"},{"$error":"#N/A"},{"$error":"#N/A"},{"$error":"#N/A"}]
[null,null,null,null,null,null,null,null,null,null,{"$error":"#N/A"},{"$error":"#N/A"},{"$error":"#N/A"},{"$error":"#N/A"},{"$error":"#N/A"}]
[null,null,null,null,null,null,null,null,null,null,{"$error":"#N/A"},{"$error":"#N/A"},{"$error":"#N/A"},{"$error":"#N/A"},{"$error":"#N/A"}]
[null,null,null,null,null,null,null,null,null,null,{"$error":"#N/A"},{"$error":"#N/A"},{"$error":"#N/A"},{"$error":"#N/A"},{"$error":"#N/A"}]
[null,null,null,null,null,null,null,null,null,null,{"$error":"#N/A"},{"$error":"#N/A"},{"$error":"#N/A"},{"$error":"#N/A"},{"$error":"#N/A"}]
[null,null,null,null,null,null,null,null,null,null,{"$error":"#N/A"},{"$error":"#N/A"},{"$error":"#N/A"},{"$error":"#N/A"},{"$error":"#N/A"}]
[null,null,null,null,null,null,null,null,null,null,{"$error":"#N/A"},{"$error":"#N/A"},{"$error":"#N/A"},{"$error":"#N/A"},{"$error":"#N/A"}]
[null,null,null,null,null,null,null,null,null,null,{"$error":"#N/A"},{"$error":"#N/A"},{"$error":"#N/A"},{"$error":"#N/A"},{"$error":"#N/A"}]
[null,null,null,null,null,null,null,null,null,null,{"$error":"#N/A"},{"$error":"#N/A"},{"$error":"#N/A"},{"$error":"#N/A"},{"$error":"#N/A"}]
[null,null,null,null,null,null,null,null,null,null,{"$error":"#N/A"},{"$error":"#N/A"},{"$error":"#N/A"},{"$error":"#N/A"},{"$error":"#N/A"}]
[null,null,null,null,null,null,null,null,null,null,{"$error":"#N/A"},{"$error":"#N/A"},{"$error":"#N/A"},{"$error":"#N/A"},{"$error":"#N/A"}]
[null,null,null,null,null,null,null,null,null,null,{"$error":"#N/A"},{"$error":"#N/A"},{"$error":"#N/A"},{"$error":"#N/A"},{"$error":"#N/A"}]
[null,null,null,null,null,null,null,null,null,null,{"$error":"#N/A"},{"$error":"#N/A"},{"$error":"#N/A"},{"$error":"#N/A"},{"$error":"#N/A"}]
[null,null,null,null,null,null,null,null,null,null,{"$error":"#N/A"},{"$error":"#N/A"},{"$error":"#N/A"},{"$error":"#N/A"},{"$error":"#N/A"}]
[null,null,null,null,null,null,null,null,null,null,{"$error":"#N/A"},{"$error":"#N/A"},{"$error":"#N/A"},{"$error":"#N/A"},{"$error":"#N/A"}]
[null,null,null,null,null,null,null,null,null,null,{"$error":"#N/A"},{"$error":"#N/A"},{"$error":"#N/A"},{"$error":"#N/A"},{"$error":"#N/A"}]
[null,null,null,null,null,null,null,null,null,null,{"$error":"#N/A"},{"$error":"#N/A"},{"$error":"#N/A"},{"$error":"#N/A"},{"$error":"#N/A"}]
[null,null,null,null,null,null,null,null,null,null,{"$error":"#N/A"},{"$error":"#N/A"},{"$error":"#N/A"},{"$error":"#N/A"},{"$error":"#N/A"}]
[null,null,null,null,null,null,null,null,null,null,{"$error":"#N/A"},{"$error":"#N/A"},{"$error":"#N/A"},{"$error":"#N/A"},{"$error":"#N/A"}]
[null,null,null,null,null,null,null,null,null,null,{"$error":"#N/A"},{"$error":"#N/A"},{"$error":"#N/A"},{"$error":"#N/A"},{"$error":"#N/A"}]
[null,null,null,null,null,null,null,null,null,null,{"$error":"#N/A"},{"$error":"#N/A"},{"$error":"#N/A"},{"$error":"#N/A"},{"$error":"#N/A"}]
[null,null,null,null,null,null,null,null,null,null,{"$error":"#N/A"},{"$error":"#N/A"},{"$error":"#N/A"},{"$error":"#N/A"},{"$error":"#N/A"}]
[null,null,null,null,null,null,null,null,null,null,{"$error":"#N/A"},{"$error":"#N/A"},{"$error":"#N/A"},{"$error":"#N/A"},{"$error":"#N/A"}]
[null,null,null,null,null,null,null,null,null,null,{"$error":"#N/A"},{"$error":"#N/A"},{"$error":"#N/A"},{"$error":"#N/A"},{"$error":"#N/A"}]
[null,null,null,null,null,null,null,null,null,null,{"$error":"#N/A"},{"$error":"#N/A"},{"$error":"#N/A"},{"$error":"#N/A"},{"$error":"#N/A"}]
[null,null,null,null,null,null,null,null,null,null,{"$error":"#N/A"},{"$error":"#N/A"},{"$error":"#N/A"},{"$error":"#N/A"},{"$error":"#N/A"}]
[null,null,null,null,null,null,null,null,null,null,{"$error":"#N/A"},{"$error":"#N/A"},{"$error":"#N/A"},{"$error":"#N/A"},{"$error":"#N/A"}]
[null,null,null,null,null,null,null,null,null,null,{"$error":"#N/A"},{"$error":"#N/A"},{"$error":"#N/A"},{"$error":"#N/A"},{"$error":"#N/A"}]
[null,null,null,null,null,null,null,null,null,null,{"$error":"#N/A"},{"$error":"#N/A"},{"$error":"#N/A"},{"$error":"#N/A"},{"$error":"#N/A"}]
[null,null,null,null,null,null,null,null,null,null,{"$error":"#N/A"},{"$error":"#N/A"},{"$error":"#N/A"},{"$error":"#N/A"},{"$error":"#N/A"}]
[null,null,null,null,null,null,null,null,null,null,{"$error":"#N/A"},{"$error":"#N/A"},{"$error":"#N/A"},{"$error":"#N/A"},{"$error":"#N/A"}]
[null,null,null,null,null,null,null,null,null,null,{"$error":"#N/A"},{"$error":"#N/A"},{"$error":"#N/A"},{"$f":"IF(ISBLANK(K49803),\"\",$G$13*K49803+$H$13)","v":{"$error":"#N/A"}},{"$error":"#N/A"}]
[null,null,null,null,null,null,null,null,null,null,{"$f":"IF(K49803+$G$19<=$G$18,K49803+$G$19,NA())","v":{"$error":"#N/A"}},{"$error":"#N/A"},{"$error":"#N/A"},{"$error":"#N/A"},{"$error":"#N/A"}]
[null,null,null,null,null,null,null,null,null,null,{"$error":"#N/A"},{"$f":"IF(ISBLANK(K49805),\"\",$G$11*K49805+$H$11)","v":{"$error":"#N/A"}},{"$f":"IF(ISBLANK(L49805),\"\",$G$12*K49805+$H$12)","v":{"$error":"#N/A"}},{"$error":"#N/A"},{"$f":"IF(ISBLANK(M49805),\"\",$G$14*K49805+$H$14)","v":{"$error":"#N/A"}}]
[null,null,null,null,null,null,null,null,null,null,{"$error":"#N/A"},{"$error":"#N/A"},{"$error":"#N/A"},{"$error":"#N/A"},{"$error":"#N/A"}]
[null,null,null,null,null,null,null,null,null,null,{"$error":"#N/A"},{"$error":"#N/A"},{"$error":"#N/A"},{"$error":"#N/A"},{"$error":"#N/A"}]
[null,null,null,null,null,null,null,null,null,null,{"$error":"#N/A"},{"$error":"#N/A"},{"$error":"#N/A"},{"$error":"#N/A"},{"$error":"#N/A"}]
[null,null,null,null,null,null,null,null,null,null,{"$error":"#N/A"},{"$error":"#N/A"},{"$error":"#N/A"},{"$error":"#N/A"},{"$error":"#N/A"}]
[null,null,null,null,null,null,null,null,null,null,{"$error":"#N/A"},{"$error":"#N/A"},{"$error":"#N/A"},{"$error":"#N/A"},{"$error":"#N/A"}]
[null,null,null,null,null,null,null,null,null,null,{"$error":"#N/A"},{"$error":"#N/A"},{"$error":"#N/A"},{"$error":"#N/A"},{"$error":"#N/A"}]
[null,null,null,null,null,null,null,null,null,null,{"$error":"#N/A"},{"$error":"#N/A"},{"$error":"#N/A"},{"$error":"#N/A"},{"$error":"#N/A"}]
[null,null,null,null,null,null,null,null,null,null,{"$error":"#N/A"},{"$error":"#N/A"},{"$error":"#N/A"},{"$error":"#N/A"},{"$error":"#N/A"}]
[null,null,null,null,null,null,null,null,null,null,{"$error":"#N/A"},{"$error":"#N/A"},{"$error":"#N/A"},{"$error":"#N/A"},{"$error":"#N/A"}]
[null,null,null,null,null,null,null,null,null,null,{"$error":"#N/A"},{"$error":"#N/A"},{"$error":"#N/A"},{"$error":"#N/A"},{"$error":"#N/A"}]
[null,null,null,null,null,null,null,null,null,null,{"$error":"#N/A"},{"$error":"#N/A"},{"$error":"#N/A"},{"$error":"#N/A"},{"$error":"#N/A"}]
[null,null,null,null,null,null,null,null,null,null,{"$error":"#N/A"},{"$error":"#N/A"},{"$error":"#N/A"},{"$error":"#N/A"},{"$error":"#N/A"}]
[null,null,null,null,null,null,null,null,null,null,{"$error":"#N/A"},{"$error":"#N/A"},{"$error":"#N/A"},{"$error":"#N/A"},{"$error":"#N/A"}]
[null,null,null,null,null,null,null,null,null,null,{"$error":"#N/A"},{"$error":"#N/A"},{"$error":"#N/A"},{"$error":"#N/A"},{"$error":"#N/A"}]
[null,null,null,null,null,null,null,null,null,null,{"$error":"#N/A"},{"$error":"#N/A"},{"$error":"#N/A"},{"$error":"#N/A"},{"$error":"#N/A"}]
[null,null,null,null,null,null,null,null,null,null,{"$error":"#N/A"},{"$error":"#N/A"},{"$error":"#N/A"},{"$error":"#N/A"},{"$error":"#N/A"}]
[null,null,null,null,null,null,null,null,null,null,{"$error":"#N/A"},{"$error":"#N/A"},{"$error":"#N/A"},{"$error":"#N/A"},{"$error":"#N/A"}]
[null,null,null,null,null,null,null,null,null,null,{"$error":"#N/A"},{"$error":"#N/A"},{"$error":"#N/A"},{"$error":"#N/A"},{"$error":"#N/A"}]
[null,null,null,null,null,null,null,null,null,null,{"$error":"#N/A"},{"$error":"#N/A"},{"$error":"#N/A"},{"$error":"#N/A"},{"$error":"#N/A"}]
[null,null,null,null,null,null,null,null,null,null,{"$error":"#N/A"},{"$error":"#N/A"},{"$error":"#N/A"},{"$error":"#N/A"},{"$error":"#N/A"}]
[null,null,null,null,null,null,null,null,null,null,{"$error":"#N/A"},{"$error":"#N/A"},{"$error":"#N/A"},{"$error":"#N/A"},{"$error":"#N/A"}]
[null,null,null,null,null,null,null,null,null,null,{"$error":"#N/A"},{"$error":"#N/A"},{"$error":"#N/A"},{"$error":"#N/A"},{"$error":"#N/A"}]
[null,null,null,null,null,null,null,null,null,null,{"$error":"#N/A"},{"$error":"#N/A"},{"$error":"#N/A"},{"$error":"#N/A"},{"$error":"#N/A"}]
[null,null,null,null,null,null,null,null,null,null,{"$error":"#N/A"},{"$error":"#N/A"},{"$error":"#N/A"},{"$error":"#N/A"},{"$error":"#N/A"}]
[null,null,null,null,null,null,null,null,null,null,{"$error":"#N/A"},{"$error":"#N/A"},{"$error":"#N/A"},{"$error":"#N/A"},{"$error":"#N/A"}]
[null,null,null,null,null,null,null,null,null,null,{"$error":"#N/A"},{"$error":"#N/A"},{"$error":"#N/A"},{"$error":"#N/A"},{"$error":"#N/A"}]
[null,null,null,null,null,null,null,null,null,null,{"$error":"#N/A"},{"$error":"#N/A"},{"$error":"#N/A"},{"$error":"#N/A"},{"$error":"#N/A"}]
[null,null,null,null,null,null,null,null,null,null,{"$error":"#N/A"},{"$error":"#N/A"},{"$error":"#N/A"},{"$error":"#N/A"},{"$error":"#N/A"}]
[null,null,null,null,null,null,null,null,null,null,{"$error":"#N/A"},{"$error":"#N/A"},{"$error":"#N/A"},{"$error":"#N/A"},{"$error":"#N/A"}]
[null,null,null,null,null,null,null,null,null,null,{"$error":"#N/A"},{"$error":"#N/A"},{"$error":"#N/A"},{"$error":"#N/A"},{"$error":"#N/A"}]
[null,null,null,null,null,null,null,null,null,null,{"$error":"#N/A"},{"$error":"#N/A"},{"$error":"#N/A"},{"$error":"#N/A"},{"$error":"#N/A"}]
[null,null,null,null,null,null,null,null,null,null,{"$error":"#N/A"},{"$error":"#N/A"},{"$error":"#N/A"},{"$error":"#N/A"},{"$error":"#N/A"}]
[null,null,null,null,null,null,null,null,null,null,{"$error":"#N/A"},{"$error":"#N/A"},{"$error":"#N/A"},{"$error":"#N/A"},{"$error":"#N/A"}]
[null,null,null,null,null,null,null,null,null,null,{"$error":"#N/A"},{"$error":"#N/A"},{"$error":"#N/A"},{"$error":"#N/A"},{"$error":"#N/A"}]
[null,null,null,null,null,null,null,null,null,null,{"$error":"#N/A"},{"$error":"#N/A"},{"$error":"#N/A"},{"$error":"#N/A"},{"$error":"#N/A"}]
[null,null,null,null,null,null,null,null,null,null,{"$error":"#N/A"},{"$error":"#N/A"},{"$error":"#N/A"},{"$error":"#N/A"},{"$error":"#N/A"}]
[null,null,null,null,null,null,null,null,null,null,{"$error":"#N/A"},{"$error":"#N/A"},{"$error":"#N/A"},{"$error":"#N/A"},{"$error":"#N/A"}]
[null,null,null,null,null,null,null,null,null,null,{"$error":"#N/A"},{"$error":"#N/A"},{"$error":"#N/A"},{"$error":"#N/A"},{"$error":"#N/A"}]
[null,null,null,null,null,null,null,null,null,null,{"$error":"#N/A"},{"$error":"#N/A"},{"$error":"#N/A"},{"$error":"#N/A"},{"$error":"#N/A"}]
[null,null,null,null,null,null,null,null,null,null,{"$error":"#N/A"},{"$error":"#N/A"},{"$error":"#N/A"},{"$error":"#N/A"},{"$error":"#N/A"}]
[null,null,null,null,null,null,null,null,null,null,{"$error":"#N/A"},{"$error":"#N/A"},{"$error":"#N/A"},{"$error":"#N/A"},{"$error":"#N/A"}]
[null,null,null,null,null,null,null,null,null,null,{"$error":"#N/A"},{"$error":"#N/A"},{"$error":"#N/A"},{"$error":"#N/A"},{"$error":"#N/A"}]
[null,null,null,null,null,null,null,null,null,null,{"$error":"#N/A"},{"$error":"#N/A"},{"$error":"#N/A"},{"$error":"#N/A"},{"$error":"#N/A"}]
[null,null,null,null,null,null,null,null,null,null,{"$error":"#N/A"},{"$error":"#N/A"},{"$error":"#N/A"},{"$error":"#N/A"},{"$error":"#N/A"}]
[null,null,null,null,null,null,null,null,null,null,{"$error":"#N/A"},{"$error":"#N/A"},{"$error":"#N/A"},{"$error":"#N/A"},{"$error":"#N/A"}]
[null,null,null,null,null,null,null,null,null,null,{"$error":"#N/A"},{"$error":"#N/A"},{"$error":"#N/A"},{"$error":"#N/A"},{"$error":"#N/A"}]
[null,null,null,null,null,null,null,null,null,null,{"$error":"#N/A"},{"$error":"#N/A"},{"$error":"#N/A"},{"$error":"#N/A"},{"$error":"#N/A"}]
[null,null,null,null,null,null,null,null,null,null,{"$error":"#N/A"},{"$error":"#N/A"},{"$error":"#N/A"},{"$error":"#N/A"},{"$error":"#N/A"}]
[null,null,null,null,null,null,null,null,null,null,{"$error":"#N/A"},{"$error":"#N/A"},{"$error":"#N/A"},{"$error":"#N/A"},{"$error":"#N/A"}]
[null,null,null,null,null,null,null,null,null,null,{"$error":"#N/A"},{"$error":"#N/A"},{"$error":"#N/A"},{"$error":"#N/A"},{"$error":"#N/A"}]
[null,null,null,null,null,null,null,null,null,null,{"$error":"#N/A"},{"$error":"#N/A"},{"$error":"#N/A"},{"$error":"#N/A"},{"$error":"#N/A"}]
[null,null,null,null,null,null,null,null,null,null,{"$error":"#N/A"},{"$error":"#N/A"},{"$error":"#N/A"},{"$error":"#N/A"},{"$error":"#N/A"}]
[null,null,null,null,null,null,null,null,null,null,{"$error":"#N/A"},{"$error":"#N/A"},{"$error":"#N/A"},{"$error":"#N/A"},{"$error":"#N/A"}]
[null,null,null,null,null,null,null,null,null,null,{"$error":"#N/A"},{"$error":"#N/A"},{"$error":"#N/A"},{"$error":"#N/A"},{"$error":"#N/A"}]
[null,null,null,null,null,null,null,null,null,null,{"$error":"#N/A"},{"$error":"#N/A"},{"$error":"#N/A"},{"$error":"#N/A"},{"$error":"#N/A"}]
[null,null,null,null,null,null,null,null,null,null,{"$error":"#N/A"},{"$error":"#N/A"},{"$error":"#N/A"},{"$error":"#N/A"},{"$error":"#N/A"}]
[null,null,null,null,null,null,null,null,null,null,{"$error":"#N/A"},{"$error":"#N/A"},{"$error":"#N/A"},{"$error":"#N/A"},{"$error":"#N/A"}]
[null,null,null,null,null,null,null,null,null,null,{"$error":"#N/A"},{"$error":"#N/A"},{"$error":"#N/A"},{"$error":"#N/A"},{"$error":"#N/A"}]
[null,null,null,null,null,null,null,null,null,null,{"$error":"#N/A"},{"$error":"#N/A"},{"$error":"#N/A"},{"$error":"#N/A"},{"$error":"#N/A"}]
[null,null,null,null,null,null,null,null,null,null,{"$error":"#N/A"},{"$error":"#N/A"},{"$error":"#N/A"},{"$error":"#N/A"},{"$error":"#N/A"}]
[null,null,null,null,null,null,null,null,null,null,{"$error":"#N/A"},{"$error":"#N/A"},{"$error":"#N/A"},{"$error":"#N/A"},{"$error":"#N/A"}]
[null,null,null,null,null,null,null,null,null,null,{"$error":"#N/A"},{"$error":"#N/A"},{"$error":"#N/A"},{"$f":"IF(ISBLANK(K49867),\"\",$G$13*K49867+$H$13)","v":{"$error":"#N/A"}},{"$error":"#N/A"}]
[null,null,null,null,null,null,null,null,null,null,{"$f":"IF(K49867+$G$19<=$G$18,K49867+$G$19,NA())","v":{"$error":"#N/A"}},{"$error":"#N/A"},{"$error":"#N/A"},{"$error":"#N/A"},{"$error":"#N/A"}]
[null,null,null,null,null,null,null,null,null,null,{"$error":"#N/A"},{"$f":"IF(ISBLANK(K49869),\"\",$G$11*K49869+$H$11)","v":{"$error":"#N/A"}},{"$f":"IF(ISBLANK(L49869),\"\",$G$12*K49869+$H$12)","v":{"$error":"#N/A"}},{"$error":"#N/A"},{"$f":"IF(ISBLANK(M49869),\"\",$G$14*K49869+$H$14)","v":{"$error":"#N/A"}}]
[null,null,null,null,null,null,null,null,null,null,{"$error":"#N/A"},{"$error":"#N/A"},{"$error":"#N/A"},{"$error":"#N/A"},{"$error":"#N/A"}]
[null,null,null,null,null,null,null,null,null,null,{"$error":"#N/A"},{"$error":"#N/A"},{"$error":"#N/A"},{"$error":"#N/A"},{"$error":"#N/A"}]
[null,null,null,null,null,null,null,null,null,null,{"$error":"#N/A"},{"$error":"#N/A"},{"$error":"#N/A"},{"$error":"#N/A"},{"$error":"#N/A"}]
[null,null,null,null,null,null,null,null,null,null,{"$error":"#N/A"},{"$error":"#N/A"},{"$error":"#N/A"},{"$error":"#N/A"},{"$error":"#N/A"}]
[null,null,null,null,null,null,null,null,null,null,{"$error":"#N/A"},{"$error":"#N/A"},{"$error":"#N/A"},{"$error":"#N/A"},{"$error":"#N/A"}]
[null,null,null,null,null,null,null,null,null,null,{"$error":"#N/A"},{"$error":"#N/A"},{"$error":"#N/A"},{"$error":"#N/A"},{"$error":"#N/A"}]
[null,null,null,null,null,null,null,null,null,null,{"$error":"#N/A"},{"$error":"#N/A"},{"$error":"#N/A"},{"$error":"#N/A"},{"$error":"#N/A"}]
[null,null,null,null,null,null,null,null,null,null,{"$error":"#N/A"},{"$error":"#N/A"},{"$error":"#N/A"},{"$error":"#N/A"},{"$error":"#N/A"}]
[null,null,null,null,null,null,null,null,null,null,{"$error":"#N/A"},{"$error":"#N/A"},{"$error":"#N/A"},{"$error":"#N/A"},{"$error":"#N/A"}]
[null,null,null,null,null,null,null,null,null,null,{"$error":"#N/A"},{"$error":"#N/A"},{"$error":"#N/A"},{"$error":"#N/A"},{"$error":"#N/A"}]
[null,null,null,null,null,null,null,null,null,null,{"$error":"#N/A"},{"$error":"#N/A"},{"$error":"#N/A"},{"$error":"#N/A"},{"$error":"#N/A"}]
[null,null,null,null,null,null,null,null,null,null,{"$error":"#N/A"},{"$error":"#N/A"},{"$error":"#N/A"},{"$error":"#N/A"},{"$error":"#N/A"}]
[null,null,null,null,null,null,null,null,null,null,{"$error":"#N/A"},{"$error":"#N/A"},{"$error":"#N/A"},{"$error":"#N/A"},{"$error":"#N/A"}]
[null,null,null,null,null,null,null,null,null,null,{"$error":"#N/A"},{"$error":"#N/A"},{"$error":"#N/A"},{"$error":"#N/A"},{"$error":"#N/A"}]
[null,null,null,null,null,null,null,null,null,null,{"$error":"#N/A"},{"$error":"#N/A"},{"$error":"#N/A"},{"$error":"#N/A"},{"$error":"#N/A"}]
[null,null,null,null,null,null,null,null,null,null,{"$error":"#N/A"},{"$error":"#N/A"},{"$error":"#N/A"},{"$error":"#N/A"},{"$error":"#N/A"}]
[null,null,null,null,null,null,null,null,null,null,{"$error":"#N/A"},{"$error":"#N/A"},{"$error":"#N/A"},{"$error":"#N/A"},{"$error":"#N/A"}]
[null,null,null,null,null,null,null,null,null,null,{"$error":"#N/A"},{"$error":"#N/A"},{"$error":"#N/A"},{"$error":"#N/A"},{"$error":"#N/A"}]
[null,null,null,null,null,null,null,null,null,null,{"$error":"#N/A"},{"$error":"#N/A"},{"$error":"#N/A"},{"$error":"#N/A"},{"$error":"#N/A"}]
[null,null,null,null,null,null,null,null,null,null,{"$error":"#N/A"},{"$error":"#N/A"},{"$error":"#N/A"},{"$error":"#N/A"},{"$error":"#N/A"}]
[null,null,null,null,null,null,null,null,null,null,{"$error":"#N/A"},{"$error":"#N/A"},{"$error":"#N/A"},{"$error":"#N/A"},{"$error":"#N/A"}]
[null,null,null,null,null,null,null,null,null,null,{"$error":"#N/A"},{"$error":"#N/A"},{"$error":"#N/A"},{"$error":"#N/A"},{"$error":"#N/A"}]
[null,null,null,null,null,null,null,null,null,null,{"$error":"#N/A"},{"$error":"#N/A"},{"$error":"#N/A"},{"$error":"#N/A"},{"$error":"#N/A"}]
[null,null,null,null,null,null,null,null,null,null,{"$error":"#N/A"},{"$error":"#N/A"},{"$error":"#N/A"},{"$error":"#N/A"},{"$error":"#N/A"}]
[null,null,null,null,null,null,null,null,null,null,{"$error":"#N/A"},{"$error":"#N/A"},{"$error":"#N/A"},{"$error":"#N/A"},{"$error":"#N/A"}]
[null,null,null,null,null,null,null,null,null,null,{"$error":"#N/A"},{"$error":"#N/A"},{"$error":"#N/A"},{"$error":"#N/A"},{"$error":"#N/A"}]
[null,null,null,null,null,null,null,null,null,null,{"$error":"#N/A"},{"$error":"#N/A"},{"$error":"#N/A"},{"$error":"#N/A"},{"$error":"#N/A"}]
[null,null,null,null,null,null,null,null,null,null,{"$error":"#N/A"},{"$error":"#N/A"},{"$error":"#N/A"},{"$error":"#N/A"},{"$error":"#N/A"}]
[null,null,null,null,null,null,null,null,null,null,{"$error":"#N/A"},{"$error":"#N/A"},{"$error":"#N/A"},{"$error":"#N/A"},{"$error":"#N/A"}]
[null,null,null,null,null,null,null,null,null,null,{"$error":"#N/A"},{"$error":"#N/A"},{"$error":"#N/A"},{"$error":"#N/A"},{"$error":"#N/A"}]
[null,null,null,null,null,null,null,null,null,null,{"$error":"#N/A"},{"$error":"#N/A"},{"$error":"#N/A"},{"$error":"#N/A"},{"$error":"#N/A"}]
[null,null,null,null,null,null,null,null,null,null,{"$error":"#N/A"},{"$error":"#N/A"},{"$error":"#N/A"},{"$error":"#N/A"},{"$error":"#N/A"}]
[null,null,null,null,null,null,null,null,null,null,{"$error":"#N/A"},{"$error":"#N/A"},{"$error":"#N/A"},{"$error":"#N/A"},{"$error":"#N/A"}]
[null,null,null,null,null,null,null,null,null,null,{"$error":"#N/A"},{"$error":"#N/A"},{"$error":"#N/A"},{"$error":"#N/A"},{"$error":"#N/A"}]
[null,null,null,null,null,null,null,null,null,null,{"$error":"#N/A"},{"$error":"#N/A"},{"$error":"#N/A"},{"$error":"#N/A"},{"$error":"#N/A"}]
[null,null,null,null,null,null,null,null,null,null,{"$error":"#N/A"},{"$error":"#N/A"},{"$error":"#N/A"},{"$error":"#N/A"},{"$error":"#N/A"}]
[null,null,null,null,null,null,null,null,null,null,{"$error":"#N/A"},{"$error":"#N/A"},{"$error":"#N/A"},{"$error":"#N/A"},{"$error":"#N/A"}]
[null,null,null,null,null,null,null,null,null,null,{"$error":"#N/A"},{"$error":"#N/A"},{"$error":"#N/A"},{"$error":"#N/A"},{"$error":"#N/A"}]
[null,null,null,null,null,null,null,null,null,null,{"$error":"#N/A"},{"$error":"#N/A"},{"$error":"#N/A"},{"$error":"#N/A"},{"$error":"#N/A"}]
[null,null,null,null,null,null,null,null,null,null,{"$error":"#N/A"},{"$error":"#N/A"},{"$error":"#N/A"},{"$error":"#N/A"},{"$error":"#N/A"}]
[null,null,null,null,null,null,null,null,null,null,{"$error":"#N/A"},{"$error":"#N/A"},{"$error":"#N/A"},{"$error":"#N/A"},{"$error":"#N/A"}]
[null,null,null,null,null,null,null,null,null,null,{"$error":"#N/A"},{"$error":"#N/A"},{"$error":"#N/A"},{"$error":"#N/A"},{"$error":"#N/A"}]
[null,null,null,null,null,null,null,null,null,null,{"$error":"#N/A"},{"$error":"#N/A"},{"$error":"#N/A"},{"$error":"#N/A"},{"$error":"#N/A"}]
[null,null,null,null,null,null,null,null,null,null,{"$error":"#N/A"},{"$error":"#N/A"},{"$error":"#N/A"},{"$error":"#N/A"},{"$error":"#N/A"}]
[null,null,null,null,null,null,null,null,null,null,{"$error":"#N/A"},{"$error":"#N/A"},{"$error":"#N/A"},{"$error":"#N/A"},{"$error":"#N/A"}]
[null,null,null,null,null,null,null,null,null,null,{"$error":"#N/A"},{"$error":"#N/A"},{"$error":"#N/A"},{"$error":"#N/A"},{"$error":"#N/A"}]
[null,null,null,null,null,null,null,null,null,null,{"$error":"#N/A"},{"$error":"#N/A"},{"$error":"#N/A"},{"$error":"#N/A"},{"$error":"#N/A"}]
[null,null,null,null,null,null,null,null,null,null,{"$error":"#N/A"},{"$error":"#N/A"},{"$error":"#N/A"},{"$error":"#N/A"},{"$error":"#N/A"}]
[null,null,null,null,null,null,null,null,null,null,{"$error":"#N/A"},{"$error":"#N/A"},{"$error":"#N/A"},{"$error":"#N/A"},{"$error":"#N/A"}]
[null,null,null,null,null,null,null,null,null,null,{"$error":"#N/A"},{"$error":"#N/A"},{"$error":"#N/A"},{"$error":"#N/A"},{"$error":"#N/A"}]
[null,null,null,null,null,null,null,null,null,null,{"$error":"#N/A"},{"$error":"#N/A"},{"$error":"#N/A"},{"$error":"#N/A"},{"$error":"#N/A"}]
[null,null,null,null,null,null,null,null,null,null,{"$error":"#N/A"},{"$error":"#N/A"},{"$error":"#N/A"},{"$error":"#N/A"},{"$error":"#N/A"}]
[null,null,null,null,null,null,null,null,null,null,{"$error":"#N/A"},{"$error":"#N/A"},{"$error":"#N/A"},{"$error":"#N/A"},{"$error":"#N/A"}]
[null,null,null,null,null,null,null,null,null,null,{"$error":"#N/A"},{"$error":"#N/A"},{"$error":"#N/A"},{"$error":"#N/A"},{"$error":"#N/A"}]
[null,null,null,null,null,null,null,null,null,null,{"$error":"#N/A"},{"$error":"#N/A"},{"$error":"#N/A"},{"$error":"#N/A"},{"$error":"#N/A"}]
[null,null,null,null,null,null,null,null,null,null,{"$error":"#N/A"},{"$error":"#N/A"},{"$error":"#N/A"},{"$error":"#N/A"},{"$error":"#N/A"}]
[null,null,null,null,null,null,null,null,null,null,{"$error":"#N/A"},{"$error":"#N/A"},{"$error":"#N/A"},{"$error":"#N/A"},{"$error":"#N/A"}]
[null,null,null,null,null,null,null,null,null,null,{"$error":"#N/A"},{"$error":"#N/A"},{"$error":"#N/A"},{"$error":"#N/A"},{"$error":"#N/A"}]
[null,null,null,null,null,null,null,null,null,null,{"$error":"#N/A"},{"$error":"#N/A"},{"$error":"#N/A"},{"$error":"#N/A"},{"$error":"#N/A"}]
[null,null,null,null,null,null,null,null,null,null,{"$error":"#N/A"},{"$error":"#N/A"},{"$error":"#N/A"},{"$error":"#N/A"},{"$error":"#N/A"}]
[null,null,null,null,null,null,null,null,null,null,{"$error":"#N/A"},{"$error":"#N/A"},{"$error":"#N/A"},{"$error":"#N/A"},{"$error":"#N/A"}]
[null,null,null,null,null,null,null,null,null,null,{"$error":"#N/A"},{"$error":"#N/A"},{"$error":"#N/A"},{"$f":"IF(ISBLANK(K49931),\"\",$G$13*K49931+$H$13)","v":{"$error":"#N/A"}},{"$error":"#N/A"}]
[null,null,null,null,null,null,null,null,null,null,{"$f":"IF(K49931+$G$19<=$G$18,K49931+$G$19,NA())","v":{"$error":"#N/A"}},{"$error":"#N/A"},{"$error":"#N/A"},{"$error":"#N/A"},{"$error":"#N/A"}]
[null,null,null,null,null,null,null,null,null,null,{"$error":"#N/A"},{"$f":"IF(ISBLANK(K49933),\"\",$G$11*K49933+$H$11)","v":{"$error":"#N/A"}},{"$f":"IF(ISBLANK(L49933),\"\",$G$12*K49933+$H$12)","v":{"$error":"#N/A"}},{"$error":"#N/A"},{"$f":"IF(ISBLANK(M49933),\"\",$G$14*K49933+$H$14)","v":{"$error":"#N/A"}}]
[null,null,null,null,null,null,null,null,null,null,{"$error":"#N/A"},{"$error":"#N/A"},{"$error":"#N/A"},{"$error":"#N/A"},{"$error":"#N/A"}]
[null,null,null,null,null,null,null,null,null,null,{"$error":"#N/A"},{"$error":"#N/A"},{"$error":"#N/A"},{"$error":"#N/A"},{"$error":"#N/A"}]
[null,null,null,null,null,null,null,null,null,null,{"$error":"#N/A"},{"$error":"#N/A"},{"$error":"#N/A"},{"$error":"#N/A"},{"$error":"#N/A"}]
[null,null,null,null,null,null,null,null,null,null,{"$error":"#N/A"},{"$error":"#N/A"},{"$error":"#N/A"},{"$error":"#N/A"},{"$error":"#N/A"}]
[null,null,null,null,null,null,null,null,null,null,{"$error":"#N/A"},{"$error":"#N/A"},{"$error":"#N/A"},{"$error":"#N/A"},{"$error":"#N/A"}]
[null,null,null,null,null,null,null,null,null,null,{"$error":"#N/A"},{"$error":"#N/A"},{"$error":"#N/A"},{"$error":"#N/A"},{"$error":"#N/A"}]
[null,null,null,null,null,null,null,null,null,null,{"$error":"#N/A"},{"$error":"#N/A"},{"$error":"#N/A"},{"$error":"#N/A"},{"$error":"#N/A"}]
[null,null,null,null,null,null,null,null,null,null,{"$error":"#N/A"},{"$error":"#N/A"},{"$error":"#N/A"},{"$error":"#N/A"},{"$error":"#N/A"}]
[null,null,null,null,null,null,null,null,null,null,{"$error":"#N/A"},{"$error":"#N/A"},{"$error":"#N/A"},{"$error":"#N/A"},{"$error":"#N/A"}]
[null,null,null,null,null,null,null,null,null,null,{"$error":"#N/A"},{"$error":"#N/A"},{"$error":"#N/A"},{"$error":"#N/A"},{"$error":"#N/A"}]
[null,null,null,null,null,null,null,null,null,null,{"$error":"#N/A"},{"$error":"#N/A"},{"$error":"#N/A"},{"$error":"#N/A"},{"$error":"#N/A"}]
[null,null,null,null,null,null,null,null,null,null,{"$error":"#N/A"},{"$error":"#N/A"},{"$error":"#N/A"},{"$error":"#N/A"},{"$error":"#N/A"}]
[null,null,null,null,null,null,null,null,null,null,{"$error":"#N/A"},{"$error":"#N/A"},{"$error":"#N/A"},{"$error":"#N/A"},{"$error":"#N/A"}]
[null,null,null,null,null,null,null,null,null,null,{"$error":"#N/A"},{"$error":"#N/A"},{"$error":"#N/A"},{"$error":"#N/A"},{"$error":"#N/A"}]
[null,null,null,null,null,null,null,null,null,null,{"$error":"#N/A"},{"$error":"#N/A"},{"$error":"#N/A"},{"$error":"#N/A"},{"$error":"#N/A"}]
[null,null,null,null,null,null,null,null,null,null,{"$error":"#N/A"},{"$error":"#N/A"},{"$error":"#N/A"},{"$error":"#N/A"},{"$error":"#N/A"}]
[null,null,null,null,null,null,null,null,null,null,{"$error":"#N/A"},{"$error":"#N/A"},{"$error":"#N/A"},{"$error":"#N/A"},{"$error":"#N/A"}]
[null,null,null,null,null,null,null,null,null,null,{"$error":"#N/A"},{"$error":"#N/A"},{"$error":"#N/A"},{"$error":"#N/A"},{"$error":"#N/A"}]
[null,null,null,null,null,null,null,null,null,null,{"$error":"#N/A"},{"$error":"#N/A"},{"$error":"#N/A"},{"$error":"#N/A"},{"$error":"#N/A"}]
[null,null,null,null,null,null,null,null,null,null,{"$error":"#N/A"},{"$error":"#N/A"},{"$error":"#N/A"},{"$error":"#N/A"},{"$error":"#N/A"}]
[null,null,null,null,null,null,null,null,null,null,{"$error":"#N/A"},{"$error":"#N/A"},{"$error":"#N/A"},{"$error":"#N/A"},{"$error":"#N/A"}]
[null,null,null,null,null,null,null,null,null,null,{"$error":"#N/A"},{"$error":"#N/A"},{"$error":"#N/A"},{"$error":"#N/A"},{"$error":"#N/A"}]
[null,null,null,null,null,null,null,null,null,null,{"$error":"#N/A"},{"$error":"#N/A"},{"$error":"#N/A"},{"$error":"#N/A"},{"$error":"#N/A"}]
[null,null,null,null,null,null,null,null,null,null,{"$error":"#N/A"},{"$error":"#N/A"},{"$error":"#N/A"},{"$error":"#N/A"},{"$error":"#N/A"}]
[null,null,null,null,null,null,null,null,null,null,{"$error":"#N/A"},{"$error":"#N/A"},{"$error":"#N/A"},{"$error":"#N/A"},{"$error":"#N/A"}]
[null,null,null,null,null,null,null,null,null,null,{"$error":"#N/A"},{"$error":"#N/A"},{"$error":"#N/A"},{"$error":"#N/A"},{"$error":"#N/A"}]
[null,null,null,null,null,null,null,null,null,null,{"$error":"#N/A"},{"$error":"#N/A"},{"$error":"#N/A"},{"$error":"#N/A"},{"$error":"#N/A"}]
[null,null,null,null,null,null,null,null,null,null,{"$error":"#N/A"},{"$error":"#N/A"},{"$error":"#N/A"},{"$error":"#N/A"},{"$error":"#N/A"}]
[null,null,null,null,null,null,null,null,null,null,{"$error":"#N/A"},{"$error":"#N/A"},{"$error":"#N/A"},{"$error":"#N/A"},{"$error":"#N/A"}]
[null,null,null,null,null,null,null,null,null,null,{"$error":"#N/A"},{"$error":"#N/A"},{"$error":"#N/A"},{"$error":"#N/A"},{"$error":"#N/A"}]
[null,null,null,null,null,null,null,null,null,null,{"$error":"#N/A"},{"$error":"#N/A"},{"$error":"#N/A"},{"$error":"#N/A"},{"$error":"#N/A"}]
[null,null,null,null,null,null,null,null,null,null,{"$error":"#N/A"},{"$error":"#N/A"},{"$error":"#N/A"},{"$error":"#N/A"},{"$error":"#N/A"}]
[null,null,null,null,null,null,null,null,null,null,{"$error":"#N/A"},{"$error":"#N/A"},{"$error":"#N/A"},{"$error":"#N/A"},{"$error":"#N/A"}]
[null,null,null,null,null,null,null,null,null,null,{"$error":"#N/A"},{"$error":"#N/A"},{"$error":"#N/A"},{"$error":"#N/A"},{"$error":"#N/A"}]
[null,null,null,null,null,null,null,null,null,null,{"$error":"#N/A"},{"$error":"#N/A"},{"$error":"#N/A"},{"$error":"#N/A"},{"$error":"#N/A"}]
[null,null,null,null,null,null,null,null,null,null,{"$error":"#N/A"},{"$error":"#N/A"},{"$error":"#N/A"},{"$error":"#N/A"},{"$error":"#N/A"}]
[null,null,null,null,null,null,null,null,null,null,{"$error":"#N/A"},{"$error":"#N/A"},{"$error":"#N/A"},{"$error":"#N/A"},{"$error":"#N/A"}]
[null,null,null,null,null,null,null,null,null,null,{"$error":"#N/A"},{"$error":"#N/A"},{"$error":"#N/A"},{"$error":"#N/A"},{"$error":"#N/A"}]
[null,null,null,null,null,null,null,null,null,null,{"$error":"#N/A"},{"$error":"#N/A"},{"$error":"#N/A"},{"$error":"#N/A"},{"$error":"#N/A"}]
[null,null,null,null,null,null,null,null,null,null,{"$error":"#N/A"},{"$error":"#N/A"},{"$error":"#N/A"},{"$error":"#N/A"},{"$error":"#N/A"}]
[null,null,null,null,null,null,null,null,null,null,{"$error":"#N/A"},{"$error":"#N/A"},{"$error":"#N/A"},{"$error":"#N/A"},{"$error":"#N/A"}]
[null,null,null,null,null,null,null,null,null,null,{"$error":"#N/A"},{"$error":"#N/A"},{"$error":"#N/A"},{"$error":"#N/A"},{"$error":"#N/A"}]
[null,null,null,null,null,null,null,null,null,null,{"$error":"#N/A"},{"$error":"#N/A"},{"$error":"#N/A"},{"$error":"#N/A"},{"$error":"#N/A"}]
[null,null,null,null,null,null,null,null,null,null,{"$error":"#N/A"},{"$error":"#N/A"},{"$error":"#N/A"},{"$error":"#N/A"},{"$error":"#N/A"}]
[null,null,null,null,null,null,null,null,null,null,{"$error":"#N/A"},{"$error":"#N/A"},{"$error":"#N/A"},{"$error":"#N/A"},{"$error":"#N/A"}]
[null,null,null,null,null,null,null,null,null,null,{"$error":"#N/A"},{"$error":"#N/A"},{"$error":"#N/A"},{"$error":"#N/A"},{"$error":"#N/A"}]
[null,null,null,null,null,null,null,null,null,null,{"$error":"#N/A"},{"$error":"#N/A"},{"$error":"#N/A"},{"$error":"#N/A"},{"$error":"#N/A"}]
[null,null,null,null,null,null,null,null,null,null,{"$error":"#N/A"},{"$error":"#N/A"},{"$error":"#N/A"},{"$error":"#N/A"},{"$error":"#N/A"}]
[null,null,null,null,null,null,null,null,null,null,{"$error":"#N/A"},{"$error":"#N/A"},{"$error":"#N/A"},{"$error":"#N/A"},{"$error":"#N/A"}]
[null,null,null,null,null,null,null,null,null,null,{"$error":"#N/A"},{"$error":"#N/A"},{"$error":"#N/A"},{"$error":"#N/A"},{"$error":"#N/A"}]
[null,null,null,null,null,null,null,null,null,null,{"$error":"#N/A"},{"$error":"#N/A"},{"$error":"#N/A"},{"$error":"#N/A"},{"$error":"#N/A"}]
[null,null,null,null,null,null,null,null,null,null,{"$error":"#N/A"},{"$error":"#N/A"},{"$error":"#N/A"},{"$error":"#N/A"},{"$error":"#N/A"}]
[null,null,null,null,null,null,null,null,null,null,{"$error":"#N/A"},{"$error":"#N/A"},{"$error":"#N/A"},{"$error":"#N/A"},{"$error":"#N/A"}]
[null,null,null,null,null,null,null,null,null,null,{"$error":"#N/A"},{"$error":"#N/A"},{"$error":"#N/A"},{"$error":"#N/A"},{"$error":"#N/A"}]
[null,null,null,null,null,null,null,null,null,null,{"$error":"#N/A"},{"$error":"#N/A"},{"$error":"#N/A"},{"$error":"#N/A"},{"$error":"#N/A"}]
[null,null,null,null,null,null,null,null,null,null,{"$error":"#N/A"},{"$error":"#N/A"},{"$error":"#N/A"},{"$error":"#N/A"},{"$error":"#N/A"}]
[null,null,null,null,null,null,null,null,null,null,{"$error":"#N/A"},{"$error":"#N/A"},{"$error":"#N/A"},{"$error":"#N/A"},{"$error":"#N/A"}]
[null,null,null,null,null,null,null,null,null,null,{"$error":"#N/A"},{"$error":"#N/A"},{"$error":"#N/A"},{"$error":"#N/A"},{"$error":"#N/A"}]
[null,null,null,null,null,null,null,null,null,null,{"$error":"#N/A"},{"$error":"#N/A"},{"$error":"#N/A"},{"$error":"#N/A"},{"$error":"#N/A"}]
[null,null,null,null,null,null,null,null,null,null,{"$error":"#N/A"},{"$error":"#N/A"},{"$error":"#N/A"},{"$error":"#N/A"},{"$error":"#N/A"}]
[null,null,null,null,null,null,null,null,null,null,{"$error":"#N/A"},{"$error":"#N/A"},{"$error":"#N/A"},{"$error":"#N/A"},{"$error":"#N/A"}]
[null,null,null,null,null,null,null,null,null,null,{"$error":"#N/A"},{"$error":"#N/A"},{"$error":"#N/A"},{"$f":"IF(ISBLANK(K49995),\"\",$G$13*K49995+$H$13)","v":{"$error":"#N/A"}},{"$error":"#N/A"}]
[null,null,null,null,null,null,null,null,null,null,{"$f":"IF(K49995+$G$19<=$G$18,K49995+$G$19,NA())","v":{"$error":"#N/A"}},{"$error":"#N/A"},{"$error":"#N/A"},{"$error":"#N/A"},{"$error":"#N/A"}]
[null,null,null,null,null,null,null,null,null,null,{"$error":"#N/A"},{"$f":"IF(ISBLANK(K49997),\"\",$G$11*K49997+$H$11)","v":{"$error":"#N/A"}},{"$f":"IF(ISBLANK(L49997),\"\",$G$12*K49997+$H$12)","v":{"$error":"#N/A"}},{"$error":"#N/A"},{"$f":"IF(ISBLANK(M49997),\"\",$G$14*K49997+$H$14)","v":{"$error":"#N/A"}}]
[null,null,null,null,null,null,null,null,null,null,{"$error":"#N/A"},{"$error":"#N/A"},{"$error":"#N/A"},{"$error":"#N/A"},{"$error":"#N/A"}]
[null,null,null,null,null,null,null,null,null,null,{"$error":"#N/A"},{"$error":"#N/A"},{"$error":"#N/A"},{"$error":"#N/A"},{"$error":"#N/A"}]
[null,null,null,null,null,null,null,null,null,null,{"$error":"#N/A"},{"$error":"#N/A"},{"$error":"#N/A"},{"$error":"#N/A"},{"$error":"#N/A"}]
[null,null,null,null,null,null,null,null,null,null,{"$error":"#N/A"},{"$error":"#N/A"},{"$error":"#N/A"},{"$error":"#N/A"},{"$error":"#N/A"}]
[null,null,null,null,null,null,null,null,null,null,{"$error":"#N/A"},{"$error":"#N/A"},{"$error":"#N/A"},{"$error":"#N/A"},{"$error":"#N/A"}]
[null,null,null,null,null,null,null,null,null,null,{"$error":"#N/A"},{"$error":"#N/A"},{"$error":"#N/A"},{"$error":"#N/A"},{"$error":"#N/A"}]
[null,null,null,null,null,null,null,null,null,null,{"$error":"#N/A"},{"$error":"#N/A"},{"$error":"#N/A"},{"$error":"#N/A"},{"$error":"#N/A"}]
[null,null,null,null,null,null,null,null,null,null,{"$error":"#N/A"},{"$error":"#N/A"},{"$error":"#N/A"},{"$error":"#N/A"},{"$error":"#N/A"}]
[null,null,null,null,null,null,null,null,null,null,{"$error":"#N/A"},{"$error":"#N/A"},{"$error":"#N/A"},{"$error":"#N/A"},{"$error":"#N/A"}]
[null,null,null,null,null,null,null,null,null,null,{"$error":"#N/A"},{"$error":"#N/A"},{"$error":"#N/A"},{"$error":"#N/A"},{"$error":"#N/A"}]
[null,null,null,null,null,null,null,null,null,null,{"$error":"#N/A"},{"$error":"#N/A"},{"$error":"#N/A"},{"$error":"#N/A"},{"$error":"#N/A"}]
[null,null,null,null,null,null,null,null,null,null,{"$error":"#N/A"},{"$error":"#N/A"},{"$error":"#N/A"},{"$error":"#N/A"},{"$error":"#N/A"}]
[null,null,null,null,null,null,null,null,null,null,{"$error":"#N/A"},{"$error":"#N/A"},{"$error":"#N/A"},{"$error":"#N/A"},{"$error":"#N/A"}]