{"text_format":"1","workbook":"xlsx","n_sheets":2,"sheets":["First or Second","For Realz"],"not_rendered":{"charts":2,"images":2,"macros":1,"external_links":0,"defined_names":0,"comments":0,"pivot_tables":0},"unopened":[],"bounds":{"document_bytes":16777216,"sheet_cells":100000,"rows_first":2000,"rows_last":500,"rows_between":2000,"halvings":0,"cell_chars":16384,"cell_head_chars":4096},"cells_cut":0,"cells_raw":0,"read":"whole","date_system":"1900"}

{"sheet":"First or Second","index":0,"n_rows":11,"n_cols":28,"rows_kept":11,"cut":false,"hidden":false,"merged":[[2,16,2,27]]}
[]
[null,null,null,{"$f":"D3","v":0},{"$f":"E3","v":1},{"$f":"D2+F3","v":1},1,1,1,1,2,1,2,1,3]
[null,null,null,{"$f":"IF(D4=\"raw\",1,0)","v":0},1,1,0,0,0,0,1,0,0,0,1,null,"\"eggs\""]
[null,null,null,{"$f":"IF(Q5<=4,\"raw\",\"HB\")","v":"HB"},"raw","raw","HB","HB","HB","HB","raw","HB","HB","HB","raw",null,{"$f":"RAND()","v":0.30904627179927802},{"$f":"RAND()","v":0.8960814198526329},0.56108809255955994,0.41824904187525858,5.5099345697710578E-2,0.4688660327191192,0.24143152708256466,0.77211557290040378,0.24156189594746302,0.51813915514714259,0.40071686418878194,0.99381310679180379]
[null,{"$f":"HLOOKUP(2,D2:O5,4,FALSE)","v":8},null,1,2,3,4,5,6,7,8,9,10,11,12,null,{"$f":"RANK(Q4,$Q$4:$AB$4)","v":9},2,4,7,12,6,11,3,10,5,8,1]
[]
[]
[null,null,null,null,null,null,null,null,null,null,null,null,null,null,null,null,"curr","cum","%"]
[null,null,null,null,{"$f":"ABS(B11-1)","v":1},null,null,null,null,null,null,null,null,null,null,"Payton Loses",{"$f":"B11","v":0},{"$f":"R9+Q9","v":2},{"$f":"R9/R11","v":1}]
[null,null,null,null,null,null,null,null,null,null,null,null,null,null,null,"Magic Loses",{"$f":"E9","v":1},{"$f":"R10+Q10","v":1},{"$f":"R10/R11","v":0.5}]
[null,{"$f":"IF(ISODD(B5),1,0)","v":0},null,null,null,null,null,null,null,null,null,null,null,null,null,null,"total",{"$f":"SUM(R9:R10)","v":3}]

{"sheet":"For Realz","index":1,"n_rows":17,"n_cols":12,"rows_kept":17,"cut":false,"hidden":false,"merged":[]}
[{"$f":"'First or Second'!Q4","v":0.30904627179927802},{"$f":"'First or Second'!R4","v":0.8960814198526329},{"$f":"'First or Second'!S4","v":0.56108809255955994},{"$f":"'First or Second'!T4","v":0.41824904187525858},{"$f":"'First or Second'!U4","v":5.5099345697710578E-2},{"$f":"'First or Second'!V4","v":0.4688660327191192},{"$f":"'First or Second'!W4","v":0.24143152708256466},{"$f":"'First or Second'!X4","v":0.77211557290040378},{"$f":"'First or Second'!Y4","v":0.24156189594746302},{"$f":"'First or Second'!Z4","v":0.51813915514714259},{"$f":"'First or Second'!AA4","v":0.40071686418878194},{"$f":"'First or Second'!AB4","v":0.99381310679180379}]
[{"$f":"IF(RANK(A1,$A$1:$L$1)<=4,1,0)","v":0},{"$f":"IF(RANK(B1,$A$1:$L$1)<=4,1,0)","v":1},1,0,0,0,0,1,0,0,0,1]
[{"$f":"SUM(A2:$A$2)","v":0},{"$f":"SUM($A2:B$2)","v":1},{"$f":"SUM($A2:C$2)","v":2},{"$f":"SUM($A2:D$2)","v":2},{"$f":"SUM($A2:E$2)","v":2},{"$f":"SUM($A2:F$2)","v":2},{"$f":"SUM($A2:G$2)","v":2},{"$f":"SUM($A2:H$2)","v":3},{"$f":"SUM($A2:I$2)","v":3},{"$f":"SUM($A2:J$2)","v":3},{"$f":"SUM($A2:K$2)","v":3},{"$f":"SUM($A2:L$2)","v":4}]
[1,2,3,4,5,6,7,8,9,10,11,12]
[{"$f":"IF(A3=3,A4,\"\")","v":""},{"$f":"IF(B3=3,B4,\"\")","v":""},"","","","","",8,9,10,11,""]
[]
[null,null,null,null,"cur","cum","%"]
[null,null,null,3,{"$f":"IF(MIN($A$5:$L$5)=D8,1,0)","v":0},{"$f":"F8+E8","v":0},{"$f":"F8/$F$17","v":0}]
[null,null,null,4,{"$f":"IF(MIN($A$5:$L$5)=D9,1,0)","v":0},{"$f":"F9+E9","v":0},{"$f":"F9/$F$17","v":0}]
[null,null,null,5,{"$f":"IF(MIN($A$5:$L$5)=D10,1,0)","v":0},1,0.25]
[null,null,null,6,{"$f":"IF(MIN($A$5:$L$5)=D11,1,0)","v":0},1,0.25]
[null,null,null,7,{"$f":"IF(MIN($A$5:$L$5)=D12,1,0)","v":0},1,0.25]
[null,null,null,8,{"$f":"IF(MIN($A$5:$L$5)=D13,1,0)","v":1},1,0.25]
[null,null,null,9,0,1,0.25]
[null,null,null,10,{"$f":"IF(MIN($A$5:$L$5)=D15,1,0)","v":0},0,0]
[null,null,null,11,0,0,0]
[null,null,null,null,null,{"$f":"SUM(F8:F16)","v":5},{"$f":"SUM(G8:G16)","v":1.25}]